{"text_format":"1","workbook":"xlsx","n_sheets":7,"sheets":["CycleTime","DataSerch","ModelData","LeadData","StrokeData","MassDataLink","AccVelDataLink"],"not_rendered":{"charts":0,"images":3,"macros":1,"external_links":0,"defined_names":6,"comments":3,"pivot_tables":0},"unopened":[],"bounds":{"document_bytes":16777216,"sheet_cells":100000,"rows_first":2000,"rows_last":500,"rows_between":2000,"halvings":0,"cell_chars":16384,"cell_head_chars":4096},"cells_cut":0,"cells_raw":0,"read":"whole","date_system":"1900"}

{"sheet":"CycleTime","index":0,"n_rows":3231,"n_cols":48,"rows_kept":1125,"cut":true,"hidden":false,"merged":[[43,22,44,22],[41,23,42,23],[41,22,42,22],[41,24,42,24],[41,27,42,27],[35,35,36,35],[35,34,36,34],[35,28,36,28],[35,32,36,32],[35,33,36,33],[35,31,36,31],[21,1,21,2],[6,11,6,12],[11,11,11,12],[7,11,7,12],[28,44,28,47],[23,1,23,2],[10,11,10,12],[15,1,15,2],[13,1,13,2],[19,6,21,7],[19,8,21,8],[19,1,19,2],[13,11,13,12],[23,5,23,9],[24,5,24,9],[5,2,5,4],[4,11,4,12],[3,2,3,3],[9,11,9,12],[17,1,17,2],[41,31,42,31],[41,30,42,30],[2,27,2,28],[3,27,3,28],[2,11,2,12],[3,11,3,12],[5,11,5,12],[35,26,36,26],[35,30,36,30],[35,29,36,29],[35,24,36,24],[35,27,36,27],[41,26,42,26],[41,25,42,25],[41,28,42,28],[30,23,30,24],[0,11,0,43],[28,14,28,20],[8,11,8,12],[41,37,42,37],[35,25,36,25],[31,22,32,22],[37,22,38,22],[35,22,36,22],[35,23,36,23],[31,23,32,24],[41,34,42,34],[41,29,42,29],[41,36,42,36],[41,32,42,32],[41,35,42,35],[41,33,42,33]],"bounds":{"rows_first":500,"rows_last":125,"rows_between":500,"halvings":2}}
[null,null,null,null,null,null,null,null,null,null,null,"↓　W～AQ　「表示しない」列　↓　↓　W～AQ　「表示しない」列　↓　↓　W～AQ　「表示しない」列　↓　↓　W～AQ　「表示しない」列　↓　↓　W～AQ　「表示しない」列　↓　↓　W～AQ　「表示しない」列　↓　↓　W～AQ　「表示しない」列　↓　↓　W～AQ　「表示しない」列　↓　↓　W～AQ　「表示しない」列　↓W～AQ　「表示しない」列　",null,null,null,null,null,null,null,null,null,null,null,null,null,null,null,null,null,null,null,null,null,null,null,null,null,null,null,null,null,null,null,null,null,"残す列",null,"残す列"]
[null,null,null,null,null,null,null,null,null,null,null,"参考表示"]
[null,null,null,null,null,null,null,null,null,null,null,"Vmax[㎜/s]",null,{"$f":"SQRT(D14*(2*N4*N5)/(N4+N5))","v":313.15571206669694},null,null,null,null,null,null,null,null,null,null,null,null,null,"feedforward",null,null,"物理計算用変換係数"]
["<a>","シリーズ","RCA-",null,null,null,null,null,null,null,null,{"$f":"IF(AE33=0,\"加速度[㎜/s^2]\",\"加速度[deg/s^2]\")","v":"加速度[㎜/s^2]"},null,{"$f":"D20*AH5*1000","v":1961.33},null,null,null,null,null,null,null,null,null,null,null,null,null,{"$f":"AF45/100","v":0},null,null,"ﾓｰﾀ軸角速度及び角加速度",null,null,"Ｇ"]
[null,null,null,null,null,null,null,null,null,null,null,{"$f":"IF(AE33=0,\"減速度[㎜/s^2]\",\"減速度[deg/s^2]\")","v":"減速度[㎜/s^2]"},null,{"$f":"D22*AH5*1000","v":1961.33},null,null,null,null,null,null,null,null,null,null,null,null,null,"Kf",{"$f":"IF( AB4=1,1,1-EXP(-((N11/(1-AB4))-N11)*N8) )","v":0},null,{"$f":"IF(AE33=0,1000,360/(2*PI()))","v":1000},null,null,{"$f":"LeadData!$A$1","v":9.8066499999999994}]
["<b>","型式","RCA-SA4C-20",null,null,null,null,null,null,null,null,"最高速度[㎜/s]",null,{"$f":"IF(D18<N3,D18,N3)","v":165},null,null,null,null,null,null,null,null,null,null,null,null,null,null,null,null,null,null,null,null,null,null,null,null,null,null,"(Tkp+2Kf)",{"$f":"($N$8*$N$11+2*$AB$4)","v":6.7527364639706185E-3}]
[null,null,null,null,null,null,null,null,null,null,null,"分割数",null,{"$f":"ROUND(3200/(AP18+AP20*10)*AP18,0)","v":1720},null,null,null,null,null,null,null,null,null,null,null,null,null,null,null,null,null,null,null,null,null,null,null,null,null,null,"(Tkp-2Kf)",{"$f":"($N$8*$N$11-2*$AB$4)","v":6.7527364639706185E-3}]
["<c>",{"$f":"IF(AE33=0,\"リード\",\"減速比\")","v":"リード"},2.5,{"$f":"IF(AE33=0,\"㎜\",\"：1\")","v":"㎜"},null,null,null,null,null,null,null,"⊿ｔ[s]",null,{"$f":"AT32-AT31","v":2.2509121546568727E-4},null,null,null,null,null,null,null,null,null,null,null,null,null,null,null,null,null,null,null,null,null,null,null,null,null,null,"(2+TKp)",{"$f":"(2+$N$8*$N$11)","v":2.0067527364639708}]
[null,null,null,null,null,null,null,null,null,null,null,"最終時刻[s]",null,{"$f":"AT3231","v":0.72029188949019929},null,null,null,null,null,null,null,null,null,null,null,null,null,null,null,null,null,null,null,null,null,null,null,null,null,null,"(2-TKp)",{"$f":"(2-$N$8*$N$11)","v":1.9932472635360294}]
["<d>","ストローク",50,"㎜",null,null,null,null,null,null,null,"最終位置[㎜]",null,{"$f":"AV3231","v":49.999908462895895},null,null,null,null,null,null,null,null,null,null,null,null,null,null,null,null,null,null,null,null,null,null,null,null,null,null,"減速時間",{"$f":"N6/N5","v":8.412658757067909E-2},"s"]
[null,null,null,null,null,null,null,null,null,null,null,"位置ｹﾞｲﾝ",null,{"$f":"AE45","v":30},null,null,null,null,null,null,null,null,null,null,null,null,null,null,null,null,null,null,null,null,null,null,null,null,null,null,"減速距離",{"$f":"N5*AP10*AP10/2","v":6.9404434745810253},"㎜"]
["<e>","設置姿勢","水平",null,null,null,null,null,null,null,null,"速度制御帯域",null,{"$f":"AG45","v":160},null,null,null,null,null,null,null,null,null,null,null,null,null,null,null,null,null,null,null,null,null,null,null,null,null,null,"加速時間",{"$f":"N6/N4","v":8.412658757067909E-2},"s"]
[null,null,null,null,null,null,null,null,null,null,null,null,null,null,null,null,null,null,null,null,null,null,null,null,null,null,null,null,null,null,null,null,null,null,null,null,null,null,null,null,"加速距離",{"$f":"N4*AP12*AP12/2","v":6.9404434745810253},"㎜"]
["<1>","移動距離[㎜]",null,50,null,null,null,null,null,null,null,"移動可能距離[㎜]",null,{"$f":"X45+Y45","v":50},null,null,null,null,null,null,null,null,null,null,null,null,null,null,null,null,null,null,null,null,null,null,null,null,null,null,"等速時間",{"$f":"IF(D18<N3,(D14-AP13-AP11)/D18,0)","v":0.21890371545962395},"s"]
[null,null,null,null,null,null,null,null,null,null,null,null,null,null,null,null,null,null,null,null,null,null,null,null,null,null,null,null,null,null,null,null,null,null,null,null,null,null,null,null,"等速距離",{"$f":"AP14*N6","v":36.119113050837953},"㎜"]
["<2>",{"$f":"IF(AE33=0,\"搬送質量[kg]\",\"搬送ｲﾅｰｼｬ[kgm^2]\")","v":"搬送質量[kg]"},null,8,null,null,null,null,null,null,null,null,null,null,null,null,null,null,null,null,null,null,null,null,null,null,null,null,null,null,null,null,null,null,null,null,null,null,null,null,"減速時刻",{"$f":"AP12+AP14","v":0.30303030303030304},"s"]
[null,null,null,null,null,null,null,null,null,null,null,null,null,null,null,null,null,null,null,null,null,null,null,null,null,null,null,null,null,null,null,null,null,null,null,null,null,null,null,null,"減速位置",{"$f":"AP13+AP15","v":43.059556525418976},"㎜"]
["<3>","速度[㎜/s]",null,165,null,null,"●計算結果",null,null,null,null,null,null,null,null,null,null,null,null,null,null,null,null,null,null,null,null,null,null,null,null,null,null,null,null,null,null,null,null,null,"TotalTime",{"$f":"AP14+AP12+AP10","v":0.38715689060098213},"s"]
[null,null,null,null,null,null,null,null,null,null,null,null,null,null,null,null,null,null,null,null,null,null,null,null,null,null,null,null,null,null,"運転姿勢","→初期値",null,null,null,null,null,null,null,null,"Spdτ",{"$f":"1/N12","v":6.2500000000000003E-3},"s"]
["<4>","加速度[G]",null,0.2,null,null,"位置決め時間 [s]",null,{"$f":"LOOKUP((D14-D24),AV31:AV3231,AT31:AT3231)","v":0.48687229905228158},null,null,null,null,null,null,null,null,null,null,null,null,null,null,null,null,null,null,null,null,null,"水平","水平",null,null,null,null,null,null,null,null,"Posτ",{"$f":"1/N11","v":3.3333333333333333E-2},"s"]
[null,null,null,null,null,null,null,null,null,null,null,null,null,null,null,null,null,null,null,null,null,null,null,null,null,null,null,null,null,null,"垂直",null,null,null,null,null,null,null,null,null,"収束時間",{"$f":"I20-AP18","v":9.9715408451299448E-2},"s"]
["<5>","減速度[G]",null,0.2]
[]
["<6>","位置決め幅 [㎜]",null,0.1,null,{"$f":"IF(N9<=I20,\"位置決め時間を正しく計算できていません\",\"※位置決め幅に到達するまでの時間を表します。\")","v":"※位置決め幅に到達するまでの時間を表します。"}]
[null,null,null,null,null,{"$f":"IF(N10<=I21,\"\",\"※計算結果は参考値です。\n　 負荷状況により実際の位置決め時間とは異なる場合があります。\n※ゲイン調整により計算結果より早く位置決めできる場合があります。\n　 詳しくは使用するコントローラーの取扱説明書をご確認ください。\")","v":"※計算結果は参考値です。\n　 負荷状況により実際の位置決め時間とは異なる場合があります。\n※ゲイン調整により計算結果より早く位置決めできる場合があります。\n　 詳しくは使用するコントローラーの取扱説明書をご確認ください。"}]
[]
[]
[1,{"$f":"A28+1","v":2},3,4,5,6,7,8,9,10,{"$f":"J28+1","v":11},12,13,14,15,{"$f":"O28+1","v":16},{"$f":"P28+1","v":17},{"$f":"Q28+1","v":18},{"$f":"R28+1","v":19},20,21,22,23,24,25,26,27,28,29,30,31,32,33,34,35,36,{"$f":"AJ28+1","v":37},38,39,40,41,42,43,44,45,46,47,48]
[null,null,null,null,null,null,null,null,null,null,null,null,null,null,"↓↓↓↓↓↓↓↓　フォント色を白にする列　O29～U193　↓↓↓↓↓↓↓↓",null,null,null,null,null,null,null,null,null,null,null,null,null,null,null,null,null,null,null,null,null,null,null,null,null,null,null,null,null,"↓↓↓↓↓↓↓↓↓↓↓↓↓↓↓　フォント色を白に、数式は非表示に、する列　A29～J3231　↓↓↓↓↓↓↓↓↓↓↓↓↓↓↓"]
[null,"可搬質量","加減速度","最高速度","実加速度","到達速度","運転時間","三角速度",null,null,null,null,null,null,"№","メカ型式リスト","絞込み","ﾀｲﾌﾟﾘｽﾄ","ﾘｰﾄﾞﾘｽﾄ","ｽﾄﾛｰｸﾘｽﾄ","型式総数",null,{"$f":"DataSerch!B1","v":"メカ機種データレコード"},null,null,null,null,null,null,null,null,null,null,null,null,null,null,null,null,null,null,null,null,null,"№","時刻","位置計画","位置"]
[{"$f":"A30+1","v":1},8,0.2,165,1961.33,165,0.38715689060098213,313.15571206669694,null,null,null,null,null,null,1,"RCA2-SA3C","RCA-SA4C-20","RCA-",2.5,50,107,null,"ﾚｺｰﾄﾞ№",{"$f":"DataSerch!$C$2","v":"ｱｸﾁｭｴｰﾀ型式"},null,{"$f":"DataSerch!$E$2","v":0},{"$f":"DataSerch!$F$2","v":0},{"$f":"DataSerch!$G$2","v":0},{"$f":"DataSerch!$H$2","v":"最小ｽﾄﾛｰｸ"},{"$f":"DataSerch!$I$2","v":"最大ｽﾄﾛｰｸ"},{"$f":"DataSerch!$J$2","v":"動作種別"},{"$f":"DataSerch!$K$2","v":0},null,null,null,null,null,null,null,null,null,null,null,null,0,{"$f":"$AP$18/$N$7*AS31","v":0},0,0]
[2,-1,-1,-1,-1,-1,-1,-1,null,null,null,null,null,null,{"$f":"O31+1","v":2},"RCA2-SA4C","RCA-SA5C-20","RCA2",5,100,"絞込み数",null,{"$f":"DataSerch!$B$3","v":9},{"$f":"DataSerch!$C$3","v":"RCA-SA4C-20"},null,{"$f":"DataSerch!$E$4","v":"[kg]"},{"$f":"DataSerch!$F$4","v":"[mm]"},{"$f":"DataSerch!$G$4","v":"[mm]"},{"$f":"DataSerch!$H$4","v":"[mm]"},{"$f":"DataSerch!$I$4","v":"[mm]"},{"$f":"DataSerch!$J$4","v":"0/1"},{"$f":"DataSerch!$K$4","v":"[K]"},null,null,null,null,null,null,null,null,null,null,null,null,{"$f":"AS31+1","v":1},2.2509121546568727E-4,{"$f":"IF(($N$4*AT32^2/2)<=$AP$13,($N$4*AT32^2/2), IF(($AP$13+$N$6*(AT32-$AP$12))<=$AP$17, ($AP$13+$N$6*(AT32-$AP$12)), IF(AU31<$D$14, ($AP$17+($N$6-$N$5*(AT32-$AP$16)/2)*(AT32-$AP$16)), $D$14)))","v":4.9686427100985124E-5},{"$f":"( $AP$6*AU32 + $AP$7*AU31 + $AP$9*AV31 )/$AP$8","v":1.6719516159247759E-7}]
[3,-1,-1,-1,-1,-1,-1,-1,null,null,null,null,null,null,{"$f":"O32+1","v":3},"RCA2-SA5C","RCA-SA6C-30","RCL",10,150,42,null,null,null,null,null,null,null,{"$f":"DataSerch!$H$5","v":50},{"$f":"DataSerch!$I$5","v":400},{"$f":"DataSerch!$J$5","v":0},null,null,null,null,null,null,null,null,null,null,null,null,null,{"$f":"AS32+1","v":2},4.5018243093137455E-4,1.987457084039405E-4,{"$f":"( $AP$6*AU33 + $AP$7*AU32 + $AP$9*AV32 )/$AP$8","v":1.0020457438668473E-6}]
[4,-1,-1,-1,-1,-1,-1,-1,null,null,null,null,null,null,4,"RCA2-SA6C","RCA-SA4D-20","RCA-SA","- - -",200,null,null,null,null,null,null,null,null,null,null,null,null,null,null,null,null,null,null,null,null,null,null,null,null,3,6.7527364639706185E-4,4.4717784390886612E-4,3.1688390632249732E-6]
[5,-1,-1,-1,-1,-1,-1,-1,null,null,null,null,null,null,5,"RCA2-SA3R","RCA-SA5D-20","RCA-SS","- - -",250,"ﾘｰﾄﾞ総数",null,"リードデータレコード",null,null,null,null,null,null,null,null,null,null,null,null,null,null,null,null,null,null,null,null,null,4,9.003648618627491E-4,7.9498283361576199E-4,7.3273917734878139E-6]
[6,-1,-1,-1,-1,-1,-1,-1,null,null,null,null,null,null,6,"RCA2-SA4R","RCA-SA6D-30","RCA-R","- - -",300,3,null,"リスト№",{"$f":"DataSerch!$F$24","v":"ﾘｰﾄﾞ長"},{"$f":"DataSerch!$G$24","v":0},{"$f":"DataSerch!$H$24","v":"水平定格加速度"},{"$f":"DataSerch!$I$24","v":"垂直定格加速度"},{"$f":"DataSerch!$J$24","v":"水平最大加速度"},{"$f":"DataSerch!$K$24","v":"垂直最大加速度"},{"$f":"DataSerch!$L$24","v":0},{"$f":"DataSerch!$M$24","v":0},{"$f":"DataSerch!$N$24","v":0},{"$f":"DataSerch!$O$24","v":"ｷﾞｱ比分子"},{"$f":"DataSerch!$P$24","v":"ｷﾞｱ比分母"},{"$f":"DataSerch!$Q$24","v":0},{"$f":"DataSerch!$R$24","v":"ｽﾄﾛｰｸ刻み"},null,null,null,null,null,null,null,null,5,1.1254560773284363E-3,1.2421606775246279E-3,1.4133079953514765E-5]
[7,-1,-1,-1,-1,-1,-1,-1,null,null,null,null,null,null,7,"RCA2-SA5R","RCA-SS4D-20","RCA-SR","- - -",350,null,null,null,null,null,null,null,null,null,null,null,null,null,null,null,null,null,null,null,null,null,null,null,null,6,1.3505472927941237E-3,1.7887113756354645E-3,2.4236868992332929E-5]
[8,-1,-1,-1,-1,-1,-1,-1,null,null,null,null,null,null,8,"RCA2-SA6R","RCA-SS5D-20","RCA-A","- - -",400,"ｽﾄﾛｰｸ総数",null,{"$f":"DataSerch!$D$35","v":1},{"$f":"DataSerch!$F$25","v":"[mm]"},{"$f":"DataSerch!$G$25","v":"[kgm^2]"},{"$f":"DataSerch!$H$25","v":"[m/s^2]"},{"$f":"DataSerch!$I$25","v":"[m/s^2]"},{"$f":"DataSerch!$J$25","v":"[m/s^2]"},{"$f":"DataSerch!$K$25","v":"[m/s^2]"},{"$f":"DataSerch!$L$25","v":"[Nm]"},{"$f":"DataSerch!$M$25","v":"[Nms]"},{"$f":"DataSerch!$N$25","v":"[Nm]"},{"$f":"DataSerch!$O$25","v":0},{"$f":"DataSerch!$P$25","v":0},{"$f":"DataSerch!$Q$25","v":0},{"$f":"DataSerch!$R$25","v":"[mm]"},null,null,null,null,null,null,null,null,7,1.5756385082598108E-3,2.4346349279482705E-3,3.828534327313905E-5]
[9,-1,-1,-1,-1,-1,-1,-1,null,null,null,null,null,null,9,"RCA-SA4C-20","RCA-SS6D-30","RCA2-SA",null,"- - -",8,null,null,{"$f":"LOOKUP(W38,DataSerch!$B$26:$B$33,DataSerch!$F$26:$F$33)","v":2.5},null,{"$f":"LOOKUP(W38,DataSerch!$B$26:$B$33,DataSerch!$H$26:$H$33)","v":1.96133},{"$f":"LOOKUP(W38,DataSerch!$B$26:$B$33,DataSerch!$I$26:$I$33)","v":1.96133},{"$f":"LOOKUP(W38,DataSerch!$B$26:$B$33,DataSerch!$J$26:$J$33)","v":1.96133},{"$f":"LOOKUP(W38,DataSerch!$B$26:$B$33,DataSerch!$K$26:$K$33)","v":1.96133},null,null,null,{"$f":"LOOKUP(W38,DataSerch!$B$26:$B$33,DataSerch!$O$26:$O$33)","v":1},{"$f":"LOOKUP(W38,DataSerch!$B$26:$B$33,DataSerch!$P$26:$P$33)","v":1},null,{"$f":"LOOKUP(W38,DataSerch!$B$26:$B$33,DataSerch!$R$26:$R$33)","v":50},null,null,null,null,null,null,null,null,8,1.8007297237254982E-3,3.179931334463048E-3,5.6920735657527724E-5]
[10,-1,-1,-1,-1,-1,-1,-1,null,null,null,null,null,null,10,"RCA-SA5C-20","RCA-SA4R-20","RCA2-R",null,"- - -",null,null,null,null,null,null,null,null,null,null,null,null,null,null,null,null,null,null,null,null,null,null,null,null,9,2.0258209391911856E-3,4.0246005951797949E-3,8.0780956771290351E-5]
[11,-1,-1,-1,-1,-1,-1,-1,null,null,null,null,null,null,11,"RCA-SA6C-30","RCA-SA5R-20","RCA2-G",null,"- - -",null,null,"ストロークデータレコード",null,null,null,null,null,null,null,null,null,null,null,null,null,null,null,null,null,null,null,null,null,10,2.2509121546568727E-3,4.9686427100985118E-3,1.1049962409312028E-4]
[12,-1,-1,-1,-1,-1,-1,-1,null,null,null,null,null,null,12,"RCA-SA4D-20","RCA-SA6R-30","RCA2-SD",null,"- - -",null,null,"リスト№",{"$f":"DataSerch!$E$58","v":"ｽﾄﾛｰｸ長"},{"$f":"DataSerch!$G$58","v":"有効ｽﾄﾛｰｸ補正"},{"$f":"DataSerch!$H$58","v":0},{"$f":"DataSerch!$I$58","v":"基準ｹﾞｲﾝ用搬送質量"},{"$f":"DataSerch!$J$58","v":"水平可搬質量"},{"$f":"DataSerch!$K$58","v":"垂直可搬質量"},{"$f":"DataSerch!$L$58","v":"最大速度"},{"$f":"DataSerch!$M$58","v":"位置ｹﾞｲﾝ"},{"$f":"DataSerch!$N$58","v":"FFｹﾞｲﾝ"},{"$f":"DataSerch!$O$58","v":"速度制御帯域"},{"$f":"DataSerch!$P$58","v":0},{"$f":"DataSerch!$Q$58","v":0},{"$f":"DataSerch!$R$58","v":0},{"$f":"DataSerch!$S$58","v":0},{"$f":"DataSerch!$T$58","v":0},null,null,null,null,null,null,11,2.4760033701225598E-3,6.0120576792191986E-3,1.4670609084755057E-4]
[13,-1,-1,-1,-1,-1,-1,-1,null,null,null,null,null,null,13,"RCA-SA5D-20","RCA-RA3C-20","RCA2-T",null,"- - -",null,null,null,null,null,null,null,null,null,null,null,null,null,null,null,null,null,null,null,null,null,null,null,null,12,2.7010945855882474E-3,7.1548455025418579E-3,1.9002547470344184E-4]
[14,-1,-1,-1,-1,-1,-1,-1,null,null,null,null,null,null,14,"RCA-SA6D-30","RCA-RA4C-20","RCD",null,"- - -",null,null,{"$f":"MATCH(C10,DataSerch!$E$60:$E$109,0)","v":1},{"$f":"DataSerch!$E$59","v":"[mm]"},{"$f":"DataSerch!$G$59","v":"[mm]"},{"$f":"DataSerch!$H$59","v":"[kg/mm]"},{"$f":"DataSerch!$I$59","v":"[kg]"},{"$f":"DataSerch!$J$59","v":"[kg]"},{"$f":"DataSerch!$K$59","v":"[kg]"},{"$f":"DataSerch!$L$59","v":"[mm/s]"},{"$f":"DataSerch!$M$59","v":"[1/s]"},{"$f":"DataSerch!$N$59","v":"[%]"},{"$f":"DataSerch!$O$59","v":"[rad/s]"},{"$f":"DataSerch!$P$59","v":0},{"$f":"DataSerch!$Q$59","v":"[s]"},{"$f":"DataSerch!$R$59","v":0},{"$f":"DataSerch!$S$59","v":0},{"$f":"DataSerch!$T$59","v":"[Nm/rad]"},null,null,null,null,null,null,13,2.9261858010539345E-3,8.3970061800664863E-3,2.41078686279329E-4]
[15,-1,-1,-1,-1,-1,-1,-1,null,null,null,null,null,null,15,"RCA-SS4D-20","RCA-RA4C-30",null,null,"- - -",null,null,null,{"$f":"LOOKUP(W44,DataSerch!$D$60:$D$109,DataSerch!$E$60:$E$109)","v":50},{"$f":"LOOKUP(W44,DataSerch!$D$60:$D$109,DataSerch!$G$60:$G$109)","v":0},null,{"$f":"LOOKUP(W44,DataSerch!$D$60:$D$109,DataSerch!$I$60:$I$109)","v":8},{"$f":"LOOKUP(W44,DataSerch!$D$60:$D$109,DataSerch!$J$60:$J$109)","v":8},{"$f":"LOOKUP(W44,DataSerch!$D$60:$D$109,DataSerch!$K$60:$K$109)","v":4.5},{"$f":"LOOKUP(W44,DataSerch!$D$60:$D$109,DataSerch!$L$60:$L$109)","v":165},{"$f":"LOOKUP(W44,DataSerch!$D$60:$D$109,DataSerch!$M$60:$M$109)","v":30},{"$f":"LOOKUP(W44,DataSerch!$D$60:$D$109,DataSerch!$N$60:$N$109)","v":0},{"$f":"LOOKUP(W44,DataSerch!$D$60:$D$109,DataSerch!$O$60:$O$109)","v":160},null,null,null,null,null,null,null,null,null,null,null,14,3.1512770165196217E-3,9.738539711793082E-3,3.0048245745692664E-4]
[16,-1,-1,-1,-1,-1,-1,-1,null,null,null,null,null,null,16,"RCA-SS5D-20","RCA-RA3D-20",null,null,"- - -",null,null,null,null,null,null,null,null,null,null,null,null,null,null,null,null,null,null,null,null,null,null,null,null,15,3.3763682319853093E-3,1.1179446097721655E-2,3.6884936950408383E-4]
[17,-1,-1,-1,-1,-1,-1,-1,null,null,null,null,null,null,17,"RCA-SS6D-30","RCA-RA4D-20",null,null,"- - -",null,null,null,null,null,null,null,null,null,null,null,null,null,null,null,null,null,null,null,null,null,null,null,null,16,3.6014594474509964E-3,1.2719725337852192E-2,4.4678788100847156E-4]
[18,-1,-1,-1,-1,-1,-1,-1,null,null,null,null,null,null,18,"RCA-SA4R-20","RCA-RA4D-30",null,null,"- - -",null,null,null,null,null,null,null,null,null,null,null,null,null,null,null,null,null,null,null,null,null,null,null,null,17,3.8265506629166835E-3,1.4359377432184699E-2,5.3490235562327591E-4]
[19,-1,-1,-1,-1,-1,-1,-1,null,null,null,null,null,null,19,"RCA-SA5R-20","RCA-RA3R-20",null,null,"- - -",null,null,null,null,null,null,null,null,null,null,null,null,null,null,null,null,null,null,null,null,null,null,null,null,18,4.0516418783823711E-3,1.609840238071918E-2,6.3379308962616186E-4]
[20,-1,-1,-1,-1,-1,-1,-1,null,null,null,null,null,null,20,"RCA-SA6R-30","RCA-RA4R-20",null,null,"- - -","リンクリスト総数",null,null,null,null,null,null,null,null,null,null,null,null,null,null,null,null,null,null,null,null,null,null,null,19,4.2767330938480582E-3,1.7936800183455632E-2,7.4405633929276553E-4]
[21,-1,-1,-1,-1,-1,-1,-1,null,null,null,null,null,null,21,"RCA2-RN3NA-10","RCA-RA4R-30",null,null,"- - -",1,null,null,null,null,null,null,null,null,null,null,null,null,null,null,null,null,null,null,null,null,null,null,null,20,4.5018243093137454E-3,1.9874570840394047E-2,8.6628434808596244E-4]
[22,-1,-1,-1,-1,-1,-1,-1,null,null,null,null,null,null,22,"RCA2-RN3NA-10-*S","RCA-SRA4R-20",null,null,"- - -",null,null,null,null,null,null,null,null,null,null,null,null,null,null,null,null,null,null,null,null,null,null,null,null,21,4.7269155247794325E-3,2.1911714351534439E-2,1.0010653736621509E-3]
[23,-1,-1,-1,-1,-1,-1,-1,null,null,null,null,null,null,23,"RCA2-RN4NA-20","RCA-RGS3C-20",null,null,"- - -",null,null,null,null,null,null,null,null,null,null,null,null,null,null,null,null,null,null,null,null,null,null,null,null,22,4.9520067402451197E-3,2.4048230716876794E-2,1.1489837146957838E-3]
[24,-1,-1,-1,-1,-1,-1,-1,null,null,null,null,null,null,24,"RCA2-RN4NA-20-*S","RCA-RGS4C-20",null,null,"- - -",null,null,null,null,null,null,null,null,null,null,null,null,null,null,null,null,null,null,null,null,null,null,null,null,23,5.1770979557108077E-3,2.6284119936421137E-2,1.3106197375233697E-3]
[25,-1,-1,-1,-1,-1,-1,-1,null,null,null,null,null,null,25,"RCA2-RP3NA-10","RCA-RGS4C-30",null,null,"- - -",null,null,null,null,null,null,null,null,null,null,null,null,null,null,null,null,null,null,null,null,null,null,null,null,24,5.4021891711764948E-3,2.8619382010167432E-2,1.4865499026081609E-3]
[26,-1,-1,-1,-1,-1,-1,-1,null,null,null,null,null,null,26,"RCA2-RP3NA-10-*S","RCA-RGS3D-20",null,null,"- - -",null,null,null,null,null,null,null,null,null,null,null,null,null,null,null,null,null,null,null,null,null,null,null,null,25,5.6272803866421819E-3,3.1054016938115707E-2,1.6773467908267328E-3]
[27,-1,-1,-1,-1,-1,-1,-1,null,null,null,null,null,null,27,"RCA2-RP4NA-20","RCA-RGS4D-20",null,null,"- - -",null,null,null,null,null,null,null,null,null,null,null,null,null,null,null,null,null,null,null,null,null,null,null,null,26,5.8523716021078691E-3,3.3588024720265945E-2,1.8835791295786536E-3]
[28,-1,-1,-1,-1,-1,-1,-1,null,null,null,null,null,null,28,"RCA2-RP4NA-20-*S","RCA-RGS4D-30",null,null,"- - -",null,null,null,null,null,null,null,null,null,null,null,null,null,null,null,null,null,null,null,null,null,null,null,null,27,6.0774628175735562E-3,3.6221405356618157E-2,2.1058118187204378E-3]
[29,-1,-1,-1,-1,-1,-1,-1,null,null,null,null,null,null,29,"RCA2-GS3NA-10","RCA-SRGS4R-20",null,null,"- - -",null,null,null,null,null,null,null,null,null,null,null,null,null,null,null,null,null,null,null,null,null,null,null,null,28,6.3025540330392434E-3,3.8954158847172328E-2,2.3446059563249615E-3]
[30,-1,-1,-1,-1,-1,-1,-1,null,null,null,null,null,null,30,"RCA2-GS3NA-10-*S","RCA-RGD3C-20",null,null,"- - -",null,null,null,null,null,null,null,null,null,null,null,null,null,null,null,null,null,null,null,null,null,null,null,null,29,6.5276452485049314E-3,4.1786285191928493E-2,2.6005188642675182E-3]
[31,-1,-1,-1,-1,-1,-1,-1,null,null,null,null,null,null,31,"RCA2-GS4NA-20","RCA-RGD4C-20",null,null,"- - -",null,null,null,null,null,null,null,null,null,null,null,null,null,null,null,null,null,null,null,null,null,null,null,null,30,6.7527364639706185E-3,4.4717784390886618E-2,2.874104113639679E-3]
[32,-1,-1,-1,-1,-1,-1,-1,null,null,null,null,null,null,32,"RCA2-GS4NA-20-*S","RCA-RGD4C-30",null,null,"- - -",null,null,null,null,null,null,null,null,null,null,null,null,null,null,null,null,null,null,null,null,null,null,null,null,31,6.9778276794363056E-3,4.7748656444046703E-2,3.1659115499921165E-3]
[33,-1,-1,-1,-1,-1,-1,-1,null,null,null,null,null,null,33,"RCA2-GD3NA-10","RCA-RGD3D-20",null,null,"- - -",null,null,null,null,null,null,null,null,null,null,null,null,null,null,null,null,null,null,null,null,null,null,null,null,32,7.2029188949019928E-3,5.0878901351408767E-2,3.4764873184075472E-3]
[34,-1,-1,-1,-1,-1,-1,-1,null,null,null,null,null,null,34,"RCA2-GD3NA-10-*S","RCA-RGD4D-20",null,null,"- - -",null,null,null,null,null,null,null,null,null,null,null,null,null,null,null,null,null,null,null,null,null,null,null,null,33,7.4280101103676799E-3,5.4108519112972799E-2,3.8063738884049295E-3]
[35,-1,-1,-1,-1,-1,-1,-1,null,null,null,null,null,null,35,"RCA2-GD4NA-20","RCA-RGD4D-30",null,null,"- - -",null,null,null,null,null,null,null,null,null,null,null,null,null,null,null,null,null,null,null,null,null,null,null,null,34,7.6531013258333671E-3,5.7437509728738796E-2,4.1561100786760563E-3]
[36,-1,-1,-1,-1,-1,-1,-1,null,null,null,null,null,null,36,"RCA2-GD4NA-20-*S","RCA-RGD3R-20",null,null,"- - -",null,null,null,null,null,null,null,null,null,null,null,null,null,null,null,null,null,null,null,null,null,null,null,null,35,7.8781925412990551E-3,6.0865873198706781E-2,4.526231081655673E-3]
[37,-1,-1,-1,-1,-1,-1,-1,null,null,null,null,null,null,37,"RCA2-SD3NA-10","RCA-RGD4R-20",null,null,"- - -",null,null,null,null,null,null,null,null,null,null,null,null,null,null,null,null,null,null,null,null,null,null,null,null,36,8.1032837567647422E-3,6.4393609522876719E-2,4.9172684879262366E-3]
[38,-1,-1,-1,-1,-1,-1,-1,null,null,null,null,null,null,38,"RCA2-SD3NA-10-*S","RCA-RGD4R-30",null,null,"- - -",null,null,null,null,null,null,null,null,null,null,null,null,null,null,null,null,null,null,null,null,null,null,null,null,37,8.3283749722304293E-3,6.802071870124865E-2,5.3297503104584266E-3]
[39,-1,-1,-1,-1,-1,-1,-1,null,null,null,null,null,null,39,"RCA2-SD4NA-20","RCA-SRGD4R-20",null,null,"- - -",null,null,null,null,null,null,null,null,null,null,null,null,null,null,null,null,null,null,null,null,null,null,null,null,38,8.5534661876961165E-3,7.1747200733822528E-2,5.7642010086885239E-3]
[40,-1,-1,-1,-1,-1,-1,-1,null,null,null,null,null,null,40,"RCA2-SD4NA-20-*S","RCA-A4R-20",null,null,"- - -",null,null,null,null,null,null,null,null,null,null,null,null,null,null,null,null,null,null,null,null,null,null,null,null,39,8.7785574031618036E-3,7.5573055620598364E-2,6.2211415124337425E-3]
[41,-1,-1,-1,-1,-1,-1,-1,null,null,null,null,null,null,41,"RCA-RA3C-20","RCA-A5R-20",null,null,"- - -",null,null,null,null,null,null,null,null,null,null,null,null,null,null,null,null,null,null,null,null,null,null,null,null,40,9.0036486186274908E-3,7.9498283361576189E-2,6.7010892456466162E-3]
[42,-1,-1,-1,-1,-1,-1,-1,null,null,null,null,null,null,42,"RCA-RA4C-20","RCA-A6R-30",null,null,"- - -",null,null,null,null,null,null,null,null,null,null,null,null,null,null,null,null,null,null,null,null,null,null,null,null,41,9.2287398340931779E-3,8.3522883956755986E-2,7.2045581500095124E-3]
[43,-1,-1,-1,-1,-1,-1,-1,null,null,null,null,null,null,43,"RCA-RA4C-30","- - -",null,null,"- - -",null,null,null,null,null,null,null,null,null,null,null,null,null,null,null,null,null,null,null,null,null,null,null,null,42,9.453831049558865E-3,8.7646857406137757E-2,7.732058708370358E-3]
[44,-1,-1,-1,-1,-1,-1,-1,null,null,null,null,null,null,44,"RCA-RA3D-20","- - -",null,null,"- - -",null,null,null,null,null,null,null,null,null,null,null,null,null,null,null,null,null,null,null,null,null,null,null,null,43,9.6789222650245522E-3,9.1870203709721487E-2,8.2840979680206435E-3]
[45,-1,-1,-1,-1,-1,-1,-1,null,null,null,null,null,null,45,"RCA-RA4D-20","- - -",null,null,"- - -",null,null,null,null,null,null,null,null,null,null,null,null,null,null,null,null,null,null,null,null,null,null,null,null,44,9.9040134804902393E-3,9.6192922867507177E-2,8.8611795638167609E-3]
[46,-1,-1,-1,-1,-1,-1,-1,null,null,null,null,null,null,46,"RCA-RA4D-30","- - -",null,null,"- - -",null,null,null,null,null,null,null,null,null,null,null,null,null,null,null,null,null,null,null,null,null,null,null,null,45,1.0129104695955928E-2,0.1006150148794949,9.4638037411457435E-3]
[47,-1,-1,-1,-1,-1,-1,-1,null,null,null,null,null,null,47,"RCA-RA3R-20","- - -",null,null,"- - -",null,null,null,null,null,null,null,null,null,null,null,null,null,null,null,null,null,null,null,null,null,null,null,null,46,1.0354195911421615E-2,0.10513647974568455,1.0092467378736432E-2]
[48,-1,-1,-1,-1,-1,-1,-1,null,null,null,null,null,null,48,"RCA-RA4R-20","- - -",null,null,"- - -",null,null,null,null,null,null,null,null,null,null,null,null,null,null,null,null,null,null,null,null,null,null,null,null,47,1.0579287126887302E-2,0.10975731746607614,1.0747664011317139E-2]
[49,-1,-1,-1,-1,-1,-1,-1,null,null,null,null,null,null,49,"RCA-RA4R-30","- - -",null,null,"- - -",null,null,null,null,null,null,null,null,null,null,null,null,null,null,null,null,null,null,null,null,null,null,null,null,48,1.080437834235299E-2,0.11447752804066973,1.1429883852120801E-2]
[50,-1,-1,-1,-1,-1,-1,-1,null,null,null,null,null,null,50,"RCA-SRA4R-20","- - -",null,null,"- - -",null,null,null,null,null,null,null,null,null,null,null,null,null,null,null,null,null,null,null,null,null,null,null,null,49,1.1029469557818677E-2,0.11929711146946528,1.2139613815238714E-2]
[51,-1,-1,-1,-1,-1,-1,-1,null,null,null,null,null,null,51,"RCA-RGS3C-20","- - -",null,null,null,null,null,null,null,null,null,null,null,null,null,null,null,null,null,null,null,null,null,null,null,null,null,null,null,50,1.1254560773284364E-2,0.12421606775246283,1.2877337537823774E-2]
[52,-1,-1,-1,-1,-1,-1,-1,null,null,null,null,null,null,52,"RCA-RGS4C-20","- - -",null,null,null,null,null,null,null,null,null,null,null,null,null,null,null,null,null,null,null,null,null,null,null,null,null,null,null,51,1.1479651988750051E-2,0.12923439688966232,1.3643535402144333E-2]
[53,-1,-1,-1,-1,-1,-1,-1,null,null,null,null,null,null,53,"RCA-RGS4C-30","- - -",null,null,null,null,null,null,null,null,null,null,null,null,null,null,null,null,null,null,null,null,null,null,null,null,null,null,null,52,1.1704743204215738E-2,0.13435209888106378,1.443868455748961E-2]
[54,-1,-1,-1,-1,-1,-1,-1,null,null,null,null,null,null,54,"RCA-RGS3D-20","- - -",null,null,null,null,null,null,null,null,null,null,null,null,null,null,null,null,null,null,null,null,null,null,null,null,null,null,null,53,1.1929834419681425E-2,0.13956917372666719,1.5263258941927685E-2]
[55,-1,-1,-1,-1,-1,-1,-1,null,null,null,null,null,null,55,"RCA-RGS4D-20","- - -",null,null,null,null,null,null,null,null,null,null,null,null,null,null,null,null,null,null,null,null,null,null,null,null,null,null,null,54,1.2154925635147112E-2,0.14488562142647263,1.6117729303917059E-2]
[56,-1,-1,-1,-1,-1,-1,-1,null,null,null,null,null,null,56,"RCA-RGS4D-30","- - -",null,null,null,null,null,null,null,null,null,null,null,null,null,null,null,null,null,null,null,null,null,null,null,null,null,null,null,55,1.23800168506128E-2,0.15030144198047998,1.7002563223772776E-2]
[57,-1,-1,-1,-1,-1,-1,-1,null,null,null,null,null,null,57,"RCA-SRGS4R-20","- - -",null,null,null,null,null,null,null,null,null,null,null,null,null,null,null,null,null,null,null,null,null,null,null,null,null,null,null,56,1.2605108066078487E-2,0.15581663538868931,1.7918225134988058E-2]
[58,-1,-1,-1,-1,-1,-1,-1,null,null,null,null,null,null,58,"RCA-RGD3C-20","- - -",null,null,null,null,null,null,null,null,null,null,null,null,null,null,null,null,null,null,null,null,null,null,null,null,null,null,null,57,1.2830199281544174E-2,0.16143120165110064,1.886517634541247E-2]
[59,-1,-1,-1,-1,-1,-1,-1,null,null,null,null,null,null,59,"RCA-RGD4C-20","- - -",null,null,null,null,null,null,null,null,null,null,null,null,null,null,null,null,null,null,null,null,null,null,null,null,null,null,null,58,1.3055290497009863E-2,0.16714514076771397,1.9843875058287542E-2]
[60,-1,-1,-1,-1,-1,-1,-1,null,null,null,null,null,null,60,"RCA-RGD4C-30","- - -",null,null,null,null,null,null,null,null,null,null,null,null,null,null,null,null,null,null,null,null,null,null,null,null,null,null,null,59,1.328038171247555E-2,0.17295845273852922,2.085477639314082E-2]
[61,-1,-1,-1,-1,-1,-1,-1,null,null,null,null,null,null,61,"RCA-RGD3D-20","- - -",null,null,null,null,null,null,null,null,null,null,null,null,null,null,null,null,null,null,null,null,null,null,null,null,null,null,null,60,1.3505472927941237E-2,0.17887113756354647,2.1898332406539302E-2]
[62,-1,-1,-1,-1,-1,-1,-1,null,null,null,null,null,null,62,"RCA-RGD4D-20","- - -",null,null,null,null,null,null,null,null,null,null,null,null,null,null,null,null,null,null,null,null,null,null,null,null,null,null,null,61,1.3730564143406924E-2,0.18488319524276567,2.2974992112703204E-2]
[63,-1,-1,-1,-1,-1,-1,-1,null,null,null,null,null,null,63,"RCA-RGD4D-30","- - -",null,null,null,null,null,null,null,null,null,null,null,null,null,null,null,null,null,null,null,null,null,null,null,null,null,null,null,62,1.3955655358872611E-2,0.19099462577618681,2.4085201503981003E-2]
[64,-1,-1,-1,-1,-1,-1,-1,null,null,null,null,null,null,64,"RCA-RGD3R-20","- - -",null,null,null,null,null,null,null,null,null,null,null,null,null,null,null,null,null,null,null,null,null,null,null,null,null,null,null,63,1.4180746574338298E-2,0.19720542916380995,2.5229403571186661E-2]
[{"$f":"A94+1","v":65},-1,-1,-1,-1,-1,-1,-1,null,null,null,null,null,null,65,"RCA-RGD4R-20","- - -",null,null,null,null,null,null,null,null,null,null,null,null,null,null,null,null,null,null,null,null,null,null,null,null,null,null,null,64,{"$f":"$AP$18/$N$7*AS95","v":1.4405837789803986E-2},0.20351560540563507,2.6408038323799999E-2]
[66,-1,-1,-1,-1,-1,-1,-1,null,null,null,null,null,null,66,"RCA-RGD4R-30","- - -",null,null,null,null,null,null,null,null,null,null,null,null,null,null,null,null,null,null,null,null,null,null,null,null,null,null,null,65,1.4630929005269673E-2,{"$f":"IF(($N$4*AT96^2/2)<=$AP$13,($N$4*AT96^2/2), IF(($AP$13+$N$6*(AT96-$AP$12))<=$AP$17, ($AP$13+$N$6*(AT96-$AP$12)), IF(AU95<$D$14, ($AP$17+($N$6-$N$5*(AT96-$AP$16)/2)*(AT96-$AP$16)), $D$14)))","v":0.20992515450166216},2.7621542810031121E-2]
[67,-1,-1,-1,-1,-1,-1,-1,null,null,null,null,null,null,{"$f":"O96+1","v":67},"RCA-SRGD4R-20","- - -",null,null,null,null,null,null,null,null,null,null,null,null,null,null,null,null,null,null,null,null,null,null,null,null,null,null,null,{"$f":"AS96+1","v":66},1.485602022073536E-2,0.21643407645189119,{"$f":"( $AP$6*AU97 + $AP$7*AU96 + $AP$9*AV96 )/$AP$8","v":2.8870351136749788E-2}]
[68,-1,-1,-1,-1,-1,-1,-1,null,null,null,null,null,null,68,"RCA2-TCA3NA-10","- - -",null,null,null,null,null,null,null,null,null,null,null,null,null,null,null,null,null,null,null,null,null,null,null,null,null,null,null,67,1.5081111436201047E-2,0.2230423712563222,3.015489448928069E-2]
[69,-1,-1,-1,-1,-1,-1,-1,null,null,null,null,null,null,69,"RCA2-TCA3NA-10-*S","- - -",null,null,null,null,null,null,null,null,null,null,null,null,null,null,null,null,null,null,null,null,null,null,null,null,null,null,null,68,1.5306202651666734E-2,0.22975003891495518,3.1475601151065478E-2]
[70,-1,-1,-1,-1,-1,-1,-1,null,null,null,null,null,null,70,"RCA2-TCA4NA-20","- - -",null,null,null,null,null,null,null,null,null,null,null,null,null,null,null,null,null,null,null,null,null,null,null,null,null,null,null,69,1.5531293867132421E-2,0.23655707942779017,3.2832896523192462E-2]
[71,-1,-1,-1,-1,-1,-1,-1,null,null,null,null,null,null,71,"RCA2-TCA4NA-20-*S","- - -",null,null,null,null,null,null,null,null,null,null,null,null,null,null,null,null,null,null,null,null,null,null,null,null,null,null,null,70,1.575638508259811E-2,0.24346349279482712,3.4227203143794932E-2]
[72,-1,-1,-1,-1,-1,-1,-1,null,null,null,null,null,null,72,"RCA2-TWA3NA-10","- - -",null,null,null,null,null,null,null,null,null,null,null,null,null,null,null,null,null,null,null,null,null,null,null,null,null,null,null,71,1.5981476298063797E-2,0.25046927901606603,3.5658940707318815E-2]
[73,-1,-1,-1,-1,-1,-1,-1,null,null,null,null,null,null,73,"RCA2-TWA3NA-10-*S","- - -",null,null,null,null,null,null,null,null,null,null,null,null,null,null,null,null,null,null,null,null,null,null,null,null,null,null,null,72,1.6206567513529484E-2,0.25757443809150687,3.7128526083660809E-2]
[74,-1,-1,-1,-1,-1,-1,-1,null,null,null,null,null,null,74,"RCA2-TWA4NA-20","- - -",null,null,null,null,null,null,null,null,null,null,null,null,null,null,null,null,null,null,null,null,null,null,null,null,null,null,null,73,1.6431658728995172E-2,0.26477897002114975,3.8636373337177551E-2]
[75,-1,-1,-1,-1,-1,-1,-1,null,null,null,null,null,null,75,"RCA2-TWA4NA-20-*S","- - -",null,null,null,null,null,null,null,null,null,null,null,null,null,null,null,null,null,null,null,null,null,null,null,null,null,null,null,74,1.6656749944460859E-2,0.2720828748049946,4.0182893745567022E-2]
[76,-1,-1,-1,-1,-1,-1,-1,null,null,null,null,null,null,76,"RCA2-TFA3NA-10","- - -",null,null,null,null,null,null,null,null,null,null,null,null,null,null,null,null,null,null,null,null,null,null,null,null,null,null,null,75,1.6881841159926546E-2,0.27948615244304131,4.1768495818622742E-2]
[77,-1,-1,-1,-1,-1,-1,-1,null,null,null,null,null,null,77,"RCA2-TFA3NA-10-*S","- - -",null,null,null,null,null,null,null,null,null,null,null,null,null,null,null,null,null,null,null,null,null,null,null,null,null,null,null,76,1.7106932375392233E-2,0.28698880293529011,4.3393585316861827E-2]
[78,-1,-1,-1,-1,-1,-1,-1,null,null,null,null,null,null,78,"RCA2-TFA4NA-20","- - -",null,null,null,null,null,null,null,null,null,null,null,null,null,null,null,null,null,null,null,null,null,null,null,null,null,null,null,77,1.733202359085792E-2,0.29459082628174083,4.5058565270027648E-2]
[79,-1,-1,-1,-1,-1,-1,-1,null,null,null,null,null,null,79,"RCA2-TFA4NA-20-*S","- - -",null,null,null,null,null,null,null,null,null,null,null,null,null,null,null,null,null,null,null,null,null,null,null,null,null,null,null,78,1.7557114806323607E-2,0.30229222248239346,4.6763835995467982E-2]
[80,-1,-1,-1,-1,-1,-1,-1,null,null,null,null,null,null,80,"RCA2-TA4C","- - -",null,null,null,null,null,null,null,null,null,null,null,null,null,null,null,null,null,null,null,null,null,null,null,null,null,null,null,79,1.7782206021789294E-2,0.31009299153724817,4.8509795116389462E-2]
[81,-1,-1,-1,-1,-1,-1,-1,null,null,null,null,null,null,81,"RCA2-TA5C","- - -",null,null,null,null,null,null,null,null,null,null,null,null,null,null,null,null,null,null,null,null,null,null,null,null,null,null,null,80,1.8007297237254982E-2,0.31799313344630475,5.0296837579989193E-2]
[82,-1,-1,-1,-1,-1,-1,-1,null,null,null,null,null,null,82,"RCA2-TA6C","- - -",null,null,null,null,null,null,null,null,null,null,null,null,null,null,null,null,null,null,null,null,null,null,null,null,null,null,null,81,1.8232388452720669E-2,0.32599264820956336,5.2125355675464315E-2]
[83,-1,-1,-1,-1,-1,-1,-1,null,null,null,null,null,null,83,"RCA2-TA7C","- - -",null,null,null,null,null,null,null,null,null,null,null,null,null,null,null,null,null,null,null,null,null,null,null,null,null,null,null,82,1.8457479668186356E-2,0.33409153582702394,5.3995739051900409E-2]
[84,-1,-1,-1,-1,-1,-1,-1,null,null,null,null,null,null,84,"RCA2-TA4R","- - -",null,null,null,null,null,null,null,null,null,null,null,null,null,null,null,null,null,null,null,null,null,null,null,null,null,null,null,83,1.8682570883652043E-2,0.3422897962986865,5.5908374736039455E-2]
[85,-1,-1,-1,-1,-1,-1,-1,null,null,null,null,null,null,85,"RCA2-TA5R","- - -",null,null,null,null,null,null,null,null,null,null,null,null,null,null,null,null,null,null,null,null,null,null,null,null,null,null,null,84,1.890766209911773E-2,0.35058742962455103,5.7863647149928261E-2]
[86,-1,-1,-1,-1,-1,-1,-1,null,null,null,null,null,null,86,"RCA2-TA6R","- - -",null,null,null,null,null,null,null,null,null,null,null,null,null,null,null,null,null,null,null,null,null,null,null,null,null,null,null,85,1.9132753314583417E-2,0.35898443580461747,5.9861938128448075E-2]
[87,-1,-1,-1,-1,-1,-1,-1,null,null,null,null,null,null,87,"RCA2-TA7R","- - -",null,null,null,null,null,null,null,null,null,null,null,null,null,null,null,null,null,null,null,null,null,null,null,null,null,null,null,86,1.9357844530049104E-2,0.36748081483888595,6.1903626936726248E-2]
[88,-1,-1,-1,-1,-1,-1,-1,null,null,null,null,null,null,88,"RCA-A4R-20","- - -",null,null,null,null,null,null,null,null,null,null,null,null,null,null,null,null,null,null,null,null,null,null,null,null,null,null,null,87,1.9582935745514791E-2,0.37607656672735634,6.3989090287430717E-2]
[89,-1,-1,-1,-1,-1,-1,-1,null,null,null,null,null,null,89,"RCA-A5R-20","- - -",null,null,null,null,null,null,null,null,null,null,null,null,null,null,null,null,null,null,null,null,null,null,null,null,null,null,null,88,1.9808026960980479E-2,0.38477169147002871,6.6118702357948131E-2]
[90,-1,-1,-1,-1,-1,-1,-1,null,null,null,null,null,null,90,"RCA-A6R-30","- - -",null,null,null,null,null,null,null,null,null,null,null,null,null,null,null,null,null,null,null,null,null,null,null,null,null,null,null,89,2.0033118176446166E-2,0.3935661890669031,6.8292834807446259E-2]
[91,-1,-1,-1,-1,-1,-1,-1,null,null,null,null,null,null,91,"RCL-SA1L","- - -",null,null,null,null,null,null,null,null,null,null,null,null,null,null,null,null,null,null,null,null,null,null,null,null,null,null,null,90,2.0258209391911856E-2,0.40246005951797958,7.0511856793821645E-2]
[92,-1,-1,-1,-1,-1,-1,-1,null,null,null,null,null,null,92,"RCL-SA2L","- - -",null,null,null,null,null,null,null,null,null,null,null,null,null,null,null,null,null,null,null,null,null,null,null,null,null,null,null,91,2.0483300607377544E-2,0.41145330282325787,7.2776134990533287E-2]
[93,-1,-1,-1,-1,-1,-1,-1,null,null,null,null,null,null,93,"RCL-SA3L","- - -",null,null,null,null,null,null,null,null,null,null,null,null,null,null,null,null,null,null,null,null,null,null,null,null,null,null,null,92,2.0708391822843231E-2,0.42054591898273819,7.5086033603322791E-2]
[94,-1,-1,-1,-1,-1,-1,-1,null,null,null,null,null,null,94,"RCL-SA4L","- - -",null,null,null,null,null,null,null,null,null,null,null,null,null,null,null,null,null,null,null,null,null,null,null,null,null,null,null,93,2.0933483038308918E-2,0.42973790799642037,7.7441914386822269E-2]
[95,-1,-1,-1,-1,-1,-1,-1,null,null,null,null,null,null,95,"RCL-SM4L","- - -",null,null,null,null,null,null,null,null,null,null,null,null,null,null,null,null,null,null,null,null,null,null,null,null,null,null,null,94,2.1158574253774605E-2,0.43902926986430457,7.9844136661050294E-2]
[96,-1,-1,-1,-1,-1,-1,-1,null,null,null,null,null,null,96,"RCL-SA5L","- - -",null,null,null,null,null,null,null,null,null,null,null,null,null,null,null,null,null,null,null,null,null,null,null,null,null,null,null,95,2.1383665469240292E-2,0.44842000458639081,8.2293057327796848E-2]
[97,-1,-1,-1,-1,-1,-1,-1,null,null,null,null,null,null,97,"RCL-SM5L","- - -",null,null,null,null,null,null,null,null,null,null,null,null,null,null,null,null,null,null,null,null,null,null,null,null,null,null,null,96,2.1608756684705979E-2,0.45791011216267891,8.4789030886898084E-2]
[98,-1,-1,-1,-1,-1,-1,-1,null,null,null,null,null,null,98,"RCL-SA6L","- - -",null,null,null,null,null,null,null,null,null,null,null,null,null,null,null,null,null,null,null,null,null,null,null,null,null,null,null,97,2.1833847900171666E-2,0.46749959259316909,8.7332409452401463E-2]
[99,-1,-1,-1,-1,-1,-1,-1,null,null,null,null,null,null,99,"RCL-SM6L","- - -",null,null,null,null,null,null,null,null,null,null,null,null,null,null,null,null,null,null,null,null,null,null,null,null,null,null,null,98,2.2058939115637353E-2,0.47718844587786113,8.9923542768622189E-2]
[100,-1,-1,-1,-1,-1,-1,-1,null,null,null,null,null,null,100,"RCL-RA1L","- - -",null,null,null,null,null,null,null,null,null,null,null,null,null,null,null,null,null,null,null,null,null,null,null,null,null,null,null,99,2.2284030331103041E-2,0.48697667201675515,9.2562778226091505E-2]
[101,-1,-1,-1,-1,-1,-1,-1,null,null,null,null,null,null,101,"RCL-RA2L","- - -",null,null,null,null,null,null,null,null,null,null,null,null,null,null,null,null,null,null,null,null,null,null,null,null,null,null,null,100,2.2509121546568728E-2,0.49686427100985131,9.5250460877397733E-2]
[102,-1,-1,-1,-1,-1,-1,-1,null,null,null,null,null,null,102,"RCL-RA3L","- - -",null,null,null,null,null,null,null,null,null,null,null,null,null,null,null,null,null,null,null,null,null,null,null,null,null,null,null,{"$f":"AS131+1","v":101},2.2734212762034415E-2,0.50685124285714922,9.7986933452920574E-2]
[103,-1,-1,-1,-1,-1,-1,-1,null,null,null,null,null,null,103,"RCA2-SA2AC","- - -",null,null,null,null,null,null,null,null,null,null,null,null,null,null,null,null,null,null,null,null,null,null,null,null,null,null,null,102,2.2959303977500102E-2,0.51693758755864927,0.10077253637645971]
[104,-1,-1,-1,-1,-1,-1,-1,null,null,null,null,null,null,104,"RCA2-SA2AR","- - -",null,null,null,null,null,null,null,null,null,null,null,null,null,null,null,null,null,null,null,null,null,null,null,null,null,null,null,103,2.3184395192965789E-2,0.52712330511435124,0.10360760778075803]
[105,-1,-1,-1,-1,-1,-1,-1,null,null,null,null,null,null,105,"RCA2-RA2AC","- - -",null,null,null,null,null,null,null,null,null,null,null,null,null,null,null,null,null,null,null,null,null,null,null,null,null,null,null,104,2.3409486408431476E-2,0.53740839552425512,0.10649248352292057]
[106,-1,-1,-1,-1,-1,-1,-1,null,null,null,null,null,null,106,"RCA2-RA2AR","- - -",null,null,null,null,null,null,null,null,null,null,null,null,null,null,null,null,null,null,null,null,null,null,null,null,null,null,null,105,2.3634577623897163E-2,0.54779285878836093,0.10942749719972945]
[107,-1,-1,-1,-1,-1,-1,-1,null,null,null,null,null,null,107,"RCD-RA1D",null,null,null,null,null,null,null,null,null,null,null,null,null,null,null,null,null,null,null,null,null,null,null,null,null,null,null,null,106,2.3859668839362851E-2,0.55827669490666876,0.11241298016285602]
[108,-1,-1,-1,-1,-1,-1,-1,null,null,null,null,null,null,null,null,null,null,null,null,null,null,null,null,null,null,null,null,null,null,null,null,null,null,null,null,null,null,null,null,null,null,null,null,107,2.4084760054828538E-2,0.56885990387917862,0.11544926153397039]
[109,-1,-1,-1,-1,-1,-1,-1,null,null,null,null,null,null,null,null,null,null,null,null,null,null,null,null,null,null,null,null,null,null,null,null,null,null,null,null,null,null,null,null,null,null,null,null,108,2.4309851270294225E-2,0.57954248570589051,0.11853666821974942]
[110,-1,-1,-1,-1,-1,-1,-1,null,null,null,null,null,null,null,null,null,null,null,null,null,null,null,null,null,null,null,null,null,null,null,null,null,null,null,null,null,null,null,null,null,null,null,null,109,2.4534942485759912E-2,0.59032444038680421,0.12167552492678362]
[111,-1,-1,-1,-1,-1,-1,-1,null,null,null,null,null,null,null,null,null,null,null,null,null,null,null,null,null,null,null,null,null,null,null,null,null,null,null,null,null,null,null,null,null,null,null,null,110,2.4760033701225599E-2,0.60120576792191993,0.12486615417638376]
[112,-1,-1,-1,-1,-1,-1,-1,null,null,null,null,null,null,null,null,null,null,null,null,null,null,null,null,null,null,null,null,null,null,null,null,null,null,null,null,null,null,null,null,null,null,null,null,111,2.4985124916691286E-2,0.61218646831123769,0.12810887631928791]
[113,-1,-1,-1,-1,-1,-1,-1,null,null,null,null,null,null,null,null,null,null,null,null,null,null,null,null,null,null,null,null,null,null,null,null,null,null,null,null,null,null,null,null,null,null,null,null,112,2.5210216132156973E-2,0.62326654155475725,0.13140400955026929]
[114,-1,-1,-1,-1,-1,-1,-1,null,null,null,null,null,null,null,null,null,null,null,null,null,null,null,null,null,null,null,null,null,null,null,null,null,null,null,null,null,null,null,null,null,null,null,null,113,2.5435307347622661E-2,0.63444598765247895,0.13475186992264604]
[115,-1,-1,-1,-1,-1,-1,-1,null,null,null,null,null,null,null,null,null,null,null,null,null,null,null,null,null,null,null,null,null,null,null,null,null,null,null,null,null,null,null,null,null,null,null,null,114,2.5660398563088348E-2,0.64572480660440257,0.13815277136269319]
[116,-1,-1,-1,-1,-1,-1,-1,null,null,null,null,null,null,null,null,null,null,null,null,null,null,null,null,null,null,null,null,null,null,null,null,null,null,null,null,null,null,null,null,null,null,null,null,115,2.5885489778554035E-2,0.65710299841052811,0.14160702568395775]
[117,-1,-1,-1,-1,-1,-1,-1,null,null,null,null,null,null,null,null,null,null,null,null,null,null,null,null,null,null,null,null,null,null,null,null,null,null,null,null,null,null,null,null,null,null,null,null,116,2.6110580994019725E-2,0.66858056307085589,0.14511494260147736]
[118,-1,-1,-1,-1,-1,-1,-1,null,null,null,null,null,null,null,null,null,null,null,null,null,null,null,null,null,null,null,null,null,null,null,null,null,null,null,null,null,null,null,null,null,null,null,null,117,2.6335672209485413E-2,0.68015750058538549,0.14867682974590329]
[119,-1,-1,-1,-1,-1,-1,-1,null,null,null,null,null,null,null,null,null,null,null,null,null,null,null,null,null,null,null,null,null,null,null,null,null,null,null,null,null,null,null,null,null,null,null,null,118,2.65607634249511E-2,0.69183381095411689,0.15229299267752838]
[120,-1,-1,-1,-1,-1,-1,-1,null,null,null,null,null,null,null,null,null,null,null,null,null,null,null,null,null,null,null,null,null,null,null,null,null,null,null,null,null,null,null,null,null,null,null,null,119,2.6785854640416787E-2,0.70360949417705043,0.15596373490022059]
[121,-1,-1,-1,-1,-1,-1,-1,null,null,null,null,null,null,null,null,null,null,null,null,null,null,null,null,null,null,null,null,null,null,null,null,null,null,null,null,null,null,null,null,null,null,null,null,120,2.7010945855882474E-2,0.71548455025418589,0.1596893578752627]
[122,-1,-1,-1,-1,-1,-1,-1,null,null,null,null,null,null,null,null,null,null,null,null,null,null,null,null,null,null,null,null,null,null,null,null,null,null,null,null,null,null,null,null,null,null,null,null,121,2.7236037071348161E-2,0.72745897918552327,0.16347016103509909]
[123,-1,-1,-1,-1,-1,-1,-1,null,null,null,null,null,null,null,null,null,null,null,null,null,null,null,null,null,null,null,null,null,null,null,null,null,null,null,null,null,null,null,null,null,null,null,null,122,2.7461128286813848E-2,0.73953278097106268,0.16730644179698972]
[124,-1,-1,-1,-1,-1,-1,-1,null,null,null,null,null,null,null,null,null,null,null,null,null,null,null,null,null,null,null,null,null,null,null,null,null,null,null,null,null,null,null,null,null,null,null,null,123,2.7686219502279535E-2,0.751705955610804,0.17119849557657238]
[125,-1,-1,-1,-1,-1,-1,-1,null,null,null,null,null,null,null,null,null,null,null,null,null,null,null,null,null,null,null,null,null,null,null,null,null,null,null,null,null,null,null,null,null,null,null,null,124,2.7911310717745223E-2,0.76397850310474724,0.17514661580133362]
[126,-1,-1,-1,-1,-1,-1,-1,null,null,null,null,null,null,null,null,null,null,null,null,null,null,null,null,null,null,null,null,null,null,null,null,null,null,null,null,null,null,null,null,null,null,null,null,125,2.813640193321091E-2,0.77635042345289251,0.17915109392398912]
[127,-1,-1,-1,-1,-1,-1,-1,null,null,null,null,null,null,null,null,null,null,null,null,null,null,null,null,null,null,null,null,null,null,null,null,null,null,null,null,null,null,null,null,null,null,null,null,126,2.8361493148676597E-2,0.78882171665523981,0.18321221943577382]
[128,-1,-1,-1,-1,-1,-1,-1,null,null,null,null,null,null,null,null,null,null,null,null,null,null,null,null,null,null,null,null,null,null,null,null,null,null,null,null,null,null,null,null,null,null,null,null,127,2.8586584364142284E-2,0.80139238271178903,0.18733027987964276]
[{"$f":"A158+1","v":129},-1,-1,-1,-1,-1,-1,-1,null,null,null,null,null,null,null,null,null,null,null,null,null,null,null,null,null,null,null,null,null,null,null,null,null,null,null,null,null,null,null,null,null,null,null,null,128,{"$f":"$AP$18/$N$7*AS159","v":2.8811675579607971E-2},0.81406242162254028,0.19150556086338305]
[130,-1,-1,-1,-1,-1,-1,-1,null,null,null,null,null,null,null,null,null,null,null,null,null,null,null,null,null,null,null,null,null,null,null,null,null,null,null,null,null,null,null,null,null,null,null,null,129,2.9036766795073658E-2,{"$f":"IF(($N$4*AT160^2/2)<=$AP$13,($N$4*AT160^2/2), IF(($AP$13+$N$6*(AT160-$AP$12))<=$AP$17, ($AP$13+$N$6*(AT160-$AP$12)), IF(AU159<$D$14, ($AP$17+($N$6-$N$5*(AT160-$AP$16)/2)*(AT160-$AP$16)), $D$14)))","v":0.82683183338749333},0.19573834607263746]
[131,-1,-1,-1,-1,-1,-1,-1,null,null,null,null,null,null,null,null,null,null,null,null,null,null,null,null,null,null,null,null,null,null,null,null,null,null,null,null,null,null,null,null,null,null,null,null,130,2.9261858010539345E-2,0.83970061800664864,{"$f":"( $AP$6*AU161 + $AP$7*AU160 + $AP$9*AV160 )/$AP$8","v":0.20002891728384067}]
[132,-1,-1,-1,-1,-1,-1,-1,null,null,null,null,null,null,null,null,null,null,null,null,null,null,null,null,null,null,null,null,null,null,null,null,null,null,null,null,null,null,null,null,null,null,null,null,131,2.9486949226005033E-2,0.85266877548000564,0.20437755437706809]
[133,-1,-1,-1,-1,-1,-1,-1,null,null,null,null,null,null,null,null,null,null,null,null,null,null,null,null,null,null,null,null,null,null,null,null,null,null,null,null,null,null,null,null,null,null,null,null,132,2.971204044147072E-2,0.86573630580756478,0.20878453534879848]
[134,-1,-1,-1,-1,-1,-1,-1,null,null,null,null,null,null,null,null,null,null,null,null,null,null,null,null,null,null,null,null,null,null,null,null,null,null,null,null,null,null,null,null,null,null,null,null,133,2.9937131656936407E-2,0.87890320898932583,0.21325013632459058]
[135,-1,-1,-1,-1,-1,-1,-1,null,null,null,null,null,null,null,null,null,null,null,null,null,null,null,null,null,null,null,null,null,null,null,null,null,null,null,null,null,null,null,null,null,null,null,null,134,3.0162222872402094E-2,0.89216948502528881,0.21777463157167434]
[136,-1,-1,-1,-1,-1,-1,-1,null,null,null,null,null,null,null,null,null,null,null,null,null,null,null,null,null,null,null,null,null,null,null,null,null,null,null,null,null,null,null,null,null,null,null,null,135,3.0387314087867781E-2,0.90553513391545382,0.22235829351145767]
[137,-1,-1,-1,-1,-1,-1,-1,null,null,null,null,null,null,null,null,null,null,null,null,null,null,null,null,null,null,null,null,null,null,null,null,null,null,null,null,null,null,null,null,null,null,null,null,136,3.0612405303333468E-2,0.91900015565982074,0.22700139273194858]
[138,-1,-1,-1,-1,-1,-1,-1,null,null,null,null,null,null,null,null,null,null,null,null,null,null,null,null,null,null,null,null,null,null,null,null,null,null,null,null,null,null,null,null,null,null,null,null,137,3.0837496518799155E-2,0.9325645502583898,0.23170419800009431]
[139,-1,-1,-1,-1,-1,-1,-1,null,null,null,null,null,null,null,null,null,null,null,null,null,null,null,null,null,null,null,null,null,null,null,null,null,null,null,null,null,null,null,null,null,null,null,null,138,3.1062587734264843E-2,0.94622831771116067,0.23646697627403684]
[140,-1,-1,-1,-1,-1,-1,-1,null,null,null,null,null,null,null,null,null,null,null,null,null,null,null,null,null,null,null,null,null,null,null,null,null,null,null,null,null,null,null,null,null,null,null,null,139,3.128767894973053E-2,0.95999145801813346,0.24128999271528626]
[141,-1,-1,-1,-1,-1,-1,-1,null,null,null,null,null,null,null,null,null,null,null,null,null,null,null,null,null,null,null,null,null,null,null,null,null,null,null,null,null,null,null,null,null,null,null,null,140,3.151277016519622E-2,0.9738539711793085,0.24617351070081211]
[142,-1,-1,-1,-1,-1,-1,-1,null,null,null,null,null,null,null,null,null,null,null,null,null,null,null,null,null,null,null,null,null,null,null,null,null,null,null,null,null,null,null,null,null,null,null,null,141,3.1737861380661904E-2,0.98781585719468523,0.25111779183505345]
[143,-1,-1,-1,-1,-1,-1,-1,null,null,null,null,null,null,null,null,null,null,null,null,null,null,null,null,null,null,null,null,null,null,null,null,null,null,null,null,null,null,null,null,null,null,null,null,142,3.1962952596127595E-2,1.0018771160642641,0.2561230959618479]
[144,-1,-1,-1,-1,-1,-1,-1,null,null,null,null,null,null,null,null,null,null,null,null,null,null,null,null,null,null,null,null,null,null,null,null,null,null,null,null,null,null,null,null,null,null,null,null,143,3.2188043811593278E-2,1.0160377477880447,0.2611896811762805]
[145,-1,-1,-1,-1,-1,-1,-1,null,null,null,null,null,null,null,null,null,null,null,null,null,null,null,null,null,null,null,null,null,null,null,null,null,null,null,null,null,null,null,null,null,null,null,null,144,3.2413135027058969E-2,1.0302977523660275,0.26631780383645298]
[146,-1,-1,-1,-1,-1,-1,-1,null,null,null,null,null,null,null,null,null,null,null,null,null,null,null,null,null,null,null,null,null,null,null,null,null,null,null,null,null,null,null,null,null,null,null,null,145,3.2638226242524652E-2,1.0446571297982119,0.27150771857517358]
[147,-1,-1,-1,-1,-1,-1,-1,null,null,null,null,null,null,null,null,null,null,null,null,null,null,null,null,null,null,null,null,null,null,null,null,null,null,null,null,null,null,null,null,null,null,null,null,146,3.2863317457990343E-2,1.059115880084599,0.27675967831156834]
[148,-1,-1,-1,-1,-1,-1,-1,null,null,null,null,null,null,null,null,null,null,null,null,null,null,null,null,null,null,null,null,null,null,null,null,null,null,null,null,null,null,null,null,null,null,null,null,147,3.3088408673456027E-2,1.0736740032251872,0.28207393426261407]
[149,-1,-1,-1,-1,-1,-1,-1,null,null,null,null,null,null,null,null,null,null,null,null,null,null,null,null,null,null,null,null,null,null,null,null,null,null,null,null,null,null,null,null,null,null,null,null,148,3.3313499888921717E-2,1.0883314992199784,0.28745073595459403]
[150,-1,-1,-1,-1,-1,-1,-1,null,null,null,null,null,null,null,null,null,null,null,null,null,null,null,null,null,null,null,null,null,null,null,null,null,null,null,null,null,null,null,null,null,null,null,null,149,3.3538591104387401E-2,1.1030883680689705,0.29289033123447628]
[151,-1,-1,-1,-1,-1,-1,-1,null,null,null,null,null,null,null,null,null,null,null,null,null,null,null,null,null,null,null,null,null,null,null,null,null,null,null,null,null,null,null,null,null,null,null,null,150,3.3763682319853092E-2,1.1179446097721653,0.29839296628121531]
[152,-1,-1,-1,-1,-1,-1,-1,null,null,null,null,null,null,null,null,null,null,null,null,null,null,null,null,null,null,null,null,null,null,null,null,null,null,null,null,null,null,null,null,null,null,null,null,151,3.3988773535318775E-2,1.1329002243295616,0.30395888561697804]
[153,-1,-1,-1,-1,-1,-1,-1,null,null,null,null,null,null,null,null,null,null,null,null,null,null,null,null,null,null,null,null,null,null,null,null,null,null,null,null,null,null,null,null,null,null,null,null,{"$f":"AS182+1","v":152},3.4213864750784466E-2,1.1479552117411604,0.30958833211829384]
[154,-1,-1,-1,-1,-1,-1,-1,null,null,null,null,null,null,null,null,null,null,null,null,null,null,null,null,null,null,null,null,null,null,null,null,null,null,null,null,null,null,null,null,null,null,null,null,153,3.443895596625015E-2,1.1631095720069606,0.31528154702712985]
[155,-1,-1,-1,-1,-1,-1,-1,null,null,null,null,null,null,null,null,null,null,null,null,null,null,null,null,null,null,null,null,null,null,null,null,null,null,null,null,null,null,null,null,null,null,null,null,154,3.466404718171584E-2,1.1783633051269633,0.32103876996189151]
[156,-1,-1,-1,-1,-1,-1,-1,null,null,null,null,null,null,null,null,null,null,null,null,null,null,null,null,null,null,null,null,null,null,null,null,null,null,null,null,null,null,null,null,null,null,null,null,155,3.4889138397181531E-2,1.1937164111011678,0.32686023892834909]
[157,-1,-1,-1,-1,-1,-1,-1,null,null,null,null,null,null,null,null,null,null,null,null,null,null,null,null,null,null,null,null,null,null,null,null,null,null,null,null,null,null,null,null,null,null,null,null,156,3.5114229612647214E-2,1.2091688899295738,0.33274619033049091]
[158,-1,-1,-1,-1,-1,-1,-1,null,null,null,null,null,null,null,null,null,null,null,null,null,null,null,null,null,null,null,null,null,null,null,null,null,null,null,null,null,null,null,null,null,null,null,null,157,3.5339320828112905E-2,1.2247207416121824,0.33869685898130319]
[159,-1,-1,-1,-1,-1,-1,-1,null,null,null,null,null,null,null,null,null,null,null,null,null,null,null,null,null,null,null,null,null,null,null,null,null,null,null,null,null,null,null,null,null,null,null,null,158,3.5564412043578589E-2,1.2403719661489927,0.34471247811347772]
[160,-1,-1,-1,-1,-1,-1,-1,null,null,null,null,null,null,null,null,null,null,null,null,null,null,null,null,null,null,null,null,null,null,null,null,null,null,null,null,null,null,null,null,null,null,null,null,159,3.5789503259044279E-2,1.2561225635400053,0.35079327939004701]
[161,-1,-1,-1,-1,-1,-1,-1,null,null,null,null,null,null,null,null,null,null,null,null,null,null,null,null,null,null,null,null,null,null,null,null,null,null,null,null,null,null,null,null,null,null,null,null,160,3.6014594474509963E-2,1.271972533785219,0.3569394929149482]
[162,-1,-1,-1,-1,-1,-1,-1,null,null,null,null,null,null,null,null,null,null,null,null,null,null,null,null,null,null,null,null,null,null,null,null,null,null,null,null,null,null,null,null,null,null,null,null,161,3.6239685689975654E-2,1.2879218768846357,0.363151347243516]
[163,-1,-1,-1,-1,-1,-1,-1,null,null,null,null,null,null,null,null,null,null,null,null,null,null,null,null,null,null,null,null,null,null,null,null,null,null,null,null,null,null,null,null,null,null,null,null,162,3.6464776905441337E-2,1.3039705928382535,0.36942906939290454]
[164,-1,-1,-1,-1,-1,-1,-1,null,null,null,null,null,null,null,null,null,null,null,null,null,null,null,null,null,null,null,null,null,null,null,null,null,null,null,null,null,null,null,null,null,null,null,null,163,3.6689868120907028E-2,1.3201186816460739,0.37577288485243943]
[165,-1,-1,-1,-1,-1,-1,-1,null,null,null,null,null,null,null,null,null,null,null,null,null,null,null,null,null,null,null,null,null,null,null,null,null,null,null,null,null,null,null,null,null,null,null,null,164,3.6914959336372712E-2,1.3363661433080958,0.38218301759390017]
[166,-1,-1,-1,-1,-1,-1,-1,null,null,null,null,null,null,null,null,null,null,null,null,null,null,null,null,null,null,null,null,null,null,null,null,null,null,null,null,null,null,null,null,null,null,null,null,165,3.7140050551838402E-2,1.3527129778243201,0.38865969008173307]
[167,-1,-1,-1,-1,-1,-1,-1,null,null,null,null,null,null,null,null,null,null,null,null,null,null,null,null,null,null,null,null,null,null,null,null,null,null,null,null,null,null,null,null,null,null,null,null,166,3.7365141767304086E-2,1.369159185194746,0.39520312328319573]
[168,-1,-1,-1,-1,-1,-1,-1,null,null,null,null,null,null,null,null,null,null,null,null,null,null,null,null,null,null,null,null,null,null,null,null,null,null,null,null,null,null,null,null,null,null,null,null,167,3.7590232982769776E-2,1.3857047654193742,0.40181353667843328]
[169,-1,-1,-1,-1,-1,-1,-1,null,null,null,null,null,null,null,null,null,null,null,null,null,null,null,null,null,null,null,null,null,null,null,null,null,null,null,null,null,null,null,null,null,null,null,null,168,3.781532419823546E-2,1.4023497184982041,0.40849114827048638]
[170,-1,-1,-1,-1,-1,-1,-1,null,null,null,null,null,null,null,null,null,null,null,null,null,null,null,null,null,null,null,null,null,null,null,null,null,null,null,null,null,null,null,null,null,null,null,null,169,3.8040415413701151E-2,1.4190940444312361,0.41523617459523232]
[171,-1,-1,-1,-1,-1,-1,-1,null,null,null,null,null,null,null,null,null,null,null,null,null,null,null,null,null,null,null,null,null,null,null,null,null,null,null,null,null,null,null,null,null,null,null,null,170,3.8265506629166834E-2,1.4359377432184699,0.42204883073125898]
[172,-1,-1,-1,-1,-1,-1,-1,null,null,null,null,null,null,null,null,null,null,null,null,null,null,null,null,null,null,null,null,null,null,null,null,null,null,null,null,null,null,null,null,null,null,null,null,171,3.8490597844632525E-2,1.4528808148599062,0.42892933030967251]
[173,-1,-1,-1,-1,-1,-1,-1,null,null,null,null,null,null,null,null,null,null,null,null,null,null,null,null,null,null,null,null,null,null,null,null,null,null,null,null,null,null,null,null,null,null,null,null,172,3.8715689060098209E-2,1.4699232593555438,0.43587788552383883]
[174,-1,-1,-1,-1,-1,-1,-1,null,null,null,null,null,null,null,null,null,null,null,null,null,null,null,null,null,null,null,null,null,null,null,null,null,null,null,null,null,null,null,null,null,null,null,null,173,3.8940780275563899E-2,1.4870650767053839,0.44289470713905965]
[175,-1,-1,-1,-1,-1,-1,-1,null,null,null,null,null,null,null,null,null,null,null,null,null,null,null,null,null,null,null,null,null,null,null,null,null,null,null,null,null,null,null,null,null,null,null,null,174,3.9165871491029583E-2,1.5043062669094254,0.44998000450218339]
[176,-1,-1,-1,-1,-1,-1,-1,null,null,null,null,null,null,null,null,null,null,null,null,null,null,null,null,null,null,null,null,null,null,null,null,null,null,null,null,null,null,null,null,null,null,null,null,175,3.9390962706495274E-2,1.5216468299676695,0.4571339855511512]
[177,-1,-1,-1,-1,-1,-1,-1,null,null,null,null,null,null,null,null,null,null,null,null,null,null,null,null,null,null,null,null,null,null,null,null,null,null,null,null,null,null,null,null,null,null,null,null,176,3.9616053921960957E-2,1.5390867658801148,0.4643568568244793]
[178,-1,-1,-1,-1,-1,-1,-1,null,null,null,null,null,null,null,null,null,null,null,null,null,null,null,null,null,null,null,null,null,null,null,null,null,null,null,null,null,null,null,null,null,null,null,null,177,3.9841145137426648E-2,1.5566260746467631,0.47164882347067683]
[179,-1,-1,-1,-1,-1,-1,-1,null,null,null,null,null,null,null,null,null,null,null,null,null,null,null,null,null,null,null,null,null,null,null,null,null,null,null,null,null,null,null,null,null,null,null,null,178,4.0066236352892332E-2,1.5742647562676124,0.47901008925760069]
[180,-1,-1,-1,-1,-1,-1,-1,null,null,null,null,null,null,null,null,null,null,null,null,null,null,null,null,null,null,null,null,null,null,null,null,null,null,null,null,null,null,null,null,null,null,null,null,179,4.0291327568358022E-2,1.5920028107426643,0.48644085658174746]
[181,-1,-1,-1,-1,-1,-1,-1,null,null,null,null,null,null,null,null,null,null,null,null,null,null,null,null,null,null,null,null,null,null,null,null,null,null,null,null,null,null,null,null,null,null,null,null,180,4.0516418783823713E-2,1.6098402380719183,0.4939413264774824]
[182,-1,-1,-1,-1,-1,-1,-1,null,null,null,null,null,null,null,null,null,null,null,null,null,null,null,null,null,null,null,null,null,null,null,null,null,null,null,null,null,null,null,null,null,null,null,null,181,4.0741509999289396E-2,1.6277770382553738,0.50151169862620681]
[183,-1,-1,-1,-1,-1,-1,-1,null,null,null,null,null,null,null,null,null,null,null,null,null,null,null,null,null,null,null,null,null,null,null,null,null,null,null,null,null,null,null,null,null,null,null,null,182,4.0966601214755087E-2,1.6458132112930315,0.50915217136546365]
[184,-1,-1,-1,-1,-1,-1,-1,null,null,null,null,null,null,null,null,null,null,null,null,null,null,null,null,null,null,null,null,null,null,null,null,null,null,null,null,null,null,null,null,null,null,null,null,183,4.1191692430220771E-2,1.6639487571848908,0.51686294169798142]
[185,-1,-1,-1,-1,-1,-1,-1,null,null,null,null,null,null,null,null,null,null,null,null,null,null,null,null,null,null,null,null,null,null,null,null,null,null,null,null,null,null,null,null,null,null,null,null,184,4.1416783645686461E-2,1.6821836759309527,0.52464420530065758]
[186,-1,-1,-1,-1,-1,-1,-1,null,null,null,null,null,null,null,null,null,null,null,null,null,null,null,null,null,null,null,null,null,null,null,null,null,null,null,null,null,null,null,null,null,null,null,null,185,4.1641874861152145E-2,1.7005179675312159,0.53249615653348137]
[187,-1,-1,-1,-1,-1,-1,-1,null,null,null,null,null,null,null,null,null,null,null,null,null,null,null,null,null,null,null,null,null,null,null,null,null,null,null,null,null,null,null,null,null,null,null,null,186,4.1866966076617836E-2,1.7189516319856815,0.54041898844839698]
[188,-1,-1,-1,-1,-1,-1,-1,null,null,null,null,null,null,null,null,null,null,null,null,null,null,null,null,null,null,null,null,null,null,null,null,null,null,null,null,null,null,null,null,null,null,null,null,187,4.2092057292083519E-2,1.7374846692943489,0.54841289279810623]
[189,-1,-1,-1,-1,-1,-1,-1,null,null,null,null,null,null,null,null,null,null,null,null,null,null,null,null,null,null,null,null,null,null,null,null,null,null,null,null,null,null,null,null,null,null,null,null,188,4.231714850754921E-2,1.7561170794572183,0.55647806004481259]
[190,-1,-1,-1,-1,-1,-1,-1,null,null,null,null,null,null,null,null,null,null,null,null,null,null,null,null,null,null,null,null,null,null,null,null,null,null,null,null,null,null,null,null,null,null,null,null,189,4.2542239723014894E-2,1.7748488624742895,0.56461467936890641]
[191,-1,-1,-1,-1,-1,-1,-1,null,null,null,null,null,null,null,null,null,null,null,null,null,null,null,null,null,null,null,null,null,null,null,null,null,null,null,null,null,null,null,null,null,null,null,null,190,4.2767330938480584E-2,1.7936800183455632,0.57282293867759138]
[192,-1,-1,-1,-1,-1,-1,-1,null,null,null,null,null,null,null,null,null,null,null,null,null,null,null,null,null,null,null,null,null,null,null,null,null,null,null,null,null,null,null,null,null,null,null,null,191,4.2992422153946268E-2,1.8126105470710381,0.58110302461345342]
[{"$f":"A222+1","v":193},-1,-1,-1,-1,-1,-1,-1,null,null,null,null,null,null,null,null,null,null,null,null,null,null,null,null,null,null,null,null,null,null,null,null,null,null,null,null,null,null,null,null,null,null,null,null,192,{"$f":"$AP$18/$N$7*AS223","v":4.3217513369411958E-2},1.8316404486507156,0.58945512256297106]
[194,-1,-1,-1,-1,-1,-1,-1,null,null,null,null,null,null,null,null,null,null,null,null,null,null,null,null,null,null,null,null,null,null,null,null,null,null,null,null,null,null,null,null,null,null,null,null,193,4.3442604584877642E-2,{"$f":"IF(($N$4*AT224^2/2)<=$AP$13,($N$4*AT224^2/2), IF(($AP$13+$N$6*(AT224-$AP$12))<=$AP$17, ($AP$13+$N$6*(AT224-$AP$12)), IF(AU223<$D$14, ($AP$17+($N$6-$N$5*(AT224-$AP$16)/2)*(AT224-$AP$16)), $D$14)))","v":1.8507697230845948},0.59787941666496958]
[195,-1,-1,-1,-1,-1,-1,-1,null,null,null,null,null,null,null,null,null,null,null,null,null,null,null,null,null,null,null,null,null,null,null,null,null,null,null,null,null,null,null,null,null,null,null,null,194,4.3667695800343333E-2,1.8699983703726764,{"$f":"( $AP$6*AU225 + $AP$7*AU224 + $AP$9*AV224 )/$AP$8","v":0.60637608981901725}]
[196,-1,-1,-1,-1,-1,-1,-1,null,null,null,null,null,null,null,null,null,null,null,null,null,null,null,null,null,null,null,null,null,null,null,null,null,null,null,null,null,null,null,null,null,null,null,null,195,4.3892787015809016E-2,1.8893263905149591,0.61494532369376598]
[197,-1,-1,-1,-1,-1,-1,-1,null,null,null,null,null,null,null,null,null,null,null,null,null,null,null,null,null,null,null,null,null,null,null,null,null,null,null,null,null,null,null,null,null,null,null,null,196,4.4117878231274707E-2,1.9087537835114445,0.62358729873523522]
[198,-1,-1,-1,-1,-1,-1,-1,null,null,null,null,null,null,null,null,null,null,null,null,null,null,null,null,null,null,null,null,null,null,null,null,null,null,null,null,null,null,null,null,null,null,null,null,197,4.4342969446740391E-2,1.9282805493621313,0.63230219417504019]
[199,-1,-1,-1,-1,-1,-1,-1,null,null,null,null,null,null,null,null,null,null,null,null,null,null,null,null,null,null,null,null,null,null,null,null,null,null,null,null,null,null,null,null,null,null,null,null,198,4.4568060662206081E-2,1.9479066880670206,0.64109018803856477]
[200,-1,-1,-1,-1,-1,-1,-1,null,null,null,null,null,null,null,null,null,null,null,null,null,null,null,null,null,null,null,null,null,null,null,null,null,null,null,null,null,null,null,null,null,null,null,null,199,4.4793151877671765E-2,1.9676321996261117,0.64995145715307978]
[201,-1,-1,-1,-1,-1,-1,-1,null,null,null,null,null,null,null,null,null,null,null,null,null,null,null,null,null,null,null,null,null,null,null,null,null,null,null,null,null,null,null,null,null,null,null,null,200,4.5018243093137456E-2,1.9874570840394052,0.65888617715580622]
[202,-1,-1,-1,-1,-1,-1,-1,null,null,null,null,null,null,null,null,null,null,null,null,null,null,null,null,null,null,null,null,null,null,null,null,null,null,null,null,null,null,null,null,null,null,null,null,{"$f":"AS231+1","v":201},4.5243334308603139E-2,2.0073813413068997,0.66789452250192405]
[203,-1,-1,-1,-1,-1,-1,-1,null,null,null,null,null,null,null,null,null,null,null,null,null,null,null,null,null,null,null,null,null,null,null,null,null,null,null,null,null,null,null,null,null,null,null,null,202,4.546842552406883E-2,2.0274049714285969,0.67697666647252763]
[204,-1,-1,-1,-1,-1,-1,-1,null,null,null,null,null,null,null,null,null,null,null,null,null,null,null,null,null,null,null,null,null,null,null,null,null,null,null,null,null,null,null,null,null,null,null,null,203,4.5693516739534513E-2,2.0475279744044959,0.68613278118252718]
[205,-1,-1,-1,-1,-1,-1,-1,null,null,null,null,null,null,null,null,null,null,null,null,null,null,null,null,null,null,null,null,null,null,null,null,null,null,null,null,null,null,null,null,null,null,null,null,204,4.5918607955000204E-2,2.0677503502345971,0.69536303758849738]
[206,-1,-1,-1,-1,-1,-1,-1,null,null,null,null,null,null,null,null,null,null,null,null,null,null,null,null,null,null,null,null,null,null,null,null,null,null,null,null,null,null,null,null,null,null,null,null,205,4.6143699170465895E-2,2.0880720989189001,0.70466760549647245]
[207,-1,-1,-1,-1,-1,-1,-1,null,null,null,null,null,null,null,null,null,null,null,null,null,null,null,null,null,null,null,null,null,null,null,null,null,null,null,null,null,null,null,null,null,null,null,null,206,4.6368790385931578E-2,2.1084932204574049,0.71404665356969033]
[208,-1,-1,-1,-1,-1,-1,-1,null,null,null,null,null,null,null,null,null,null,null,null,null,null,null,null,null,null,null,null,null,null,null,null,null,null,null,null,null,null,null,null,null,null,null,null,207,4.6593881601397269E-2,2.1290137148501116,0.7235003493362826]
[209,-1,-1,-1,-1,-1,-1,-1,null,null,null,null,null,null,null,null,null,null,null,null,null,null,null,null,null,null,null,null,null,null,null,null,null,null,null,null,null,null,null,null,null,null,null,null,208,4.6818972816862953E-2,2.1496335820970205,0.73302885919691452]
[210,-1,-1,-1,-1,-1,-1,-1,null,null,null,null,null,null,null,null,null,null,null,null,null,null,null,null,null,null,null,null,null,null,null,null,null,null,null,null,null,null,null,null,null,null,null,null,209,4.7044064032328643E-2,2.1703528221981316,0.74263234843237247]
[211,-1,-1,-1,-1,-1,-1,-1,null,null,null,null,null,null,null,null,null,null,null,null,null,null,null,null,null,null,null,null,null,null,null,null,null,null,null,null,null,null,null,null,null,null,null,null,210,4.7269155247794327E-2,2.1911714351534437,0.75231098121110107]
[212,-1,-1,-1,-1,-1,-1,-1,null,null,null,null,null,null,null,null,null,null,null,null,null,null,null,null,null,null,null,null,null,null,null,null,null,null,null,null,null,null,null,null,null,null,null,null,211,4.7494246463260018E-2,2.2120894209629589,0.76206492059668896]
[213,-1,-1,-1,-1,-1,-1,-1,null,null,null,null,null,null,null,null,null,null,null,null,null,null,null,null,null,null,null,null,null,null,null,null,null,null,null,null,null,null,null,null,null,null,null,null,212,4.7719337678725701E-2,2.233106779626675,0.77189432855530482]
[214,-1,-1,-1,-1,-1,-1,-1,null,null,null,null,null,null,null,null,null,null,null,null,null,null,null,null,null,null,null,null,null,null,null,null,null,null,null,null,null,null,null,null,null,null,null,null,213,4.7944428894191392E-2,2.2542235111445943,0.78179936596308253]
[215,-1,-1,-1,-1,-1,-1,-1,null,null,null,null,null,null,null,null,null,null,null,null,null,null,null,null,null,null,null,null,null,null,null,null,null,null,null,null,null,null,null,null,null,null,null,null,214,4.8169520109657075E-2,2.2754396155167145,0.79178019261345767]
[216,-1,-1,-1,-1,-1,-1,-1,null,null,null,null,null,null,null,null,null,null,null,null,null,null,null,null,null,null,null,null,null,null,null,null,null,null,null,null,null,null,null,null,null,null,null,null,215,4.8394611325122766E-2,2.2967550927430374,0.80183696722445386]
[217,-1,-1,-1,-1,-1,-1,-1,null,null,null,null,null,null,null,null,null,null,null,null,null,null,null,null,null,null,null,null,null,null,null,null,null,null,null,null,null,null,null,null,null,null,null,null,216,4.861970254058845E-2,2.318169942823562,0.81196984744592005]
[218,-1,-1,-1,-1,-1,-1,-1,null,null,null,null,null,null,null,null,null,null,null,null,null,null,null,null,null,null,null,null,null,null,null,null,null,null,null,null,null,null,null,null,null,null,null,null,217,4.884479375605414E-2,2.3396841657582885,0.82217898986671989]
[219,-1,-1,-1,-1,-1,-1,-1,null,null,null,null,null,null,null,null,null,null,null,null,null,null,null,null,null,null,null,null,null,null,null,null,null,null,null,null,null,null,null,null,null,null,null,null,218,4.9069884971519824E-2,2.3612977615472168,0.83246455002187159]
[220,-1,-1,-1,-1,-1,-1,-1,null,null,null,null,null,null,null,null,null,null,null,null,null,null,null,null,null,null,null,null,null,null,null,null,null,null,null,null,null,null,null,null,null,null,null,null,219,4.9294976186985515E-2,2.3830107301903474,0.84282668239964098]
[221,-1,-1,-1,-1,-1,-1,-1,null,null,null,null,null,null,null,null,null,null,null,null,null,null,null,null,null,null,null,null,null,null,null,null,null,null,null,null,null,null,null,null,null,null,null,null,220,4.9520067402451198E-2,2.4048230716876797,0.85326554044858516]
[222,-1,-1,-1,-1,-1,-1,-1,null,null,null,null,null,null,null,null,null,null,null,null,null,null,null,null,null,null,null,null,null,null,null,null,null,null,null,null,null,null,null,null,null,null,null,null,221,4.9745158617916889E-2,2.4267347860392148,0.86378127658455095]
[223,-1,-1,-1,-1,-1,-1,-1,null,null,null,null,null,null,null,null,null,null,null,null,null,null,null,null,null,null,null,null,null,null,null,null,null,null,null,null,null,null,null,null,null,null,null,null,222,4.9970249833382573E-2,2.4487458732449507,0.87437404219762427]
[224,-1,-1,-1,-1,-1,-1,-1,null,null,null,null,null,null,null,null,null,null,null,null,null,null,null,null,null,null,null,null,null,null,null,null,null,null,null,null,null,null,null,null,null,null,null,null,223,5.0195341048848263E-2,2.4708563333048894,0.88504398765903369]
[225,-1,-1,-1,-1,-1,-1,-1,null,null,null,null,null,null,null,null,null,null,null,null,null,null,null,null,null,null,null,null,null,null,null,null,null,null,null,null,null,null,null,null,null,null,null,null,224,5.0420432264313947E-2,2.493066166219029,0.89579126232800743]
[null,null,null,null,null,null,null,null,null,null,null,null,null,null,null,null,null,null,null,null,null,null,null,null,null,null,null,null,null,null,null,null,null,null,null,null,null,null,null,null,null,null,null,null,225,5.0645523479779637E-2,2.5153753719873722,0.90661601455858409]
[null,null,null,null,null,null,null,null,null,null,null,null,null,null,null,null,null,null,null,null,null,null,null,null,null,null,null,null,null,null,null,null,null,null,null,null,null,null,null,null,null,null,null,null,226,5.0870614695245321E-2,2.5377839506099158,0.9175183917063775]
[null,null,null,null,null,null,null,null,null,null,null,null,null,null,null,null,null,null,null,null,null,null,null,null,null,null,null,null,null,null,null,null,null,null,null,null,null,null,null,null,null,null,null,null,227,5.1095705910711012E-2,2.5602919020866626,0.92849854013529642]
[null,null,null,null,null,null,null,null,null,null,null,null,null,null,null,null,null,null,null,null,null,null,null,null,null,null,null,null,null,null,null,null,null,null,null,null,null,null,null,null,null,null,null,null,228,5.1320797126176695E-2,2.5828992264176103,0.93955660522421836]
[null,null,null,null,null,null,null,null,null,null,null,null,null,null,null,null,null,null,null,null,null,null,null,null,null,null,null,null,null,null,null,null,null,null,null,null,null,null,null,null,null,null,null,null,229,5.1545888341642386E-2,2.6056059236027607,0.95069273137361898]
[null,null,null,null,null,null,null,null,null,null,null,null,null,null,null,null,null,null,null,null,null,null,null,null,null,null,null,null,null,null,null,null,null,null,null,null,null,null,null,null,null,null,null,null,230,5.177097955710807E-2,2.6284119936421124,0.96190706201215703]
[null,null,null,null,null,null,null,null,null,null,null,null,null,null,null,null,null,null,null,null,null,null,null,null,null,null,null,null,null,null,null,null,null,null,null,null,null,null,null,null,null,null,null,null,231,5.199607077257376E-2,2.6513174365356669,0.97319973960321426]
[null,null,null,null,null,null,null,null,null,null,null,null,null,null,null,null,null,null,null,null,null,null,null,null,null,null,null,null,null,null,null,null,null,null,null,null,null,null,null,null,null,null,null,null,232,5.2221161988039451E-2,2.6743222522834236,0.98457090565139205]
[null,null,null,null,null,null,null,null,null,null,null,null,null,null,null,null,null,null,null,null,null,null,null,null,null,null,null,null,null,null,null,null,null,null,null,null,null,null,null,null,null,null,null,null,233,5.2446253203505135E-2,2.6974264408853812,0.99602070070896387]
[null,null,null,null,null,null,null,null,null,null,null,null,null,null,null,null,null,null,null,null,null,null,null,null,null,null,null,null,null,null,null,null,null,null,null,null,null,null,null,null,null,null,null,null,234,5.2671344418970825E-2,2.720630002341542,1.0075492643822843]
[null,null,null,null,null,null,null,null,null,null,null,null,null,null,null,null,null,null,null,null,null,null,null,null,null,null,null,null,null,null,null,null,null,null,null,null,null,null,null,null,null,null,null,null,235,5.2896435634436509E-2,2.7439329366519036,1.0191567353381559]
[null,null,null,null,null,null,null,null,null,null,null,null,null,null,null,null,null,null,null,null,null,null,null,null,null,null,null,null,null,null,null,null,null,null,null,null,null,null,null,null,null,null,null,null,236,5.3121526849902199E-2,2.7673352438164676,1.0308432513101511]
[null,null,null,null,null,null,null,null,null,null,null,null,null,null,null,null,null,null,null,null,null,null,null,null,null,null,null,null,null,null,null,null,null,null,null,null,null,null,null,null,null,null,null,null,237,5.3346618065367883E-2,2.7908369238352333,1.0426089491048938]
[null,null,null,null,null,null,null,null,null,null,null,null,null,null,null,null,null,null,null,null,null,null,null,null,null,null,null,null,null,null,null,null,null,null,null,null,null,null,null,null,null,null,null,null,238,5.3571709280833574E-2,2.8144379767082017,1.0544539646082973]
[null,null,null,null,null,null,null,null,null,null,null,null,null,null,null,null,null,null,null,null,null,null,null,null,null,null,null,null,null,null,null,null,null,null,null,null,null,null,null,null,null,null,null,null,239,5.3796800496299257E-2,2.8381384024353711,1.0663784327917616]
[null,null,null,null,null,null,null,null,null,null,null,null,null,null,null,null,null,null,null,null,null,null,null,null,null,null,null,null,null,null,null,null,null,null,null,null,null,null,null,null,null,null,null,null,240,5.4021891711764948E-2,2.8619382010167436,1.0783824877183261]
[null,null,null,null,null,null,null,null,null,null,null,null,null,null,null,null,null,null,null,null,null,null,null,null,null,null,null,null,null,null,null,null,null,null,null,null,null,null,null,null,null,null,null,null,241,5.4246982927230632E-2,2.8858373724523165,1.0904662625487851]
[null,null,null,null,null,null,null,null,null,null,null,null,null,null,null,null,null,null,null,null,null,null,null,null,null,null,null,null,null,null,null,null,null,null,null,null,null,null,null,null,null,null,null,null,242,5.4472074142696322E-2,2.9098359167420931,1.1026298895477589]
[null,null,null,null,null,null,null,null,null,null,null,null,null,null,null,null,null,null,null,null,null,null,null,null,null,null,null,null,null,null,null,null,null,null,null,null,null,null,null,null,null,null,null,null,243,5.4697165358162006E-2,2.9339338338860705,1.1148735000897247]
[null,null,null,null,null,null,null,null,null,null,null,null,null,null,null,null,null,null,null,null,null,null,null,null,null,null,null,null,null,null,null,null,null,null,null,null,null,null,null,null,null,null,null,null,244,5.4922256573627697E-2,2.9581311238842507,1.1271972246650082]
[null,null,null,null,null,null,null,null,null,null,null,null,null,null,null,null,null,null,null,null,null,null,null,null,null,null,null,null,null,null,null,null,null,null,null,null,null,null,null,null,null,null,null,null,245,5.514734778909338E-2,2.9824277867366318,1.1396011928857328]
[null,null,null,null,null,null,null,null,null,null,null,null,null,null,null,null,null,null,null,null,null,null,null,null,null,null,null,null,null,null,null,null,null,null,null,null,null,null,null,null,null,null,null,null,246,5.5372439004559071E-2,3.006823822443216,1.1520855334917313]
[null,null,null,null,null,null,null,null,null,null,null,null,null,null,null,null,null,null,null,null,null,null,null,null,null,null,null,null,null,null,null,null,null,null,null,null,null,null,null,null,null,null,null,null,247,5.5597530220024755E-2,3.0313192310040011,1.1646503743564149]
[null,null,null,null,null,null,null,null,null,null,null,null,null,null,null,null,null,null,null,null,null,null,null,null,null,null,null,null,null,null,null,null,null,null,null,null,null,null,null,null,null,null,null,null,248,5.5822621435490445E-2,3.055914012418989,1.1772958424926059]
[null,null,null,null,null,null,null,null,null,null,null,null,null,null,null,null,null,null,null,null,null,null,null,null,null,null,null,null,null,null,null,null,null,null,null,null,null,null,null,null,null,null,null,null,249,5.6047712650956129E-2,3.0806081666881786,1.1900220640583281]
[null,null,null,null,null,null,null,null,null,null,null,null,null,null,null,null,null,null,null,null,null,null,null,null,null,null,null,null,null,null,null,null,null,null,null,null,null,null,null,null,null,null,null,null,250,5.6272803866421819E-2,3.1054016938115701,1.2028291643625597]
[null,null,null,null,null,null,null,null,null,null,null,null,null,null,null,null,null,null,null,null,null,null,null,null,null,null,null,null,null,null,null,null,null,null,null,null,null,null,null,null,null,null,null,null,251,5.6497895081887503E-2,3.1302945937891633,1.2157172678709487]
[null,null,null,null,null,null,null,null,null,null,null,null,null,null,null,null,null,null,null,null,null,null,null,null,null,null,null,null,null,null,null,null,null,null,null,null,null,null,null,null,null,null,null,null,{"$f":"AS282+1","v":252},5.6722986297353194E-2,3.1552868666209593,1.2286864982114871]
[null,null,null,null,null,null,null,null,null,null,null,null,null,null,null,null,null,null,null,null,null,null,null,null,null,null,null,null,null,null,null,null,null,null,null,null,null,null,null,null,null,null,null,null,253,5.6948077512818877E-2,3.1803785123069566,1.2417369781801491]
[null,null,null,null,null,null,null,null,null,null,null,null,null,null,null,null,null,null,null,null,null,null,null,null,null,null,null,null,null,null,null,null,null,null,null,null,null,null,null,null,null,null,null,null,254,5.7173168728284568E-2,3.2055695308471561,1.2548688297464898]
[null,null,null,null,null,null,null,null,null,null,null,null,null,null,null,null,null,null,null,null,null,null,null,null,null,null,null,null,null,null,null,null,null,null,null,null,null,null,null,null,null,null,null,null,255,5.7398259943750252E-2,3.2308599222415575,1.2680821740592083]
[null,null,null,null,null,null,null,null,null,null,null,null,null,null,null,null,null,null,null,null,null,null,null,null,null,null,null,null,null,null,null,null,null,null,null,null,null,null,null,null,null,null,null,null,256,{"$f":"$AP$18/$N$7*AS287","v":5.7623351159215942E-2},3.2562496864901611,1.2813771314516702]
[null,null,null,null,null,null,null,null,null,null,null,null,null,null,null,null,null,null,null,null,null,null,null,null,null,null,null,null,null,null,null,null,null,null,null,null,null,null,null,null,null,null,null,null,257,5.7848442374681633E-2,{"$f":"IF(($N$4*AT288^2/2)<=$AP$13,($N$4*AT288^2/2), IF(($AP$13+$N$6*(AT288-$AP$12))<=$AP$17, ($AP$13+$N$6*(AT288-$AP$12)), IF(AU287<$D$14, ($AP$17+($N$6-$N$5*(AT288-$AP$16)/2)*(AT288-$AP$16)), $D$14)))","v":3.281738823592967},1.2947538214473973]
[null,null,null,null,null,null,null,null,null,null,null,null,null,null,null,null,null,null,null,null,null,null,null,null,null,null,null,null,null,null,null,null,null,null,null,null,null,null,null,null,null,null,null,null,258,5.8073533590147317E-2,3.3073273335499733,{"$f":"( $AP$6*AU289 + $AP$7*AU288 + $AP$9*AV288 )/$AP$8","v":1.3082123627655153}]
[null,null,null,null,null,null,null,null,null,null,null,null,null,null,null,null,null,null,null,null,null,null,null,null,null,null,null,null,null,null,null,null,null,null,null,null,null,null,null,null,null,null,null,null,259,5.8298624805613007E-2,3.3330152163611837,1.3217528733261699]
[null,null,null,null,null,null,null,null,null,null,null,null,null,null,null,null,null,null,null,null,null,null,null,null,null,null,null,null,null,null,null,null,null,null,null,null,null,null,null,null,null,null,null,null,260,5.8523716021078691E-2,3.3588024720265945,1.3353754702559015]
[null,null,null,null,null,null,null,null,null,null,null,null,null,null,null,null,null,null,null,null,null,null,null,null,null,null,null,null,null,null,null,null,null,null,null,null,null,null,null,null,null,null,null,null,261,5.8748807236544381E-2,3.3846891005462076,1.3490802698929878]
[null,null,null,null,null,null,null,null,null,null,null,null,null,null,null,null,null,null,null,null,null,null,null,null,null,null,null,null,null,null,null,null,null,null,null,null,null,null,null,null,null,null,null,null,262,5.8973898452010065E-2,3.4106751019200225,1.3628673877927477]
[null,null,null,null,null,null,null,null,null,null,null,null,null,null,null,null,null,null,null,null,null,null,null,null,null,null,null,null,null,null,null,null,null,null,null,null,null,null,null,null,null,null,null,null,263,5.9198989667475756E-2,3.4367604761480406,1.3767369387328121]
[null,null,null,null,null,null,null,null,null,null,null,null,null,null,null,null,null,null,null,null,null,null,null,null,null,null,null,null,null,null,null,null,null,null,null,null,null,null,null,null,null,null,null,null,264,5.9424080882941439E-2,3.4629452232302591,1.3906890367183566]
[null,null,null,null,null,null,null,null,null,null,null,null,null,null,null,null,null,null,null,null,null,null,null,null,null,null,null,null,null,null,null,null,null,null,null,null,null,null,null,null,null,null,null,null,265,5.964917209840713E-2,3.4892293431666808,1.4047237949873002]
[null,null,null,null,null,null,null,null,null,null,null,null,null,null,null,null,null,null,null,null,null,null,null,null,null,null,null,null,null,null,null,null,null,null,null,null,null,null,null,null,null,null,null,null,266,5.9874263313872814E-2,3.5156128359573033,1.4188413260154695]
[null,null,null,null,null,null,null,null,null,null,null,null,null,null,null,null,null,null,null,null,null,null,null,null,null,null,null,null,null,null,null,null,null,null,null,null,null,null,null,null,null,null,null,null,267,6.0099354529338504E-2,3.5420957016021291,1.4330417415217271]
[null,null,null,null,null,null,null,null,null,null,null,null,null,null,null,null,null,null,null,null,null,null,null,null,null,null,null,null,null,null,null,null,null,null,null,null,null,null,null,null,null,null,null,null,268,6.0324445744804188E-2,3.5686779401011552,1.4473251524730664]
[null,null,null,null,null,null,null,null,null,null,null,null,null,null,null,null,null,null,null,null,null,null,null,null,null,null,null,null,null,null,null,null,null,null,null,null,null,null,null,null,null,null,null,null,269,6.0549536960269879E-2,3.5953595514543846,1.4616916690896706]
[null,null,null,null,null,null,null,null,null,null,null,null,null,null,null,null,null,null,null,null,null,null,null,null,null,null,null,null,null,null,null,null,null,null,null,null,null,null,null,null,null,null,null,null,270,6.0774628175735562E-2,3.6221405356618153,1.4761414008499409]
[null,null,null,null,null,null,null,null,null,null,null,null,null,null,null,null,null,null,null,null,null,null,null,null,null,null,null,null,null,null,null,null,null,null,null,null,null,null,null,null,null,null,null,null,271,6.0999719391201253E-2,3.6490208927234487,1.4906744564954864]
[null,null,null,null,null,null,null,null,null,null,null,null,null,null,null,null,null,null,null,null,null,null,null,null,null,null,null,null,null,null,null,null,null,null,null,null,null,null,null,null,null,null,null,null,272,6.1224810606666936E-2,3.676000622639283,1.505290944036084]
[null,null,null,null,null,null,null,null,null,null,null,null,null,null,null,null,null,null,null,null,null,null,null,null,null,null,null,null,null,null,null,null,null,null,null,null,null,null,null,null,null,null,null,null,273,6.1449901822132627E-2,3.7030797254093204,1.5199909707546033]
[null,null,null,null,null,null,null,null,null,null,null,null,null,null,null,null,null,null,null,null,null,null,null,null,null,null,null,null,null,null,null,null,null,null,null,null,null,null,null,null,null,null,null,null,274,6.1674993037598311E-2,3.7302582010335592,1.5347746432118989]
[null,null,null,null,null,null,null,null,null,null,null,null,null,null,null,null,null,null,null,null,null,null,null,null,null,null,null,null,null,null,null,null,null,null,null,null,null,null,null,null,null,null,null,null,275,6.1900084253064001E-2,3.7575360495120003,1.5496420672516691]
[null,null,null,null,null,null,null,null,null,null,null,null,null,null,null,null,null,null,null,null,null,null,null,null,null,null,null,null,null,null,null,null,null,null,null,null,null,null,null,null,null,null,null,null,276,6.2125175468529685E-2,3.7849132708446427,1.5645933480052832]
[null,null,null,null,null,null,null,null,null,null,null,null,null,null,null,null,null,null,null,null,null,null,null,null,null,null,null,null,null,null,null,null,null,null,null,null,null,null,null,null,null,null,null,null,277,6.2350266683995376E-2,3.8123898650314878,1.5796285898965745]
[null,null,null,null,null,null,null,null,null,null,null,null,null,null,null,null,null,null,null,null,null,null,null,null,null,null,null,null,null,null,null,null,null,null,null,null,null,null,null,null,null,null,null,null,278,6.2575357899461059E-2,3.8399658320725338,1.5947478966466027]
[null,null,null,null,null,null,null,null,null,null,null,null,null,null,null,null,null,null,null,null,null,null,null,null,null,null,null,null,null,null,null,null,null,null,null,null,null,null,null,null,null,null,null,null,279,6.2800449114926743E-2,3.8676411719677821,1.6099513712783833]
[null,null,null,null,null,null,null,null,null,null,null,null,null,null,null,null,null,null,null,null,null,null,null,null,null,null,null,null,null,null,null,null,null,null,null,null,null,null,null,null,null,null,null,null,280,6.3025540330392441E-2,3.895415884717234,1.6252391161215853]
[null,null,null,null,null,null,null,null,null,null,null,null,null,null,null,null,null,null,null,null,null,null,null,null,null,null,null,null,null,null,null,null,null,null,null,null,null,null,null,null,null,null,null,null,281,6.3250631545858124E-2,3.9232899703208868,1.6406112328171985]
[null,null,null,null,null,null,null,null,null,null,null,null,null,null,null,null,null,null,null,null,null,null,null,null,null,null,null,null,null,null,null,null,null,null,null,null,null,null,null,null,null,null,null,null,282,6.3475722761323808E-2,3.9512634287787409,1.6560678223221663]
[null,null,null,null,null,null,null,null,null,null,null,null,null,null,null,null,null,null,null,null,null,null,null,null,null,null,null,null,null,null,null,null,null,null,null,null,null,null,null,null,null,null,null,null,283,6.3700813976789505E-2,3.9793362600907982,1.6716089849139917]
[null,null,null,null,null,null,null,null,null,null,null,null,null,null,null,null,null,null,null,null,null,null,null,null,null,null,null,null,null,null,null,null,null,null,null,null,null,null,null,null,null,null,null,null,284,6.3925905192255189E-2,4.0075084642570564,1.6872348201953076]
[null,null,null,null,null,null,null,null,null,null,null,null,null,null,null,null,null,null,null,null,null,null,null,null,null,null,null,null,null,null,null,null,null,null,null,null,null,null,null,null,null,null,null,null,285,6.4150996407720873E-2,4.0357800412775164,1.7029454270984206]
[null,null,null,null,null,null,null,null,null,null,null,null,null,null,null,null,null,null,null,null,null,null,null,null,null,null,null,null,null,null,null,null,null,null,null,null,null,null,null,null,null,null,null,null,286,6.4376087623186556E-2,4.0641509911521787,1.7187409038898209]
[null,null,null,null,null,null,null,null,null,null,null,null,null,null,null,null,null,null,null,null,null,null,null,null,null,null,null,null,null,null,null,null,null,null,null,null,null,null,null,null,null,null,null,null,287,6.4601178838652254E-2,4.092621313881045,1.7346213481746648]
[null,null,null,null,null,null,null,null,null,null,null,null,null,null,null,null,null,null,null,null,null,null,null,null,null,null,null,null,null,null,null,null,null,null,null,null,null,null,null,null,null,null,null,null,288,6.4826270054117938E-2,4.12119100946411,1.750586856901224]
[null,null,null,null,null,null,null,null,null,null,null,null,null,null,null,null,null,null,null,null,null,null,null,null,null,null,null,null,null,null,null,null,null,null,null,null,null,null,null,null,null,null,null,null,289,6.5051361269583621E-2,4.1498600779013781,1.7666375263653069]
[null,null,null,null,null,null,null,null,null,null,null,null,null,null,null,null,null,null,null,null,null,null,null,null,null,null,null,null,null,null,null,null,null,null,null,null,null,null,null,null,null,null,null,null,290,6.5276452485049305E-2,4.1786285191928476,1.7827734522146503]
[null,null,null,null,null,null,null,null,null,null,null,null,null,null,null,null,null,null,null,null,null,null,null,null,null,null,null,null,null,null,null,null,null,null,null,null,null,null,null,null,null,null,null,null,291,6.5501543700515003E-2,4.207496333338522,1.7989947294532802]
[null,null,null,null,null,null,null,null,null,null,null,null,null,null,null,null,null,null,null,null,null,null,null,null,null,null,null,null,null,null,null,null,null,null,null,null,null,null,null,null,null,null,null,null,292,6.5726634915980686E-2,4.236463520338396,1.815301452445844]
[null,null,null,null,null,null,null,null,null,null,null,null,null,null,null,null,null,null,null,null,null,null,null,null,null,null,null,null,null,null,null,null,null,null,null,null,null,null,null,null,null,null,null,null,293,6.595172613144637E-2,4.2655300801924723,1.8316937149219141]
[null,null,null,null,null,null,null,null,null,null,null,null,null,null,null,null,null,null,null,null,null,null,null,null,null,null,null,null,null,null,null,null,null,null,null,null,null,null,null,null,null,null,null,null,294,6.6176817346912054E-2,4.294696012900749,1.8481716099802616]
[null,null,null,null,null,null,null,null,null,null,null,null,null,null,null,null,null,null,null,null,null,null,null,null,null,null,null,null,null,null,null,null,null,null,null,null,null,null,null,null,null,null,null,null,295,6.6401908562377751E-2,4.3239613184632315,1.8647352300931015]
[null,null,null,null,null,null,null,null,null,null,null,null,null,null,null,null,null,null,null,null,null,null,null,null,null,null,null,null,null,null,null,null,null,null,null,null,null,null,null,null,null,null,null,null,296,6.6626999777843435E-2,4.3533259968799136,1.8813846671103094]
[null,null,null,null,null,null,null,null,null,null,null,null,null,null,null,null,null,null,null,null,null,null,null,null,null,null,null,null,null,null,null,null,null,null,null,null,null,null,null,null,null,null,null,null,297,6.6852090993309118E-2,4.3827900481507971,1.8981200122636102]
[null,null,null,null,null,null,null,null,null,null,null,null,null,null,null,null,null,null,null,null,null,null,null,null,null,null,null,null,null,null,null,null,null,null,null,null,null,null,null,null,null,null,null,null,298,6.7077182208774802E-2,4.4123534722758819,1.914941356170738]
[null,null,null,null,null,null,null,null,null,null,null,null,null,null,null,null,null,null,null,null,null,null,null,null,null,null,null,null,null,null,null,null,null,null,null,null,null,null,null,null,null,null,null,null,299,6.73022734242405E-2,4.4420162692551717,1.9318487888395683]
[null,null,null,null,null,null,null,null,null,null,null,null,null,null,null,null,null,null,null,null,null,null,null,null,null,null,null,null,null,null,null,null,null,null,null,null,null,null,null,null,null,null,null,null,300,6.7527364639706183E-2,4.471778439088661,1.9488423996722226]
[null,null,null,null,null,null,null,null,null,null,null,null,null,null,null,null,null,null,null,null,null,null,null,null,null,null,null,null,null,null,null,null,null,null,null,null,null,null,null,null,null,null,null,null,301,6.7752455855171867E-2,4.5016399817763526,1.9659222774691445]
[null,null,null,null,null,null,null,null,null,null,null,null,null,null,null,null,null,null,null,null,null,null,null,null,null,null,null,null,null,null,null,null,null,null,null,null,null,null,null,null,null,null,null,null,302,6.7977547070637551E-2,4.5316008973182464,1.9830885104331499]
[null,null,null,null,null,null,null,null,null,null,null,null,null,null,null,null,null,null,null,null,null,null,null,null,null,null,null,null,null,null,null,null,null,null,null,null,null,null,null,null,null,null,null,null,303,6.8202638286103248E-2,4.5616611857143434,2.0003411861734484]
[null,null,null,null,null,null,null,null,null,null,null,null,null,null,null,null,null,null,null,null,null,null,null,null,null,null,null,null,null,null,null,null,null,null,null,null,null,null,null,null,null,null,null,null,304,6.8427729501568932E-2,4.5918208469646418,2.017680391709638]
[null,null,null,null,null,null,null,null,null,null,null,null,null,null,null,null,null,null,null,null,null,null,null,null,null,null,null,null,null,null,null,null,null,null,null,null,null,null,null,null,null,null,null,null,305,6.8652820717034616E-2,4.6220798810691406,2.0351062134756743]
[null,null,null,null,null,null,null,null,null,null,null,null,null,null,null,null,null,null,null,null,null,null,null,null,null,null,null,null,null,null,null,null,null,null,null,null,null,null,null,null,null,null,null,null,306,6.8877911932500299E-2,4.6524382880278425,2.0526187373238107]
[null,null,null,null,null,null,null,null,null,null,null,null,null,null,null,null,null,null,null,null,null,null,null,null,null,null,null,null,null,null,null,null,null,null,null,null,null,null,null,null,null,null,null,null,307,6.9103003147965997E-2,4.6828960678407467,2.0702180485285142]
[null,null,null,null,null,null,null,null,null,null,null,null,null,null,null,null,null,null,null,null,null,null,null,null,null,null,null,null,null,null,null,null,null,null,null,null,null,null,null,null,null,null,null,null,308,6.932809436343168E-2,4.7134532205078532,2.0879042317903531]
[null,null,null,null,null,null,null,null,null,null,null,null,null,null,null,null,null,null,null,null,null,null,null,null,null,null,null,null,null,null,null,null,null,null,null,null,null,null,null,null,null,null,null,null,309,6.9553185578897364E-2,4.7441097460291601,2.1056773712398598]
[null,null,null,null,null,null,null,null,null,null,null,null,null,null,null,null,null,null,null,null,null,null,null,null,null,null,null,null,null,null,null,null,null,null,null,null,null,null,null,null,null,null,null,null,310,6.9778276794363062E-2,4.7748656444046711,2.1235375504413678]
[null,null,null,null,null,null,null,null,null,null,null,null,null,null,null,null,null,null,null,null,null,null,null,null,null,null,null,null,null,null,null,null,null,null,null,null,null,null,null,null,null,null,null,null,311,7.0003368009828745E-2,4.8057209156343825,2.1414848523968204]
[null,null,null,null,null,null,null,null,null,null,null,null,null,null,null,null,null,null,null,null,null,null,null,null,null,null,null,null,null,null,null,null,null,null,null,null,null,null,null,null,null,null,null,null,312,7.0228459225294429E-2,4.8366755597182953,2.1595193595495576]
[null,null,null,null,null,null,null,null,null,null,null,null,null,null,null,null,null,null,null,null,null,null,null,null,null,null,null,null,null,null,null,null,null,null,null,null,null,null,null,null,null,null,null,null,313,7.0453550440760113E-2,4.8677295766564113,2.1776411537880742]
[null,null,null,null,null,null,null,null,null,null,null,null,null,null,null,null,null,null,null,null,null,null,null,null,null,null,null,null,null,null,null,null,null,null,null,null,null,null,null,null,null,null,null,null,314,7.067864165622581E-2,4.8988829664487294,2.1958503164497536]
[null,null,null,null,null,null,null,null,null,null,null,null,null,null,null,null,null,null,null,null,null,null,null,null,null,null,null,null,null,null,null,null,null,null,null,null,null,null,null,null,null,null,null,null,315,7.0903732871691494E-2,4.9301357290952499,2.2141469283245794]
[null,null,null,null,null,null,null,null,null,null,null,null,null,null,null,null,null,null,null,null,null,null,null,null,null,null,null,null,null,null,null,null,null,null,null,null,null,null,null,null,null,null,null,null,{"$f":"AS346+1","v":316},7.1128824087157178E-2,4.9614878645959708,2.2325310696588154]
[null,null,null,null,null,null,null,null,null,null,null,null,null,null,null,null,null,null,null,null,null,null,null,null,null,null,null,null,null,null,null,null,null,null,null,null,null,null,null,null,null,null,null,null,317,7.1353915302622861E-2,4.992939372950894,2.2510028201586683]
[null,null,null,null,null,null,null,null,null,null,null,null,null,null,null,null,null,null,null,null,null,null,null,null,null,null,null,null,null,null,null,null,null,null,null,null,null,null,null,null,null,null,null,null,318,7.1579006518088559E-2,5.0244902541600212,2.2695622589939211]
[null,null,null,null,null,null,null,null,null,null,null,null,null,null,null,null,null,null,null,null,null,null,null,null,null,null,null,null,null,null,null,null,null,null,null,null,null,null,null,null,null,null,null,null,319,7.1804097733554242E-2,5.0561405082233479,2.2882094648015419]
[null,null,null,null,null,null,null,null,null,null,null,null,null,null,null,null,null,null,null,null,null,null,null,null,null,null,null,null,null,null,null,null,null,null,null,null,null,null,null,null,null,null,null,null,320,{"$f":"$AP$18/$N$7*AS351","v":7.2029188949019926E-2},5.0878901351408761,2.3069445156892718]
[null,null,null,null,null,null,null,null,null,null,null,null,null,null,null,null,null,null,null,null,null,null,null,null,null,null,null,null,null,null,null,null,null,null,null,null,null,null,null,null,null,null,null,null,321,7.225428016448561E-2,{"$f":"IF(($N$4*AT352^2/2)<=$AP$13,($N$4*AT352^2/2), IF(($AP$13+$N$6*(AT352-$AP$12))<=$AP$17, ($AP$13+$N$6*(AT352-$AP$12)), IF(AU351<$D$14, ($AP$17+($N$6-$N$5*(AT352-$AP$16)/2)*(AT352-$AP$16)), $D$14)))","v":5.1197391349126073},2.325767489239186]
[null,null,null,null,null,null,null,null,null,null,null,null,null,null,null,null,null,null,null,null,null,null,null,null,null,null,null,null,null,null,null,null,null,null,null,null,null,null,null,null,null,null,null,null,322,7.2479371379951307E-2,5.1516875075385427,{"$f":"( $AP$6*AU353 + $AP$7*AU352 + $AP$9*AV352 )/$AP$8","v":2.3446784625112307}]
[null,null,null,null,null,null,null,null,null,null,null,null,null,null,null,null,null,null,null,null,null,null,null,null,null,null,null,null,null,null,null,null,null,null,null,null,null,null,null,null,null,null,null,null,323,7.2704462595416991E-2,5.1837352530186767,2.3636775120467379]
[null,null,null,null,null,null,null,null,null,null,null,null,null,null,null,null,null,null,null,null,null,null,null,null,null,null,null,null,null,null,null,null,null,null,null,null,null,null,null,null,null,null,null,null,324,7.2929553810882675E-2,5.2158823713530138,2.3827647138719157]
[null,null,null,null,null,null,null,null,null,null,null,null,null,null,null,null,null,null,null,null,null,null,null,null,null,null,null,null,null,null,null,null,null,null,null,null,null,null,null,null,null,null,null,null,325,7.3154645026348358E-2,5.2481288625415532,2.4019401435013137]
[null,null,null,null,null,null,null,null,null,null,null,null,null,null,null,null,null,null,null,null,null,null,null,null,null,null,null,null,null,null,null,null,null,null,null,null,null,null,null,null,null,null,null,null,326,7.3379736241814056E-2,5.2804747265842957,2.4212038759412686]
[null,null,null,null,null,null,null,null,null,null,null,null,null,null,null,null,null,null,null,null,null,null,null,null,null,null,null,null,null,null,null,null,null,null,null,null,null,null,null,null,null,null,null,null,327,7.360482745727974E-2,5.3129199634812379,2.4405559856933237]
[null,null,null,null,null,null,null,null,null,null,null,null,null,null,null,null,null,null,null,null,null,null,null,null,null,null,null,null,null,null,null,null,null,null,null,null,null,null,null,null,null,null,null,null,328,7.3829918672745423E-2,5.3454645732323831,2.4599965467576244]
[null,null,null,null,null,null,null,null,null,null,null,null,null,null,null,null,null,null,null,null,null,null,null,null,null,null,null,null,null,null,null,null,null,null,null,null,null,null,null,null,null,null,null,null,329,7.4055009888211107E-2,5.3781085558377297,2.4795256326362956]
[null,null,null,null,null,null,null,null,null,null,null,null,null,null,null,null,null,null,null,null,null,null,null,null,null,null,null,null,null,null,null,null,null,null,null,null,null,null,null,null,null,null,null,null,330,7.4280101103676804E-2,5.4108519112972804,2.4991433163367907]
[null,null,null,null,null,null,null,null,null,null,null,null,null,null,null,null,null,null,null,null,null,null,null,null,null,null,null,null,null,null,null,null,null,null,null,null,null,null,null,null,null,null,null,null,331,7.4505192319142488E-2,5.4436946396110315,2.5188496703752237]
[null,null,null,null,null,null,null,null,null,null,null,null,null,null,null,null,null,null,null,null,null,null,null,null,null,null,null,null,null,null,null,null,null,null,null,null,null,null,null,null,null,null,null,null,332,7.4730283534608172E-2,5.476636740778984,2.5386447667796728]
[null,null,null,null,null,null,null,null,null,null,null,null,null,null,null,null,null,null,null,null,null,null,null,null,null,null,null,null,null,null,null,null,null,null,null,null,null,null,null,null,null,null,null,null,333,7.4955374750073869E-2,5.5096782148011405,2.5585286770934657]
[null,null,null,null,null,null,null,null,null,null,null,null,null,null,null,null,null,null,null,null,null,null,null,null,null,null,null,null,null,null,null,null,null,null,null,null,null,null,null,null,null,null,null,null,334,7.5180465965539553E-2,5.5428190616774966,2.5785014723784441]
[null,null,null,null,null,null,null,null,null,null,null,null,null,null,null,null,null,null,null,null,null,null,null,null,null,null,null,null,null,null,null,null,null,null,null,null,null,null,null,null,null,null,null,null,335,7.5405557181005237E-2,5.5760592814080558,2.5985632232182021]
[null,null,null,null,null,null,null,null,null,null,null,null,null,null,null,null,null,null,null,null,null,null,null,null,null,null,null,null,null,null,null,null,null,null,null,null,null,null,null,null,null,null,null,null,336,7.563064839647092E-2,5.6093988739928164,2.6187139997213045]
[null,null,null,null,null,null,null,null,null,null,null,null,null,null,null,null,null,null,null,null,null,null,null,null,null,null,null,null,null,null,null,null,null,null,null,null,null,null,null,null,null,null,null,null,337,7.5855739611936618E-2,5.6428378394317811,2.6389538715244858]
[null,null,null,null,null,null,null,null,null,null,null,null,null,null,null,null,null,null,null,null,null,null,null,null,null,null,null,null,null,null,null,null,null,null,null,null,null,null,null,null,null,null,null,null,338,7.6080830827402302E-2,5.6763761777249444,2.6592829077958231]
[null,null,null,null,null,null,null,null,null,null,null,null,null,null,null,null,null,null,null,null,null,null,null,null,null,null,null,null,null,null,null,null,null,null,null,null,null,null,null,null,null,null,null,null,339,7.6305922042867985E-2,5.7100138888723118,2.6797011772378925]
[null,null,null,null,null,null,null,null,null,null,null,null,null,null,null,null,null,null,null,null,null,null,null,null,null,null,null,null,null,null,null,null,null,null,null,null,null,null,null,null,null,null,null,null,340,7.6531013258333669E-2,5.7437509728738796,2.7002087480908989]
[null,null,null,null,null,null,null,null,null,null,null,null,null,null,null,null,null,null,null,null,null,null,null,null,null,null,null,null,null,null,null,null,null,null,null,null,null,null,null,null,null,null,null,null,341,7.6756104473799366E-2,5.7775874297296523,2.7208056881357923]
[null,null,null,null,null,null,null,null,null,null,null,null,null,null,null,null,null,null,null,null,null,null,null,null,null,null,null,null,null,null,null,null,null,null,null,null,null,null,null,null,null,null,null,null,342,7.698119568926505E-2,5.8115232594396247,2.7414920646973537]
[null,null,null,null,null,null,null,null,null,null,null,null,null,null,null,null,null,null,null,null,null,null,null,null,null,null,null,null,null,null,null,null,null,null,null,null,null,null,null,null,null,null,null,null,343,7.7206286904730734E-2,5.8455584620037992,2.7622679446472698]
[null,null,null,null,null,null,null,null,null,null,null,null,null,null,null,null,null,null,null,null,null,null,null,null,null,null,null,null,null,null,null,null,null,null,null,null,null,null,null,null,null,null,null,null,344,7.7431378120196417E-2,5.8796930374221752,2.783133394407177]
[null,null,null,null,null,null,null,null,null,null,null,null,null,null,null,null,null,null,null,null,null,null,null,null,null,null,null,null,null,null,null,null,null,null,null,null,null,null,null,null,null,null,null,null,345,7.7656469335662115E-2,5.9139269856947552,2.8040884799516963]
[null,null,null,null,null,null,null,null,null,null,null,null,null,null,null,null,null,null,null,null,null,null,null,null,null,null,null,null,null,null,null,null,null,null,null,null,null,null,null,null,null,null,null,null,346,7.7881560551127799E-2,5.9482603068215356,2.8251332668114362]
[null,null,null,null,null,null,null,null,null,null,null,null,null,null,null,null,null,null,null,null,null,null,null,null,null,null,null,null,null,null,null,null,null,null,null,null,null,null,null,null,null,null,null,null,347,7.8106651766593482E-2,5.9826930008025174,2.8462678200759841]
[null,null,null,null,null,null,null,null,null,null,null,null,null,null,null,null,null,null,null,null,null,null,null,null,null,null,null,null,null,null,null,null,null,null,null,null,null,null,null,null,null,null,null,null,348,7.8331742982059166E-2,6.0172250676377015,2.8674922043968745]
[null,null,null,null,null,null,null,null,null,null,null,null,null,null,null,null,null,null,null,null,null,null,null,null,null,null,null,null,null,null,null,null,null,null,null,null,null,null,null,null,null,null,null,null,349,7.8556834197524864E-2,6.0518565073270896,2.888806483990535]
[null,null,null,null,null,null,null,null,null,null,null,null,null,null,null,null,null,null,null,null,null,null,null,null,null,null,null,null,null,null,null,null,null,null,null,null,null,null,null,null,null,null,null,null,350,7.8781925412990547E-2,6.0865873198706781,2.9102107226412164]
[null,null,null,null,null,null,null,null,null,null,null,null,null,null,null,null,null,null,null,null,null,null,null,null,null,null,null,null,null,null,null,null,null,null,null,null,null,null,null,null,null,null,null,null,351,7.9007016628456231E-2,6.1214175052684681,2.9317049837038995]
[null,null,null,null,null,null,null,null,null,null,null,null,null,null,null,null,null,null,null,null,null,null,null,null,null,null,null,null,null,null,null,null,null,null,null,null,null,null,null,null,null,null,null,null,352,7.9232107843921915E-2,6.1563470635204594,2.9532893301071876]
[null,null,null,null,null,null,null,null,null,null,null,null,null,null,null,null,null,null,null,null,null,null,null,null,null,null,null,null,null,null,null,null,null,null,null,null,null,null,null,null,null,null,null,null,353,7.9457199059387612E-2,6.1913759946266564,2.9749638243561711]
[null,null,null,null,null,null,null,null,null,null,null,null,null,null,null,null,null,null,null,null,null,null,null,null,null,null,null,null,null,null,null,null,null,null,null,null,null,null,null,null,null,null,null,null,354,7.9682290274853296E-2,6.2265042985870522,2.9967285285352818]
[null,null,null,null,null,null,null,null,null,null,null,null,null,null,null,null,null,null,null,null,null,null,null,null,null,null,null,null,null,null,null,null,null,null,null,null,null,null,null,null,null,null,null,null,355,7.9907381490318979E-2,6.2617319754016494,3.0185835043111218]
[null,null,null,null,null,null,null,null,null,null,null,null,null,null,null,null,null,null,null,null,null,null,null,null,null,null,null,null,null,null,null,null,null,null,null,null,null,null,null,null,null,null,null,null,356,8.0132472705784663E-2,6.2970590250704497,3.040528812935277]
[null,null,null,null,null,null,null,null,null,null,null,null,null,null,null,null,null,null,null,null,null,null,null,null,null,null,null,null,null,null,null,null,null,null,null,null,null,null,null,null,null,null,null,null,357,8.0357563921250361E-2,6.332485447593454,3.0625645152471082]
[null,null,null,null,null,null,null,null,null,null,null,null,null,null,null,null,null,null,null,null,null,null,null,null,null,null,null,null,null,null,null,null,null,null,null,null,null,null,null,null,null,null,null,null,358,8.0582655136716044E-2,6.368011242970657,3.0846906716765274]
[null,null,null,null,null,null,null,null,null,null,null,null,null,null,null,null,null,null,null,null,null,null,null,null,null,null,null,null,null,null,null,null,null,null,null,null,null,null,null,null,null,null,null,null,359,8.0807746352181728E-2,6.4036364112020632,3.1069073422467515]
[null,null,null,null,null,null,null,null,null,null,null,null,null,null,null,null,null,null,null,null,null,null,null,null,null,null,null,null,null,null,null,null,null,null,null,null,null,null,null,null,null,null,null,null,360,8.1032837567647426E-2,6.4393609522876734,3.1292145865770413]
[null,null,null,null,null,null,null,null,null,null,null,null,null,null,null,null,null,null,null,null,null,null,null,null,null,null,null,null,null,null,null,null,null,null,null,null,null,null,null,null,null,null,null,null,361,8.1257928783113109E-2,6.4751848662274822,3.151612463885419]
[null,null,null,null,null,null,null,null,null,null,null,null,null,null,null,null,null,null,null,null,null,null,null,null,null,null,null,null,null,null,null,null,null,null,null,null,null,null,null,null,null,null,null,null,362,8.1483019998578793E-2,6.5111081530214951,3.1741010329913677]
[null,null,null,null,null,null,null,null,null,null,null,null,null,null,null,null,null,null,null,null,null,null,null,null,null,null,null,null,null,null,null,null,null,null,null,null,null,null,null,null,null,null,null,null,363,8.1708111214044477E-2,6.5471308126697085,3.1966803523185163]
[null,null,null,null,null,null,null,null,null,null,null,null,null,null,null,null,null,null,null,null,null,null,null,null,null,null,null,null,null,null,null,null,null,null,null,null,null,null,null,null,null,null,null,null,364,8.1933202429510174E-2,6.5832528451721259,3.2193504798973005]
[null,null,null,null,null,null,null,null,null,null,null,null,null,null,null,null,null,null,null,null,null,null,null,null,null,null,null,null,null,null,null,null,null,null,null,null,null,null,null,null,null,null,null,null,365,8.2158293644975858E-2,6.6194742505287429,3.2421114733676109]
[null,null,null,null,null,null,null,null,null,null,null,null,null,null,null,null,null,null,null,null,null,null,null,null,null,null,null,null,null,null,null,null,null,null,null,null,null,null,null,null,null,null,null,null,366,8.2383384860441541E-2,6.6557950287395631,3.2649633899814208]
[null,null,null,null,null,null,null,null,null,null,null,null,null,null,null,null,null,null,null,null,null,null,null,null,null,null,null,null,null,null,null,null,null,null,null,null,null,null,null,null,null,null,null,null,367,8.2608476075907225E-2,6.6922151798045846,3.2879062866053976]
[null,null,null,null,null,null,null,null,null,null,null,null,null,null,null,null,null,null,null,null,null,null,null,null,null,null,null,null,null,null,null,null,null,null,null,null,null,null,null,null,null,null,null,null,368,8.2833567291372923E-2,6.728734703723811,3.3109402197234936]
[null,null,null,null,null,null,null,null,null,null,null,null,null,null,null,null,null,null,null,null,null,null,null,null,null,null,null,null,null,null,null,null,null,null,null,null,null,null,null,null,null,null,null,null,369,8.3058658506838606E-2,6.7653536004972361,3.3340652454395245]
[null,null,null,null,null,null,null,null,null,null,null,null,null,null,null,null,null,null,null,null,null,null,null,null,null,null,null,null,null,null,null,null,null,null,null,null,null,null,null,null,null,null,null,null,370,8.328374972230429E-2,6.8020718701248635,3.3572814194797269]
[null,null,null,null,null,null,null,null,null,null,null,null,null,null,null,null,null,null,null,null,null,null,null,null,null,null,null,null,null,null,null,null,null,null,null,null,null,null,null,null,null,null,null,null,371,8.3508840937769974E-2,6.8388895126066922,3.3805887971952986]
[null,null,null,null,null,null,null,null,null,null,null,null,null,null,null,null,null,null,null,null,null,null,null,null,null,null,null,null,null,null,null,null,null,null,null,null,null,null,null,null,null,null,null,null,372,8.3733932153235671E-2,6.8758065279427258,3.4039874335649225]
[null,null,null,null,null,null,null,null,null,null,null,null,null,null,null,null,null,null,null,null,null,null,null,null,null,null,null,null,null,null,null,null,null,null,null,null,null,null,null,null,null,null,null,null,373,8.3959023368701355E-2,6.9128229161329591,3.4274773831972754]
[null,null,null,null,null,null,null,null,null,null,null,null,null,null,null,null,null,null,null,null,null,null,null,null,null,null,null,null,null,null,null,null,null,null,null,null,null,null,null,null,null,null,null,null,374,8.4184114584167039E-2,6.9499354318065372,3.4510586894128217]
[null,null,null,null,null,null,null,null,null,null,null,null,null,null,null,null,null,null,null,null,null,null,null,null,null,null,null,null,null,null,null,null,null,null,null,null,null,null,null,null,null,null,null,null,375,8.4409205799632722E-2,6.9870754823583745,3.4747311535052057]
[null,null,null,null,null,null,null,null,null,null,null,null,null,null,null,null,null,null,null,null,null,null,null,null,null,null,null,null,null,null,null,null,null,null,null,null,null,null,null,null,null,null,null,null,376,8.463429701509842E-2,7.0242155329102145,3.4984942546357396]
[null,null,null,null,null,null,null,null,null,null,null,null,null,null,null,null,null,null,null,null,null,null,null,null,null,null,null,null,null,null,null,null,null,null,null,null,null,null,null,null,null,null,null,null,377,8.4859388230564103E-2,7.0613555834620527,3.5223473828159371]
[null,null,null,null,null,null,null,null,null,null,null,null,null,null,null,null,null,null,null,null,null,null,null,null,null,null,null,null,null,null,null,null,null,null,null,null,null,null,null,null,null,null,null,null,378,8.5084479446029787E-2,7.0984956340138901,3.5462899321625416]
[null,null,null,null,null,null,null,null,null,null,null,null,null,null,null,null,null,null,null,null,null,null,null,null,null,null,null,null,null,null,null,null,null,null,null,null,null,null,null,null,null,null,null,null,379,8.5309570661495471E-2,7.1356356845657283,3.5703213008699]
[null,null,null,null,null,null,null,null,null,null,null,null,null,null,null,null,null,null,null,null,null,null,null,null,null,null,null,null,null,null,null,null,null,null,null,null,null,null,null,null,null,null,null,null,{"$f":"AS410+1","v":380},8.5534661876961168E-2,7.1727757351175683,3.594440891182519]
[null,null,null,null,null,null,null,null,null,null,null,null,null,null,null,null,null,null,null,null,null,null,null,null,null,null,null,null,null,null,null,null,null,null,null,null,null,null,null,null,null,null,null,null,381,8.5759753092426852E-2,7.2099157856694056,3.6186481093678071]
[null,null,null,null,null,null,null,null,null,null,null,null,null,null,null,null,null,null,null,null,null,null,null,null,null,null,null,null,null,null,null,null,null,null,null,null,null,null,null,null,null,null,null,null,382,8.5984844307892536E-2,7.2470558362212438,3.6429423656890028]
[null,null,null,null,null,null,null,null,null,null,null,null,null,null,null,null,null,null,null,null,null,null,null,null,null,null,null,null,null,null,null,null,null,null,null,null,null,null,null,null,null,null,null,null,383,8.6209935523358219E-2,7.2841958867730821,3.6673230743782792]
[null,null,null,null,null,null,null,null,null,null,null,null,null,null,null,null,null,null,null,null,null,null,null,null,null,null,null,null,null,null,null,null,null,null,null,null,null,null,null,null,null,null,null,null,384,{"$f":"$AP$18/$N$7*AS415","v":8.6435026738823917E-2},7.321335937324922,3.6917896536100354]
[null,null,null,null,null,null,null,null,null,null,null,null,null,null,null,null,null,null,null,null,null,null,null,null,null,null,null,null,null,null,null,null,null,null,null,null,null,null,null,null,null,null,null,null,385,8.6660117954289601E-2,{"$f":"IF(($N$4*AT416^2/2)<=$AP$13,($N$4*AT416^2/2), IF(($AP$13+$N$6*(AT416-$AP$12))<=$AP$17, ($AP$13+$N$6*(AT416-$AP$12)), IF(AU415<$D$14, ($AP$17+($N$6-$N$5*(AT416-$AP$16)/2)*(AT416-$AP$16)), $D$14)))","v":7.3584759878767594},3.7163415254743652]
[null,null,null,null,null,null,null,null,null,null,null,null,null,null,null,null,null,null,null,null,null,null,null,null,null,null,null,null,null,null,null,null,null,null,null,null,null,null,null,null,null,null,null,null,386,8.6885209169755284E-2,7.3956160384285976,{"$f":"( $AP$6*AU417 + $AP$7*AU416 + $AP$9*AV416 )/$AP$8","v":3.7409781159507025}]
[null,null,null,null,null,null,null,null,null,null,null,null,null,null,null,null,null,null,null,null,null,null,null,null,null,null,null,null,null,null,null,null,null,null,null,null,null,null,null,null,null,null,null,null,387,8.7110300385220982E-2,7.4327560889804376,3.7656988548816481]
[null,null,null,null,null,null,null,null,null,null,null,null,null,null,null,null,null,null,null,null,null,null,null,null,null,null,null,null,null,null,null,null,null,null,null,null,null,null,null,null,null,null,null,null,388,8.7335391600686665E-2,7.4698961395322749,3.7905031759469709]
[null,null,null,null,null,null,null,null,null,null,null,null,null,null,null,null,null,null,null,null,null,null,null,null,null,null,null,null,null,null,null,null,null,null,null,null,null,null,null,null,null,null,null,null,389,8.7560482816152349E-2,7.5070361900841132,3.8153905166377808]
[null,null,null,null,null,null,null,null,null,null,null,null,null,null,null,null,null,null,null,null,null,null,null,null,null,null,null,null,null,null,null,null,null,null,null,null,null,null,null,null,null,null,null,null,390,8.7785574031618033E-2,7.5441762406359505,3.8403603182308808]
[null,null,null,null,null,null,null,null,null,null,null,null,null,null,null,null,null,null,null,null,null,null,null,null,null,null,null,null,null,null,null,null,null,null,null,null,null,null,null,null,null,null,null,null,391,8.801066524708373E-2,7.5813162911877914,3.865412025763288]
[null,null,null,null,null,null,null,null,null,null,null,null,null,null,null,null,null,null,null,null,null,null,null,null,null,null,null,null,null,null,null,null,null,null,null,null,null,null,null,null,null,null,null,null,392,8.8235756462549414E-2,7.6184563417396287,3.8905450880069292]
[null,null,null,null,null,null,null,null,null,null,null,null,null,null,null,null,null,null,null,null,null,null,null,null,null,null,null,null,null,null,null,null,null,null,null,null,null,null,null,null,null,null,null,null,393,8.8460847678015098E-2,7.655596392291466,3.915758957443503]
[null,null,null,null,null,null,null,null,null,null,null,null,null,null,null,null,null,null,null,null,null,null,null,null,null,null,null,null,null,null,null,null,null,null,null,null,null,null,null,null,null,null,null,null,394,8.8685938893480781E-2,7.6927364428433043,3.9410530902395124]
[null,null,null,null,null,null,null,null,null,null,null,null,null,null,null,null,null,null,null,null,null,null,null,null,null,null,null,null,null,null,null,null,null,null,null,null,null,null,null,null,null,null,null,null,395,8.8911030108946479E-2,7.7298764933951443,3.9664269462214685]
[null,null,null,null,null,null,null,null,null,null,null,null,null,null,null,null,null,null,null,null,null,null,null,null,null,null,null,null,null,null,null,null,null,null,null,null,null,null,null,null,null,null,null,null,396,8.9136121324412163E-2,7.7670165439469825,3.9918799888512564]
[null,null,null,null,null,null,null,null,null,null,null,null,null,null,null,null,null,null,null,null,null,null,null,null,null,null,null,null,null,null,null,null,null,null,null,null,null,null,null,null,null,null,null,null,397,8.9361212539877846E-2,7.8041565944988198,4.0174116852016706]
[null,null,null,null,null,null,null,null,null,null,null,null,null,null,null,null,null,null,null,null,null,null,null,null,null,null,null,null,null,null,null,null,null,null,null,null,null,null,null,null,null,null,null,null,398,8.958630375534353E-2,7.841296645050658,4.0430215059321135]
[null,null,null,null,null,null,null,null,null,null,null,null,null,null,null,null,null,null,null,null,null,null,null,null,null,null,null,null,null,null,null,null,null,null,null,null,null,null,null,null,null,null,null,null,399,8.9811394970809227E-2,7.878436695602498,4.0687089252644544]
[null,null,null,null,null,null,null,null,null,null,null,null,null,null,null,null,null,null,null,null,null,null,null,null,null,null,null,null,null,null,null,null,null,null,null,null,null,null,null,null,null,null,null,null,400,9.0036486186274911E-2,7.9155767461543363,4.0944734209590585]
[null,null,null,null,null,null,null,null,null,null,null,null,null,null,null,null,null,null,null,null,null,null,null,null,null,null,null,null,null,null,null,null,null,null,null,null,null,null,null,null,null,null,null,null,{"$f":"AS431+1","v":401},9.0261577401740595E-2,7.9527167967061736,4.1203144742909696]
[null,null,null,null,null,null,null,null,null,null,null,null,null,null,null,null,null,null,null,null,null,null,null,null,null,null,null,null,null,null,null,null,null,null,null,null,null,null,null,null,null,null,null,null,402,9.0486668617206278E-2,7.9898568472580109,4.1462315700262593]
[null,null,null,null,null,null,null,null,null,null,null,null,null,null,null,null,null,null,null,null,null,null,null,null,null,null,null,null,null,null,null,null,null,null,null,null,null,null,null,null,null,null,null,null,403,9.0711759832671976E-2,8.0269968978098518,4.1722241963985303]
[null,null,null,null,null,null,null,null,null,null,null,null,null,null,null,null,null,null,null,null,null,null,null,null,null,null,null,null,null,null,null,null,null,null,null,null,null,null,null,null,null,null,null,null,404,9.093685104813766E-2,8.0641369483616892,4.1982918450855768]
[null,null,null,null,null,null,null,null,null,null,null,null,null,null,null,null,null,null,null,null,null,null,null,null,null,null,null,null,null,null,null,null,null,null,null,null,null,null,null,null,null,null,null,null,405,9.1161942263603343E-2,8.1012769989135265,4.2244340111862115]
[null,null,null,null,null,null,null,null,null,null,null,null,null,null,null,null,null,null,null,null,null,null,null,null,null,null,null,null,null,null,null,null,null,null,null,null,null,null,null,null,null,null,null,null,406,9.1387033479069027E-2,8.1384170494653656,4.250650193197238]
[null,null,null,null,null,null,null,null,null,null,null,null,null,null,null,null,null,null,null,null,null,null,null,null,null,null,null,null,null,null,null,null,null,null,null,null,null,null,null,null,null,null,null,null,407,9.1612124694534725E-2,8.1755571000172047,4.2769398929905824]
[null,null,null,null,null,null,null,null,null,null,null,null,null,null,null,null,null,null,null,null,null,null,null,null,null,null,null,null,null,null,null,null,null,null,null,null,null,null,null,null,null,null,null,null,408,9.1837215910000408E-2,8.212697150569042,4.3033026157905816]
[null,null,null,null,null,null,null,null,null,null,null,null,null,null,null,null,null,null,null,null,null,null,null,null,null,null,null,null,null,null,null,null,null,null,null,null,null,null,null,null,null,null,null,null,409,9.2062307125466092E-2,8.2498372011208811,4.3297378701514164]
[null,null,null,null,null,null,null,null,null,null,null,null,null,null,null,null,null,null,null,null,null,null,null,null,null,null,null,null,null,null,null,null,null,null,null,null,null,null,null,null,null,null,null,null,410,9.2287398340931789E-2,8.2869772516727203,4.3562451679347065]
[null,null,null,null,null,null,null,null,null,null,null,null,null,null,null,null,null,null,null,null,null,null,null,null,null,null,null,null,null,null,null,null,null,null,null,null,null,null,null,null,null,null,null,null,411,9.2512489556397473E-2,8.3241173022245576,4.3828240242872498]
[null,null,null,null,null,null,null,null,null,null,null,null,null,null,null,null,null,null,null,null,null,null,null,null,null,null,null,null,null,null,null,null,null,null,null,null,null,null,null,null,null,null,null,null,412,9.2737580771863157E-2,8.3612573527763967,4.4094739576189106]
[null,null,null,null,null,null,null,null,null,null,null,null,null,null,null,null,null,null,null,null,null,null,null,null,null,null,null,null,null,null,null,null,null,null,null,null,null,null,null,null,null,null,null,null,413,9.296267198732884E-2,8.398397403328234,4.4361944895806635]
[null,null,null,null,null,null,null,null,null,null,null,null,null,null,null,null,null,null,null,null,null,null,null,null,null,null,null,null,null,null,null,null,null,null,null,null,null,null,null,null,null,null,null,null,414,9.3187763202794538E-2,8.4355374538800749,4.4629851450427784]
[null,null,null,null,null,null,null,null,null,null,null,null,null,null,null,null,null,null,null,null,null,null,null,null,null,null,null,null,null,null,null,null,null,null,null,null,null,null,null,null,null,null,null,null,415,9.3412854418260222E-2,8.4726775044319123,4.4898454520731539]
[null,null,null,null,null,null,null,null,null,null,null,null,null,null,null,null,null,null,null,null,null,null,null,null,null,null,null,null,null,null,null,null,null,null,null,null,null,null,null,null,null,null,null,null,416,9.3637945633725905E-2,8.5098175549837496,4.5167749419157968]
[null,null,null,null,null,null,null,null,null,null,null,null,null,null,null,null,null,null,null,null,null,null,null,null,null,null,null,null,null,null,null,null,null,null,null,null,null,null,null,null,null,null,null,null,417,9.3863036849191589E-2,8.5469576055355869,4.5437731489694491]
[null,null,null,null,null,null,null,null,null,null,null,null,null,null,null,null,null,null,null,null,null,null,null,null,null,null,null,null,null,null,null,null,null,null,null,null,null,null,null,null,null,null,null,null,418,9.4088128064657287E-2,8.5840976560874278,4.5708396107663569]
[null,null,null,null,null,null,null,null,null,null,null,null,null,null,null,null,null,null,null,null,null,null,null,null,null,null,null,null,null,null,null,null,null,null,null,null,null,null,null,null,null,null,null,null,419,9.431321928012297E-2,8.6212377066392651,4.5979738679511799]
[null,null,null,null,null,null,null,null,null,null,null,null,null,null,null,null,null,null,null,null,null,null,null,null,null,null,null,null,null,null,null,null,null,null,null,null,null,null,null,null,null,null,null,null,420,9.4538310495588654E-2,8.6583777571911043,4.6251754642600442]
[null,null,null,null,null,null,null,null,null,null,null,null,null,null,null,null,null,null,null,null,null,null,null,null,null,null,null,null,null,null,null,null,null,null,null,null,null,null,null,null,null,null,null,null,421,9.4763401711054338E-2,8.6955178077429416,4.6524439464997389]
[null,null,null,null,null,null,null,null,null,null,null,null,null,null,null,null,null,null,null,null,null,null,null,null,null,null,null,null,null,null,null,null,null,null,null,null,null,null,null,null,null,null,null,null,422,9.4988492926520035E-2,8.7326578582947807,4.6797788645270479]
[null,null,null,null,null,null,null,null,null,null,null,null,null,null,null,null,null,null,null,null,null,null,null,null,null,null,null,null,null,null,null,null,null,null,null,null,null,null,null,null,null,null,null,null,423,9.5213584141985719E-2,8.7697979088466198,4.7071797712282271]
[null,null,null,null,null,null,null,null,null,null,null,null,null,null,null,null,null,null,null,null,null,null,null,null,null,null,null,null,null,null,null,null,null,null,null,null,null,null,null,null,null,null,null,null,424,9.5438675357451402E-2,8.8069379593984571,4.7346462224986148]
[null,null,null,null,null,null,null,null,null,null,null,null,null,null,null,null,null,null,null,null,null,null,null,null,null,null,null,null,null,null,null,null,null,null,null,null,null,null,null,null,null,null,null,null,425,9.5663766572917086E-2,8.8440780099502945,4.7621777772223757]
[null,null,null,null,null,null,null,null,null,null,null,null,null,null,null,null,null,null,null,null,null,null,null,null,null,null,null,null,null,null,null,null,null,null,null,null,null,null,null,null,null,null,null,null,426,9.5888857788382784E-2,8.8812180605021354,4.7897739972523929]
[null,null,null,null,null,null,null,null,null,null,null,null,null,null,null,null,null,null,null,null,null,null,null,null,null,null,null,null,null,null,null,null,null,null,null,null,null,null,null,null,null,null,null,null,427,9.6113949003848467E-2,8.9183581110539727,4.8174344473902844]
[null,null,null,null,null,null,null,null,null,null,null,null,null,null,null,null,null,null,null,null,null,null,null,null,null,null,null,null,null,null,null,null,null,null,null,null,null,null,null,null,null,null,null,null,428,9.6339040219314151E-2,8.95549816160581,4.8451586953665604]
[null,null,null,null,null,null,null,null,null,null,null,null,null,null,null,null,null,null,null,null,null,null,null,null,null,null,null,null,null,null,null,null,null,null,null,null,null,null,null,null,null,null,null,null,429,9.6564131434779835E-2,8.9926382121576474,4.8729463118209093]
[null,null,null,null,null,null,null,null,null,null,null,null,null,null,null,null,null,null,null,null,null,null,null,null,null,null,null,null,null,null,null,null,null,null,null,null,null,null,null,null,null,null,null,null,430,9.6789222650245532E-2,9.0297782627094882,4.9007968702826217]
[null,null,null,null,null,null,null,null,null,null,null,null,null,null,null,null,null,null,null,null,null,null,null,null,null,null,null,null,null,null,null,null,null,null,null,null,null,null,null,null,null,null,null,null,431,9.7014313865711216E-2,9.0669183132613256,4.9287099471511402]
[null,null,null,null,null,null,null,null,null,null,null,null,null,null,null,null,null,null,null,null,null,null,null,null,null,null,null,null,null,null,null,null,null,null,null,null,null,null,null,null,null,null,null,null,432,9.72394050811769E-2,9.1040583638131629,4.9566851216767454]
[null,null,null,null,null,null,null,null,null,null,null,null,null,null,null,null,null,null,null,null,null,null,null,null,null,null,null,null,null,null,null,null,null,null,null,null,null,null,null,null,null,null,null,null,433,9.7464496296642583E-2,9.141198414365002,4.984721975941369]
[null,null,null,null,null,null,null,null,null,null,null,null,null,null,null,null,null,null,null,null,null,null,null,null,null,null,null,null,null,null,null,null,null,null,null,null,null,null,null,null,null,null,null,null,434,9.7689587512108281E-2,9.1783384649168411,5.0128200948395376]
[null,null,null,null,null,null,null,null,null,null,null,null,null,null,null,null,null,null,null,null,null,null,null,null,null,null,null,null,null,null,null,null,null,null,null,null,null,null,null,null,null,null,null,null,435,9.7914678727573964E-2,9.2154785154686785,5.0409790660594433]
[null,null,null,null,null,null,null,null,null,null,null,null,null,null,null,null,null,null,null,null,null,null,null,null,null,null,null,null,null,null,null,null,null,null,null,null,null,null,null,null,null,null,null,null,436,9.8139769943039648E-2,9.2526185660205176,5.0691984800641414]
[null,null,null,null,null,null,null,null,null,null,null,null,null,null,null,null,null,null,null,null,null,null,null,null,null,null,null,null,null,null,null,null,null,null,null,null,null,null,null,null,null,null,null,null,437,9.8364861158505346E-2,9.2897586165723567,5.0974779300728761]
[null,null,null,null,null,null,null,null,null,null,null,null,null,null,null,null,null,null,null,null,null,null,null,null,null,null,null,null,null,null,null,null,null,null,null,null,null,null,null,null,null,null,null,null,438,9.8589952373971029E-2,9.3268986671241958,5.1258170120425319]
[null,null,null,null,null,null,null,null,null,null,null,null,null,null,null,null,null,null,null,null,null,null,null,null,null,null,null,null,null,null,null,null,null,null,null,null,null,null,null,null,null,null,null,null,439,9.8815043589436713E-2,9.3640387176760331,5.1542153246492104]
[null,null,null,null,null,null,null,null,null,null,null,null,null,null,null,null,null,null,null,null,null,null,null,null,null,null,null,null,null,null,null,null,null,null,null,null,null,null,null,null,null,null,null,null,440,9.9040134804902397E-2,9.4011787682278705,5.1826724692699253]
[null,null,null,null,null,null,null,null,null,null,null,null,null,null,null,null,null,null,null,null,null,null,null,null,null,null,null,null,null,null,null,null,null,null,null,null,null,null,null,null,null,null,null,null,441,9.9265226020368094E-2,9.4383188187797113,5.2111880499644325]
[null,null,null,null,null,null,null,null,null,null,null,null,null,null,null,null,null,null,null,null,null,null,null,null,null,null,null,null,null,null,null,null,null,null,null,null,null,null,null,null,null,null,null,null,442,9.9490317235833778E-2,9.4754588693315487,5.2397616734571679]
[null,null,null,null,null,null,null,null,null,null,null,null,null,null,null,null,null,null,null,null,null,null,null,null,null,null,null,null,null,null,null,null,null,null,null,null,null,null,null,null,null,null,null,null,443,9.9715408451299462E-2,9.512598919883386,5.2683929491193169]
[null,null,null,null,null,null,null,null,null,null,null,null,null,null,null,null,null,null,null,null,null,null,null,null,null,null,null,null,null,null,null,null,null,null,null,null,null,null,null,null,null,null,null,null,444,9.9940499666765145E-2,9.5497389704352251,5.2970814889510045]
[null,null,null,null,null,null,null,null,null,null,null,null,null,null,null,null,null,null,null,null,null,null,null,null,null,null,null,null,null,null,null,null,null,null,null,null,null,null,null,null,null,null,null,null,445,0.10016559088223084,9.5868790209870642,5.3258269075635987]
[null,null,null,null,null,null,null,null,null,null,null,null,null,null,null,null,null,null,null,null,null,null,null,null,null,null,null,null,null,null,null,null,null,null,null,null,null,null,null,null,null,null,null,null,446,0.10039068209769653,9.6240190715389033,5.3546288221621392]
[null,null,null,null,null,null,null,null,null,null,null,null,null,null,null,null,null,null,null,null,null,null,null,null,null,null,null,null,null,null,null,null,null,null,null,null,null,null,null,null,null,null,null,null,447,0.10061577331316221,9.6611591220907407,5.3834868525278798]
[null,null,null,null,null,null,null,null,null,null,null,null,null,null,null,null,null,null,null,null,null,null,null,null,null,null,null,null,null,null,null,null,null,null,null,null,null,null,null,null,null,null,null,null,448,{"$f":"$AP$18/$N$7*AS479","v":0.10084086452862789},9.698299172642578,5.412400621000951]
[null,null,null,null,null,null,null,null,null,null,null,null,null,null,null,null,null,null,null,null,null,null,null,null,null,null,null,null,null,null,null,null,null,null,null,null,null,null,null,null,null,null,null,null,449,0.10106595574409359,{"$f":"IF(($N$4*AT480^2/2)<=$AP$13,($N$4*AT480^2/2), IF(($AP$13+$N$6*(AT480-$AP$12))<=$AP$17, ($AP$13+$N$6*(AT480-$AP$12)), IF(AU479<$D$14, ($AP$17+($N$6-$N$5*(AT480-$AP$16)/2)*(AT480-$AP$16)), $D$14)))","v":9.7354392231944189},5.4413697524631397]
[null,null,null,null,null,null,null,null,null,null,null,null,null,null,null,null,null,null,null,null,null,null,null,null,null,null,null,null,null,null,null,null,null,null,null,null,null,null,null,null,null,null,null,null,450,0.10129104695955927,9.7725792737462562,{"$f":"( $AP$6*AU481 + $AP$7*AU480 + $AP$9*AV480 )/$AP$8","v":5.4703938743207852}]
[null,null,null,null,null,null,null,null,null,null,null,null,null,null,null,null,null,null,null,null,null,null,null,null,null,null,null,null,null,null,null,null,null,null,null,null,null,null,null,null,null,null,null,null,451,0.10151613817502496,9.8097193242980936,5.4994726164877861]
[null,null,null,null,null,null,null,null,null,null,null,null,null,null,null,null,null,null,null,null,null,null,null,null,null,null,null,null,null,null,null,null,null,null,null,null,null,null,null,null,null,null,null,null,452,0.10174122939049064,9.8468593748499309,5.5286056113687243]
[null,null,null,null,null,null,null,null,null,null,null,null,null,null,null,null,null,null,null,null,null,null,null,null,null,null,null,null,null,null,null,null,null,null,null,null,null,null,null,null,null,null,null,null,453,0.10196632060595634,9.8839994254017718,5.5577924938421059]
[null,null,null,null,null,null,null,null,null,null,null,null,null,null,null,null,null,null,null,null,null,null,null,null,null,null,null,null,null,null,null,null,null,null,null,null,null,null,null,null,null,null,null,null,454,0.10219141182142202,9.9211394759536091,5.587032901243707]
[null,null,null,null,null,null,null,null,null,null,null,null,null,null,null,null,null,null,null,null,null,null,null,null,null,null,null,null,null,null,null,null,null,null,null,null,null,null,null,null,null,null,null,null,455,0.10241650303688771,9.9582795265054465,5.6163264733500409]
[null,null,null,null,null,null,null,null,null,null,null,null,null,null,null,null,null,null,null,null,null,null,null,null,null,null,null,null,null,null,null,null,null,null,null,null,null,null,null,null,null,null,null,null,456,0.10264159425235339,9.9954195770572856,5.6456728523619288]
[null,null,null,null,null,null,null,null,null,null,null,null,null,null,null,null,null,null,null,null,null,null,null,null,null,null,null,null,null,null,null,null,null,null,null,null,null,null,null,null,null,null,null,null,457,0.10286668546781909,10.032559627609125,5.6750716828881869]
[null,null,null,null,null,null,null,null,null,null,null,null,null,null,null,null,null,null,null,null,null,null,null,null,null,null,null,null,null,null,null,null,null,null,null,null,null,null,null,null,null,null,null,null,458,0.10309177668328477,10.069699678160962,5.7045226119294163]
[null,null,null,null,null,null,null,null,null,null,null,null,null,null,null,null,null,null,null,null,null,null,null,null,null,null,null,null,null,null,null,null,null,null,null,null,null,null,null,null,null,null,null,null,459,0.10331686789875046,10.106839728712801,5.7340252888619103]
[null,null,null,null,null,null,null,null,null,null,null,null,null,null,null,null,null,null,null,null,null,null,null,null,null,null,null,null,null,null,null,null,null,null,null,null,null,null,null,null,null,null,null,null,460,0.10354195911421614,10.143979779264638,5.7635793654216636]
[null,null,null,null,null,null,null,null,null,null,null,null,null,null,null,null,null,null,null,null,null,null,null,null,null,null,null,null,null,null,null,null,null,null,null,null,null,null,null,null,null,null,null,null,461,0.10376705032968184,10.181119829816478,5.793184495688493]
[null,null,null,null,null,null,null,null,null,null,null,null,null,null,null,null,null,null,null,null,null,null,null,null,null,null,null,null,null,null,null,null,null,null,null,null,null,null,null,null,null,null,null,null,462,0.10399214154514752,10.218259880368317,5.8228403360702643]
[null,null,null,null,null,null,null,null,null,null,null,null,null,null,null,null,null,null,null,null,null,null,null,null,null,null,null,null,null,null,null,null,null,null,null,null,null,null,null,null,null,null,null,null,463,0.1042172327606132,10.255399930920154,5.8525465452872192]
[null,null,null,null,null,null,null,null,null,null,null,null,null,null,null,null,null,null,null,null,null,null,null,null,null,null,null,null,null,null,null,null,null,null,null,null,null,null,null,null,null,null,null,null,464,0.1044423239760789,10.292539981471995,5.88230278435642]
[null,null,null,null,null,null,null,null,null,null,null,null,null,null,null,null,null,null,null,null,null,null,null,null,null,null,null,null,null,null,null,null,null,null,null,null,null,null,null,null,null,null,null,null,{"$f":"AS495+1","v":465},0.10466741519154459,10.329680032023832,5.9121087165762871]
[null,null,null,null,null,null,null,null,null,null,null,null,null,null,null,null,null,null,null,null,null,null,null,null,null,null,null,null,null,null,null,null,null,null,null,null,null,null,null,null,null,null,null,null,466,0.10489250640701027,10.36682008257567,5.9419640075112481]
[null,null,null,null,null,null,null,null,null,null,null,null,null,null,null,null,null,null,null,null,null,null,null,null,null,null,null,null,null,null,null,null,null,null,null,null,null,null,null,null,null,null,null,null,467,0.10511759762247595,10.403960133127509,5.9718683249764855]
[null,null,null,null,null,null,null,null,null,null,null,null,null,null,null,null,null,null,null,null,null,null,null,null,null,null,null,null,null,null,null,null,null,null,null,null,null,null,null,null,null,null,null,null,468,0.10534268883794165,10.441100183679348,6.0018213390227917]
[null,null,null,null,null,null,null,null,null,null,null,null,null,null,null,null,null,null,null,null,null,null,null,null,null,null,null,null,null,null,null,null,null,null,null,null,null,null,null,null,null,null,null,null,469,0.10556778005340733,10.478240234231185,6.0318227219215199]
[null,null,null,null,null,null,null,null,null,null,null,null,null,null,null,null,null,null,null,null,null,null,null,null,null,null,null,null,null,null,null,null,null,null,null,null,null,null,null,null,null,null,null,null,470,0.10579287126887302,10.515380284783024,6.061872148149642]
[null,null,null,null,null,null,null,null,null,null,null,null,null,null,null,null,null,null,null,null,null,null,null,null,null,null,null,null,null,null,null,null,null,null,null,null,null,null,null,null,null,null,null,null,476,0.10714341856166715,10.738220588094055,6.2431596603342374]
[null,null,null,null,null,null,null,null,null,null,null,null,null,null,null,null,null,null,null,null,null,null,null,null,null,null,null,null,null,null,null,null,null,null,null,null,null,null,null,null,null,null,null,null,481,0.10826887463899558,10.923920840853246,6.395495760556499]
[null,null,null,null,null,null,null,null,null,null,null,null,null,null,null,null,null,null,null,null,null,null,null,null,null,null,null,null,null,null,null,null,null,null,null,null,null,null,null,null,null,null,null,null,487,0.10961942193178971,11.146761144164277,6.5797579811175737]
[null,null,null,null,null,null,null,null,null,null,null,null,null,null,null,null,null,null,null,null,null,null,null,null,null,null,null,null,null,null,null,null,null,null,null,null,null,null,null,null,null,null,null,null,495,0.11142015165551521,11.443881548578984,6.8278131747256214]
[null,null,null,null,null,null,null,null,null,null,null,null,null,null,null,null,null,null,null,null,null,null,null,null,null,null,null,null,null,null,null,null,null,null,null,null,null,null,null,null,null,null,null,null,498,0.11209542530191226,11.555301700234498,6.9215065496731834]
[null,null,null,null,null,null,null,null,null,null,null,null,null,null,null,null,null,null,null,null,null,null,null,null,null,null,null,null,null,null,null,null,null,null,null,null,null,null,null,null,null,null,null,null,504,0.11344597259470639,11.778142003545529,7.1099526733050356]
[null,null,null,null,null,null,null,null,null,null,null,null,null,null,null,null,null,null,null,null,null,null,null,null,null,null,null,null,null,null,null,null,null,null,null,null,null,null,null,null,null,null,null,null,509,0.11457142867203482,11.963842256304721,7.2680366666965464]
[null,null,null,null,null,null,null,null,null,null,null,null,null,null,null,null,null,null,null,null,null,null,null,null,null,null,null,null,null,null,null,null,null,null,null,null,null,null,null,null,null,null,null,null,515,0.11592197596482895,12.186682559615752,7.4589450233486136]
[null,null,null,null,null,null,null,null,null,null,null,null,null,null,null,null,null,null,null,null,null,null,null,null,null,null,null,null,null,null,null,null,null,null,null,null,null,null,null,null,null,null,null,null,520,0.11704743204215738,12.372382812374944,7.6190060275699878]
[null,null,null,null,null,null,null,null,null,null,null,null,null,null,null,null,null,null,null,null,null,null,null,null,null,null,null,null,null,null,null,null,null,null,null,null,null,null,null,null,null,null,null,null,526,0.11839797933495151,12.595223115685975,7.8122003492951286]
[null,null,null,null,null,null,null,null,null,null,null,null,null,null,null,null,null,null,null,null,null,null,null,null,null,null,null,null,null,null,null,null,null,null,null,null,null,null,null,null,null,null,null,null,527,0.1186230705504172,12.632363166237813,7.8445151334140322]
[null,null,null,null,null,null,null,null,null,null,null,null,null,null,null,null,null,null,null,null,null,null,null,null,null,null,null,null,null,null,null,null,null,null,null,null,null,null,null,null,null,null,null,null,532,0.11974852662774563,12.818063418997003,8.0065718166089788]
[null,null,null,null,null,null,null,null,null,null,null,null,null,null,null,null,null,null,null,null,null,null,null,null,null,null,null,null,null,null,null,null,null,null,null,null,null,null,null,null,null,null,null,null,537,0.12087398270507406,13.003763671756195,8.1694134704387089]
[null,null,null,null,null,null,null,null,null,null,null,null,null,null,null,null,null,null,null,null,null,null,null,null,null,null,null,null,null,null,null,null,null,null,null,null,null,null,null,null,null,null,null,null,545,0.12267471242879957,13.300884076170904,8.4315281316373714]
[null,null,null,null,null,null,null,null,null,null,null,null,null,null,null,null,null,null,null,null,null,null,null,null,null,null,null,null,null,null,null,null,null,null,null,null,null,null,null,null,null,null,null,null,549,0.12357507729066232,13.449444278378259,8.5632819771456354]
[null,null,null,null,null,null,null,null,null,null,null,null,null,null,null,null,null,null,null,null,null,null,null,null,null,null,null,null,null,null,null,null,null,null,null,null,null,null,null,null,null,null,null,null,555,0.12492562458345643,13.672284581689286,8.7617487802171539]
[null,null,null,null,null,null,null,null,null,null,null,null,null,null,null,null,null,null,null,null,null,null,null,null,null,null,null,null,null,null,null,null,null,null,null,null,null,null,null,null,null,null,null,null,560,0.12605108066078488,13.85798483444848,8.9278787187373911]
[null,null,null,null,null,null,null,null,null,null,null,null,null,null,null,null,null,null,null,null,null,null,null,null,null,null,null,null,null,null,null,null,null,null,null,null,null,null,null,null,null,null,null,null,564,0.12695144552264762,14.006545036655833,9.0612515266975997]
[null,null,null,null,null,null,null,null,null,null,null,null,null,null,null,null,null,null,null,null,null,null,null,null,null,null,null,null,null,null,null,null,null,null,null,null,null,null,null,null,null,null,null,null,572,0.12875217524637311,14.303665441070539,9.3292005665462696]
[null,null,null,null,null,null,null,null,null,null,null,null,null,null,null,null,null,null,null,null,null,null,null,null,null,null,null,null,null,null,null,null,null,null,null,null,null,null,null,null,null,null,null,null,577,0.12987763132370156,{"$f":"IF(($N$4*AT608^2/2)<=$AP$13,($N$4*AT608^2/2), IF(($AP$13+$N$6*(AT608-$AP$12))<=$AP$17, ($AP$13+$N$6*(AT608-$AP$12)), IF(AU607<$D$14, ($AP$17+($N$6-$N$5*(AT608-$AP$16)/2)*(AT608-$AP$16)), $D$14)))","v":14.489365693829733},9.4974529614459744]
[null,null,null,null,null,null,null,null,null,null,null,null,null,null,null,null,null,null,null,null,null,null,null,null,null,null,null,null,null,null,null,null,null,null,null,null,null,null,null,null,null,null,null,null,583,0.13122817861649569,14.712205997140764,9.7001187704830212]
[null,null,null,null,null,null,null,null,null,null,null,null,null,null,null,null,null,null,null,null,null,null,null,null,null,null,null,null,null,null,null,null,null,null,null,null,null,null,null,null,null,null,null,null,588,0.13235363469382411,14.897906249899954,9.8696202340377841]
[null,null,null,null,null,null,null,null,null,null,null,null,null,null,null,null,null,null,null,null,null,null,null,null,null,null,null,null,null,null,null,null,null,null,null,null,null,null,null,null,null,null,null,null,589,0.13257872590928982,14.935046300451795,9.9035856431269522]
[null,null,null,null,null,null,null,null,null,null,null,null,null,null,null,null,null,null,null,null,null,null,null,null,null,null,null,null,null,null,null,null,null,null,null,null,null,null,null,null,null,null,null,null,595,0.13392927320208392,15.157886603762822,10.107821771745149]
[null,null,null,null,null,null,null,null,null,null,null,null,null,null,null,null,null,null,null,null,null,null,null,null,null,null,null,null,null,null,null,null,null,null,null,null,null,null,null,null,null,null,null,null,600,0.13505472927941237,15.343586856522016,10.278584098424076]
[null,null,null,null,null,null,null,null,null,null,null,null,null,null,null,null,null,null,null,null,null,null,null,null,null,null,null,null,null,null,null,null,null,null,null,null,null,null,null,null,null,null,null,null,605,0.13618018535674081,15.52928710928121,10.449842366855192]
[null,null,null,null,null,null,null,null,null,null,null,null,null,null,null,null,null,null,null,null,null,null,null,null,null,null,null,null,null,null,null,null,null,null,null,null,null,null,null,null,null,null,null,null,611,0.13753073264953491,15.752127412592236,10.65598378755964]
[null,null,null,null,null,null,null,null,null,null,null,null,null,null,null,null,null,null,null,null,null,null,null,null,null,null,null,null,null,null,null,null,null,null,null,null,null,null,null,null,null,null,null,null,620,0.13955655358872612,16.086387867558784,10.966430884248568]
[null,null,null,null,null,null,null,null,null,null,null,null,null,null,null,null,null,null,null,null,null,null,null,null,null,null,null,null,null,null,null,null,null,null,null,null,null,null,null,null,null,null,null,null,623,0.14023182723512317,16.1978080192143,11.070229476162357]
[null,null,null,null,null,null,null,null,null,null,null,null,null,null,null,null,null,null,null,null,null,null,null,null,null,null,null,null,null,null,null,null,null,null,null,null,null,null,null,null,null,null,null,null,628,0.14135728331245162,16.383508271973493,11.243565271571969]
[null,null,null,null,null,null,null,null,null,null,null,null,null,null,null,null,null,null,null,null,null,null,null,null,null,null,null,null,null,null,null,null,null,null,null,null,null,null,null,null,null,null,null,null,633,0.14248273938978004,16.56920852473268,11.417311569122891]
[null,null,null,null,null,null,null,null,null,null,null,null,null,null,null,null,null,null,null,null,null,null,null,null,null,null,null,null,null,null,null,null,null,null,null,null,null,null,null,null,null,null,null,null,639,0.14383328668257417,16.792048828043711,11.626329831766075]
[null,null,null,null,null,null,null,null,null,null,null,null,null,null,null,null,null,null,null,null,null,null,null,null,null,null,null,null,null,null,null,null,null,null,null,null,null,null,null,null,null,null,null,null,645,0.1451838339753683,17.014889131354742,11.83589692272691]
[null,null,null,null,null,null,null,null,null,null,null,null,null,null,null,null,null,null,null,null,null,null,null,null,null,null,null,null,null,null,null,null,null,null,null,null,null,null,null,null,null,null,null,null,650,0.14630929005269672,17.200589384113933,12.010939660804132]
[null,null,null,null,null,null,null,null,null,null,null,null,null,null,null,null,null,null,null,null,null,null,null,null,null,null,null,null,null,null,null,null,null,null,null,null,null,null,null,null,null,null,null,null,656,0.14765983734549085,17.423429687424964,12.221456963168116]
[null,null,null,null,null,null,null,null,null,null,null,null,null,null,null,null,null,null,null,null,null,null,null,null,null,null,null,null,null,null,null,null,null,null,null,null,null,null,null,null,null,null,null,null,661,0.14878529342281929,17.609129940184161,12.397262658373787]
[null,null,null,null,null,null,null,null,null,null,null,null,null,null,null,null,null,null,null,null,null,null,null,null,null,null,null,null,null,null,null,null,null,null,null,null,null,null,null,null,null,null,null,null,662,0.14901038463828498,17.646269990735995,12.432463571853848]
[null,null,null,null,null,null,null,null,null,null,null,null,null,null,null,null,null,null,null,null,null,null,null,null,null,null,null,null,null,null,null,null,null,null,null,null,null,null,null,null,null,null,null,null,668,0.15036093193107911,17.869110294047026,12.643940058097382]
[null,null,null,null,null,null,null,null,null,null,null,null,null,null,null,null,null,null,null,null,null,null,null,null,null,null,null,null,null,null,null,null,null,null,null,null,null,null,null,null,null,null,null,null,673,0.15148638800840752,18.054810546806216,12.820515914738682]
[null,null,null,null,null,null,null,null,null,null,null,null,null,null,null,null,null,null,null,null,null,null,null,null,null,null,null,null,null,null,null,null,null,null,null,null,null,null,null,null,null,null,null,null,679,0.15283693530120165,18.277650850117247,13.032805921347592]
[null,null,null,null,null,null,null,null,null,null,null,null,null,null,null,null,null,null,null,null,null,null,null,null,null,null,null,null,null,null,null,null,null,null,null,null,null,null,null,null,null,null,null,null,684,0.1539623913785301,18.463351102876445,13.210034981223291]
[null,null,null,null,null,null,null,null,null,null,null,null,null,null,null,null,null,null,null,null,null,null,null,null,null,null,null,null,null,null,null,null,null,null,null,null,null,null,null,null,null,null,null,null,693,0.15598821231772128,18.797611557842988,13.529749741382215]
[null,null,null,null,null,null,null,null,null,null,null,null,null,null,null,null,null,null,null,null,null,null,null,null,null,null,null,null,null,null,null,null,null,null,null,null,null,null,null,null,null,null,null,null,696,0.15666348596411833,18.9090317094985,13.636514485737811]
[null,null,null,null,null,null,null,null,null,null,null,null,null,null,null,null,null,null,null,null,null,null,null,null,null,null,null,null,null,null,null,null,null,null,null,null,null,null,null,null,null,null,null,null,701,0.15778894204144678,19.094731962257693,13.814662270635385]
[null,null,null,null,null,null,null,null,null,null,null,null,null,null,null,null,null,null,null,null,null,null,null,null,null,null,null,null,null,null,null,null,null,null,null,null,null,null,null,null,null,null,null,null,707,0.15913948933424091,19.317572265568725,14.028769856104732]
[null,null,null,null,null,null,null,null,null,null,null,null,null,null,null,null,null,null,null,null,null,null,null,null,null,null,null,null,null,null,null,null,null,null,null,null,null,null,null,null,null,null,null,null,712,0.16026494541156933,19.503272518327915,14.207458312009047]
[null,null,null,null,null,null,null,null,null,null,null,null,null,null,null,null,null,null,null,null,null,null,null,null,null,null,null,null,null,null,null,null,null,null,null,null,null,null,null,null,null,null,null,null,714,0.16071512784250072,19.577552619431593,14.278999315036689]
[null,null,null,null,null,null,null,null,null,null,null,null,null,null,null,null,null,null,null,null,null,null,null,null,null,null,null,null,null,null,null,null,null,null,null,null,null,null,null,null,null,null,null,null,724,0.16296603999715759,19.948953124949977,14.63724573461092]
[null,null,null,null,null,null,null,null,null,null,null,null,null,null,null,null,null,null,null,null,null,null,null,null,null,null,null,null,null,null,null,null,null,null,null,null,null,null,null,null,null,null,null,null,729,0.16409149607448603,20.134653377709171,14.816694639876671]
[null,null,null,null,null,null,null,null,null,null,null,null,null,null,null,null,null,null,null,null,null,null,null,null,null,null,null,null,null,null,null,null,null,null,null,null,null,null,null,null,null,null,null,null,730,0.16431658728995172,20.171793428261008,14.852609550283788]
[null,null,null,null,null,null,null,null,null,null,null,null,null,null,null,null,null,null,null,null,null,null,null,null,null,null,null,null,null,null,null,null,null,null,null,null,null,null,null,null,null,null,null,null,737,0.16589222579821153,20.431773782123877,15.104241707544674]
[null,null,null,null,null,null,null,null,null,null,null,null,null,null,null,null,null,null,null,null,null,null,null,null,null,null,null,null,null,null,null,null,null,null,null,null,null,null,null,null,null,null,null,null,741,0.16679259066007426,20.580333984331229,15.248205723601293]
[null,null,null,null,null,null,null,null,null,null,null,null,null,null,null,null,null,null,null,null,null,null,null,null,null,null,null,null,null,null,null,null,null,null,null,null,null,null,null,null,null,null,null,null,747,0.16814313795286839,20.803174287642261,15.464380385676009]
[null,null,null,null,null,null,null,null,null,null,null,null,null,null,null,null,null,null,null,null,null,null,null,null,null,null,null,null,null,null,null,null,null,null,null,null,null,null,null,null,null,null,null,null,752,0.16926859403019684,20.988874540401454,15.644728567853749]
[null,null,null,null,null,null,null,null,null,null,null,null,null,null,null,null,null,null,null,null,null,null,null,null,null,null,null,null,null,null,null,null,null,null,null,null,null,null,null,null,null,null,null,null,758,0.17061914132299094,21.211714843712478,15.861380414210984]
[null,null,null,null,null,null,null,null,null,null,null,null,null,null,null,null,null,null,null,null,null,null,null,null,null,null,null,null,null,null,null,null,null,null,null,null,null,null,null,null,null,null,null,null,762,0.1715195061848537,21.360275045919835,16.005952101912307]
[null,null,null,null,null,null,null,null,null,null,null,null,null,null,null,null,null,null,null,null,null,null,null,null,null,null,null,null,null,null,null,null,null,null,null,null,null,null,null,null,null,null,null,null,769,0.17309514469311352,{"$f":"IF(($N$4*AT800^2/2)<=$AP$13,($N$4*AT800^2/2), IF(($AP$13+$N$6*(AT800-$AP$12))<=$AP$17, ($AP$13+$N$6*(AT800-$AP$12)), IF(AU799<$D$14, ($AP$17+($N$6-$N$5*(AT800-$AP$16)/2)*(AT800-$AP$16)), $D$14)))","v":21.620255399782707},16.259206613575817]
[null,null,null,null,null,null,null,null,null,null,null,null,null,null,null,null,null,null,null,null,null,null,null,null,null,null,null,null,null,null,null,null,null,null,null,null,null,null,null,null,null,null,null,null,775,0.17444569198590765,21.843095703093738,16.476529615734659]
[null,null,null,null,null,null,null,null,null,null,null,null,null,null,null,null,null,null,null,null,null,null,null,null,null,null,null,null,null,null,null,null,null,null,null,null,null,null,null,null,null,null,null,null,780,0.17557114806323607,22.028795955852928,16.657799839313043]
[null,null,null,null,null,null,null,null,null,null,null,null,null,null,null,null,null,null,null,null,null,null,null,null,null,null,null,null,null,null,null,null,null,null,null,null,null,null,null,null,null,null,null,null,{"$f":"AS815+1","v":785},0.17669660414056451,22.214496208612118,16.839217140633171]
[null,null,null,null,null,null,null,null,null,null,null,null,null,null,null,null,null,null,null,null,null,null,null,null,null,null,null,null,null,null,null,null,null,null,null,null,null,null,null,null,null,null,null,null,787,0.17714678657149588,22.288776309715793,16.91182414362957]
[null,null,null,null,null,null,null,null,null,null,null,null,null,null,null,null,null,null,null,null,null,null,null,null,null,null,null,null,null,null,null,null,null,null,null,null,null,null,null,null,null,null,null,null,797,0.17939769872615277,22.66017681523418,17.275189859708085]
[null,null,null,null,null,null,null,null,null,null,null,null,null,null,null,null,null,null,null,null,null,null,null,null,null,null,null,null,null,null,null,null,null,null,null,null,null,null,null,null,null,null,null,null,798,0.17962278994161845,22.697316865786021,17.311555870922501]
[null,null,null,null,null,null,null,null,null,null,null,null,null,null,null,null,null,null,null,null,null,null,null,null,null,null,null,null,null,null,null,null,null,null,null,null,null,null,null,null,null,null,null,null,803,0.18074824601894687,22.883017118545212,17.493463368779103]
[null,null,null,null,null,null,null,null,null,null,null,null,null,null,null,null,null,null,null,null,null,null,null,null,null,null,null,null,null,null,null,null,null,null,null,null,null,null,null,null,null,null,null,null,808,0.18187370209627532,23.068717371304402,17.675496786760213]
[null,null,null,null,null,null,null,null,null,null,null,null,null,null,null,null,null,null,null,null,null,null,null,null,null,null,null,null,null,null,null,null,null,null,null,null,null,null,null,null,null,null,null,null,818,0.18412461425093218,23.440117876822782,18.039924799611221]
[null,null,null,null,null,null,null,null,null,null,null,null,null,null,null,null,null,null,null,null,null,null,null,null,null,null,null,null,null,null,null,null,null,null,null,null,null,null,null,null,null,null,null,null,820,0.18457479668186358,23.514397977926464,18.112866017410354]
[null,null,null,null,null,null,null,null,null,null,null,null,null,null,null,null,null,null,null,null,null,null,null,null,null,null,null,null,null,null,null,null,null,null,null,null,null,null,null,null,null,null,null,null,825,0.185700252759192,23.700098230685654,18.295297114078288]
[null,null,null,null,null,null,null,null,null,null,null,null,null,null,null,null,null,null,null,null,null,null,null,null,null,null,null,null,null,null,null,null,null,null,null,null,null,null,null,null,null,null,null,null,831,0.18705080005198613,23.922938533996685,18.514357379096076]
[null,null,null,null,null,null,null,null,null,null,null,null,null,null,null,null,null,null,null,null,null,null,null,null,null,null,null,null,null,null,null,null,null,null,null,null,null,null,null,null,null,null,null,null,837,0.18840134734478026,24.145778837307716,18.733567737150565]
[null,null,null,null,null,null,null,null,null,null,null,null,null,null,null,null,null,null,null,null,null,null,null,null,null,null,null,null,null,null,null,null,null,null,null,null,null,null,null,null,null,null,null,null,843,0.18975189463757436,24.368619140618748,18.952922228535016]
[null,null,null,null,null,null,null,null,null,null,null,null,null,null,null,null,null,null,null,null,null,null,null,null,null,null,null,null,null,null,null,null,null,null,null,null,null,null,null,null,null,null,null,null,848,0.1908773507149028,24.554319393377938,19.135823604066445]
[null,null,null,null,null,null,null,null,null,null,null,null,null,null,null,null,null,null,null,null,null,null,null,null,null,null,null,null,null,null,null,null,null,null,null,null,null,null,null,null,null,null,null,null,853,0.19200280679223125,24.740019646137135,19.318817902810174]
[null,null,null,null,null,null,null,null,null,null,null,null,null,null,null,null,null,null,null,null,null,null,null,null,null,null,null,null,null,null,null,null,null,null,null,null,null,null,null,null,null,null,null,null,859,0.19335335408502538,24.962859949448166,19.538529383418144]
[null,null,null,null,null,null,null,null,null,null,null,null,null,null,null,null,null,null,null,null,null,null,null,null,null,null,null,null,null,null,null,null,null,null,null,null,null,null,null,null,null,null,null,null,862,0.19402862773142243,25.074280101103675,19.648432024985855]
[null,null,null,null,null,null,null,null,null,null,null,null,null,null,null,null,null,null,null,null,null,null,null,null,null,null,null,null,null,null,null,null,null,null,null,null,null,null,null,null,null,null,null,null,866,0.19492899259328517,25.222840303311031,19.795016114563769]
[null,null,null,null,null,null,null,null,null,null,null,null,null,null,null,null,null,null,null,null,null,null,null,null,null,null,null,null,null,null,null,null,null,null,null,null,null,null,null,null,null,null,null,null,871,0.19605444867061361,25.408540556070221,19.978320117796358]
[null,null,null,null,null,null,null,null,null,null,null,null,null,null,null,null,null,null,null,null,null,null,null,null,null,null,null,null,null,null,null,null,null,null,null,null,null,null,null,null,null,null,null,null,876,0.19717990474794206,25.594240808829412,20.161703676931317]
[null,null,null,null,null,null,null,null,null,null,null,null,null,null,null,null,null,null,null,null,null,null,null,null,null,null,null,null,null,null,null,null,null,null,null,null,null,null,null,null,null,null,null,null,882,0.19853045204073619,25.81708111214045,20.381865248983015]
[null,null,null,null,null,null,null,null,null,null,null,null,null,null,null,null,null,null,null,null,null,null,null,null,null,null,null,null,null,null,null,null,null,null,null,null,null,null,null,null,null,null,null,null,887,0.19965590811806461,26.002781364899633,20.565414657095701]
[null,null,null,null,null,null,null,null,null,null,null,null,null,null,null,null,null,null,null,null,null,null,null,null,null,null,null,null,null,null,null,null,null,null,null,null,null,null,null,null,null,null,null,null,893,0.20100645541085874,26.225621668210664,20.785767995912021]
[null,null,null,null,null,null,null,null,null,null,null,null,null,null,null,null,null,null,null,null,null,null,null,null,null,null,null,null,null,null,null,null,null,null,null,null,null,null,null,null,null,null,null,null,899,0.20235700270365287,26.448461971521695,21.006220084006578]
[null,null,null,null,null,null,null,null,null,null,null,null,null,null,null,null,null,null,null,null,null,null,null,null,null,null,null,null,null,null,null,null,null,null,null,null,null,null,null,null,null,null,null,null,904,0.20348245878098128,26.634162224280885,21.190002757353824]
[null,null,null,null,null,null,null,null,null,null,null,null,null,null,null,null,null,null,null,null,null,null,null,null,null,null,null,null,null,null,null,null,null,null,null,null,null,null,null,null,null,null,null,null,910,0.20483300607377541,26.857002527591916,21.410625814560607]
[null,null,null,null,null,null,null,null,null,null,null,null,null,null,null,null,null,null,null,null,null,null,null,null,null,null,null,null,null,null,null,null,null,null,null,null,null,null,null,null,null,null,null,null,916,0.20618355336656954,27.079842830902948,21.631336911404837]
[null,null,null,null,null,null,null,null,null,null,null,null,null,null,null,null,null,null,null,null,null,null,null,null,null,null,null,null,null,null,null,null,null,null,null,null,null,null,null,null,null,null,null,null,921,0.20730900944389799,27.265543083662145,21.815327551706833]
[null,null,null,null,null,null,null,null,null,null,null,null,null,null,null,null,null,null,null,null,null,null,null,null,null,null,null,null,null,null,null,null,null,null,null,null,null,null,null,null,null,null,null,null,927,0.20865955673669209,27.488383386973169,22.036191075575598]
[null,null,null,null,null,null,null,null,null,null,null,null,null,null,null,null,null,null,null,null,null,null,null,null,null,null,null,null,null,null,null,null,null,null,null,null,null,null,null,null,null,null,null,null,932,0.20978501281402054,27.674083639732366,22.220304104731856]
[null,null,null,null,null,null,null,null,null,null,null,null,null,null,null,null,null,null,null,null,null,null,null,null,null,null,null,null,null,null,null,null,null,null,null,null,null,null,null,null,null,null,null,null,937,0.21091046889134898,27.859783892491556,22.404469829988656]
[null,null,null,null,null,null,null,null,null,null,null,null,null,null,null,null,null,null,null,null,null,null,null,null,null,null,null,null,null,null,null,null,null,null,null,null,null,null,null,null,null,null,null,null,939,0.21136065132228035,27.934063993595231,22.478150481134438]
[null,null,null,null,null,null,null,null,null,null,null,null,null,null,null,null,null,null,null,null,null,null,null,null,null,null,null,null,null,null,null,null,null,null,null,null,null,null,null,null,null,null,null,null,944,0.2124861073996088,28.119764246354428,22.662387054815248]
[null,null,null,null,null,null,null,null,null,null,null,null,null,null,null,null,null,null,null,null,null,null,null,null,null,null,null,null,null,null,null,null,null,null,null,null,null,null,null,null,null,null,null,null,950,0.2138366546924029,28.342604549665452,22.883534944912956]
[null,null,null,null,null,null,null,null,null,null,null,null,null,null,null,null,null,null,null,null,null,null,null,null,null,null,null,null,null,null,null,null,null,null,null,null,null,null,null,null,null,null,null,null,955,0.21496211076973135,28.52830480242465,23.067876301408518]
[null,null,null,null,null,null,null,null,null,null,null,null,null,null,null,null,null,null,null,null,null,null,null,null,null,null,null,null,null,null,null,null,null,null,null,null,null,null,null,null,null,null,null,null,962,0.21653774927799116,28.788285156287515,{"$f":"( $AP$6*AU993 + $AP$7*AU992 + $AP$9*AV992 )/$AP$8","v":23.32602965749232}]
[null,null,null,null,null,null,null,null,null,null,null,null,null,null,null,null,null,null,null,null,null,null,null,null,null,null,null,null,null,null,null,null,null,null,null,null,null,null,null,null,null,null,null,null,967,0.21766320535531961,28.973985409046712,23.510476786225961]
[null,null,null,null,null,null,null,null,null,null,null,null,null,null,null,null,null,null,null,null,null,null,null,null,null,null,null,null,null,null,null,null,null,null,null,null,null,null,null,null,null,null,null,null,972,0.21878866143264802,29.159685661805902,23.694965518895899]
[null,null,null,null,null,null,null,null,null,null,null,null,null,null,null,null,null,null,null,null,null,null,null,null,null,null,null,null,null,null,null,null,null,null,null,null,null,null,null,null,null,null,null,null,978,0.22013920872544215,29.382525965116933,23.916404973730266]
[null,null,null,null,null,null,null,null,null,null,null,null,null,null,null,null,null,null,null,null,null,null,null,null,null,null,null,null,null,null,null,null,null,null,null,null,null,null,null,null,null,null,null,null,983,0.2212646648027706,29.568226217876123,24.100980437492382]
[null,null,null,null,null,null,null,null,null,null,null,null,null,null,null,null,null,null,null,null,null,null,null,null,null,null,null,null,null,null,null,null,null,null,null,null,null,null,null,null,null,null,null,null,987,0.22216502966463333,29.716786420083473,24.248667755711523]
[null,null,null,null,null,null,null,null,null,null,null,null,null,null,null,null,null,null,null,null,null,null,null,null,null,null,null,null,null,null,null,null,null,null,null,null,null,null,null,null,null,null,null,null,995,0.22396575938835883,30.013906824498186,24.544111558029169]
[null,null,null,null,null,null,null,null,null,null,null,null,null,null,null,null,null,null,null,null,null,null,null,null,null,null,null,null,null,null,null,null,null,null,null,null,null,null,null,null,null,null,null,null,1000,0.22509121546568728,30.199607077257376,24.728809008365101]
[null,null,null,null,null,null,null,null,null,null,null,null,null,null,null,null,null,null,null,null,null,null,null,null,null,null,null,null,null,null,null,null,null,null,null,null,null,null,null,null,null,null,null,null,1005,0.22621667154301572,30.385307330016573,24.913539751916446]
[null,null,null,null,null,null,null,null,null,null,null,null,null,null,null,null,null,null,null,null,null,null,null,null,null,null,null,null,null,null,null,null,null,null,null,null,null,null,null,null,null,null,null,null,1010,0.22734212762034414,30.571007582775756,25.098302683342652]
[null,null,null,null,null,null,null,null,null,null,null,null,null,null,null,null,null,null,null,null,null,null,null,null,null,null,null,null,null,null,null,null,null,null,null,null,null,null,null,null,null,null,null,null,1012,0.22779231005127551,30.645287683879431,25.1722166279371]
[null,null,null,null,null,null,null,null,null,null,null,null,null,null,null,null,null,null,null,null,null,null,null,null,null,null,null,null,null,null,null,null,null,null,null,null,null,null,null,null,null,null,null,null,1018,0.22914285734406964,30.868127987190469,25.393987670390157]
[null,null,null,null,null,null,null,null,null,null,null,null,null,null,null,null,null,null,null,null,null,null,null,null,null,null,null,null,null,null,null,null,null,null,null,null,null,null,null,null,null,null,null,null,1023,0.23026831342139809,31.053828239949659,25.578829377155191]
[null,null,null,null,null,null,null,null,null,null,null,null,null,null,null,null,null,null,null,null,null,null,null,null,null,null,null,null,null,null,null,null,null,null,null,null,null,null,null,null,null,null,null,null,1028,0.23139376949872653,31.23952849270885,25.763699587797024]
[null,null,null,null,null,null,null,null,null,null,null,null,null,null,null,null,null,null,null,null,null,null,null,null,null,null,null,null,null,null,null,null,null,null,null,null,null,null,null,null,null,null,null,null,1035,0.23296940800698632,31.499508846571715,26.022563973395421]
[null,null,null,null,null,null,null,null,null,null,null,null,null,null,null,null,null,null,null,null,null,null,null,null,null,null,null,null,null,null,null,null,null,null,null,null,null,null,null,null,null,null,null,null,1040,0.23409486408431476,31.685209099330912,26.207498791921473]
[null,null,null,null,null,null,null,null,null,null,null,null,null,null,null,null,null,null,null,null,null,null,null,null,null,null,null,null,null,null,null,null,null,null,null,null,null,null,null,null,null,null,null,null,1046,0.23544541137710889,31.908049402641943,26.429454043974182]
[null,null,null,null,null,null,null,null,null,null,null,null,null,null,null,null,null,null,null,null,null,null,null,null,null,null,null,null,null,null,null,null,null,null,null,null,null,null,null,null,null,null,null,null,1051,0.23657086745443734,32.093749655401133,26.614443658906517]
[null,null,null,null,null,null,null,null,null,null,null,null,null,null,null,null,null,null,null,null,null,null,null,null,null,null,null,null,null,null,null,null,null,null,null,null,null,null,null,null,null,null,null,null,1056,0.23769632353176576,32.279449908160323,26.799456867138701]
[null,null,null,null,null,null,null,null,null,null,null,null,null,null,null,null,null,null,null,null,null,null,null,null,null,null,null,null,null,null,null,null,null,null,null,null,null,null,null,null,null,null,null,null,1060,0.23859668839362852,32.42801011036768,26.947483893640769]
[null,null,null,null,null,null,null,null,null,null,null,null,null,null,null,null,null,null,null,null,null,null,null,null,null,null,null,null,null,null,null,null,null,null,null,null,null,null,null,null,null,null,null,null,1068,0.24039741811735402,32.725130514782386,27.243580194603389]
[null,null,null,null,null,null,null,null,null,null,null,null,null,null,null,null,null,null,null,null,null,null,null,null,null,null,null,null,null,null,null,null,null,null,null,null,null,null,null,null,null,null,null,null,1073,0.24152287419468244,32.910830767541576,27.42866791477347]
[null,null,null,null,null,null,null,null,null,null,null,null,null,null,null,null,null,null,null,null,null,null,null,null,null,null,null,null,null,null,null,null,null,null,null,null,null,null,null,null,null,null,null,null,1074,0.24174796541014812,32.947970818093417,27.465687921084339]
[null,null,null,null,null,null,null,null,null,null,null,null,null,null,null,null,null,null,null,null,null,null,null,null,null,null,null,null,null,null,null,null,null,null,null,null,null,null,null,null,null,null,null,null,1079,0.24287342148747657,33.133671070852607,27.650799962933007]
[null,null,null,null,null,null,null,null,null,null,null,null,null,null,null,null,null,null,null,null,null,null,null,null,null,null,null,null,null,null,null,null,null,null,null,null,null,null,null,null,null,null,null,null,1086,0.24444905999573638,33.393651424715479,27.909989483782407]
[null,null,null,null,null,null,null,null,null,null,null,null,null,null,null,null,null,null,null,null,null,null,null,null,null,null,null,null,null,null,null,null,null,null,null,null,null,null,null,null,null,null,null,null,1091,0.24557451607306482,33.579351677474669,28.09514731012996]
[null,null,null,null,null,null,null,null,null,null,null,null,null,null,null,null,null,null,null,null,null,null,null,null,null,null,null,null,null,null,null,null,null,null,null,null,null,null,null,null,null,null,null,null,1096,0.24669997215039324,33.765051930233859,28.28032314512901]
[null,null,null,null,null,null,null,null,null,null,null,null,null,null,null,null,null,null,null,null,null,null,null,null,null,null,null,null,null,null,null,null,null,null,null,null,null,null,null,null,null,null,null,null,1102,0.24805051944318737,33.987892233544891,28.502557078123179]
[null,null,null,null,null,null,null,null,null,null,null,null,null,null,null,null,null,null,null,null,null,null,null,null,null,null,null,null,null,null,null,null,null,null,null,null,null,null,null,null,null,null,null,null,1110,0.24985124916691287,34.285012637959596,28.798906275538897]
[null,null,null,null,null,null,null,null,null,null,null,null,null,null,null,null,null,null,null,null,null,null,null,null,null,null,null,null,null,null,null,null,null,null,null,null,null,null,null,null,null,null,null,null,1113,0.25052652281330995,34.396432789615119,28.910047797712497]
[null,null,null,null,null,null,null,null,null,null,null,null,null,null,null,null,null,null,null,null,null,null,null,null,null,null,null,null,null,null,null,null,null,null,null,null,null,null,null,null,null,null,null,null,1119,0.25187707010610405,34.619273092926143,29.132347493296443]
[null,null,null,null,null,null,null,null,null,null,null,null,null,null,null,null,null,null,null,null,null,null,null,null,null,null,null,null,null,null,null,null,null,null,null,null,null,null,null,null,null,null,null,null,1124,0.2530025261834325,34.80497334568534,29.317613673682153]
[null,null,null,null,null,null,null,null,null,null,null,null,null,null,null,null,null,null,null,null,null,null,null,null,null,null,null,null,null,null,null,null,null,null,null,null,null,null,null,null,null,null,null,null,1130,0.2543530734762266,35.027813648996364,29.539952070645487]
[null,null,null,null,null,null,null,null,null,null,null,null,null,null,null,null,null,null,null,null,null,null,null,null,null,null,null,null,null,null,null,null,null,null,null,null,null,null,null,null,null,null,null,null,1135,0.25547852955355504,35.213513901755555,29.725249325688043]
[null,null,null,null,null,null,null,null,null,null,null,null,null,null,null,null,null,null,null,null,null,null,null,null,null,null,null,null,null,null,null,null,null,null,null,null,null,null,null,null,null,null,null,null,1141,0.2568290768463492,35.436354205066593,29.947623653451117]
[null,null,null,null,null,null,null,null,null,null,null,null,null,null,null,null,null,null,null,null,null,null,null,null,null,null,null,null,null,null,null,null,null,null,null,null,null,null,null,null,null,null,null,null,1142,0.25705416806181486,35.473494255618427,29.984687860463634]
[null,null,null,null,null,null,null,null,null,null,null,null,null,null,null,null,null,null,null,null,null,null,null,null,null,null,null,null,null,null,null,null,null,null,null,null,null,null,null,null,null,null,null,null,1147,0.2581796241391433,35.659194508377624,30.170016483588938]
[null,null,null,null,null,null,null,null,null,null,null,null,null,null,null,null,null,null,null,null,null,null,null,null,null,null,null,null,null,null,null,null,null,null,null,null,null,null,null,null,null,null,null,null,1153,0.25953017143193741,{"$f":"IF(($N$4*AT1184^2/2)<=$AP$13,($N$4*AT1184^2/2), IF(($AP$13+$N$6*(AT1184-$AP$12))<=$AP$17, ($AP$13+$N$6*(AT1184-$AP$12)), IF(AU1183<$D$14, ($AP$17+($N$6-$N$5*(AT1184-$AP$16)/2)*(AT1184-$AP$16)), $D$14)))","v":35.882034811688648},30.392427081432313]
[null,null,null,null,null,null,null,null,null,null,null,null,null,null,null,null,null,null,null,null,null,null,null,null,null,null,null,null,null,null,null,null,null,null,null,null,null,null,null,null,null,null,null,null,1160,0.26110580994019722,36.14201516555152,30.651927629014676]
[null,null,null,null,null,null,null,null,null,null,null,null,null,null,null,null,null,null,null,null,null,null,null,null,null,null,null,null,null,null,null,null,null,null,null,null,null,null,null,null,null,null,null,null,1164,0.26200617480206001,36.290575367758876,30.800223668902113]
[null,null,null,null,null,null,null,null,null,null,null,null,null,null,null,null,null,null,null,null,null,null,null,null,null,null,null,null,null,null,null,null,null,null,null,null,null,null,null,null,null,null,null,null,1170,0.26335672209485411,36.513415671069907,31.022680869528674]
[null,null,null,null,null,null,null,null,null,null,null,null,null,null,null,null,null,null,null,null,null,null,null,null,null,null,null,null,null,null,null,null,null,null,null,null,null,null,null,null,null,null,null,null,1175,0.26448217817218256,36.699115923829098,31.208073516082457]
[null,null,null,null,null,null,null,null,null,null,null,null,null,null,null,null,null,null,null,null,null,null,null,null,null,null,null,null,null,null,null,null,null,null,null,null,null,null,null,null,null,null,null,null,1179,0.26538254303404529,36.847676126036447,31.356395002822225]
[null,null,null,null,null,null,null,null,null,null,null,null,null,null,null,null,null,null,null,null,null,null,null,null,null,null,null,null,null,null,null,null,null,null,null,null,null,null,null,null,null,null,null,null,1187,0.26718327275777082,37.14479653045116,31.653056891719459]
[null,null,null,null,null,null,null,null,null,null,null,null,null,null,null,null,null,null,null,null,null,null,null,null,null,null,null,null,null,null,null,null,null,null,null,null,null,null,null,null,null,null,null,null,1192,0.26830872883509921,37.330496783210343,31.838482899043299]
[null,null,null,null,null,null,null,null,null,null,null,null,null,null,null,null,null,null,null,null,null,null,null,null,null,null,null,null,null,null,null,null,null,null,null,null,null,null,null,null,null,null,null,null,1198,0.26965927612789337,37.553337086521381,32.061006099646946]
[null,null,null,null,null,null,null,null,null,null,null,null,null,null,null,null,null,null,null,null,null,null,null,null,null,null,null,null,null,null,null,null,null,null,null,null,null,null,null,null,null,null,null,null,1203,0.27078473220522181,37.739037339280571,32.246451739832303]
[null,null,null,null,null,null,null,null,null,null,null,null,null,null,null,null,null,null,null,null,null,null,null,null,null,null,null,null,null,null,null,null,null,null,null,null,null,null,null,null,null,null,null,null,1204,0.27100982342068747,37.776177389832405,32.283541891368621]
[null,null,null,null,null,null,null,null,null,null,null,null,null,null,null,null,null,null,null,null,null,null,null,null,null,null,null,null,null,null,null,null,null,null,null,null,null,null,null,null,null,null,null,null,1210,0.27236037071348163,37.999017693143443,32.506089774255933]
[null,null,null,null,null,null,null,null,null,null,null,null,null,null,null,null,null,null,null,null,null,null,null,null,null,null,null,null,null,null,null,null,null,null,null,null,null,null,null,null,null,null,null,null,1215,0.27348582679081002,38.184717945902626,32.691555232688259]
[null,null,null,null,null,null,null,null,null,null,null,null,null,null,null,null,null,null,null,null,null,null,null,null,null,null,null,null,null,null,null,null,null,null,null,null,null,null,null,null,null,null,null,null,1221,0.27483637408360417,38.407558249213665,32.914124049560044]
[null,null,null,null,null,null,null,null,null,null,null,null,null,null,null,null,null,null,null,null,null,null,null,null,null,null,null,null,null,null,null,null,null,null,null,null,null,null,null,null,null,null,null,null,1226,0.27596183016093262,38.593258501972855,33.099606316602149]
[null,null,null,null,null,null,null,null,null,null,null,null,null,null,null,null,null,null,null,null,null,null,null,null,null,null,null,null,null,null,null,null,null,null,null,null,null,null,null,null,null,null,null,null,1235,0.2779876511001238,38.927518956939402,33.433492473195741]
[null,null,null,null,null,null,null,null,null,null,null,null,null,null,null,null,null,null,null,null,null,null,null,null,null,null,null,null,null,null,null,null,null,null,null,null,null,null,null,null,null,null,null,null,1238,0.27866292474652082,39.03893910859491,33.54479282917282]
[null,null,null,null,null,null,null,null,null,null,null,null,null,null,null,null,null,null,null,null,null,null,null,null,null,null,null,null,null,null,null,null,null,null,null,null,null,null,null,null,null,null,null,null,1243,0.27978838082384927,39.2246393613541,33.730298737387493]
[null,null,null,null,null,null,null,null,null,null,null,null,null,null,null,null,null,null,null,null,null,null,null,null,null,null,null,null,null,null,null,null,null,null,null,null,null,null,null,null,null,null,null,null,1248,0.28091383690117772,39.410339614113298,33.915811097874936]
[null,null,null,null,null,null,null,null,null,null,null,null,null,null,null,null,null,null,null,null,null,null,null,null,null,null,null,null,null,null,null,null,null,null,null,null,null,null,null,null,null,null,null,null,1252,0.28181420176304045,39.558899816320647,34.064225487706864]
[null,null,null,null,null,null,null,null,null,null,null,null,null,null,null,null,null,null,null,null,null,null,null,null,null,null,null,null,null,null,null,null,null,null,null,null,null,null,null,null,null,null,null,null,1260,0.28361493148676598,39.85602022073536,34.361065821301487]
[null,null,null,null,null,null,null,null,null,null,null,null,null,null,null,null,null,null,null,null,null,null,null,null,null,null,null,null,null,null,null,null,null,null,null,null,null,null,null,null,null,null,null,null,1266,0.28496547877956008,40.078860524046384,34.583705780210636]
[null,null,null,null,null,null,null,null,null,null,null,null,null,null,null,null,null,null,null,null,null,null,null,null,null,null,null,null,null,null,null,null,null,null,null,null,null,null,null,null,null,null,null,null,1271,0.28609093485688852,40.264560776805581,34.769245169619779]
[null,null,null,null,null,null,null,null,null,null,null,null,null,null,null,null,null,null,null,null,null,null,null,null,null,null,null,null,null,null,null,null,null,null,null,null,null,null,null,null,null,null,null,null,1276,0.28721639093421697,40.450261029564771,34.954789899720211]
[null,null,null,null,null,null,null,null,null,null,null,null,null,null,null,null,null,null,null,null,null,null,null,null,null,null,null,null,null,null,null,null,null,null,null,null,null,null,null,null,null,null,null,null,1277,0.28744148214968263,40.487401080116605,34.991899470914937]
[null,null,null,null,null,null,null,null,null,null,null,null,null,null,null,null,null,null,null,null,null,null,null,null,null,null,null,null,null,null,null,null,null,null,null,null,null,null,null,null,null,null,null,null,1283,0.28879202944247678,40.710241383427643,35.214561157745699]
[null,null,null,null,null,null,null,null,null,null,null,null,null,null,null,null,null,null,null,null,null,null,null,null,null,null,null,null,null,null,null,null,null,null,null,null,null,null,null,null,null,null,null,null,1288,0.28991748551980523,40.895941636186834,35.400117993243818]
[null,null,null,null,null,null,null,null,null,null,null,null,null,null,null,null,null,null,null,null,null,null,null,null,null,null,null,null,null,null,null,null,null,null,null,null,null,null,null,null,null,null,null,null,1294,0.29126803281259933,41.118781939497865,35.622792466987939]
[null,null,null,null,null,null,null,null,null,null,null,null,null,null,null,null,null,null,null,null,null,null,null,null,null,null,null,null,null,null,null,null,null,null,null,null,null,null,null,null,null,null,null,null,1299,0.29239348888992778,41.304482192257055,35.808359569534709]
[null,null,null,null,null,null,null,null,null,null,null,null,null,null,null,null,null,null,null,null,null,null,null,null,null,null,null,null,null,null,null,null,null,null,null,null,null,null,null,null,null,null,null,null,1308,0.29441930982911896,41.638742647223602,36.142391395265669]
[null,null,null,null,null,null,null,null,null,null,null,null,null,null,null,null,null,null,null,null,null,null,null,null,null,null,null,null,null,null,null,null,null,null,null,null,null,null,null,null,null,null,null,null,1311,0.29509458347551604,41.750162798879117,36.253738373227769]
[null,null,null,null,null,null,null,null,null,null,null,null,null,null,null,null,null,null,null,null,null,null,null,null,null,null,null,null,null,null,null,null,null,null,null,null,null,null,null,null,null,null,null,null,1316,0.29622003955284443,41.935863051638307,36.439319916294721]
[null,null,null,null,null,null,null,null,null,null,null,null,null,null,null,null,null,null,null,null,null,null,null,null,null,null,null,null,null,null,null,null,null,null,null,null,null,null,null,null,null,null,null,null,1322,0.29757058684563858,42.158703354949338,36.662022958743947]
[null,null,null,null,null,null,null,null,null,null,null,null,null,null,null,null,null,null,null,null,null,null,null,null,null,null,null,null,null,null,null,null,null,null,null,null,null,null,null,null,null,null,null,null,1327,0.29869604292296703,42.344403607708536,36.847613000077956]
[null,null,null,null,null,null,null,null,null,null,null,null,null,null,null,null,null,null,null,null,null,null,null,null,null,null,null,null,null,null,null,null,null,null,null,null,null,null,null,null,null,null,null,null,1333,0.30004659021576113,42.56724391101956,37.070325868847497]
[null,null,null,null,null,null,null,null,null,null,null,null,null,null,null,null,null,null,null,null,null,null,null,null,null,null,null,null,null,null,null,null,null,null,null,null,null,null,null,null,null,null,null,null,1339,0.30139713750855524,42.790084214330591,37.293043797628549]
[null,null,null,null,null,null,null,null,null,null,null,null,null,null,null,null,null,null,null,null,null,null,null,null,null,null,null,null,null,null,null,null,null,null,null,null,null,null,null,null,null,null,null,null,1344,{"$f":"$AP$18/$N$7*AS1375","v":0.30252259358588368},42.975784467089781,37.478645791705851]
[null,null,null,null,null,null,null,null,null,null,null,null,null,null,null,null,null,null,null,null,null,null,null,null,null,null,null,null,null,null,null,null,null,null,null,null,null,null,null,null,null,null,null,null,1345,0.30274768480134939,{"$f":"IF(($N$4*AT1376^2/2)<=$AP$13,($N$4*AT1376^2/2), IF(($AP$13+$N$6*(AT1376-$AP$12))<=$AP$17, ($AP$13+$N$6*(AT1376-$AP$12)), IF(AU1375<$D$14, ($AP$17+($N$6-$N$5*(AT1376-$AP$16)/2)*(AT1376-$AP$16)), $D$14)))","v":43.012924517641622},37.515766585504508]
[null,null,null,null,null,null,null,null,null,null,null,null,null,null,null,null,null,null,null,null,null,null,null,null,null,null,null,null,null,null,null,null,null,null,null,null,null,null,null,null,null,null,null,null,1352,0.30432332330960921,43.271265296276191,37.775594412385004]
[null,null,null,null,null,null,null,null,null,null,null,null,null,null,null,null,null,null,null,null,null,null,null,null,null,null,null,null,null,null,null,null,null,null,null,null,null,null,null,null,null,null,null,null,1356,0.30522368817147194,43.416747154827874,37.924001364732526]
[null,null,null,null,null,null,null,null,null,null,null,null,null,null,null,null,null,null,null,null,null,null,null,null,null,null,null,null,null,null,null,null,null,null,null,null,null,null,null,null,null,null,null,null,1362,0.30657423546426604,43.63198875702934,38.146413284908178]
[null,null,null,null,null,null,null,null,null,null,null,null,null,null,null,null,null,null,null,null,null,null,null,null,null,null,null,null,null,null,null,null,null,null,null,null,null,null,null,null,null,null,null,null,1367,0.30769969154159449,43.808624005373339,38.331489946340085]
[null,null,null,null,null,null,null,null,null,null,null,null,null,null,null,null,null,null,null,null,null,null,null,null,null,null,null,null,null,null,null,null,null,null,null,null,null,null,null,null,null,null,null,null,1373,0.30905023883438865,44.017306999197487,38.553150910063728]
[null,null,null,null,null,null,null,null,null,null,null,null,null,null,null,null,null,null,null,null,null,null,null,null,null,null,null,null,null,null,null,null,null,null,null,null,null,null,null,null,null,null,null,null,{"$f":"AS1407+1","v":1377},0.30995060369625138,44.154441537996199,38.700606313069351]
[null,null,null,null,null,null,null,null,null,null,null,null,null,null,null,null,null,null,null,null,null,null,null,null,null,null,null,null,null,null,null,null,null,null,null,null,null,null,null,null,null,null,null,null,1384,0.31152624220451119,44.390601126007184,38.957919471517968]
[null,null,null,null,null,null,null,null,null,null,null,null,null,null,null,null,null,null,null,null,null,null,null,null,null,null,null,null,null,null,null,null,null,null,null,null,null,null,null,null,null,null,null,null,1390,0.3128767894973053,44.589148088702714,39.177612819180631]
[null,null,null,null,null,null,null,null,null,null,null,null,null,null,null,null,null,null,null,null,null,null,null,null,null,null,null,null,null,null,null,null,null,null,null,null,null,null,null,null,null,null,null,null,1395,0.31400224557463374,44.751871137458444,39.359999141659337]
[null,null,null,null,null,null,null,null,null,null,null,null,null,null,null,null,null,null,null,null,null,null,null,null,null,null,null,null,null,null,null,null,null,null,null,null,null,null,null,null,null,null,null,null,1400,0.31512770165196219,44.912109864859126,39.541691177285955]
[null,null,null,null,null,null,null,null,null,null,null,null,null,null,null,null,null,null,null,null,null,null,null,null,null,null,null,null,null,null,null,null,null,null,null,null,null,null,null,null,null,null,null,null,1402,0.31557788408289356,44.975509745839979,39.614160212009743]
[null,null,null,null,null,null,null,null,null,null,null,null,null,null,null,null,null,null,null,null,null,null,null,null,null,null,null,null,null,null,null,null,null,null,null,null,null,null,null,null,null,null,null,null,1412,0.31782879623755045,45.286546779492149,39.974567867939797]
[null,null,null,null,null,null,null,null,null,null,null,null,null,null,null,null,null,null,null,null,null,null,null,null,null,null,null,null,null,null,null,null,null,null,null,null,null,null,null,null,null,null,null,null,1413,0.3180538874530161,45.317103932159249,40.010420382539863]
[null,null,null,null,null,null,null,null,null,null,null,null,null,null,null,null,null,null,null,null,null,null,null,null,null,null,null,null,null,null,null,null,null,null,null,null,null,null,null,null,null,null,null,null,1418,0.31917934353034455,45.468399102681751,40.189134881048645]
[null,null,null,null,null,null,null,null,null,null,null,null,null,null,null,null,null,null,null,null,null,null,null,null,null,null,null,null,null,null,null,null,null,null,null,null,null,null,null,null,null,null,null,null,1427,0.32120516446953573,45.734469919807523,40.508388220762072]
[null,null,null,null,null,null,null,null,null,null,null,null,null,null,null,null,null,null,null,null,null,null,null,null,null,null,null,null,null,null,null,null,null,null,null,null,null,null,null,null,null,null,null,null,1430,0.32188043811593281,45.821371480807151,40.614069824271844]
[null,null,null,null,null,null,null,null,null,null,null,null,null,null,null,null,null,null,null,null,null,null,null,null,null,null,null,null,null,null,null,null,null,null,null,null,null,null,null,null,null,null,null,null,1435,0.32300589419326126,45.964219958722488,40.789343853295883]
[null,null,null,null,null,null,null,null,null,null,null,null,null,null,null,null,null,null,null,null,null,null,null,null,null,null,null,null,null,null,null,null,null,null,null,null,null,null,null,null,null,null,null,null,{"$f":"AS1471+1","v":1441},0.32435644148605536,46.132358828032217,40.998192913793453]
[null,null,null,null,null,null,null,null,null,null,null,null,null,null,null,null,null,null,null,null,null,null,null,null,null,null,null,null,null,null,null,null,null,null,null,null,null,null,null,null,null,null,null,null,1446,0.3254818975633838,46.269741798966443,41.170947605398645]
[null,null,null,null,null,null,null,null,null,null,null,null,null,null,null,null,null,null,null,null,null,null,null,null,null,null,null,null,null,null,null,null,null,null,null,null,null,null,null,null,null,null,null,null,1452,0.32683244485617791,46.431322059898839,41.376644635073724]
[null,null,null,null,null,null,null,null,null,null,null,null,null,null,null,null,null,null,null,null,null,null,null,null,null,null,null,null,null,null,null,null,null,null,null,null,null,null,null,null,null,null,null,null,1458,0.32818299214897206,46.58932489807998,41.580518441039544]
[null,null,null,null,null,null,null,null,null,null,null,null,null,null,null,null,null,null,null,null,null,null,null,null,null,null,null,null,null,null,null,null,null,null,null,null,null,null,null,null,null,null,null,null,1463,0.32930844822630051,46.71826117640704,41.748970203498907]
[null,null,null,null,null,null,null,null,null,null,null,null,null,null,null,null,null,null,null,null,null,null,null,null,null,null,null,null,null,null,null,null,null,null,null,null,null,null,null,null,null,null,null,null,1468,0.3304339043036289,46.844713133379038,41.916068582256862]
[null,null,null,null,null,null,null,null,null,null,null,null,null,null,null,null,null,null,null,null,null,null,null,null,null,null,null,null,null,null,null,null,null,null,null,null,null,null,null,null,null,null,null,null,1474,0.33178445159642306,46.993176177556784,{"$f":"( $AP$6*AU1505 + $AP$7*AU1504 + $AP$9*AV1504 )/$AP$8","v":42.114747391873493}]
[null,null,null,null,null,null,null,null,null,null,null,null,null,null,null,null,null,null,null,null,null,null,null,null,null,null,null,null,null,null,null,null,null,null,null,null,null,null,null,null,null,null,null,null,1477,0.33245972524282008,47.066066166113927,42.213316082903702]
[null,null,null,null,null,null,null,null,null,null,null,null,null,null,null,null,null,null,null,null,null,null,null,null,null,null,null,null,null,null,null,null,null,null,null,null,null,null,null,null,null,null,null,null,1481,0.33336009010468287,47.161861597564631,42.343924655573026]
[null,null,null,null,null,null,null,null,null,null,null,null,null,null,null,null,null,null,null,null,null,null,null,null,null,null,null,null,null,null,null,null,null,null,null,null,null,null,null,null,null,null,null,null,1486,0.33448554618201132,47.279369997658463,42.50584878825552]
[null,null,null,null,null,null,null,null,null,null,null,null,null,null,null,null,null,null,null,null,null,null,null,null,null,null,null,null,null,null,null,null,null,null,null,null,null,null,null,null,null,null,null,null,1491,0.33561100225933971,47.394394076397241,42.666256848132861]
[null,null,null,null,null,null,null,null,null,null,null,null,null,null,null,null,null,null,null,null,null,null,null,null,null,null,null,null,null,null,null,null,null,null,null,null,null,null,null,null,null,null,null,null,1497,0.33696154955213387,47.529143666695113,42.856700117823408]
[null,null,null,null,null,null,null,null,null,null,null,null,null,null,null,null,null,null,null,null,null,null,null,null,null,null,null,null,null,null,null,null,null,null,null,null,null,null,null,null,null,null,null,null,1502,0.33808700562946231,47.638702238452787,43.013661163721324]
[null,null,null,null,null,null,null,null,null,null,null,null,null,null,null,null,null,null,null,null,null,null,null,null,null,null,null,null,null,null,null,null,null,null,null,null,null,null,null,null,null,null,null,null,1509,0.33966264413772207,47.787910579037039,43.230686540490126]
[null,null,null,null,null,null,null,null,null,null,null,null,null,null,null,null,null,null,null,null,null,null,null,null,null,null,null,null,null,null,null,null,null,null,null,null,null,null,null,null,null,null,null,null,1514,0.34078810021505052,47.891506779542595,43.383722767981268]
[null,null,null,null,null,null,null,null,null,null,null,null,null,null,null,null,null,null,null,null,null,null,null,null,null,null,null,null,null,null,null,null,null,null,null,null,null,null,null,null,null,null,null,null,1519,0.34191355629237896,47.992618658693097,43.535076115216661]
[null,null,null,null,null,null,null,null,null,null,null,null,null,null,null,null,null,null,null,null,null,null,null,null,null,null,null,null,null,null,null,null,null,null,null,null,null,null,null,null,null,null,null,null,1525,0.34326410358517312,48.11067360948504,43.714441328443947]
[null,null,null,null,null,null,null,null,null,null,null,null,null,null,null,null,null,null,null,null,null,null,null,null,null,null,null,null,null,null,null,null,null,null,null,null,null,null,null,null,null,null,null,null,1531,0.34461465087796722,48.225151137525714,43.891300620200873]
[null,null,null,null,null,null,null,null,null,null,null,null,null,null,null,null,null,null,null,null,null,null,null,null,null,null,null,null,null,null,null,null,null,null,null,null,null,null,null,null,null,null,null,null,1536,{"$f":"$AP$18/$N$7*AS1567","v":0.34574010695529567},48.317816324069049,44.036738371785745]
[null,null,null,null,null,null,null,null,null,null,null,null,null,null,null,null,null,null,null,null,null,null,null,null,null,null,null,null,null,null,null,null,null,null,null,null,null,null,null,null,null,null,null,null,1542,0.34709065424808977,48.42573524373239,44.208894194018114]
[null,null,null,null,null,null,null,null,null,null,null,null,null,null,null,null,null,null,null,null,null,null,null,null,null,null,null,null,null,null,null,null,null,null,null,null,null,null,null,null,null,null,null,null,1547,0.34821611032541822,48.512934923294615,44.350355992848762]
[null,null,null,null,null,null,null,null,null,null,null,null,null,null,null,null,null,null,null,null,null,null,null,null,null,null,null,null,null,null,null,null,null,null,null,null,null,null,null,null,null,null,null,null,1550,0.34889138397181529,48.564062256781533,44.434349823191091]
[null,null,null,null,null,null,null,null,null,null,null,null,null,null,null,null,null,null,null,null,null,null,null,null,null,null,null,null,null,null,null,null,null,null,null,null,null,null,null,null,null,null,null,null,1554,0.34979174883367803,48.630840814805254,44.545301520347749]
[null,null,null,null,null,null,null,null,null,null,null,null,null,null,null,null,null,null,null,null,null,null,null,null,null,null,null,null,null,null,null,null,null,null,null,null,null,null,null,null,null,null,null,null,1559,0.35091720491100648,48.712078123115369,44.682304567433924]
[null,null,null,null,null,null,null,null,null,null,null,null,null,null,null,null,null,null,null,null,null,null,null,null,null,null,null,null,null,null,null,null,null,null,null,null,null,null,null,null,null,null,null,null,1565,0.35226775220380058,48.806283588898829,44.844207863016265]
[null,null,null,null,null,null,null,null,null,null,null,null,null,null,null,null,null,null,null,null,null,null,null,null,null,null,null,null,null,null,null,null,null,null,null,null,null,null,null,null,null,null,null,null,1570,0.35339320828112902,48.882055390227833,44.977020680070112]
[null,null,null,null,null,null,null,null,null,null,null,null,null,null,null,null,null,null,null,null,null,null,null,null,null,null,null,null,null,null,null,null,null,null,null,null,null,null,null,null,null,null,null,null,1577,0.35496884678938884,48.983962252211953,45.15970332611365]
[null,null,null,null,null,null,null,null,null,null,null,null,null,null,null,null,null,null,null,null,null,null,null,null,null,null,null,null,null,null,null,null,null,null,null,null,null,null,null,null,null,null,null,null,1582,0.35609430286671728,49.05377168228884,45.287841090807994]
[null,null,null,null,null,null,null,null,null,null,null,null,null,null,null,null,null,null,null,null,null,null,null,null,null,null,null,null,null,null,null,null,null,null,null,null,null,null,null,null,null,null,null,null,1587,0.35721975894404573,49.121096791010679,45.414000881882409]
[null,null,null,null,null,null,null,null,null,null,null,null,null,null,null,null,null,null,null,null,null,null,null,null,null,null,null,null,null,null,null,null,null,null,null,null,null,null,null,null,null,null,null,null,1593,0.35857030623683983,49.198607617288211,45.562758075842972]
[null,null,null,null,null,null,null,null,null,null,null,null,null,null,null,null,null,null,null,null,null,null,null,null,null,null,null,null,null,null,null,null,null,null,null,null,null,null,null,null,null,null,null,null,1600,{"$f":"$AP$18/$N$7*AS1631","v":0.36014594474509964},49.284515449745811,45.732640383234255]
[null,null,null,null,null,null,null,null,null,null,null,null,null,null,null,null,null,null,null,null,null,null,null,null,null,null,null,null,null,null,null,null,null,null,null,null,null,null,null,null,null,null,null,null,1604,0.36104630960696238,49.331419436929146,45.827927054717939]
[null,null,null,null,null,null,null,null,null,null,null,null,null,null,null,null,null,null,null,null,null,null,null,null,null,null,null,null,null,null,null,null,null,null,null,null,null,null,null,null,null,null,null,null,1610,0.36239685689975654,49.398794232078082,45.968397258738968]
[null,null,null,null,null,null,null,null,null,null,null,null,null,null,null,null,null,null,null,null,null,null,null,null,null,null,null,null,null,null,null,null,null,null,null,null,null,null,null,null,null,null,null,null,1615,0.36352231297708493,49.452207141211638,46.083185083839609]
[null,null,null,null,null,null,null,null,null,null,null,null,null,null,null,null,null,null,null,null,null,null,null,null,null,null,null,null,null,null,null,null,null,null,null,null,null,null,null,null,null,null,null,null,1616,0.36374740419255064,49.462591604475747,46.105893591422614]
[null,null,null,null,null,null,null,null,null,null,null,null,null,null,null,null,null,null,null,null,null,null,null,null,null,null,null,null,null,null,null,null,null,null,null,null,null,null,null,null,null,null,null,null,1625,0.36577322513174182,49.551579995413611,46.306509919349978]
[null,null,null,null,null,null,null,null,null,null,null,null,null,null,null,null,null,null,null,null,null,null,null,null,null,null,null,null,null,null,null,null,null,null,null,null,null,null,null,null,null,null,null,null,1627,0.36622340756267319,49.570262092003581,46.350167523194983]
[null,null,null,null,null,null,null,null,null,null,null,null,null,null,null,null,null,null,null,null,null,null,null,null,null,null,null,null,null,null,null,null,null,null,null,null,null,null,null,null,null,null,null,null,1633,0.36757395485546734,49.623923433272644,46.479110875278288]
[null,null,null,null,null,null,null,null,null,null,null,null,null,null,null,null,null,null,null,null,null,null,null,null,null,null,null,null,null,null,null,null,null,null,null,null,null,null,null,null,null,null,null,null,1638,0.36869941093279573,49.665908464172972,46.584226519386675]
[null,null,null,null,null,null,null,null,null,null,null,null,null,null,null,null,null,null,null,null,null,null,null,null,null,null,null,null,null,null,null,null,null,null,null,null,null,null,null,null,null,null,null,null,1643,0.36982486701012418,49.705409173718259,46.687204753388059]
[null,null,null,null,null,null,null,null,null,null,null,null,null,null,null,null,null,null,null,null,null,null,null,null,null,null,null,null,null,null,null,null,null,null,null,null,null,null,null,null,null,null,null,null,1650,0.37140050551838399,49.756536507205176,46.827761575762061]
[null,null,null,null,null,null,null,null,null,null,null,null,null,null,null,null,null,null,null,null,null,null,null,null,null,null,null,null,null,null,null,null,null,null,null,null,null,null,null,null,null,null,null,null,1655,0.37252596159571244,49.790074845498339,46.925563759680863]
[null,null,null,null,null,null,null,null,null,null,null,null,null,null,null,null,null,null,null,null,null,null,null,null,null,null,null,null,null,null,null,null,null,null,null,null,null,null,null,null,null,null,null,null,1661,0.37387650888850654,49.827041547261473,47.040054426311002]
[null,null,null,null,null,null,null,null,null,null,null,null,null,null,null,null,null,null,null,null,null,null,null,null,null,null,null,null,null,null,null,null,null,null,null,null,null,null,null,null,null,null,null,null,1666,0.37500196496583499,49.855114378573525,{"$f":"( $AP$6*AU1697 + $AP$7*AU1696 + $AP$9*AV1696 )/$AP$8","v":47.133058012168668}]
[null,null,null,null,null,null,null,null,null,null,null,null,null,null,null,null,null,null,null,null,null,null,null,null,null,null,null,null,null,null,null,null,null,null,null,null,null,null,null,null,null,null,null,null,1671,0.37612742104316343,49.880702888530536,47.223864422912818]
[null,null,null,null,null,null,null,null,null,null,null,null,null,null,null,null,null,null,null,null,null,null,null,null,null,null,null,null,null,null,null,null,null,null,null,null,null,null,null,null,null,null,null,null,1675,0.37702778590502617,49.899384985120506,47.294921168324805]
[null,null,null,null,null,null,null,null,null,null,null,null,null,null,null,null,null,null,null,null,null,null,null,null,null,null,null,null,null,null,null,null,null,null,null,null,null,null,null,null,null,null,null,null,1683,0.37882851562875169,49.931979281298752,47.432778948063202]
[null,null,null,null,null,null,null,null,null,null,null,null,null,null,null,null,null,null,null,null,null,null,null,null,null,null,null,null,null,null,null,null,null,null,null,null,null,null,null,null,null,null,null,null,1688,0.37995397170608014,49.94912109864859,47.516045526328391]
[null,null,null,null,null,null,null,null,null,null,null,null,null,null,null,null,null,null,null,null,null,null,null,null,null,null,null,null,null,null,null,null,null,null,null,null,null,null,null,null,null,null,null,null,1689,0.3801790629215458,49.952251343555957,47.532430690975268]
[null,null,null,null,null,null,null,null,null,null,null,null,null,null,null,null,null,null,null,null,null,null,null,null,null,null,null,null,null,null,null,null,null,null,null,null,null,null,null,null,null,null,null,null,1694,0.38130451899887424,49.966411975279733,47.613012094712403]
[null,null,null,null,null,null,null,null,null,null,null,null,null,null,null,null,null,null,null,null,null,null,null,null,null,null,null,null,null,null,null,null,null,null,null,null,null,null,null,null,null,null,null,null,1701,0.38288015750713406,49.982063199816544,47.722049921636625]
[null,null,null,null,null,null,null,null,null,null,null,null,null,null,null,null,null,null,null,null,null,null,null,null,null,null,null,null,null,null,null,null,null,null,null,null,null,null,null,null,null,null,null,null,1706,0.3840056135844625,49.99026146028821,47.797226182100111]
[null,null,null,null,null,null,null,null,null,null,null,null,null,null,null,null,null,null,null,null,null,null,null,null,null,null,null,null,null,null,null,null,null,null,null,null,null,null,null,null,null,null,null,null,1711,0.38513106966179095,49.99597539940482,47.870137298544087]
[null,null,null,null,null,null,null,null,null,null,null,null,null,null,null,null,null,null,null,null,null,null,null,null,null,null,null,null,null,null,null,null,null,null,null,null,null,null,null,null,null,null,null,null,1717,0.38648161695458505,49.99955282215609,47.954630419640282]
[null,null,null,null,null,null,null,null,null,null,null,null,null,null,null,null,null,null,null,null,null,null,null,null,null,null,null,null,null,null,null,null,null,null,null,null,null,null,null,null,null,null,null,null,1725,0.38828234667831057,50,48.062190972453187]
[null,null,null,null,null,null,null,null,null,null,null,null,null,null,null,null,null,null,null,null,null,null,null,null,null,null,null,null,null,null,null,null,null,null,null,null,null,null,null,null,null,null,null,null,{"$f":"AS1759+1","v":1729},0.38918271154017331,{"$f":"IF(($N$4*AT1760^2/2)<=$AP$13,($N$4*AT1760^2/2), IF(($AP$13+$N$6*(AT1760-$AP$12))<=$AP$17, ($AP$13+$N$6*(AT1760-$AP$12)), IF(AU1759<$D$14, ($AP$17+($N$6-$N$5*(AT1760-$AP$16)/2)*(AT1760-$AP$16)), $D$14)))","v":50},48.113832638539392]
[null,null,null,null,null,null,null,null,null,null,null,null,null,null,null,null,null,null,null,null,null,null,null,null,null,null,null,null,null,null,null,null,null,null,null,null,null,null,null,null,null,null,null,null,1734,0.39030816761750176,50,48.176453724032307]
[null,null,null,null,null,null,null,null,null,null,null,null,null,null,null,null,null,null,null,null,null,null,null,null,null,null,null,null,null,null,null,null,null,null,null,null,null,null,null,null,null,null,null,null,1739,0.39143362369483015,50,48.236995778560939]
[null,null,null,null,null,null,null,null,null,null,null,null,null,null,null,null,null,null,null,null,null,null,null,null,null,null,null,null,null,null,null,null,null,null,null,null,null,null,null,null,null,null,null,null,1745,0.3927841709876243,50,48.306998946987669]
[null,null,null,null,null,null,null,null,null,null,null,null,null,null,null,null,null,null,null,null,null,null,null,null,null,null,null,null,null,null,null,null,null,null,null,null,null,null,null,null,null,null,null,null,1750,0.39390962706495275,50,48.363206877337063]
[null,null,null,null,null,null,null,null,null,null,null,null,null,null,null,null,null,null,null,null,null,null,null,null,null,null,null,null,null,null,null,null,null,null,null,null,null,null,null,null,null,null,null,null,1756,0.39526017435774685,50,48.428198613177585]
[null,null,null,null,null,null,null,null,null,null,null,null,null,null,null,null,null,null,null,null,null,null,null,null,null,null,null,null,null,null,null,null,null,null,null,null,null,null,null,null,null,null,null,null,1757,0.39548526557321256,50,48.438776857667847]
[null,null,null,null,null,null,null,null,null,null,null,null,null,null,null,null,null,null,null,null,null,null,null,null,null,null,null,null,null,null,null,null,null,null,null,null,null,null,null,null,null,null,null,null,1762,0.39661072165054095,50,48.490609738390468]
[null,null,null,null,null,null,null,null,null,null,null,null,null,null,null,null,null,null,null,null,null,null,null,null,null,null,null,null,null,null,null,null,null,null,null,null,null,null,null,null,null,null,null,null,1767,0.3977361777278694,50,48.54072175842947]
[null,null,null,null,null,null,null,null,null,null,null,null,null,null,null,null,null,null,null,null,null,null,null,null,null,null,null,null,null,null,null,null,null,null,null,null,null,null,null,null,null,null,null,null,1774,0.39931181623612921,50,48.608095958922931]
[null,null,null,null,null,null,null,null,null,null,null,null,null,null,null,null,null,null,null,null,null,null,null,null,null,null,null,null,null,null,null,null,null,null,null,null,null,null,null,null,null,null,null,null,1779,0.40043727231345766,50,48.654307415941631]
[null,null,null,null,null,null,null,null,null,null,null,null,null,null,null,null,null,null,null,null,null,null,null,null,null,null,null,null,null,null,null,null,null,null,null,null,null,null,null,null,null,null,null,null,1785,0.40178781960625176,50,48.707740495378921]
[null,null,null,null,null,null,null,null,null,null,null,null,null,null,null,null,null,null,null,null,null,null,null,null,null,null,null,null,null,null,null,null,null,null,null,null,null,null,null,null,null,null,null,null,1790,0.40291327568358021,50,48.750643736401642]
[null,null,null,null,null,null,null,null,null,null,null,null,null,null,null,null,null,null,null,null,null,null,null,null,null,null,null,null,null,null,null,null,null,null,null,null,null,null,null,null,null,null,null,null,1798,0.40471400540730573,50,48.816345918893731]
[null,null,null,null,null,null,null,null,null,null,null,null,null,null,null,null,null,null,null,null,null,null,null,null,null,null,null,null,null,null,null,null,null,null,null,null,null,null,null,null,null,null,null,null,1802,0.40561437026916847,50,48.847889723236229]
[null,null,null,null,null,null,null,null,null,null,null,null,null,null,null,null,null,null,null,null,null,null,null,null,null,null,null,null,null,null,null,null,null,null,null,null,null,null,null,null,null,null,null,null,1807,0.40673982634649691,50,48.886139985441282]
[null,null,null,null,null,null,null,null,null,null,null,null,null,null,null,null,null,null,null,null,null,null,null,null,null,null,null,null,null,null,null,null,null,null,null,null,null,null,null,null,null,null,null,null,1813,0.40809037363929102,50,48.930367746926329]
[null,null,null,null,null,null,null,null,null,null,null,null,null,null,null,null,null,null,null,null,null,null,null,null,null,null,null,null,null,null,null,null,null,null,null,null,null,null,null,null,null,null,null,null,1818,0.40921582971661946,50,48.965879724354366]
[null,null,null,null,null,null,null,null,null,null,null,null,null,null,null,null,null,null,null,null,null,null,null,null,null,null,null,null,null,null,null,null,null,null,null,null,null,null,null,null,null,null,null,null,1819,0.40944092093208517,50,48.972839367729051]
[null,null,null,null,null,null,null,null,null,null,null,null,null,null,null,null,null,null,null,null,null,null,null,null,null,null,null,null,null,null,null,null,null,null,null,null,null,null,null,null,null,null,null,null,1825,0.41079146822487927,50,49.013624578489043]
[null,null,null,null,null,null,null,null,null,null,null,null,null,null,null,null,null,null,null,null,null,null,null,null,null,null,null,null,null,null,null,null,null,null,null,null,null,null,null,null,null,null,null,null,1830,0.41191692430220772,50,49.046372414582819]
[null,null,null,null,null,null,null,null,null,null,null,null,null,null,null,null,null,null,null,null,null,null,null,null,null,null,null,null,null,null,null,null,null,null,null,null,null,null,null,null,null,null,null,null,1836,0.41326747159500182,50,49.084237867011417]
[null,null,null,null,null,null,null,null,null,null,null,null,null,null,null,null,null,null,null,null,null,null,null,null,null,null,null,null,null,null,null,null,null,null,null,null,null,null,null,null,null,null,null,null,1841,0.41439292767233027,50,49.114641329605867]
[null,null,null,null,null,null,null,null,null,null,null,null,null,null,null,null,null,null,null,null,null,null,null,null,null,null,null,null,null,null,null,null,null,null,null,null,null,null,null,null,null,null,null,null,1850,0.41641874861152145,50,49.166846431540861]
[null,null,null,null,null,null,null,null,null,null,null,null,null,null,null,null,null,null,null,null,null,null,null,null,null,null,null,null,null,null,null,null,null,null,null,null,null,null,null,null,null,null,null,null,1853,0.41709402225791853,50,49.183554881419369]
[null,null,null,null,null,null,null,null,null,null,null,null,null,null,null,null,null,null,null,null,null,null,null,null,null,null,null,null,null,null,null,null,null,null,null,null,null,null,null,null,null,null,null,null,1858,0.41821947833524697,50,{"$f":"( $AP$6*AU1889 + $AP$7*AU1888 + $AP$9*AV1888 )/$AP$8","v":49.210661001806955}]
[null,null,null,null,null,null,null,null,null,null,null,null,null,null,null,null,null,null,null,null,null,null,null,null,null,null,null,null,null,null,null,null,null,null,null,null,null,null,null,null,null,null,null,null,1863,0.41934493441257537,50,49.236867194268292]
[null,null,null,null,null,null,null,null,null,null,null,null,null,null,null,null,null,null,null,null,null,null,null,null,null,null,null,null,null,null,null,null,null,null,null,null,null,null,null,null,null,null,null,null,1867,0.42024529927443816,50,49.25720431158625]
[null,null,null,null,null,null,null,null,null,null,null,null,null,null,null,null,null,null,null,null,null,null,null,null,null,null,null,null,null,null,null,null,null,null,null,null,null,null,null,null,null,null,null,null,1875,0.42204602899816362,50,49.296267066779805]
[null,null,null,null,null,null,null,null,null,null,null,null,null,null,null,null,null,null,null,null,null,null,null,null,null,null,null,null,null,null,null,null,null,null,null,null,null,null,null,null,null,null,null,null,1881,0.42339657629095778,50,49.324210014648301]
[null,null,null,null,null,null,null,null,null,null,null,null,null,null,null,null,null,null,null,null,null,null,null,null,null,null,null,null,null,null,null,null,null,null,null,null,null,null,null,null,null,null,null,null,1886,0.42452203236828617,50,49.346646360071638]
[null,null,null,null,null,null,null,null,null,null,null,null,null,null,null,null,null,null,null,null,null,null,null,null,null,null,null,null,null,null,null,null,null,null,null,null,null,null,null,null,null,null,null,null,1891,0.42564748844561462,50,49.36833781491228]
[null,null,null,null,null,null,null,null,null,null,null,null,null,null,null,null,null,null,null,null,null,null,null,null,null,null,null,null,null,null,null,null,null,null,null,null,null,null,null,null,null,null,null,null,1892,0.42587257966108033,50,49.372588909920296]
[null,null,null,null,null,null,null,null,null,null,null,null,null,null,null,null,null,null,null,null,null,null,null,null,null,null,null,null,null,null,null,null,null,null,null,null,null,null,null,null,null,null,null,null,1898,0.42722312695387443,50,49.397501365419572]
[null,null,null,null,null,null,null,null,null,null,null,null,null,null,null,null,null,null,null,null,null,null,null,null,null,null,null,null,null,null,null,null,null,null,null,null,null,null,null,null,null,null,null,null,1904,0.42857367424666859,50,49.421424628268561]
[null,null,null,null,null,null,null,null,null,null,null,null,null,null,null,null,null,null,null,null,null,null,null,null,null,null,null,null,null,null,null,null,null,null,null,null,null,null,null,null,null,null,null,null,1909,0.42969913032399698,50,49.440633431558005]
[null,null,null,null,null,null,null,null,null,null,null,null,null,null,null,null,null,null,null,null,null,null,null,null,null,null,null,null,null,null,null,null,null,null,null,null,null,null,null,null,null,null,null,null,1914,0.43082458640132543,50,49.459204499226743]
[null,null,null,null,null,null,null,null,null,null,null,null,null,null,null,null,null,null,null,null,null,null,null,null,null,null,null,null,null,null,null,null,null,null,null,null,null,null,null,null,null,null,null,null,1923,0.43285040734051661,50,49.491092461911151]
[null,null,null,null,null,null,null,null,null,null,null,null,null,null,null,null,null,null,null,null,null,null,null,null,null,null,null,null,null,null,null,null,null,null,null,null,null,null,null,null,null,null,null,null,1926,0.43352568098691369,50,49.501298330810776]
[null,null,null,null,null,null,null,null,null,null,null,null,null,null,null,null,null,null,null,null,null,null,null,null,null,null,null,null,null,null,null,null,null,null,null,null,null,null,null,null,null,null,null,null,1931,0.43465113706424213,50,49.517855313239714]
[null,null,null,null,null,null,null,null,null,null,null,null,null,null,null,null,null,null,null,null,null,null,null,null,null,null,null,null,null,null,null,null,null,null,null,null,null,null,null,null,null,null,null,null,1937,0.43600168435703623,50,49.536999711933071]
[null,null,null,null,null,null,null,null,null,null,null,null,null,null,null,null,null,null,null,null,null,null,null,null,null,null,null,null,null,null,null,null,null,null,null,null,null,null,null,null,null,null,null,null,1942,0.43712714043436468,50,49.552371402279675]
[null,null,null,null,null,null,null,null,null,null,null,null,null,null,null,null,null,null,null,null,null,null,null,null,null,null,null,null,null,null,null,null,null,null,null,null,null,null,null,null,null,null,null,null,1948,0.43847768772715884,50,49.57014527924364]
[null,null,null,null,null,null,null,null,null,null,null,null,null,null,null,null,null,null,null,null,null,null,null,null,null,null,null,null,null,null,null,null,null,null,null,null,null,null,null,null,null,null,null,null,1954,0.43982823501995294,50,49.587213413312853]
[null,null,null,null,null,null,null,null,null,null,null,null,null,null,null,null,null,null,null,null,null,null,null,null,null,null,null,null,null,null,null,null,null,null,null,null,null,null,null,null,null,null,null,null,1959,0.44095369109728139,50,49.600918000012527]
[null,null,null,null,null,null,null,null,null,null,null,null,null,null,null,null,null,null,null,null,null,null,null,null,null,null,null,null,null,null,null,null,null,null,null,null,null,null,null,null,null,null,null,null,1960,0.44117878231274704,50,49.603603827244214]
[null,null,null,null,null,null,null,null,null,null,null,null,null,null,null,null,null,null,null,null,null,null,null,null,null,null,null,null,null,null,null,null,null,null,null,null,null,null,null,null,null,null,null,null,1967,0.44275442082100686,50,49.621905254934475]
[null,null,null,null,null,null,null,null,null,null,null,null,null,null,null,null,null,null,null,null,null,null,null,null,null,null,null,null,null,null,null,null,null,null,null,null,null,null,null,null,null,null,null,null,1972,0.4438798768983353,50,49.634458066439386]
[null,null,null,null,null,null,null,null,null,null,null,null,null,null,null,null,null,null,null,null,null,null,null,null,null,null,null,null,null,null,null,null,null,null,null,null,null,null,null,null,null,null,null,null,1977,0.44500533297566375,50,49.646594122412168]
[null,null,null,null,null,null,null,null,null,null,null,null,null,null,null,null,null,null,null,null,null,null,null,null,null,null,null,null,null,null,null,null,null,null,null,null,null,null,null,null,null,null,null,null,1982,0.44613078905299219,50,49.658327259209187]
[null,null,null,null,null,null,null,null,null,null,null,null,null,null,null,null,null,null,null,null,null,null,null,null,null,null,null,null,null,null,null,null,null,null,null,null,null,null,null,null,null,null,null,null,1988,0.4474813363457863,50,49.671893973417532]
[null,null,null,null,null,null,null,null,null,null,null,null,null,null,null,null,null,null,null,null,null,null,null,null,null,null,null,null,null,null,null,null,null,null,null,null,null,null,null,null,null,null,null,null,1992,0.44838170120764903,50,49.680637839105394]
[null,null,null,null,null,null,null,null,null,null,null,null,null,null,null,null,null,null,null,null,null,null,null,null,null,null,null,null,null,null,null,null,null,null,null,null,null,null,null,null,null,null,null,null,1999,0.44995733971590884,50,49.69538264214922]
[null,null,null,null,null,null,null,null,null,null,null,null,null,null,null,null,null,null,null,null,null,null,null,null,null,null,null,null,null,null,null,null,null,null,null,null,null,null,null,null,null,null,null,null,2005,0.451307887008703,50,49.707478007519299]
[null,null,null,null,null,null,null,null,null,null,null,null,null,null,null,null,null,null,null,null,null,null,null,null,null,null,null,null,null,null,null,null,null,null,null,null,null,null,null,null,null,null,null,null,2010,0.45243334308603145,50,49.717189788707927]
[null,null,null,null,null,null,null,null,null,null,null,null,null,null,null,null,null,null,null,null,null,null,null,null,null,null,null,null,null,null,null,null,null,null,null,null,null,null,null,null,null,null,null,null,2016,0.45378389037882555,50,49.7284192631545]
[null,null,null,null,null,null,null,null,null,null,null,null,null,null,null,null,null,null,null,null,null,null,null,null,null,null,null,null,null,null,null,null,null,null,null,null,null,null,null,null,null,null,null,null,2017,0.45400898159429121,50,49.730247005169034]
[null,null,null,null,null,null,null,null,null,null,null,null,null,null,null,null,null,null,null,null,null,null,null,null,null,null,null,null,null,null,null,null,null,null,null,null,null,null,null,null,null,null,null,null,2027,0.4562598937489481,50,49.747861362490852]
[null,null,null,null,null,null,null,null,null,null,null,null,null,null,null,null,null,null,null,null,null,null,null,null,null,null,null,null,null,null,null,null,null,null,null,null,null,null,null,null,null,null,null,null,2028,0.45648498496441381,50,49.749558258915151]
[null,null,null,null,null,null,null,null,null,null,null,null,null,null,null,null,null,null,null,null,null,null,null,null,null,null,null,null,null,null,null,null,null,null,null,null,null,null,null,null,null,null,null,null,2033,0.45761044104174226,50,49.757872968415427]
[null,null,null,null,null,null,null,null,null,null,null,null,null,null,null,null,null,null,null,null,null,null,null,null,null,null,null,null,null,null,null,null,null,null,null,null,null,null,null,null,null,null,null,null,2042,0.45963626198093344,50,49.772149969124591]
[null,null,null,null,null,null,null,null,null,null,null,null,null,null,null,null,null,null,null,null,null,null,null,null,null,null,null,null,null,null,null,null,null,null,null,null,null,null,null,null,null,null,null,null,2045,0.46031153562733046,50,49.776719379812853]
[null,null,null,null,null,null,null,null,null,null,null,null,null,null,null,null,null,null,null,null,null,null,null,null,null,null,null,null,null,null,null,null,null,null,null,null,null,null,null,null,null,null,null,null,2050,0.46143699170465891,50,{"$f":"( $AP$6*AU2081 + $AP$7*AU2080 + $AP$9*AV2080 )/$AP$8","v":49.784132335360326}]
[null,null,null,null,null,null,null,null,null,null,null,null,null,null,null,null,null,null,null,null,null,null,null,null,null,null,null,null,null,null,null,null,null,null,null,null,null,null,null,null,null,null,null,null,2056,0.46278753899745306,50,49.792703738821452]
[null,null,null,null,null,null,null,null,null,null,null,null,null,null,null,null,null,null,null,null,null,null,null,null,null,null,null,null,null,null,null,null,null,null,null,null,null,null,null,null,null,null,null,null,2061,0.46391299507478145,50,49.799586010860942]
[null,null,null,null,null,null,null,null,null,null,null,null,null,null,null,null,null,null,null,null,null,null,null,null,null,null,null,null,null,null,null,null,null,null,null,null,null,null,null,null,null,null,null,null,2067,0.46526354236757561,50,49.80754379908749]
[null,null,null,null,null,null,null,null,null,null,null,null,null,null,null,null,null,null,null,null,null,null,null,null,null,null,null,null,null,null,null,null,null,null,null,null,null,null,null,null,null,null,null,null,2073,0.46661408966036971,50,49.815185609403862]
[null,null,null,null,null,null,null,null,null,null,null,null,null,null,null,null,null,null,null,null,null,null,null,null,null,null,null,null,null,null,null,null,null,null,null,null,null,null,null,null,null,null,null,null,2078,0.46773954573769816,50,49.821321479417456]
[null,null,null,null,null,null,null,null,null,null,null,null,null,null,null,null,null,null,null,null,null,null,null,null,null,null,null,null,null,null,null,null,null,null,null,null,null,null,null,null,null,null,null,null,2084,0.46909009303049226,50,49.828416222821033]
[null,null,null,null,null,null,null,null,null,null,null,null,null,null,null,null,null,null,null,null,null,null,null,null,null,null,null,null,null,null,null,null,null,null,null,null,null,null,null,null,null,null,null,null,2089,0.47021554910782071,50,49.834112834160742]
[null,null,null,null,null,null,null,null,null,null,null,null,null,null,null,null,null,null,null,null,null,null,null,null,null,null,null,null,null,null,null,null,null,null,null,null,null,null,null,null,null,null,null,null,2092,0.47089082275421779,50,49.837439612681337]
[null,null,null,null,null,null,null,null,null,null,null,null,null,null,null,null,null,null,null,null,null,null,null,null,null,null,null,null,null,null,null,null,null,null,null,null,null,null,null,null,null,null,null,null,2096,0.47179118761608052,50,49.841771767770609]
[null,null,null,null,null,null,null,null,null,null,null,null,null,null,null,null,null,null,null,null,null,null,null,null,null,null,null,null,null,null,null,null,null,null,null,null,null,null,null,null,null,null,null,null,2101,0.47291664369340897,50,49.847024972687763]
[null,null,null,null,null,null,null,null,null,null,null,null,null,null,null,null,null,null,null,null,null,null,null,null,null,null,null,null,null,null,null,null,null,null,null,null,null,null,null,null,null,null,null,null,2106,0.47404209977073741,50,49.852103770285105]
[null,null,null,null,null,null,null,null,null,null,null,null,null,null,null,null,null,null,null,null,null,null,null,null,null,null,null,null,null,null,null,null,null,null,null,null,null,null,null,null,null,null,null,null,2112,{"$f":"$AP$18/$N$7*AS2143","v":0.47539264706353151},50,49.857976248951047]
[null,null,null,null,null,null,null,null,null,null,null,null,null,null,null,null,null,null,null,null,null,null,null,null,null,null,null,null,null,null,null,null,null,null,null,null,null,null,null,null,null,null,null,null,2117,0.47651810314085996,50,49.862691462265715]
[null,null,null,null,null,null,null,null,null,null,null,null,null,null,null,null,null,null,null,null,null,null,null,null,null,null,null,null,null,null,null,null,null,null,null,null,null,null,null,null,null,null,null,null,2124,0.47809374164911977,50,49.869030933853239]
[null,null,null,null,null,null,null,null,null,null,null,null,null,null,null,null,null,null,null,null,null,null,null,null,null,null,null,null,null,null,null,null,null,null,null,null,null,null,null,null,null,null,null,null,2129,0.47921919772644822,50,49.873379129700353]
[null,null,null,null,null,null,null,null,null,null,null,null,null,null,null,null,null,null,null,null,null,null,null,null,null,null,null,null,null,null,null,null,null,null,null,null,null,null,null,null,null,null,null,null,2134,0.48034465380377667,50,49.877582964686688]
[null,null,null,null,null,null,null,null,null,null,null,null,null,null,null,null,null,null,null,null,null,null,null,null,null,null,null,null,null,null,null,null,null,null,null,null,null,null,null,null,null,null,null,null,2140,0.48169520109657077,50,49.882443747342279]
[null,null,null,null,null,null,null,null,null,null,null,null,null,null,null,null,null,null,null,null,null,null,null,null,null,null,null,null,null,null,null,null,null,null,null,null,null,null,null,null,null,null,null,null,2146,0.48304574838936487,50,49.88711152411463]
[null,null,null,null,null,null,null,null,null,null,null,null,null,null,null,null,null,null,null,null,null,null,null,null,null,null,null,null,null,null,null,null,null,null,null,null,null,null,null,null,null,null,null,null,2151,0.48417120446669332,50,49.890859441210424]
[null,null,null,null,null,null,null,null,null,null,null,null,null,null,null,null,null,null,null,null,null,null,null,null,null,null,null,null,null,null,null,null,null,null,null,null,null,null,null,null,null,null,null,null,2157,0.48552175175948747,50,49.895193058127603]
[null,null,null,null,null,null,null,null,null,null,null,null,null,null,null,null,null,null,null,null,null,null,null,null,null,null,null,null,null,null,null,null,null,null,null,null,null,null,null,null,null,null,null,null,2162,0.48664720783681586,50,49.898672666884124]
[null,null,null,null,null,null,null,null,null,null,null,null,null,null,null,null,null,null,null,null,null,null,null,null,null,null,null,null,null,null,null,null,null,null,null,null,null,null,null,null,null,null,null,null,2165,0.48732248148321294,50,49.900704732436949]
[null,null,null,null,null,null,null,null,null,null,null,null,null,null,null,null,null,null,null,null,null,null,null,null,null,null,null,null,null,null,null,null,null,null,null,null,null,null,null,null,null,null,null,null,2169,0.48822284634507568,50,49.903350902920479]
[null,null,null,null,null,null,null,null,null,null,null,null,null,null,null,null,null,null,null,null,null,null,null,null,null,null,null,null,null,null,null,null,null,null,null,null,null,null,null,null,null,null,null,null,2174,0.48934830242240412,50,49.906559669806519]
[null,null,null,null,null,null,null,null,null,null,null,null,null,null,null,null,null,null,null,null,null,null,null,null,null,null,null,null,null,null,null,null,null,null,null,null,null,null,null,null,null,null,null,null,2180,0.49069884971519828,50,49.910269881666935]
[null,null,null,null,null,null,null,null,null,null,null,null,null,null,null,null,null,null,null,null,null,null,null,null,null,null,null,null,null,null,null,null,null,null,null,null,null,null,null,null,null,null,null,null,2185,0.49182430579252667,50,49.913248937251403]
[null,null,null,null,null,null,null,null,null,null,null,null,null,null,null,null,null,null,null,null,null,null,null,null,null,null,null,null,null,null,null,null,null,null,null,null,null,null,null,null,null,null,null,null,2190,0.49294976186985512,50,49.916129087670697]
[null,null,null,null,null,null,null,null,null,null,null,null,null,null,null,null,null,null,null,null,null,null,null,null,null,null,null,null,null,null,null,null,null,null,null,null,null,null,null,null,null,null,null,null,2197,0.49452540037811493,50,49.920001368844922]
[null,null,null,null,null,null,null,null,null,null,null,null,null,null,null,null,null,null,null,null,null,null,null,null,null,null,null,null,null,null,null,null,null,null,null,null,null,null,null,null,null,null,null,null,2202,0.49565085645544338,50,49.922657337357151]
[null,null,null,null,null,null,null,null,null,null,null,null,null,null,null,null,null,null,null,null,null,null,null,null,null,null,null,null,null,null,null,null,null,null,null,null,null,null,null,null,null,null,null,null,2208,0.49700140374823748,50,49.925728363151464]
[null,null,null,null,null,null,null,null,null,null,null,null,null,null,null,null,null,null,null,null,null,null,null,null,null,null,null,null,null,null,null,null,null,null,null,null,null,null,null,null,null,null,null,null,2215,0.49857704225649729,50,49.929157450223016]
[null,null,null,null,null,null,null,null,null,null,null,null,null,null,null,null,null,null,null,null,null,null,null,null,null,null,null,null,null,null,null,null,null,null,null,null,null,null,null,null,null,null,null,null,2219,0.49947740711836008,50,49.931045369645538]
[null,null,null,null,null,null,null,null,null,null,null,null,null,null,null,null,null,null,null,null,null,null,null,null,null,null,null,null,null,null,null,null,null,null,null,null,null,null,null,null,null,null,null,null,2225,0.50082795441115413,50,49.933783333936134]
[null,null,null,null,null,null,null,null,null,null,null,null,null,null,null,null,null,null,null,null,null,null,null,null,null,null,null,null,null,null,null,null,null,null,null,null,null,null,null,null,null,null,null,null,2230,0.50195341048848263,50,49.935981738802703]
[null,null,null,null,null,null,null,null,null,null,null,null,null,null,null,null,null,null,null,null,null,null,null,null,null,null,null,null,null,null,null,null,null,null,null,null,null,null,null,null,null,null,null,null,2231,0.50217850170394829,50,49.936412582562262]
[null,null,null,null,null,null,null,null,null,null,null,null,null,null,null,null,null,null,null,null,null,null,null,null,null,null,null,null,null,null,null,null,null,null,null,null,null,null,null,null,null,null,null,null,2240,{"$f":"$AP$18/$N$7*AS2271","v":0.50420432264313952},50,49.940162009455669]
[null,null,null,null,null,null,null,null,null,null,null,null,null,null,null,null,null,null,null,null,null,null,null,null,null,null,null,null,null,null,null,null,null,null,null,null,null,null,null,null,null,null,null,null,2242,0.50465450507407084,50,{"$f":"( $AP$6*AU2273 + $AP$7*AU2272 + $AP$9*AV2272 )/$AP$8","v":49.940964720172303}]
[null,null,null,null,null,null,null,null,null,null,null,null,null,null,null,null,null,null,null,null,null,null,null,null,null,null,null,null,null,null,null,null,null,null,null,null,null,null,null,null,null,null,null,null,2248,0.50600505236686499,50,49.943308819288234]
[null,null,null,null,null,null,null,null,null,null,null,null,null,null,null,null,null,null,null,null,null,null,null,null,null,null,null,null,null,null,null,null,null,null,null,null,null,null,null,null,null,null,null,null,2253,0.50713050844419338,50,49.945190976379145]
[null,null,null,null,null,null,null,null,null,null,null,null,null,null,null,null,null,null,null,null,null,null,null,null,null,null,null,null,null,null,null,null,null,null,null,null,null,null,null,null,null,null,null,null,2259,0.50848105573698754,50,49.947367264595087]
[null,null,null,null,null,null,null,null,null,null,null,null,null,null,null,null,null,null,null,null,null,null,null,null,null,null,null,null,null,null,null,null,null,null,null,null,null,null,null,null,null,null,null,null,2265,0.5098316030297817,50,49.949457139478234]
[null,null,null,null,null,null,null,null,null,null,null,null,null,null,null,null,null,null,null,null,null,null,null,null,null,null,null,null,null,null,null,null,null,null,null,null,null,null,null,null,null,null,null,null,2270,0.51095705910711009,50,49.951135171266081]
[null,null,null,null,null,null,null,null,null,null,null,null,null,null,null,null,null,null,null,null,null,null,null,null,null,null,null,null,null,null,null,null,null,null,null,null,null,null,null,null,null,null,null,null,2276,0.51230760639990425,50,49.953075434819823]
[null,null,null,null,null,null,null,null,null,null,null,null,null,null,null,null,null,null,null,null,null,null,null,null,null,null,null,null,null,null,null,null,null,null,null,null,null,null,null,null,null,null,null,null,2281,0.51343306247723264,50,49.954633338571035]
[null,null,null,null,null,null,null,null,null,null,null,null,null,null,null,null,null,null,null,null,null,null,null,null,null,null,null,null,null,null,null,null,null,null,null,null,null,null,null,null,null,null,null,null,2286,0.51455851855456114,50,49.956139519645888]
[null,null,null,null,null,null,null,null,null,null,null,null,null,null,null,null,null,null,null,null,null,null,null,null,null,null,null,null,null,null,null,null,null,null,null,null,null,null,null,null,null,null,null,null,2290,0.51545888341642387,50,49.957308380069485]
[null,null,null,null,null,null,null,null,null,null,null,null,null,null,null,null,null,null,null,null,null,null,null,null,null,null,null,null,null,null,null,null,null,null,null,null,null,null,null,null,null,null,null,null,2298,0.51725961314014934,50,49.959553482355545]
[null,null,null,null,null,null,null,null,null,null,null,null,null,null,null,null,null,null,null,null,null,null,null,null,null,null,null,null,null,null,null,null,null,null,null,null,null,null,null,null,null,null,null,null,2299,0.517484704355615,50,49.959825687963715]
[null,null,null,null,null,null,null,null,null,null,null,null,null,null,null,null,null,null,null,null,null,null,null,null,null,null,null,null,null,null,null,null,null,null,null,null,null,null,null,null,null,null,null,null,2304,{"$f":"$AP$18/$N$7*AS2335","v":0.5186101604329435},50,49.961159482132786]
[null,null,null,null,null,null,null,null,null,null,null,null,null,null,null,null,null,null,null,null,null,null,null,null,null,null,null,null,null,null,null,null,null,null,null,null,null,null,null,null,null,null,null,null,2309,0.51973561651027189,50,49.962448994102722]
[null,null,null,null,null,null,null,null,null,null,null,null,null,null,null,null,null,null,null,null,null,null,null,null,null,null,null,null,null,null,null,null,null,null,null,null,null,null,null,null,null,null,null,null,2316,0.52131125501853171,50,49.964182706651791]
[null,null,null,null,null,null,null,null,null,null,null,null,null,null,null,null,null,null,null,null,null,null,null,null,null,null,null,null,null,null,null,null,null,null,null,null,null,null,null,null,null,null,null,null,2321,0.52243671109586021,50,49.965371847040224]
[null,null,null,null,null,null,null,null,null,null,null,null,null,null,null,null,null,null,null,null,null,null,null,null,null,null,null,null,null,null,null,null,null,null,null,null,null,null,null,null,null,null,null,null,2326,0.5235621671731886,50,49.96652150776027]
[null,null,null,null,null,null,null,null,null,null,null,null,null,null,null,null,null,null,null,null,null,null,null,null,null,null,null,null,null,null,null,null,null,null,null,null,null,null,null,null,null,null,null,null,2332,0.52491271446598275,50,49.967850829892562]
[null,null,null,null,null,null,null,null,null,null,null,null,null,null,null,null,null,null,null,null,null,null,null,null,null,null,null,null,null,null,null,null,null,null,null,null,null,null,null,null,null,null,null,null,2340,0.52671344418970822,50,49.969541517091152]
[null,null,null,null,null,null,null,null,null,null,null,null,null,null,null,null,null,null,null,null,null,null,null,null,null,null,null,null,null,null,null,null,null,null,null,null,null,null,null,null,null,null,null,null,2344,0.52761380905157096,50,49.970353220815035]
[null,null,null,null,null,null,null,null,null,null,null,null,null,null,null,null,null,null,null,null,null,null,null,null,null,null,null,null,null,null,null,null,null,null,null,null,null,null,null,null,null,null,null,null,2349,0.52873926512889946,50,49.971337499056638]
[null,null,null,null,null,null,null,null,null,null,null,null,null,null,null,null,null,null,null,null,null,null,null,null,null,null,null,null,null,null,null,null,null,null,null,null,null,null,null,null,null,null,null,null,2354,0.52986472120622785,50,49.972289099088883]
[null,null,null,null,null,null,null,null,null,null,null,null,null,null,null,null,null,null,null,null,null,null,null,null,null,null,null,null,null,null,null,null,null,null,null,null,null,null,null,null,null,null,null,null,2360,0.53121526849902201,50,49.973389408912375]
[null,null,null,null,null,null,null,null,null,null,null,null,null,null,null,null,null,null,null,null,null,null,null,null,null,null,null,null,null,null,null,null,null,null,null,null,null,null,null,null,null,null,null,null,2365,0.5323407245763504,50,49.974272885179396]
[null,null,null,null,null,null,null,null,null,null,null,null,null,null,null,null,null,null,null,null,null,null,null,null,null,null,null,null,null,null,null,null,null,null,null,null,null,null,null,null,null,null,null,null,2367,0.53279090700728182,50,49.97461800757717]
[null,null,null,null,null,null,null,null,null,null,null,null,null,null,null,null,null,null,null,null,null,null,null,null,null,null,null,null,null,null,null,null,null,null,null,null,null,null,null,null,null,null,null,null,2372,0.53391636308461021,50,49.975460694154158]
[null,null,null,null,null,null,null,null,null,null,null,null,null,null,null,null,null,null,null,null,null,null,null,null,null,null,null,null,null,null,null,null,null,null,null,null,null,null,null,null,null,null,null,null,2377,0.5350418191619386,50,49.976275403389756]
[null,null,null,null,null,null,null,null,null,null,null,null,null,null,null,null,null,null,null,null,null,null,null,null,null,null,null,null,null,null,null,null,null,null,null,null,null,null,null,null,null,null,null,null,2382,0.5361672752392671,50,49.97706306413658]
[null,null,null,null,null,null,null,null,null,null,null,null,null,null,null,null,null,null,null,null,null,null,null,null,null,null,null,null,null,null,null,null,null,null,null,null,null,null,null,null,null,null,null,null,2389,0.53774291374752692,50,49.978122051841261]
[null,null,null,null,null,null,null,null,null,null,null,null,null,null,null,null,null,null,null,null,null,null,null,null,null,null,null,null,null,null,null,null,null,null,null,null,null,null,null,null,null,null,null,null,2394,0.53886836982485531,50,49.978848403537306]
[null,null,null,null,null,null,null,null,null,null,null,null,null,null,null,null,null,null,null,null,null,null,null,null,null,null,null,null,null,null,null,null,null,null,null,null,null,null,null,null,null,null,null,null,2400,0.54021891711764947,50,49.979688264696811]
[null,null,null,null,null,null,null,null,null,null,null,null,null,null,null,null,null,null,null,null,null,null,null,null,null,null,null,null,null,null,null,null,null,null,null,null,null,null,null,null,null,null,null,null,2405,0.54134437319497786,50,49.980362617852798]
[null,null,null,null,null,null,null,null,null,null,null,null,null,null,null,null,null,null,null,null,null,null,null,null,null,null,null,null,null,null,null,null,null,null,null,null,null,null,null,null,null,null,null,null,2413,0.54314510291870344,50,49.981395324777999]
[null,null,null,null,null,null,null,null,null,null,null,null,null,null,null,null,null,null,null,null,null,null,null,null,null,null,null,null,null,null,null,null,null,null,null,null,null,null,null,null,null,null,null,null,2417,0.54404546778056617,50,49.981891130304632]
[null,null,null,null,null,null,null,null,null,null,null,null,null,null,null,null,null,null,null,null,null,null,null,null,null,null,null,null,null,null,null,null,null,null,null,null,null,null,null,null,null,null,null,null,2422,0.54517092385789456,50,49.982492347938077]
[null,null,null,null,null,null,null,null,null,null,null,null,null,null,null,null,null,null,null,null,null,null,null,null,null,null,null,null,null,null,null,null,null,null,null,null,null,null,null,null,null,null,null,null,2428,0.54652147115068872,50,49.983187519907084]
[null,null,null,null,null,null,null,null,null,null,null,null,null,null,null,null,null,null,null,null,null,null,null,null,null,null,null,null,null,null,null,null,null,null,null,null,null,null,null,null,null,null,null,null,{"$f":"AS2463+1","v":2433},0.54764692722801711,{"$f":"IF(($N$4*AT2464^2/2)<=$AP$13,($N$4*AT2464^2/2), IF(($AP$13+$N$6*(AT2464-$AP$12))<=$AP$17, ($AP$13+$N$6*(AT2464-$AP$12)), IF(AU2463<$D$14, ($AP$17+($N$6-$N$5*(AT2464-$AP$16)/2)*(AT2464-$AP$16)), $D$14)))","v":50},49.983745697179529]
[null,null,null,null,null,null,null,null,null,null,null,null,null,null,null,null,null,null,null,null,null,null,null,null,null,null,null,null,null,null,null,null,null,null,null,null,null,null,null,null,null,null,null,null,2438,0.54877238330534561,50,49.984285342869143]
[null,null,null,null,null,null,null,null,null,null,null,null,null,null,null,null,null,null,null,null,null,null,null,null,null,null,null,null,null,null,null,null,null,null,null,null,null,null,null,null,null,null,null,null,2440,0.54922256573627692,50,49.984496150811928]
[null,null,null,null,null,null,null,null,null,null,null,null,null,null,null,null,null,null,null,null,null,null,null,null,null,null,null,null,null,null,null,null,null,null,null,null,null,null,null,null,null,null,null,null,2445,0.55034802181360543,50,49.985010881310011]
[null,null,null,null,null,null,null,null,null,null,null,null,null,null,null,null,null,null,null,null,null,null,null,null,null,null,null,null,null,null,null,null,null,null,null,null,null,null,null,null,null,null,null,null,2451,0.55169856910639947,50,49.985606050503264]
[null,null,null,null,null,null,null,null,null,null,null,null,null,null,null,null,null,null,null,null,null,null,null,null,null,null,null,null,null,null,null,null,null,null,null,null,null,null,null,null,null,null,null,null,2456,0.55282402518372797,50,49.986083932137952]
[null,null,null,null,null,null,null,null,null,null,null,null,null,null,null,null,null,null,null,null,null,null,null,null,null,null,null,null,null,null,null,null,null,null,null,null,null,null,null,null,null,null,null,null,2465,0.5548498461229191,50,49.986904491946682]
[null,null,null,null,null,null,null,null,null,null,null,null,null,null,null,null,null,null,null,null,null,null,null,null,null,null,null,null,null,null,null,null,null,null,null,null,null,null,null,null,null,null,null,null,2468,0.55552511976931618,50,49.987167115367157]
[null,null,null,null,null,null,null,null,null,null,null,null,null,null,null,null,null,null,null,null,null,null,null,null,null,null,null,null,null,null,null,null,null,null,null,null,null,null,null,null,null,null,null,null,2473,0.55665057584664468,50,49.987593169375984]
[null,null,null,null,null,null,null,null,null,null,null,null,null,null,null,null,null,null,null,null,null,null,null,null,null,null,null,null,null,null,null,null,null,null,null,null,null,null,null,null,null,null,null,null,2479,0.55800112313943873,50,49.988085804301761]
[null,null,null,null,null,null,null,null,null,null,null,null,null,null,null,null,null,null,null,null,null,null,null,null,null,null,null,null,null,null,null,null,null,null,null,null,null,null,null,null,null,null,null,null,2482,0.5586763967858358,50,49.988324737133823]
[null,null,null,null,null,null,null,null,null,null,null,null,null,null,null,null,null,null,null,null,null,null,null,null,null,null,null,null,null,null,null,null,null,null,null,null,null,null,null,null,null,null,null,null,2490,0.56047712650956127,50,49.988938725532321]
[null,null,null,null,null,null,null,null,null,null,null,null,null,null,null,null,null,null,null,null,null,null,null,null,null,null,null,null,null,null,null,null,null,null,null,null,null,null,null,null,null,null,null,null,2496,{"$f":"$AP$18/$N$7*AS2527","v":0.56182767380235543},50,49.989377932795762]
[null,null,null,null,null,null,null,null,null,null,null,null,null,null,null,null,null,null,null,null,null,null,null,null,null,null,null,null,null,null,null,null,null,null,null,null,null,null,null,null,null,null,null,null,2501,0.56295312987968382,50,49.989730587280221]
[null,null,null,null,null,null,null,null,null,null,null,null,null,null,null,null,null,null,null,null,null,null,null,null,null,null,null,null,null,null,null,null,null,null,null,null,null,null,null,null,null,null,null,null,2506,0.56407858595701232,50,49.990071533574266]
[null,null,null,null,null,null,null,null,null,null,null,null,null,null,null,null,null,null,null,null,null,null,null,null,null,null,null,null,null,null,null,null,null,null,null,null,null,null,null,null,null,null,null,null,2507,0.56430367717247798,50,49.990138352286948]
[null,null,null,null,null,null,null,null,null,null,null,null,null,null,null,null,null,null,null,null,null,null,null,null,null,null,null,null,null,null,null,null,null,null,null,null,null,null,null,null,null,null,null,null,2513,0.56565422446527214,50,49.990529926270369]
[null,null,null,null,null,null,null,null,null,null,null,null,null,null,null,null,null,null,null,null,null,null,null,null,null,null,null,null,null,null,null,null,null,null,null,null,null,null,null,null,null,null,null,null,2519,0.56700477175806629,50,49.990905952123398]
[null,null,null,null,null,null,null,null,null,null,null,null,null,null,null,null,null,null,null,null,null,null,null,null,null,null,null,null,null,null,null,null,null,null,null,null,null,null,null,null,null,null,null,null,2524,0.56813022783539469,50,49.991207876099587]
[null,null,null,null,null,null,null,null,null,null,null,null,null,null,null,null,null,null,null,null,null,null,null,null,null,null,null,null,null,null,null,null,null,null,null,null,null,null,null,null,null,null,null,null,2529,0.56925568391272308,50,49.991499776147087]
[null,null,null,null,null,null,null,null,null,null,null,null,null,null,null,null,null,null,null,null,null,null,null,null,null,null,null,null,null,null,null,null,null,null,null,null,null,null,null,null,null,null,null,null,2538,0.57128150485191431,50,49.992000991154661]
[null,null,null,null,null,null,null,null,null,null,null,null,null,null,null,null,null,null,null,null,null,null,null,null,null,null,null,null,null,null,null,null,null,null,null,null,null,null,null,null,null,null,null,null,2541,0.57195677849831139,50,49.992161407005248]
[null,null,null,null,null,null,null,null,null,null,null,null,null,null,null,null,null,null,null,null,null,null,null,null,null,null,null,null,null,null,null,null,null,null,null,null,null,null,null,null,null,null,null,null,2547,0.57330732579110544,50,49.992472652060108]
[null,null,null,null,null,null,null,null,null,null,null,null,null,null,null,null,null,null,null,null,null,null,null,null,null,null,null,null,null,null,null,null,null,null,null,null,null,null,null,null,null,null,null,null,2552,0.57443278186843394,50,49.992722561325039]
[null,null,null,null,null,null,null,null,null,null,null,null,null,null,null,null,null,null,null,null,null,null,null,null,null,null,null,null,null,null,null,null,null,null,null,null,null,null,null,null,null,null,null,null,2557,0.57555823794576233,50,49.992964173558768]
[null,null,null,null,null,null,null,null,null,null,null,null,null,null,null,null,null,null,null,null,null,null,null,null,null,null,null,null,null,null,null,null,null,null,null,null,null,null,null,null,null,null,null,null,2564,0.57713387645402214,50,49.993289014406614]
[null,null,null,null,null,null,null,null,null,null,null,null,null,null,null,null,null,null,null,null,null,null,null,null,null,null,null,null,null,null,null,null,null,null,null,null,null,null,null,null,null,null,null,null,2569,0.57825933253135064,50,49.993511820299204]
[null,null,null,null,null,null,null,null,null,null,null,null,null,null,null,null,null,null,null,null,null,null,null,null,null,null,null,null,null,null,null,null,null,null,null,null,null,null,null,null,null,null,null,null,2574,0.57938478860867904,50,49.993727228997294]
[null,null,null,null,null,null,null,null,null,null,null,null,null,null,null,null,null,null,null,null,null,null,null,null,null,null,null,null,null,null,null,null,null,null,null,null,null,null,null,null,null,null,null,null,2575,0.57960987982414469,50,49.993769444830569]
[null,null,null,null,null,null,null,null,null,null,null,null,null,null,null,null,null,null,null,null,null,null,null,null,null,null,null,null,null,null,null,null,null,null,null,null,null,null,null,null,null,null,null,null,2582,0.5811855183324045,50,49.994057106676806]
[null,null,null,null,null,null,null,null,null,null,null,null,null,null,null,null,null,null,null,null,null,null,null,null,null,null,null,null,null,null,null,null,null,null,null,null,null,null,null,null,null,null,null,null,2587,0.58231097440973301,50,49.994254411772012]
[null,null,null,null,null,null,null,null,null,null,null,null,null,null,null,null,null,null,null,null,null,null,null,null,null,null,null,null,null,null,null,null,null,null,null,null,null,null,null,null,null,null,null,null,2592,0.5834364304870614,50,49.994445166303635]
[null,null,null,null,null,null,null,null,null,null,null,null,null,null,null,null,null,null,null,null,null,null,null,null,null,null,null,null,null,null,null,null,null,null,null,null,null,null,null,null,null,null,null,null,2597,0.5845618865643899,50,49.994629587751525]
[null,null,null,null,null,null,null,null,null,null,null,null,null,null,null,null,null,null,null,null,null,null,null,null,null,null,null,null,null,null,null,null,null,null,null,null,null,null,null,null,null,null,null,null,2603,0.58591243385718395,50,49.994842829369752]
[null,null,null,null,null,null,null,null,null,null,null,null,null,null,null,null,null,null,null,null,null,null,null,null,null,null,null,null,null,null,null,null,null,null,null,null,null,null,null,null,null,null,null,null,2607,0.58681279871904668,50,49.9949802654534]
[null,null,null,null,null,null,null,null,null,null,null,null,null,null,null,null,null,null,null,null,null,null,null,null,null,null,null,null,null,null,null,null,null,null,null,null,null,null,null,null,null,null,null,null,2614,0.58838843722730649,50,49.995212024272305]
[null,null,null,null,null,null,null,null,null,null,null,null,null,null,null,null,null,null,null,null,null,null,null,null,null,null,null,null,null,null,null,null,null,null,null,null,null,null,null,null,null,null,null,null,2620,0.58973898452010065,50,49.995402139229029]
[null,null,null,null,null,null,null,null,null,null,null,null,null,null,null,null,null,null,null,null,null,null,null,null,null,null,null,null,null,null,null,null,null,null,null,null,null,null,null,null,null,null,null,null,{"$f":"AS2655+1","v":2625},0.59086444059742904,{"$f":"IF(($N$4*AT2656^2/2)<=$AP$13,($N$4*AT2656^2/2), IF(($AP$13+$N$6*(AT2656-$AP$12))<=$AP$17, ($AP$13+$N$6*(AT2656-$AP$12)), IF(AU2655<$D$14, ($AP$17+($N$6-$N$5*(AT2656-$AP$16)/2)*(AT2656-$AP$16)), $D$14)))","v":50},49.995554789008828]
[null,null,null,null,null,null,null,null,null,null,null,null,null,null,null,null,null,null,null,null,null,null,null,null,null,null,null,null,null,null,null,null,null,null,null,null,null,null,null,null,null,null,null,null,2631,0.5922149878902232,50,49.995731293891744]
[null,null,null,null,null,null,null,null,null,null,null,null,null,null,null,null,null,null,null,null,null,null,null,null,null,null,null,null,null,null,null,null,null,null,null,null,null,null,null,null,null,null,null,null,2632,0.59244007910568885,50,49.995760022341308]
[null,null,null,null,null,null,null,null,null,null,null,null,null,null,null,null,null,null,null,null,null,null,null,null,null,null,null,null,null,null,null,null,null,null,null,null,null,null,null,null,null,null,null,null,2642,0.59469099126034575,50,49.996036884815261]
[null,null,null,null,null,null,null,null,null,null,null,null,null,null,null,null,null,null,null,null,null,null,null,null,null,null,null,null,null,null,null,null,null,null,null,null,null,null,null,null,null,null,null,null,2643,0.59491608247581151,50,49.9960635566338]
[null,null,null,null,null,null,null,null,null,null,null,null,null,null,null,null,null,null,null,null,null,null,null,null,null,null,null,null,null,null,null,null,null,null,null,null,null,null,null,null,null,null,null,null,2648,0.5960415385531399,50,49.996194247240354]
[null,null,null,null,null,null,null,null,null,null,null,null,null,null,null,null,null,null,null,null,null,null,null,null,null,null,null,null,null,null,null,null,null,null,null,null,null,null,null,null,null,null,null,null,2655,0.59761717706139972,50,49.996369957082464]
[null,null,null,null,null,null,null,null,null,null,null,null,null,null,null,null,null,null,null,null,null,null,null,null,null,null,null,null,null,null,null,null,null,null,null,null,null,null,null,null,null,null,null,null,2660,0.59874263313872811,50,49.996490475140661]
[null,null,null,null,null,null,null,null,null,null,null,null,null,null,null,null,null,null,null,null,null,null,null,null,null,null,null,null,null,null,null,null,null,null,null,null,null,null,null,null,null,null,null,null,2665,0.59986808921605661,50,49.996606991978311]
[null,null,null,null,null,null,null,null,null,null,null,null,null,null,null,null,null,null,null,null,null,null,null,null,null,null,null,null,null,null,null,null,null,null,null,null,null,null,null,null,null,null,null,null,2671,0.60121863650885066,50,49.996741717300623]
[null,null,null,null,null,null,null,null,null,null,null,null,null,null,null,null,null,null,null,null,null,null,null,null,null,null,null,null,null,null,null,null,null,null,null,null,null,null,null,null,null,null,null,null,2676,0.60234409258617916,50,49.996849892854712]
[null,null,null,null,null,null,null,null,null,null,null,null,null,null,null,null,null,null,null,null,null,null,null,null,null,null,null,null,null,null,null,null,null,null,null,null,null,null,null,null,null,null,null,null,2682,0.60369463987897332,50,49.996974973372566]
[null,null,null,null,null,null,null,null,null,null,null,null,null,null,null,null,null,null,null,null,null,null,null,null,null,null,null,null,null,null,null,null,null,null,null,null,null,null,null,null,null,null,null,null,2688,{"$f":"$AP$18/$N$7*AS2719","v":0.60504518717176736},50,49.997095087349521]
[null,null,null,null,null,null,null,null,null,null,null,null,null,null,null,null,null,null,null,null,null,null,null,null,null,null,null,null,null,null,null,null,null,null,null,null,null,null,null,null,null,null,null,null,2693,0.60617064324909586,50,49.997191530956336]
[null,null,null,null,null,null,null,null,null,null,null,null,null,null,null,null,null,null,null,null,null,null,null,null,null,null,null,null,null,null,null,null,null,null,null,null,null,null,null,null,null,null,null,null,2699,0.60752119054188991,50,49.997303046135407]
[null,null,null,null,null,null,null,null,null,null,null,null,null,null,null,null,null,null,null,null,null,null,null,null,null,null,null,null,null,null,null,null,null,null,null,null,null,null,null,null,null,null,null,null,2704,0.60864664661921841,50,49.997392585474245]
[null,null,null,null,null,null,null,null,null,null,null,null,null,null,null,null,null,null,null,null,null,null,null,null,null,null,null,null,null,null,null,null,null,null,null,null,null,null,null,null,null,null,null,null,2707,0.60932192026561549,50,49.99744487578009]
[null,null,null,null,null,null,null,null,null,null,null,null,null,null,null,null,null,null,null,null,null,null,null,null,null,null,null,null,null,null,null,null,null,null,null,null,null,null,null,null,null,null,null,null,2711,0.61022228512747823,50,49.99751296859516]
[null,null,null,null,null,null,null,null,null,null,null,null,null,null,null,null,null,null,null,null,null,null,null,null,null,null,null,null,null,null,null,null,null,null,null,null,null,null,null,null,null,null,null,null,2716,0.61134774120480662,50,49.997595538471707]
[null,null,null,null,null,null,null,null,null,null,null,null,null,null,null,null,null,null,null,null,null,null,null,null,null,null,null,null,null,null,null,null,null,null,null,null,null,null,null,null,null,null,null,null,2722,0.61269828849760077,50,49.997691011825239]
[null,null,null,null,null,null,null,null,null,null,null,null,null,null,null,null,null,null,null,null,null,null,null,null,null,null,null,null,null,null,null,null,null,null,null,null,null,null,null,null,null,null,null,null,2730,0.61449901822132624,50,49.997812438808729]
[null,null,null,null,null,null,null,null,null,null,null,null,null,null,null,null,null,null,null,null,null,null,null,null,null,null,null,null,null,null,null,null,null,null,null,null,null,null,null,null,null,null,null,null,2733,0.61517429186772332,50,49.997856309180172]
[null,null,null,null,null,null,null,null,null,null,null,null,null,null,null,null,null,null,null,null,null,null,null,null,null,null,null,null,null,null,null,null,null,null,null,null,null,null,null,null,null,null,null,null,2739,0.61652483916051748,50,49.997941428176276]
[null,null,null,null,null,null,null,null,null,null,null,null,null,null,null,null,null,null,null,null,null,null,null,null,null,null,null,null,null,null,null,null,null,null,null,null,null,null,null,null,null,null,null,null,2744,0.61765029523784587,50,49.998009773119982]
[null,null,null,null,null,null,null,null,null,null,null,null,null,null,null,null,null,null,null,null,null,null,null,null,null,null,null,null,null,null,null,null,null,null,null,null,null,null,null,null,null,null,null,null,2749,0.61877575131517437,50,49.998075848999633]
[null,null,null,null,null,null,null,null,null,null,null,null,null,null,null,null,null,null,null,null,null,null,null,null,null,null,null,null,null,null,null,null,null,null,null,null,null,null,null,null,null,null,null,null,2755,0.62012629860796842,50,49.998152250782951]
[null,null,null,null,null,null,null,null,null,null,null,null,null,null,null,null,null,null,null,null,null,null,null,null,null,null,null,null,null,null,null,null,null,null,null,null,null,null,null,null,null,null,null,null,2761,0.62147684590076258,50,49.998225618899745]
[null,null,null,null,null,null,null,null,null,null,null,null,null,null,null,null,null,null,null,null,null,null,null,null,null,null,null,null,null,null,null,null,null,null,null,null,null,null,null,null,null,null,null,null,2767,0.62282739319355673,50,49.998296073807033]
[null,null,null,null,null,null,null,null,null,null,null,null,null,null,null,null,null,null,null,null,null,null,null,null,null,null,null,null,null,null,null,null,null,null,null,null,null,null,null,null,null,null,null,null,2772,0.62395284927088512,50,49.998352644453917]
[null,null,null,null,null,null,null,null,null,null,null,null,null,null,null,null,null,null,null,null,null,null,null,null,null,null,null,null,null,null,null,null,null,null,null,null,null,null,null,null,null,null,null,null,2777,0.62507830534821351,50,49.998407336945455]
[null,null,null,null,null,null,null,null,null,null,null,null,null,null,null,null,null,null,null,null,null,null,null,null,null,null,null,null,null,null,null,null,null,null,null,null,null,null,null,null,null,null,null,null,2780,0.62575357899461059,50,49.998439276952467]
[null,null,null,null,null,null,null,null,null,null,null,null,null,null,null,null,null,null,null,null,null,null,null,null,null,null,null,null,null,null,null,null,null,null,null,null,null,null,null,null,null,null,null,null,2784,0.62665394385647333,50,49.998480869460963]
[null,null,null,null,null,null,null,null,null,null,null,null,null,null,null,null,null,null,null,null,null,null,null,null,null,null,null,null,null,null,null,null,null,null,null,null,null,null,null,null,null,null,null,null,2789,0.62777939993380183,50,49.998531304859888]
[null,null,null,null,null,null,null,null,null,null,null,null,null,null,null,null,null,null,null,null,null,null,null,null,null,null,null,null,null,null,null,null,null,null,null,null,null,null,null,null,null,null,null,null,2795,0.62912994722659599,50,49.998589621971085]
[null,null,null,null,null,null,null,null,null,null,null,null,null,null,null,null,null,null,null,null,null,null,null,null,null,null,null,null,null,null,null,null,null,null,null,null,null,null,null,null,null,null,null,null,2800,0.63025540330392438,50,49.998636446767698]
[null,null,null,null,null,null,null,null,null,null,null,null,null,null,null,null,null,null,null,null,null,null,null,null,null,null,null,null,null,null,null,null,null,null,null,null,null,null,null,null,null,null,null,null,2805,0.63138085938125277,50,49.998681716972897]
[null,null,null,null,null,null,null,null,null,null,null,null,null,null,null,null,null,null,null,null,null,null,null,null,null,null,null,null,null,null,null,null,null,null,null,null,null,null,null,null,null,null,null,null,2812,0.63295649788951258,50,49.998742581489616]
[null,null,null,null,null,null,null,null,null,null,null,null,null,null,null,null,null,null,null,null,null,null,null,null,null,null,null,null,null,null,null,null,null,null,null,null,null,null,null,null,null,null,null,null,{"$f":"AS2847+1","v":2817},0.63408195396684108,{"$f":"IF(($N$4*AT2848^2/2)<=$AP$13,($N$4*AT2848^2/2), IF(($AP$13+$N$6*(AT2848-$AP$12))<=$AP$17, ($AP$13+$N$6*(AT2848-$AP$12)), IF(AU2847<$D$14, ($AP$17+($N$6-$N$5*(AT2848-$AP$16)/2)*(AT2848-$AP$16)), $D$14)))","v":50},49.998784328003531]
[null,null,null,null,null,null,null,null,null,null,null,null,null,null,null,null,null,null,null,null,null,null,null,null,null,null,null,null,null,null,null,null,null,null,null,null,null,null,null,null,null,null,null,null,2823,0.63543250125963513,50,49.998832598387935]
[null,null,null,null,null,null,null,null,null,null,null,null,null,null,null,null,null,null,null,null,null,null,null,null,null,null,null,null,null,null,null,null,null,null,null,null,null,null,null,null,null,null,null,null,2830,0.63700813976789494,50,49.998886496779626]
[null,null,null,null,null,null,null,null,null,null,null,null,null,null,null,null,null,null,null,null,null,null,null,null,null,null,null,null,null,null,null,null,null,null,null,null,null,null,null,null,null,null,null,null,2835,0.63813359584522344,50,49.998923465280789]
[null,null,null,null,null,null,null,null,null,null,null,null,null,null,null,null,null,null,null,null,null,null,null,null,null,null,null,null,null,null,null,null,null,null,null,null,null,null,null,null,null,null,null,null,2840,0.63925905192255184,50,49.998959206421276]
[null,null,null,null,null,null,null,null,null,null,null,null,null,null,null,null,null,null,null,null,null,null,null,null,null,null,null,null,null,null,null,null,null,null,null,null,null,null,null,null,null,null,null,null,2845,0.64038450799988034,50,49.998993760949652]
[null,null,null,null,null,null,null,null,null,null,null,null,null,null,null,null,null,null,null,null,null,null,null,null,null,null,null,null,null,null,null,null,null,null,null,null,null,null,null,null,null,null,null,null,2846,0.64060959921534599,50,49.999000532952003]
[null,null,null,null,null,null,null,null,null,null,null,null,null,null,null,null,null,null,null,null,null,null,null,null,null,null,null,null,null,null,null,null,null,null,null,null,null,null,null,null,null,null,null,null,2855,0.64263542015453712,50,49.99905946644509]
[null,null,null,null,null,null,null,null,null,null,null,null,null,null,null,null,null,null,null,null,null,null,null,null,null,null,null,null,null,null,null,null,null,null,null,null,null,null,null,null,null,null,null,null,2857,0.64308560258546854,50,49.99907208345239]
[null,null,null,null,null,null,null,null,null,null,null,null,null,null,null,null,null,null,null,null,null,null,null,null,null,null,null,null,null,null,null,null,null,null,null,null,null,null,null,null,null,null,null,null,2863,0.6444361498782627,50,49.999108928003018]
[null,null,null,null,null,null,null,null,null,null,null,null,null,null,null,null,null,null,null,null,null,null,null,null,null,null,null,null,null,null,null,null,null,null,null,null,null,null,null,null,null,null,null,null,2868,0.64556160595559109,50,49.999138511748754]
[null,null,null,null,null,null,null,null,null,null,null,null,null,null,null,null,null,null,null,null,null,null,null,null,null,null,null,null,null,null,null,null,null,null,null,null,null,null,null,null,null,null,null,null,2874,0.64691215324838525,50,49.999172718647621]
[null,null,null,null,null,null,null,null,null,null,null,null,null,null,null,null,null,null,null,null,null,null,null,null,null,null,null,null,null,null,null,null,null,null,null,null,null,null,null,null,null,null,null,null,2880,{"$f":"$AP$18/$N$7*AS2911","v":0.6482627005411794},50,49.999205567301701]
[null,null,null,null,null,null,null,null,null,null,null,null,null,null,null,null,null,null,null,null,null,null,null,null,null,null,null,null,null,null,null,null,null,null,null,null,null,null,null,null,null,null,null,null,2885,0.64938815661850779,50,49.999231942605874]
[null,null,null,null,null,null,null,null,null,null,null,null,null,null,null,null,null,null,null,null,null,null,null,null,null,null,null,null,null,null,null,null,null,null,null,null,null,null,null,null,null,null,null,null,2891,0.65073870391130195,50,49.999262439669025]
[null,null,null,null,null,null,null,null,null,null,null,null,null,null,null,null,null,null,null,null,null,null,null,null,null,null,null,null,null,null,null,null,null,null,null,null,null,null,null,null,null,null,null,null,2896,0.65186415998863034,50,49.999286926800679]
[null,null,null,null,null,null,null,null,null,null,null,null,null,null,null,null,null,null,null,null,null,null,null,null,null,null,null,null,null,null,null,null,null,null,null,null,null,null,null,null,null,null,null,null,2899,0.65253943363502742,50,49.999301227102862]
[null,null,null,null,null,null,null,null,null,null,null,null,null,null,null,null,null,null,null,null,null,null,null,null,null,null,null,null,null,null,null,null,null,null,null,null,null,null,null,null,null,null,null,null,2908,0.65456525457421855,50,49.999342430189827]
[null,null,null,null,null,null,null,null,null,null,null,null,null,null,null,null,null,null,null,null,null,null,null,null,null,null,null,null,null,null,null,null,null,null,null,null,null,null,null,null,null,null,null,null,2913,0.65569071065154705,50,49.999364261622233]
[null,null,null,null,null,null,null,null,null,null,null,null,null,null,null,null,null,null,null,null,null,null,null,null,null,null,null,null,null,null,null,null,null,null,null,null,null,null,null,null,null,null,null,null,2914,0.6559158018670127,50,49.999368540150066]
[null,null,null,null,null,null,null,null,null,null,null,null,null,null,null,null,null,null,null,null,null,null,null,null,null,null,null,null,null,null,null,null,null,null,null,null,null,null,null,null,null,null,null,null,2919,0.65704125794434121,50,49.99938950472724]
[null,null,null,null,null,null,null,null,null,null,null,null,null,null,null,null,null,null,null,null,null,null,null,null,null,null,null,null,null,null,null,null,null,null,null,null,null,null,null,null,null,null,null,null,2924,0.6581667140216696,50,49.999409773276788]
[null,null,null,null,null,null,null,null,null,null,null,null,null,null,null,null,null,null,null,null,null,null,null,null,null,null,null,null,null,null,null,null,null,null,null,null,null,null,null,null,null,null,null,null,2931,0.65974235252992941,50,49.999437023771179]
[null,null,null,null,null,null,null,null,null,null,null,null,null,null,null,null,null,null,null,null,null,null,null,null,null,null,null,null,null,null,null,null,null,null,null,null,null,null,null,null,null,null,null,null,2936,0.6608678086072578,50,49.999455714680181]
[null,null,null,null,null,null,null,null,null,null,null,null,null,null,null,null,null,null,null,null,null,null,null,null,null,null,null,null,null,null,null,null,null,null,null,null,null,null,null,null,null,null,null,null,2942,0.66221835590005196,50,49.999477326481461]
[null,null,null,null,null,null,null,null,null,null,null,null,null,null,null,null,null,null,null,null,null,null,null,null,null,null,null,null,null,null,null,null,null,null,null,null,null,null,null,null,null,null,null,null,2947,0.66334381197738035,50,49.999494679333452]
[null,null,null,null,null,null,null,null,null,null,null,null,null,null,null,null,null,null,null,null,null,null,null,null,null,null,null,null,null,null,null,null,null,null,null,null,null,null,null,null,null,null,null,null,2955,0.66514454170110593,50,49.999521253555372]
[null,null,null,null,null,null,null,null,null,null,null,null,null,null,null,null,null,null,null,null,null,null,null,null,null,null,null,null,null,null,null,null,null,null,null,null,null,null,null,null,null,null,null,null,2959,0.66604490656296866,50,49.999534011914761]
[null,null,null,null,null,null,null,null,null,null,null,null,null,null,null,null,null,null,null,null,null,null,null,null,null,null,null,null,null,null,null,null,null,null,null,null,null,null,null,null,null,null,null,null,2964,0.66717036264029705,50,49.999549482800482]
[null,null,null,null,null,null,null,null,null,null,null,null,null,null,null,null,null,null,null,null,null,null,null,null,null,null,null,null,null,null,null,null,null,null,null,null,null,null,null,null,null,null,null,null,2969,0.66829581871762556,50,49.999564440050079]
[null,null,null,null,null,null,null,null,null,null,null,null,null,null,null,null,null,null,null,null,null,null,null,null,null,null,null,null,null,null,null,null,null,null,null,null,null,null,null,null,null,null,null,null,2975,0.6696463660104196,50,49.999581734720245]
[null,null,null,null,null,null,null,null,null,null,null,null,null,null,null,null,null,null,null,null,null,null,null,null,null,null,null,null,null,null,null,null,null,null,null,null,null,null,null,null,null,null,null,null,2980,0.6707718220877481,50,49.999595621200491]
[null,null,null,null,null,null,null,null,null,null,null,null,null,null,null,null,null,null,null,null,null,null,null,null,null,null,null,null,null,null,null,null,null,null,null,null,null,null,null,null,null,null,null,null,2982,0.67122200451867942,50,49.999601045834446]
[null,null,null,null,null,null,null,null,null,null,null,null,null,null,null,null,null,null,null,null,null,null,null,null,null,null,null,null,null,null,null,null,null,null,null,null,null,null,null,null,null,null,null,null,2987,0.67234746059600792,50,49.999614291182326]
[null,null,null,null,null,null,null,null,null,null,null,null,null,null,null,null,null,null,null,null,null,null,null,null,null,null,null,null,null,null,null,null,null,null,null,null,null,null,null,null,null,null,null,null,2992,0.67347291667333631,50,49.999627096782348]
[null,null,null,null,null,null,null,null,null,null,null,null,null,null,null,null,null,null,null,null,null,null,null,null,null,null,null,null,null,null,null,null,null,null,null,null,null,null,null,null,null,null,null,null,2997,0.67459837275066481,50,49.999639477234219]
[null,null,null,null,null,null,null,null,null,null,null,null,null,null,null,null,null,null,null,null,null,null,null,null,null,null,null,null,null,null,null,null,null,null,null,null,null,null,null,null,null,null,null,null,3004,0.67617401125892462,50,49.999656122403294]
[null,null,null,null,null,null,null,null,null,null,null,null,null,null,null,null,null,null,null,null,null,null,null,null,null,null,null,null,null,null,null,null,null,null,null,null,null,null,null,null,null,null,null,null,3010,0.67752455855171867,50,{"$f":"( $AP$6*AU3041 + $AP$7*AU3040 + $AP$9*AV3040 )/$AP$8","v":49.999669776665144}]
[null,null,null,null,null,null,null,null,null,null,null,null,null,null,null,null,null,null,null,null,null,null,null,null,null,null,null,null,null,null,null,null,null,null,null,null,null,null,null,null,null,null,null,null,3015,0.67865001462904717,50,49.99968074013745]
[null,null,null,null,null,null,null,null,null,null,null,null,null,null,null,null,null,null,null,null,null,null,null,null,null,null,null,null,null,null,null,null,null,null,null,null,null,null,null,null,null,null,null,null,3020,0.67977547070637556,50,49.999691339620561]
[null,null,null,null,null,null,null,null,null,null,null,null,null,null,null,null,null,null,null,null,null,null,null,null,null,null,null,null,null,null,null,null,null,null,null,null,null,null,null,null,null,null,null,null,3028,0.68157620043010103,50,49.999707571708342]
[null,null,null,null,null,null,null,null,null,null,null,null,null,null,null,null,null,null,null,null,null,null,null,null,null,null,null,null,null,null,null,null,null,null,null,null,null,null,null,null,null,null,null,null,3032,0.68247656529196377,50,49.999715364779767]
[null,null,null,null,null,null,null,null,null,null,null,null,null,null,null,null,null,null,null,null,null,null,null,null,null,null,null,null,null,null,null,null,null,null,null,null,null,null,null,null,null,null,null,null,3037,0.68360202136929227,50,49.999724814718725]
[null,null,null,null,null,null,null,null,null,null,null,null,null,null,null,null,null,null,null,null,null,null,null,null,null,null,null,null,null,null,null,null,null,null,null,null,null,null,null,null,null,null,null,null,3043,0.68495256866208643,50,49.999735741431948]
[null,null,null,null,null,null,null,null,null,null,null,null,null,null,null,null,null,null,null,null,null,null,null,null,null,null,null,null,null,null,null,null,null,null,null,null,null,null,null,null,null,null,null,null,3048,0.68607802473941482,50,49.999744514862499]
[null,null,null,null,null,null,null,null,null,null,null,null,null,null,null,null,null,null,null,null,null,null,null,null,null,null,null,null,null,null,null,null,null,null,null,null,null,null,null,null,null,null,null,null,3053,0.68720348081674321,50,49.999752997013609]
[null,null,null,null,null,null,null,null,null,null,null,null,null,null,null,null,null,null,null,null,null,null,null,null,null,null,null,null,null,null,null,null,null,null,null,null,null,null,null,null,null,null,null,null,3055,0.68765366324767463,50,49.99975631049292]
[null,null,null,null,null,null,null,null,null,null,null,null,null,null,null,null,null,null,null,null,null,null,null,null,null,null,null,null,null,null,null,null,null,null,null,null,null,null,null,null,null,null,null,null,3060,0.68877911932500302,50,49.999764401027051]
[null,null,null,null,null,null,null,null,null,null,null,null,null,null,null,null,null,null,null,null,null,null,null,null,null,null,null,null,null,null,null,null,null,null,null,null,null,null,null,null,null,null,null,null,3066,0.69012966661779718,50,49.999773755896612]
[null,null,null,null,null,null,null,null,null,null,null,null,null,null,null,null,null,null,null,null,null,null,null,null,null,null,null,null,null,null,null,null,null,null,null,null,null,null,null,null,null,null,null,null,3072,{"$f":"$AP$18/$N$7*AS3103","v":0.69148021391059133},50,49.999782739314703]
[null,null,null,null,null,null,null,null,null,null,null,null,null,null,null,null,null,null,null,null,null,null,null,null,null,null,null,null,null,null,null,null,null,null,null,null,null,null,null,null,null,null,null,null,3076,0.69238057877245407,50,49.999788529206057]
[null,null,null,null,null,null,null,null,null,null,null,null,null,null,null,null,null,null,null,null,null,null,null,null,null,null,null,null,null,null,null,null,null,null,null,null,null,null,null,null,null,null,null,null,3077,0.69260566998791973,50,49.999789952407347]
[null,null,null,null,null,null,null,null,null,null,null,null,null,null,null,null,null,null,null,null,null,null,null,null,null,null,null,null,null,null,null,null,null,null,null,null,null,null,null,null,null,null,null,null,3078,0.69283076120338538,50,49.999791366030472]
[null,null,null,null,null,null,null,null,null,null,null,null,null,null,null,null,null,null,null,null,null,null,null,null,null,null,null,null,null,null,null,null,null,null,null,null,null,null,null,null,null,null,null,null,3079,0.69305585241885115,50,49.999792770139891]
[null,null,null,null,null,null,null,null,null,null,null,null,null,null,null,null,null,null,null,null,null,null,null,null,null,null,null,null,null,null,null,null,null,null,null,null,null,null,null,null,null,null,null,null,3080,0.6932809436343168,50,49.999794164799638]
[null,null,null,null,null,null,null,null,null,null,null,null,null,null,null,null,null,null,null,null,null,null,null,null,null,null,null,null,null,null,null,null,null,null,null,null,null,null,null,null,null,null,null,null,3081,0.69350603484978246,50,49.999795550073301]
[null,null,null,null,null,null,null,null,null,null,null,null,null,null,null,null,null,null,null,null,null,null,null,null,null,null,null,null,null,null,null,null,null,null,null,null,null,null,null,null,null,null,null,null,3082,0.69373112606524823,50,49.999796926024061]
[null,null,null,null,null,null,null,null,null,null,null,null,null,null,null,null,null,null,null,null,null,null,null,null,null,null,null,null,null,null,null,null,null,null,null,null,null,null,null,null,null,null,null,null,3083,0.69395621728071388,50,49.999798292714644]
[null,null,null,null,null,null,null,null,null,null,null,null,null,null,null,null,null,null,null,null,null,null,null,null,null,null,null,null,null,null,null,null,null,null,null,null,null,null,null,null,null,null,null,null,3084,0.69418130849617954,50,49.999799650207386]
[null,null,null,null,null,null,null,null,null,null,null,null,null,null,null,null,null,null,null,null,null,null,null,null,null,null,null,null,null,null,null,null,null,null,null,null,null,null,null,null,null,null,null,null,3085,0.69440639971164519,50,49.999800998564183]
[null,null,null,null,null,null,null,null,null,null,null,null,null,null,null,null,null,null,null,null,null,null,null,null,null,null,null,null,null,null,null,null,null,null,null,null,null,null,null,null,null,null,null,null,3086,0.69463149092711096,50,49.999802337846518]
[null,null,null,null,null,null,null,null,null,null,null,null,null,null,null,null,null,null,null,null,null,null,null,null,null,null,null,null,null,null,null,null,null,null,null,null,null,null,null,null,null,null,null,null,3087,0.69485658214257662,50,49.999803668115469]
[null,null,null,null,null,null,null,null,null,null,null,null,null,null,null,null,null,null,null,null,null,null,null,null,null,null,null,null,null,null,null,null,null,null,null,null,null,null,null,null,null,null,null,null,3088,0.69508167335804227,50,49.999804989431695]
[null,null,null,null,null,null,null,null,null,null,null,null,null,null,null,null,null,null,null,null,null,null,null,null,null,null,null,null,null,null,null,null,null,null,null,null,null,null,null,null,null,null,null,null,3089,0.69530676457350804,50,49.999806301855436]
[null,null,null,null,null,null,null,null,null,null,null,null,null,null,null,null,null,null,null,null,null,null,null,null,null,null,null,null,null,null,null,null,null,null,null,null,null,null,null,null,null,null,null,null,3090,0.6955318557889737,50,49.999807605446556]
[null,null,null,null,null,null,null,null,null,null,null,null,null,null,null,null,null,null,null,null,null,null,null,null,null,null,null,null,null,null,null,null,null,null,null,null,null,null,null,null,null,null,null,null,3091,0.69575694700443935,50,49.999808900264483]
[null,null,null,null,null,null,null,null,null,null,null,null,null,null,null,null,null,null,null,null,null,null,null,null,null,null,null,null,null,null,null,null,null,null,null,null,null,null,null,null,null,null,null,null,3092,0.69598203821990501,50,49.999810186368272]
[null,null,null,null,null,null,null,null,null,null,null,null,null,null,null,null,null,null,null,null,null,null,null,null,null,null,null,null,null,null,null,null,null,null,null,null,null,null,null,null,null,null,null,null,3093,0.69620712943537078,50,49.999811463816563]
[null,null,null,null,null,null,null,null,null,null,null,null,null,null,null,null,null,null,null,null,null,null,null,null,null,null,null,null,null,null,null,null,null,null,null,null,null,null,null,null,null,null,null,null,3094,0.69643222065083643,50,49.999812732667614]
[null,null,null,null,null,null,null,null,null,null,null,null,null,null,null,null,null,null,null,null,null,null,null,null,null,null,null,null,null,null,null,null,null,null,null,null,null,null,null,null,null,null,null,null,3095,0.69665731186630209,50,49.999813992979277]
[null,null,null,null,null,null,null,null,null,null,null,null,null,null,null,null,null,null,null,null,null,null,null,null,null,null,null,null,null,null,null,null,null,null,null,null,null,null,null,null,null,null,null,null,3096,0.69688240308176785,50,49.999815244809021]
[null,null,null,null,null,null,null,null,null,null,null,null,null,null,null,null,null,null,null,null,null,null,null,null,null,null,null,null,null,null,null,null,null,null,null,null,null,null,null,null,null,null,null,null,3097,0.69710749429723351,50,49.999816488213938]
[null,null,null,null,null,null,null,null,null,null,null,null,null,null,null,null,null,null,null,null,null,null,null,null,null,null,null,null,null,null,null,null,null,null,null,null,null,null,null,null,null,null,null,null,3098,0.69733258551269917,50,49.999817723250722]
[null,null,null,null,null,null,null,null,null,null,null,null,null,null,null,null,null,null,null,null,null,null,null,null,null,null,null,null,null,null,null,null,null,null,null,null,null,null,null,null,null,null,null,null,3099,0.69755767672816482,50,49.99981894997569]
[null,null,null,null,null,null,null,null,null,null,null,null,null,null,null,null,null,null,null,null,null,null,null,null,null,null,null,null,null,null,null,null,null,null,null,null,null,null,null,null,null,null,null,null,3100,0.69778276794363059,50,49.999820168444785]
[null,null,null,null,null,null,null,null,null,null,null,null,null,null,null,null,null,null,null,null,null,null,null,null,null,null,null,null,null,null,null,null,null,null,null,null,null,null,null,null,null,null,null,null,3101,0.69800785915909624,50,49.99982137871357]
[null,null,null,null,null,null,null,null,null,null,null,null,null,null,null,null,null,null,null,null,null,null,null,null,null,null,null,null,null,null,null,null,null,null,null,null,null,null,null,null,null,null,null,null,3102,0.6982329503745619,50,49.999822580837233]
[null,null,null,null,null,null,null,null,null,null,null,null,null,null,null,null,null,null,null,null,null,null,null,null,null,null,null,null,null,null,null,null,null,null,null,null,null,null,null,null,null,null,null,null,3103,0.69845804159002767,50,49.999823774870585]
[null,null,null,null,null,null,null,null,null,null,null,null,null,null,null,null,null,null,null,null,null,null,null,null,null,null,null,null,null,null,null,null,null,null,null,null,null,null,null,null,null,null,null,null,3104,0.69868313280549332,50,49.999824960868075]
[null,null,null,null,null,null,null,null,null,null,null,null,null,null,null,null,null,null,null,null,null,null,null,null,null,null,null,null,null,null,null,null,null,null,null,null,null,null,null,null,null,null,null,null,3105,0.69890822402095898,50,49.99982613888379]
[null,null,null,null,null,null,null,null,null,null,null,null,null,null,null,null,null,null,null,null,null,null,null,null,null,null,null,null,null,null,null,null,null,null,null,null,null,null,null,null,null,null,null,null,3106,0.69913331523642464,50,49.999827308971433]
[null,null,null,null,null,null,null,null,null,null,null,null,null,null,null,null,null,null,null,null,null,null,null,null,null,null,null,null,null,null,null,null,null,null,null,null,null,null,null,null,null,null,null,null,3107,0.6993584064518904,50,49.999828471184372]
[null,null,null,null,null,null,null,null,null,null,null,null,null,null,null,null,null,null,null,null,null,null,null,null,null,null,null,null,null,null,null,null,null,null,null,null,null,null,null,null,null,null,null,null,3108,0.69958349766735606,50,49.999829625575607]
[null,null,null,null,null,null,null,null,null,null,null,null,null,null,null,null,null,null,null,null,null,null,null,null,null,null,null,null,null,null,null,null,null,null,null,null,null,null,null,null,null,null,null,null,3109,0.69980858888282171,50,49.999830772197775]
[null,null,null,null,null,null,null,null,null,null,null,null,null,null,null,null,null,null,null,null,null,null,null,null,null,null,null,null,null,null,null,null,null,null,null,null,null,null,null,null,null,null,null,null,3110,0.70003368009828737,50,49.999831911103158]
[null,null,null,null,null,null,null,null,null,null,null,null,null,null,null,null,null,null,null,null,null,null,null,null,null,null,null,null,null,null,null,null,null,null,null,null,null,null,null,null,null,null,null,null,3111,0.70025877131375314,50,49.999833042343695]
[null,null,null,null,null,null,null,null,null,null,null,null,null,null,null,null,null,null,null,null,null,null,null,null,null,null,null,null,null,null,null,null,null,null,null,null,null,null,null,null,null,null,null,null,3112,0.70048386252921879,50,49.999834165970967]
[null,null,null,null,null,null,null,null,null,null,null,null,null,null,null,null,null,null,null,null,null,null,null,null,null,null,null,null,null,null,null,null,null,null,null,null,null,null,null,null,null,null,null,null,3113,0.70070895374468445,50,49.999835282036209]
[null,null,null,null,null,null,null,null,null,null,null,null,null,null,null,null,null,null,null,null,null,null,null,null,null,null,null,null,null,null,null,null,null,null,null,null,null,null,null,null,null,null,null,null,3114,0.70093404496015022,50,49.999836390590318]
[null,null,null,null,null,null,null,null,null,null,null,null,null,null,null,null,null,null,null,null,null,null,null,null,null,null,null,null,null,null,null,null,null,null,null,null,null,null,null,null,null,null,null,null,3115,0.70115913617561587,50,49.999837491683842]
[null,null,null,null,null,null,null,null,null,null,null,null,null,null,null,null,null,null,null,null,null,null,null,null,null,null,null,null,null,null,null,null,null,null,null,null,null,null,null,null,null,null,null,null,3116,0.70138422739108153,50,49.999838585366994]
[null,null,null,null,null,null,null,null,null,null,null,null,null,null,null,null,null,null,null,null,null,null,null,null,null,null,null,null,null,null,null,null,null,null,null,null,null,null,null,null,null,null,null,null,3117,0.70160931860654718,50,49.999839671689642]
[null,null,null,null,null,null,null,null,null,null,null,null,null,null,null,null,null,null,null,null,null,null,null,null,null,null,null,null,null,null,null,null,null,null,null,null,null,null,null,null,null,null,null,null,3118,0.70183440982201295,50,49.999840750701324]
[null,null,null,null,null,null,null,null,null,null,null,null,null,null,null,null,null,null,null,null,null,null,null,null,null,null,null,null,null,null,null,null,null,null,null,null,null,null,null,null,null,null,null,null,3119,0.70205950103747861,50,49.999841822451245]
[null,null,null,null,null,null,null,null,null,null,null,null,null,null,null,null,null,null,null,null,null,null,null,null,null,null,null,null,null,null,null,null,null,null,null,null,null,null,null,null,null,null,null,null,3120,0.70228459225294426,50,49.999842886988276]
[null,null,null,null,null,null,null,null,null,null,null,null,null,null,null,null,null,null,null,null,null,null,null,null,null,null,null,null,null,null,null,null,null,null,null,null,null,null,null,null,null,null,null,null,3121,0.70250968346841003,50,49.999843944360954]
[null,null,null,null,null,null,null,null,null,null,null,null,null,null,null,null,null,null,null,null,null,null,null,null,null,null,null,null,null,null,null,null,null,null,null,null,null,null,null,null,null,null,null,null,3122,0.70273477468387568,50,49.999844994617497]
[null,null,null,null,null,null,null,null,null,null,null,null,null,null,null,null,null,null,null,null,null,null,null,null,null,null,null,null,null,null,null,null,null,null,null,null,null,null,null,null,null,null,null,null,3123,0.70295986589934134,50,49.999846037805803]
[null,null,null,null,null,null,null,null,null,null,null,null,null,null,null,null,null,null,null,null,null,null,null,null,null,null,null,null,null,null,null,null,null,null,null,null,null,null,null,null,null,null,null,null,3124,0.703184957114807,50,49.999847073973434]
[null,null,null,null,null,null,null,null,null,null,null,null,null,null,null,null,null,null,null,null,null,null,null,null,null,null,null,null,null,null,null,null,null,null,null,null,null,null,null,null,null,null,null,null,3125,0.70341004833027276,50,49.999848103167643]
[null,null,null,null,null,null,null,null,null,null,null,null,null,null,null,null,null,null,null,null,null,null,null,null,null,null,null,null,null,null,null,null,null,null,null,null,null,null,null,null,null,null,null,null,3126,0.70363513954573842,50,49.999849125435368]
[null,null,null,null,null,null,null,null,null,null,null,null,null,null,null,null,null,null,null,null,null,null,null,null,null,null,null,null,null,null,null,null,null,null,null,null,null,null,null,null,null,null,null,null,3127,0.70386023076120408,50,49.999850140823213]
[null,null,null,null,null,null,null,null,null,null,null,null,null,null,null,null,null,null,null,null,null,null,null,null,null,null,null,null,null,null,null,null,null,null,null,null,null,null,null,null,null,null,null,null,3128,0.70408532197666984,50,49.999851149377491]
[null,null,null,null,null,null,null,null,null,null,null,null,null,null,null,null,null,null,null,null,null,null,null,null,null,null,null,null,null,null,null,null,null,null,null,null,null,null,null,null,null,null,null,null,3129,0.7043104131921355,50,49.999852151144175]
[null,null,null,null,null,null,null,null,null,null,null,null,null,null,null,null,null,null,null,null,null,null,null,null,null,null,null,null,null,null,null,null,null,null,null,null,null,null,null,null,null,null,null,null,3130,0.70453550440760115,50,49.999853146168959]
[null,null,null,null,null,null,null,null,null,null,null,null,null,null,null,null,null,null,null,null,null,null,null,null,null,null,null,null,null,null,null,null,null,null,null,null,null,null,null,null,null,null,null,null,3131,0.70476059562306681,50,49.99985413449722]
[null,null,null,null,null,null,null,null,null,null,null,null,null,null,null,null,null,null,null,null,null,null,null,null,null,null,null,null,null,null,null,null,null,null,null,null,null,null,null,null,null,null,null,null,3132,0.70498568683853258,50,49.999855116174011]
[null,null,null,null,null,null,null,null,null,null,null,null,null,null,null,null,null,null,null,null,null,null,null,null,null,null,null,null,null,null,null,null,null,null,null,null,null,null,null,null,null,null,null,null,3133,0.70521077805399823,50,49.999856091244105]
[null,null,null,null,null,null,null,null,null,null,null,null,null,null,null,null,null,null,null,null,null,null,null,null,null,null,null,null,null,null,null,null,null,null,null,null,null,null,null,null,null,null,null,null,3134,0.70543586926946389,50,49.99985705975196]
[null,null,null,null,null,null,null,null,null,null,null,null,null,null,null,null,null,null,null,null,null,null,null,null,null,null,null,null,null,null,null,null,null,null,null,null,null,null,null,null,null,null,null,null,3135,0.70566096048492966,50,49.999858021741751]
[null,null,null,null,null,null,null,null,null,null,null,null,null,null,null,null,null,null,null,null,null,null,null,null,null,null,null,null,null,null,null,null,null,null,null,null,null,null,null,null,null,null,null,null,3136,{"$f":"$AP$18/$N$7*AS3167","v":0.70588605170039531},50,49.999858977257333]
[null,null,null,null,null,null,null,null,null,null,null,null,null,null,null,null,null,null,null,null,null,null,null,null,null,null,null,null,null,null,null,null,null,null,null,null,null,null,null,null,null,null,null,null,{"$f":"AS3167+1","v":3137},0.70611114291586097,{"$f":"IF(($N$4*AT3168^2/2)<=$AP$13,($N$4*AT3168^2/2), IF(($AP$13+$N$6*(AT3168-$AP$12))<=$AP$17, ($AP$13+$N$6*(AT3168-$AP$12)), IF(AU3167<$D$14, ($AP$17+($N$6-$N$5*(AT3168-$AP$16)/2)*(AT3168-$AP$16)), $D$14)))","v":50},49.999859926342282]
[null,null,null,null,null,null,null,null,null,null,null,null,null,null,null,null,null,null,null,null,null,null,null,null,null,null,null,null,null,null,null,null,null,null,null,null,null,null,null,null,null,null,null,null,3138,0.70633623413132662,50,{"$f":"( $AP$6*AU3169 + $AP$7*AU3168 + $AP$9*AV3168 )/$AP$8","v":49.999860869039878}]
[null,null,null,null,null,null,null,null,null,null,null,null,null,null,null,null,null,null,null,null,null,null,null,null,null,null,null,null,null,null,null,null,null,null,null,null,null,null,null,null,null,null,null,null,3139,0.70656132534679239,50,49.99986180539311]
[null,null,null,null,null,null,null,null,null,null,null,null,null,null,null,null,null,null,null,null,null,null,null,null,null,null,null,null,null,null,null,null,null,null,null,null,null,null,null,null,null,null,null,null,3140,0.70678641656225805,50,49.999862735444673]
[null,null,null,null,null,null,null,null,null,null,null,null,null,null,null,null,null,null,null,null,null,null,null,null,null,null,null,null,null,null,null,null,null,null,null,null,null,null,null,null,null,null,null,null,3141,0.7070115077777237,50,49.999863659236979]
[null,null,null,null,null,null,null,null,null,null,null,null,null,null,null,null,null,null,null,null,null,null,null,null,null,null,null,null,null,null,null,null,null,null,null,null,null,null,null,null,null,null,null,null,3142,0.70723659899318947,50,49.999864576812143]
[null,null,null,null,null,null,null,null,null,null,null,null,null,null,null,null,null,null,null,null,null,null,null,null,null,null,null,null,null,null,null,null,null,null,null,null,null,null,null,null,null,null,null,null,3143,0.70746169020865513,50,49.999865488212016]
[null,null,null,null,null,null,null,null,null,null,null,null,null,null,null,null,null,null,null,null,null,null,null,null,null,null,null,null,null,null,null,null,null,null,null,null,null,null,null,null,null,null,null,null,3144,0.70768678142412078,50,49.999866393478158]
[null,null,null,null,null,null,null,null,null,null,null,null,null,null,null,null,null,null,null,null,null,null,null,null,null,null,null,null,null,null,null,null,null,null,null,null,null,null,null,null,null,null,null,null,3145,0.70791187263958644,50,49.999867292651842]
[null,null,null,null,null,null,null,null,null,null,null,null,null,null,null,null,null,null,null,null,null,null,null,null,null,null,null,null,null,null,null,null,null,null,null,null,null,null,null,null,null,null,null,null,3146,0.7081369638550522,50,49.999868185774083]
[null,null,null,null,null,null,null,null,null,null,null,null,null,null,null,null,null,null,null,null,null,null,null,null,null,null,null,null,null,null,null,null,null,null,null,null,null,null,null,null,null,null,null,null,3147,0.70836205507051786,50,49.999869072885595]
[null,null,null,null,null,null,null,null,null,null,null,null,null,null,null,null,null,null,null,null,null,null,null,null,null,null,null,null,null,null,null,null,null,null,null,null,null,null,null,null,null,null,null,null,3148,0.70858714628598352,50,49.999869954026828]
[null,null,null,null,null,null,null,null,null,null,null,null,null,null,null,null,null,null,null,null,null,null,null,null,null,null,null,null,null,null,null,null,null,null,null,null,null,null,null,null,null,null,null,null,3149,0.70881223750144917,50,49.99987082923797]
[null,null,null,null,null,null,null,null,null,null,null,null,null,null,null,null,null,null,null,null,null,null,null,null,null,null,null,null,null,null,null,null,null,null,null,null,null,null,null,null,null,null,null,null,3150,0.70903732871691494,50,49.999871698558934]
[null,null,null,null,null,null,null,null,null,null,null,null,null,null,null,null,null,null,null,null,null,null,null,null,null,null,null,null,null,null,null,null,null,null,null,null,null,null,null,null,null,null,null,null,3151,0.70926241993238059,50,49.99987256202936]
[null,null,null,null,null,null,null,null,null,null,null,null,null,null,null,null,null,null,null,null,null,null,null,null,null,null,null,null,null,null,null,null,null,null,null,null,null,null,null,null,null,null,null,null,3152,0.70948751114784625,50,49.999873419688612]
[null,null,null,null,null,null,null,null,null,null,null,null,null,null,null,null,null,null,null,null,null,null,null,null,null,null,null,null,null,null,null,null,null,null,null,null,null,null,null,null,null,null,null,null,3153,0.70971260236331202,50,49.999874271575813]
[null,null,null,null,null,null,null,null,null,null,null,null,null,null,null,null,null,null,null,null,null,null,null,null,null,null,null,null,null,null,null,null,null,null,null,null,null,null,null,null,null,null,null,null,3154,0.70993769357877767,50,49.999875117729793]
[null,null,null,null,null,null,null,null,null,null,null,null,null,null,null,null,null,null,null,null,null,null,null,null,null,null,null,null,null,null,null,null,null,null,null,null,null,null,null,null,null,null,null,null,3155,0.71016278479424333,50,49.999875958189151]
[null,null,null,null,null,null,null,null,null,null,null,null,null,null,null,null,null,null,null,null,null,null,null,null,null,null,null,null,null,null,null,null,null,null,null,null,null,null,null,null,null,null,null,null,3156,0.71038787600970899,50,49.999876792992204]
[null,null,null,null,null,null,null,null,null,null,null,null,null,null,null,null,null,null,null,null,null,null,null,null,null,null,null,null,null,null,null,null,null,null,null,null,null,null,null,null,null,null,null,null,3157,0.71061296722517475,50,49.999877622177024]
[null,null,null,null,null,null,null,null,null,null,null,null,null,null,null,null,null,null,null,null,null,null,null,null,null,null,null,null,null,null,null,null,null,null,null,null,null,null,null,null,null,null,null,null,3158,0.71083805844064041,50,49.999878445781412]
[null,null,null,null,null,null,null,null,null,null,null,null,null,null,null,null,null,null,null,null,null,null,null,null,null,null,null,null,null,null,null,null,null,null,null,null,null,null,null,null,null,null,null,null,3159,0.71106314965610606,50,49.999879263842935]
[null,null,null,null,null,null,null,null,null,null,null,null,null,null,null,null,null,null,null,null,null,null,null,null,null,null,null,null,null,null,null,null,null,null,null,null,null,null,null,null,null,null,null,null,3160,0.71128824087157183,50,49.999880076398895]
[null,null,null,null,null,null,null,null,null,null,null,null,null,null,null,null,null,null,null,null,null,null,null,null,null,null,null,null,null,null,null,null,null,null,null,null,null,null,null,null,null,null,null,null,3161,0.71151333208703749,50,49.999880883486341]
[null,null,null,null,null,null,null,null,null,null,null,null,null,null,null,null,null,null,null,null,null,null,null,null,null,null,null,null,null,null,null,null,null,null,null,null,null,null,null,null,null,null,null,null,3162,0.71173842330250314,50,49.999881685142071]
[null,null,null,null,null,null,null,null,null,null,null,null,null,null,null,null,null,null,null,null,null,null,null,null,null,null,null,null,null,null,null,null,null,null,null,null,null,null,null,null,null,null,null,null,3163,0.7119635145179688,50,49.999882481402651]
[null,null,null,null,null,null,null,null,null,null,null,null,null,null,null,null,null,null,null,null,null,null,null,null,null,null,null,null,null,null,null,null,null,null,null,null,null,null,null,null,null,null,null,null,3164,0.71218860573343457,50,49.999883272304388]
[null,null,null,null,null,null,null,null,null,null,null,null,null,null,null,null,null,null,null,null,null,null,null,null,null,null,null,null,null,null,null,null,null,null,null,null,null,null,null,null,null,null,null,null,3165,0.71241369694890022,50,49.999884057883349]
[null,null,null,null,null,null,null,null,null,null,null,null,null,null,null,null,null,null,null,null,null,null,null,null,null,null,null,null,null,null,null,null,null,null,null,null,null,null,null,null,null,null,null,null,3166,0.71263878816436588,50,49.999884838175348]
[null,null,null,null,null,null,null,null,null,null,null,null,null,null,null,null,null,null,null,null,null,null,null,null,null,null,null,null,null,null,null,null,null,null,null,null,null,null,null,null,null,null,null,null,3167,0.71286387937983164,50,49.999885613215973]
[null,null,null,null,null,null,null,null,null,null,null,null,null,null,null,null,null,null,null,null,null,null,null,null,null,null,null,null,null,null,null,null,null,null,null,null,null,null,null,null,null,null,null,null,3168,0.7130889705952973,50,49.999886383040568]
[null,null,null,null,null,null,null,null,null,null,null,null,null,null,null,null,null,null,null,null,null,null,null,null,null,null,null,null,null,null,null,null,null,null,null,null,null,null,null,null,null,null,null,null,3169,0.71331406181076296,50,49.999887147684227]
[null,null,null,null,null,null,null,null,null,null,null,null,null,null,null,null,null,null,null,null,null,null,null,null,null,null,null,null,null,null,null,null,null,null,null,null,null,null,null,null,null,null,null,null,3170,0.71353915302622861,50,49.999887907181829]
[null,null,null,null,null,null,null,null,null,null,null,null,null,null,null,null,null,null,null,null,null,null,null,null,null,null,null,null,null,null,null,null,null,null,null,null,null,null,null,null,null,null,null,null,3171,0.71376424424169438,50,49.999888661568001]
[null,null,null,null,null,null,null,null,null,null,null,null,null,null,null,null,null,null,null,null,null,null,null,null,null,null,null,null,null,null,null,null,null,null,null,null,null,null,null,null,null,null,null,null,3172,0.71398933545716003,50,49.999889410877138]
[null,null,null,null,null,null,null,null,null,null,null,null,null,null,null,null,null,null,null,null,null,null,null,null,null,null,null,null,null,null,null,null,null,null,null,null,null,null,null,null,null,null,null,null,3173,0.71421442667262569,50,49.999890155143419]
[null,null,null,null,null,null,null,null,null,null,null,null,null,null,null,null,null,null,null,null,null,null,null,null,null,null,null,null,null,null,null,null,null,null,null,null,null,null,null,null,null,null,null,null,3174,0.71443951788809146,50,49.999890894400778]
[null,null,null,null,null,null,null,null,null,null,null,null,null,null,null,null,null,null,null,null,null,null,null,null,null,null,null,null,null,null,null,null,null,null,null,null,null,null,null,null,null,null,null,null,3175,0.71466460910355711,50,49.999891628682924]
[null,null,null,null,null,null,null,null,null,null,null,null,null,null,null,null,null,null,null,null,null,null,null,null,null,null,null,null,null,null,null,null,null,null,null,null,null,null,null,null,null,null,null,null,3176,0.71488970031902277,50,49.999892358023345]
[null,null,null,null,null,null,null,null,null,null,null,null,null,null,null,null,null,null,null,null,null,null,null,null,null,null,null,null,null,null,null,null,null,null,null,null,null,null,null,null,null,null,null,null,3177,0.71511479153448843,50,49.999893082455294]
[null,null,null,null,null,null,null,null,null,null,null,null,null,null,null,null,null,null,null,null,null,null,null,null,null,null,null,null,null,null,null,null,null,null,null,null,null,null,null,null,null,null,null,null,3178,0.71533988274995419,50,49.999893802011805]
[null,null,null,null,null,null,null,null,null,null,null,null,null,null,null,null,null,null,null,null,null,null,null,null,null,null,null,null,null,null,null,null,null,null,null,null,null,null,null,null,null,null,null,null,3179,0.71556497396541985,50,49.999894516725689]
[null,null,null,null,null,null,null,null,null,null,null,null,null,null,null,null,null,null,null,null,null,null,null,null,null,null,null,null,null,null,null,null,null,null,null,null,null,null,null,null,null,null,null,null,3180,0.7157900651808855,50,49.99989522662954]
[null,null,null,null,null,null,null,null,null,null,null,null,null,null,null,null,null,null,null,null,null,null,null,null,null,null,null,null,null,null,null,null,null,null,null,null,null,null,null,null,null,null,null,null,3181,0.71601515639635127,50,49.999895931755731]
[null,null,null,null,null,null,null,null,null,null,null,null,null,null,null,null,null,null,null,null,null,null,null,null,null,null,null,null,null,null,null,null,null,null,null,null,null,null,null,null,null,null,null,null,3182,0.71624024761181693,50,49.999896632136412]
[null,null,null,null,null,null,null,null,null,null,null,null,null,null,null,null,null,null,null,null,null,null,null,null,null,null,null,null,null,null,null,null,null,null,null,null,null,null,null,null,null,null,null,null,3183,0.71646533882728258,50,49.999897327803524]
[null,null,null,null,null,null,null,null,null,null,null,null,null,null,null,null,null,null,null,null,null,null,null,null,null,null,null,null,null,null,null,null,null,null,null,null,null,null,null,null,null,null,null,null,3184,0.71669043004274824,50,49.999898018788784]
[null,null,null,null,null,null,null,null,null,null,null,null,null,null,null,null,null,null,null,null,null,null,null,null,null,null,null,null,null,null,null,null,null,null,null,null,null,null,null,null,null,null,null,null,3185,0.71691552125821401,50,49.999898705123705]
[null,null,null,null,null,null,null,null,null,null,null,null,null,null,null,null,null,null,null,null,null,null,null,null,null,null,null,null,null,null,null,null,null,null,null,null,null,null,null,null,null,null,null,null,3186,0.71714061247367966,50,49.99989938683958]
[null,null,null,null,null,null,null,null,null,null,null,null,null,null,null,null,null,null,null,null,null,null,null,null,null,null,null,null,null,null,null,null,null,null,null,null,null,null,null,null,null,null,null,null,3187,0.71736570368914532,50,49.999900063967502]
[null,null,null,null,null,null,null,null,null,null,null,null,null,null,null,null,null,null,null,null,null,null,null,null,null,null,null,null,null,null,null,null,null,null,null,null,null,null,null,null,null,null,null,null,3188,0.71759079490461108,50,49.999900736538343]
[null,null,null,null,null,null,null,null,null,null,null,null,null,null,null,null,null,null,null,null,null,null,null,null,null,null,null,null,null,null,null,null,null,null,null,null,null,null,null,null,null,null,null,null,3189,0.71781588612007674,50,49.999901404582772]
[null,null,null,null,null,null,null,null,null,null,null,null,null,null,null,null,null,null,null,null,null,null,null,null,null,null,null,null,null,null,null,null,null,null,null,null,null,null,null,null,null,null,null,null,3190,0.7180409773355424,50,49.999902068131249]
[null,null,null,null,null,null,null,null,null,null,null,null,null,null,null,null,null,null,null,null,null,null,null,null,null,null,null,null,null,null,null,null,null,null,null,null,null,null,null,null,null,null,null,null,3191,0.71826606855100805,50,49.999902727214035]
[null,null,null,null,null,null,null,null,null,null,null,null,null,null,null,null,null,null,null,null,null,null,null,null,null,null,null,null,null,null,null,null,null,null,null,null,null,null,null,null,null,null,null,null,3192,0.71849115976647382,50,49.999903381861188]
[null,null,null,null,null,null,null,null,null,null,null,null,null,null,null,null,null,null,null,null,null,null,null,null,null,null,null,null,null,null,null,null,null,null,null,null,null,null,null,null,null,null,null,null,3193,0.71871625098193948,50,49.999904032102556]
[null,null,null,null,null,null,null,null,null,null,null,null,null,null,null,null,null,null,null,null,null,null,null,null,null,null,null,null,null,null,null,null,null,null,null,null,null,null,null,null,null,null,null,null,3194,0.71894134219740513,50,49.999904677967791]
[null,null,null,null,null,null,null,null,null,null,null,null,null,null,null,null,null,null,null,null,null,null,null,null,null,null,null,null,null,null,null,null,null,null,null,null,null,null,null,null,null,null,null,null,3195,0.71916643341287079,50,49.999905319486345]
[null,null,null,null,null,null,null,null,null,null,null,null,null,null,null,null,null,null,null,null,null,null,null,null,null,null,null,null,null,null,null,null,null,null,null,null,null,null,null,null,null,null,null,null,3196,0.71939152462833655,50,49.999905956687471]
[null,null,null,null,null,null,null,null,null,null,null,null,null,null,null,null,null,null,null,null,null,null,null,null,null,null,null,null,null,null,null,null,null,null,null,null,null,null,null,null,null,null,null,null,3197,0.71961661584380221,50,49.999906589600229]
[null,null,null,null,null,null,null,null,null,null,null,null,null,null,null,null,null,null,null,null,null,null,null,null,null,null,null,null,null,null,null,null,null,null,null,null,null,null,null,null,null,null,null,null,3198,0.71984170705926787,50,49.999907218253469]
[null,null,null,null,null,null,null,null,null,null,null,null,null,null,null,null,null,null,null,null,null,null,null,null,null,null,null,null,null,null,null,null,null,null,null,null,null,null,null,null,null,null,null,null,3199,0.72006679827473363,50,49.999907842675867]
[null,null,null,null,null,null,null,null,null,null,null,null,null,null,null,null,null,null,null,null,null,null,null,null,null,null,null,null,null,null,null,null,null,null,null,null,null,null,null,null,null,null,null,null,3200,{"$f":"$AP$18/$N$7*AS3231","v":0.72029188949019929},50,49.999908462895895]

{"sheet":"DataSerch","index":1,"n_rows":338,"n_cols":20,"rows_kept":338,"cut":false,"hidden":true,"merged":[[124,17,124,18],[23,1,23,2],[57,1,57,2],[23,3,23,4],[112,14,112,18]]}
["選択型式","メカ機種データレコード",null,null,null,null,null,null,null,null,null,null,":$110","：「メカ機種データ」範囲検索"]
[{"$f":"CycleTime!C6","v":"RCA-SA4C-20"},"№",{"$f":"ModelData!$B$2","v":"ｱｸﾁｭｴｰﾀ型式"},null,null,null,null,{"$f":"ModelData!$C$2","v":"最小ｽﾄﾛｰｸ"},{"$f":"ModelData!$D$2","v":"最大ｽﾄﾛｰｸ"},{"$f":"ModelData!$E$2","v":"動作種別"},null,null,null,"：「モータ機種データ」範囲検索"]
[null,{"$f":"MATCH(A2,ModelData!$B$4:$B$110,0)","v":9},{"$f":"LOOKUP(B3,ModelData!$A$4:$A$110,ModelData!$B$4:$B$110)","v":"RCA-SA4C-20"},null,null,null,null,{"$f":"LOOKUP(B3,ModelData!$A$4:$A$110,ModelData!$C$4:$C$110)","v":50},{"$f":"LOOKUP(B3,ModelData!$A$4:$A$110,ModelData!$D$4:$D$110)","v":400},{"$f":"LOOKUP(B3,ModelData!$A$4:$A$110,ModelData!$E$4:$E$110)","v":0},null,null,":$294","：「リードデータ」範囲検索"]
["リード",null,null,null,"[kg]","[mm]","[mm]","[mm]","[mm]","0/1","[K]",null,":$404","：「ストロークデータ」範囲検索"]
[{"$f":"CycleTime!C8","v":2.5},null,null,null,null,null,null,{"$f":"H3","v":50},{"$f":"I3","v":400},{"$f":"J3","v":0},null,null,":$618","：「搬送負荷データ」範囲検索"]
[null,null,null,null,null,null,null,null,null,null,null,null,":$618","：「加減速・速度データ」範囲検索"]
["ストローク","モータ機種レコード"]
[{"$f":"CycleTime!C10","v":50}]
[]
["設置姿勢",null,null,"[Nm/A]","[A]","[kgm^2]","[Nm]","[Nm]","[rad/s]","[rad/s]","[rad/s]","[Nm/(rad/s)]","[K]","[K]","[s]"]
[{"$f":"IF(CycleTime!C12=CycleTime!AE20,0,1)","v":0}]
[]
["搬送負荷質量","リレーション",null,null,null,"リードデータレコード",null,null,{"$f":"LOOKUP(C15,LeadData!$A$4:$A$294,LeadData!$J$4:$J$294)","v":"RCA-SA4C-20"}]
[{"$f":"CycleTime!B31","v":8},null,"ﾘｰﾄﾞ№","ｽﾄﾛｰｸ№","負荷№",{"$f":"LeadData!$B$2","v":"ﾘｰﾄﾞ長"},null,{"$f":"LeadData!$C$2","v":"水平定格加速度"},{"$f":"LeadData!$D$2","v":"垂直定格加速度"},{"$f":"LeadData!$E$2","v":"水平最大加速度"},{"$f":"LeadData!$F$2","v":"垂直最大加速度"},null,null,null,{"$f":"LeadData!$G$2","v":"ｷﾞｱ比分子"},{"$f":"LeadData!$H$2","v":"ｷﾞｱ比分母"},null,{"$f":"LeadData!$I$2","v":"ｽﾄﾛｰｸ刻み"}]
[null,{"$f":"ModelData!$F$2","v":"リンク[0]"},{"$f":"LOOKUP(B3,ModelData!$A$4:$A$110,ModelData!$F$4:$F$110)","v":25},{"$f":"LOOKUP(B3,ModelData!$A$4:$A$110,ModelData!$G$4:$G$110)","v":85},{"$f":"LOOKUP(B3,ModelData!$A$4:$A$110,ModelData!$H$4:$H$110)","v":49},{"$f":"LOOKUP(C15,LeadData!$A$4:$A$294,LeadData!$B$4:$B$294)","v":2500},null,{"$f":"LOOKUP(C15,LeadData!$A$4:$A$294,LeadData!$C$4:$C$294)","v":1961330},{"$f":"LOOKUP(C15,LeadData!$A$4:$A$294,LeadData!$D$4:$D$294)","v":1961330},{"$f":"LOOKUP(C15,LeadData!$A$4:$A$294,LeadData!$E$4:$E$294)","v":1961330},{"$f":"LOOKUP(C15,LeadData!$A$4:$A$294,LeadData!$F$4:$F$294)","v":1961330},null,null,null,{"$f":"LOOKUP(C15,LeadData!$A$4:$A$294,LeadData!$G$4:$G$294)","v":1},{"$f":"LOOKUP(C15,LeadData!$A$4:$A$294,LeadData!$H$4:$H$294)","v":1},null,{"$f":"LOOKUP(C15,LeadData!$A$4:$A$294,LeadData!$I$4:$I$294)","v":50}]
[null,{"$f":"ModelData!$I$2","v":"リンク[1]"},{"$f":"LOOKUP(B3,ModelData!$A$4:$A$110,ModelData!$I$4:$I$110)","v":26},{"$f":"LOOKUP(B3,ModelData!$A$4:$A$110,ModelData!$J$4:$J$110)","v":86},{"$f":"LOOKUP(B3,ModelData!$A$4:$A$110,ModelData!$K$4:$K$110)","v":51},{"$f":"LOOKUP(C16,LeadData!$A$4:$A$294,LeadData!$B$4:$B$294)","v":5000},null,{"$f":"LOOKUP(C16,LeadData!$A$4:$A$294,LeadData!$C$4:$C$294)","v":2941995},{"$f":"LOOKUP(C16,LeadData!$A$4:$A$294,LeadData!$D$4:$D$294)","v":2941995},{"$f":"LOOKUP(C16,LeadData!$A$4:$A$294,LeadData!$E$4:$E$294)","v":2941995},{"$f":"LOOKUP(C16,LeadData!$A$4:$A$294,LeadData!$F$4:$F$294)","v":2941995},null,null,null,{"$f":"LOOKUP(C16,LeadData!$A$4:$A$294,LeadData!$G$4:$G$294)","v":1},{"$f":"LOOKUP(C16,LeadData!$A$4:$A$294,LeadData!$H$4:$H$294)","v":1},null,{"$f":"LOOKUP(C16,LeadData!$A$4:$A$294,LeadData!$I$4:$I$294)","v":50}]
[null,{"$f":"ModelData!$L$2","v":"リンク[2]"},{"$f":"LOOKUP(B3,ModelData!$A$4:$A$110,ModelData!$L$4:$L$110)","v":27},{"$f":"LOOKUP(B3,ModelData!$A$4:$A$110,ModelData!$M$4:$M$110)","v":87},{"$f":"LOOKUP(B3,ModelData!$A$4:$A$110,ModelData!$N$4:$N$110)","v":53},{"$f":"LOOKUP(C17,LeadData!$A$4:$A$294,LeadData!$B$4:$B$294)","v":10000},null,{"$f":"LOOKUP(C17,LeadData!$A$4:$A$294,LeadData!$C$4:$C$294)","v":2941995},{"$f":"LOOKUP(C17,LeadData!$A$4:$A$294,LeadData!$D$4:$D$294)","v":2941995},{"$f":"LOOKUP(C17,LeadData!$A$4:$A$294,LeadData!$E$4:$E$294)","v":2941995},{"$f":"LOOKUP(C17,LeadData!$A$4:$A$294,LeadData!$F$4:$F$294)","v":2941995},null,null,null,{"$f":"LOOKUP(C17,LeadData!$A$4:$A$294,LeadData!$G$4:$G$294)","v":1},{"$f":"LOOKUP(C17,LeadData!$A$4:$A$294,LeadData!$H$4:$H$294)","v":1},null,{"$f":"LOOKUP(C17,LeadData!$A$4:$A$294,LeadData!$I$4:$I$294)","v":50}]
[null,{"$f":"ModelData!$O$2","v":"リンク[3]"},{"$f":"LOOKUP(B3,ModelData!$A$4:$A$110,ModelData!$O$4:$O$110)","v":-1},{"$f":"LOOKUP(B3,ModelData!$A$4:$A$110,ModelData!$P$4:$P$110)","v":-1},{"$f":"LOOKUP(B3,ModelData!$A$4:$A$110,ModelData!$Q$4:$Q$110)","v":-1},{"$f":"LOOKUP(C18,LeadData!$A$4:$A$294,LeadData!$B$4:$B$294)","v":{"$error":"#N/A"}},null,{"$f":"LOOKUP(C18,LeadData!$A$4:$A$294,LeadData!$C$4:$C$294)","v":{"$error":"#N/A"}},{"$f":"LOOKUP(C18,LeadData!$A$4:$A$294,LeadData!$D$4:$D$294)","v":{"$error":"#N/A"}},{"$f":"LOOKUP(C18,LeadData!$A$4:$A$294,LeadData!$E$4:$E$294)","v":{"$error":"#N/A"}},{"$f":"LOOKUP(C18,LeadData!$A$4:$A$294,LeadData!$F$4:$F$294)","v":{"$error":"#N/A"}},null,null,null,{"$f":"LOOKUP(C18,LeadData!$A$4:$A$294,LeadData!$G$4:$G$294)","v":{"$error":"#N/A"}},{"$f":"LOOKUP(C18,LeadData!$A$4:$A$294,LeadData!$H$4:$H$294)","v":{"$error":"#N/A"}},null,{"$f":"LOOKUP(C18,LeadData!$A$4:$A$294,LeadData!$I$4:$I$294)","v":{"$error":"#N/A"}}]
[null,{"$f":"ModelData!$R$2","v":"リンク[4]"},{"$f":"LOOKUP(B3,ModelData!$A$4:$A$110,ModelData!$R$4:$R$110)","v":-1},{"$f":"LOOKUP(B3,ModelData!$A$4:$A$110,ModelData!$S$4:$S$110)","v":-1},{"$f":"LOOKUP(B3,ModelData!$A$4:$A$110,ModelData!$T$4:$T$110)","v":-1},{"$f":"LOOKUP(C19,LeadData!$A$4:$A$294,LeadData!$B$4:$B$294)","v":{"$error":"#N/A"}},null,{"$f":"LOOKUP(C19,LeadData!$A$4:$A$294,LeadData!$C$4:$C$294)","v":{"$error":"#N/A"}},{"$f":"LOOKUP(C19,LeadData!$A$4:$A$294,LeadData!$D$4:$D$294)","v":{"$error":"#N/A"}},{"$f":"LOOKUP(C19,LeadData!$A$4:$A$294,LeadData!$E$4:$E$294)","v":{"$error":"#N/A"}},{"$f":"LOOKUP(C19,LeadData!$A$4:$A$294,LeadData!$F$4:$F$294)","v":{"$error":"#N/A"}},null,null,null,{"$f":"LOOKUP(C19,LeadData!$A$4:$A$294,LeadData!$G$4:$G$294)","v":{"$error":"#N/A"}},{"$f":"LOOKUP(C19,LeadData!$A$4:$A$294,LeadData!$H$4:$H$294)","v":{"$error":"#N/A"}},null,{"$f":"LOOKUP(C19,LeadData!$A$4:$A$294,LeadData!$I$4:$I$294)","v":{"$error":"#N/A"}}]
[null,{"$f":"ModelData!$U$2","v":"リンク[5]"},{"$f":"LOOKUP(B3,ModelData!$A$4:$A$110,ModelData!$U$4:$U$110)","v":-1},{"$f":"LOOKUP(B3,ModelData!$A$4:$A$110,ModelData!$V$4:$V$110)","v":-1},{"$f":"LOOKUP(B3,ModelData!$A$4:$A$110,ModelData!$W$4:$W$110)","v":-1},{"$f":"LOOKUP(C20,LeadData!$A$4:$A$294,LeadData!$B$4:$B$294)","v":{"$error":"#N/A"}},null,{"$f":"LOOKUP(C20,LeadData!$A$4:$A$294,LeadData!$C$4:$C$294)","v":{"$error":"#N/A"}},{"$f":"LOOKUP(C20,LeadData!$A$4:$A$294,LeadData!$D$4:$D$294)","v":{"$error":"#N/A"}},{"$f":"LOOKUP(C20,LeadData!$A$4:$A$294,LeadData!$E$4:$E$294)","v":{"$error":"#N/A"}},{"$f":"LOOKUP(C20,LeadData!$A$4:$A$294,LeadData!$F$4:$F$294)","v":{"$error":"#N/A"}},null,null,null,{"$f":"LOOKUP(C20,LeadData!$A$4:$A$294,LeadData!$G$4:$G$294)","v":{"$error":"#N/A"}},{"$f":"LOOKUP(C20,LeadData!$A$4:$A$294,LeadData!$H$4:$H$294)","v":{"$error":"#N/A"}},null,{"$f":"LOOKUP(C20,LeadData!$A$4:$A$294,LeadData!$I$4:$I$294)","v":{"$error":"#N/A"}}]
[null,{"$f":"ModelData!$X$2","v":"リンク[6]"},{"$f":"LOOKUP(B3,ModelData!$A$4:$A$110,ModelData!$X$4:$X$110)","v":-1},{"$f":"LOOKUP(B3,ModelData!$A$4:$A$110,ModelData!$Y$4:$Y$110)","v":-1},{"$f":"LOOKUP(B3,ModelData!$A$4:$A$110,ModelData!$Z$4:$Z$110)","v":-1},{"$f":"LOOKUP(C21,LeadData!$A$4:$A$294,LeadData!$B$4:$B$294)","v":{"$error":"#N/A"}},null,{"$f":"LOOKUP(C21,LeadData!$A$4:$A$294,LeadData!$C$4:$C$294)","v":{"$error":"#N/A"}},{"$f":"LOOKUP(C21,LeadData!$A$4:$A$294,LeadData!$D$4:$D$294)","v":{"$error":"#N/A"}},{"$f":"LOOKUP(C21,LeadData!$A$4:$A$294,LeadData!$E$4:$E$294)","v":{"$error":"#N/A"}},{"$f":"LOOKUP(C21,LeadData!$A$4:$A$294,LeadData!$F$4:$F$294)","v":{"$error":"#N/A"}},null,null,null,{"$f":"LOOKUP(C21,LeadData!$A$4:$A$294,LeadData!$G$4:$G$294)","v":{"$error":"#N/A"}},{"$f":"LOOKUP(C21,LeadData!$A$4:$A$294,LeadData!$H$4:$H$294)","v":{"$error":"#N/A"}},null,{"$f":"LOOKUP(C21,LeadData!$A$4:$A$294,LeadData!$I$4:$I$294)","v":{"$error":"#N/A"}}]
[null,{"$f":"ModelData!$AA$2","v":"リンク[7]"},{"$f":"LOOKUP(B3,ModelData!$A$4:$A$110,ModelData!$AA$4:$AA$110)","v":-1},{"$f":"LOOKUP(B3,ModelData!$A$4:$A$110,ModelData!$AB$4:$AB$110)","v":-1},{"$f":"LOOKUP(B3,ModelData!$A$4:$A$110,ModelData!$AC$4:$AC$110)","v":-1},{"$f":"LOOKUP(C22,LeadData!$A$4:$A$294,LeadData!$B$4:$B$294)","v":{"$error":"#N/A"}},null,{"$f":"LOOKUP(C22,LeadData!$A$4:$A$294,LeadData!$C$4:$C$294)","v":{"$error":"#N/A"}},{"$f":"LOOKUP(C22,LeadData!$A$4:$A$294,LeadData!$D$4:$D$294)","v":{"$error":"#N/A"}},{"$f":"LOOKUP(C22,LeadData!$A$4:$A$294,LeadData!$E$4:$E$294)","v":{"$error":"#N/A"}},{"$f":"LOOKUP(C22,LeadData!$A$4:$A$294,LeadData!$F$4:$F$294)","v":{"$error":"#N/A"}},null,null,null,{"$f":"LOOKUP(C22,LeadData!$A$4:$A$294,LeadData!$G$4:$G$294)","v":{"$error":"#N/A"}},{"$f":"LOOKUP(C22,LeadData!$A$4:$A$294,LeadData!$H$4:$H$294)","v":{"$error":"#N/A"}},null,{"$f":"LOOKUP(C22,LeadData!$A$4:$A$294,LeadData!$I$4:$I$294)","v":{"$error":"#N/A"}}]
[null,"リードリストとリレーション",null,null,null,"リードデータレコードの物理量変換"]
[null,"ﾘｰﾄﾞﾘｽﾄ",null,"リンク",null,{"$f":"LeadData!$B$2","v":"ﾘｰﾄﾞ長"},null,{"$f":"LeadData!$C$2","v":"水平定格加速度"},{"$f":"LeadData!$D$2","v":"垂直定格加速度"},{"$f":"LeadData!$E$2","v":"水平最大加速度"},{"$f":"LeadData!$F$2","v":"垂直最大加速度"},null,null,null,{"$f":"LeadData!$G$2","v":"ｷﾞｱ比分子"},{"$f":"LeadData!$H$2","v":"ｷﾞｱ比分母"},null,{"$f":"LeadData!$I$2","v":"ｽﾄﾛｰｸ刻み"}]
[null,"№","ﾃﾞｰﾀ",{"$f":"D14","v":"ｽﾄﾛｰｸ№"},{"$f":"E14","v":"負荷№"},"[mm]","[kgm^2]","[m/s^2]","[m/s^2]","[m/s^2]","[m/s^2]","[Nm]","[Nms]","[Nm]",null,null,null,"[mm]"]
[null,1,{"$f":"IF(C15=-1,\"- - -\",IF(F26<=0,P26/O26,F26))","v":2.5},{"$f":"D15","v":85},49,{"$f":"F15/1000","v":2.5},null,{"$f":"H15*0.000001","v":1.96133},1.96133,1.96133,1.96133,null,null,null,{"$f":"O15","v":1},{"$f":"P15","v":1},null,{"$f":"R15","v":50}]
[null,{"$f":"B26+1","v":2},5,86,51,5,null,2.9419949999999999,2.9419949999999999,2.9419949999999999,2.9419949999999999,null,null,null,{"$f":"O16","v":1},1,null,{"$f":"R16","v":50}]
[null,{"$f":"B27+1","v":3},10,87,53,10,null,2.9419949999999999,2.9419949999999999,2.9419949999999999,2.9419949999999999,null,null,null,1,1,null,50]
[null,4,"- - -",-1,-1,{"$error":"#N/A"},null,{"$error":"#N/A"},{"$error":"#N/A"},{"$error":"#N/A"},{"$error":"#N/A"},null,null,null,{"$error":"#N/A"},{"$error":"#N/A"},null,{"$error":"#N/A"}]
[null,5,"- - -",-1,-1,{"$error":"#N/A"},null,{"$error":"#N/A"},{"$error":"#N/A"},{"$error":"#N/A"},{"$error":"#N/A"},null,null,null,{"$error":"#N/A"},{"$error":"#N/A"},null,{"$error":"#N/A"}]
[null,6,"- - -",-1,-1,{"$error":"#N/A"},null,{"$error":"#N/A"},{"$error":"#N/A"},{"$error":"#N/A"},{"$error":"#N/A"},null,null,null,{"$error":"#N/A"},{"$error":"#N/A"},null,{"$error":"#N/A"}]
[null,7,"- - -",-1,-1,{"$error":"#N/A"},null,{"$error":"#N/A"},{"$error":"#N/A"},{"$error":"#N/A"},{"$error":"#N/A"},null,null,null,{"$error":"#N/A"},{"$error":"#N/A"},null,{"$error":"#N/A"}]
[null,8,"- - -",-1,-1,{"$error":"#N/A"},null,{"$error":"#N/A"},{"$error":"#N/A"},{"$error":"#N/A"},{"$error":"#N/A"},null,null,null,{"$error":"#N/A"},{"$error":"#N/A"},null,{"$error":"#N/A"}]
[]
[null,"リードリスト選択№",null,{"$f":"MATCH(A5,C26:C33,0)","v":1},"ストロークデータレコード",null,null,{"$f":"LOOKUP(C37,StrokeData!$A$4:$A$404,StrokeData!$M$4:$M$404)","v":"RCA-SA4C-20-2.5"}]
[null,"№","stﾚｺｰﾄﾞ№",{"$f":"StrokeData!$B$2","v":"ｽﾄﾛｰｸ長"},{"$f":"StrokeData!$C$2","v":"有効ｽﾄﾛｰｸ補正"},null,{"$f":"StrokeData!$D$2","v":"基準ｹﾞｲﾝ用搬送質量"},{"$f":"StrokeData!$E$2","v":"水平可搬質量"},{"$f":"StrokeData!$F$2","v":"垂直可搬質量"},{"$f":"StrokeData!$G$2","v":"最大速度"},{"$f":"StrokeData!$H$2","v":"位置ｹﾞｲﾝ"},{"$f":"StrokeData!$I$2","v":"FFｹﾞｲﾝ"},{"$f":"StrokeData!$J$2","v":"速度制御帯域"},null,null,null,null,null,{"$f":"StrokeData!$K$2","v":"前ﾃﾞｰﾀ№"},{"$f":"StrokeData!$L$2","v":"次ﾃﾞｰﾀ№"}]
[null,1,{"$f":"LOOKUP(D35,B26:B33,D26:D33)","v":85},{"$f":"LOOKUP(C37,StrokeData!$A$4:$A$404,StrokeData!$B$4:$B$404)","v":400},{"$f":"LOOKUP(C37,StrokeData!$A$4:$A$404,StrokeData!$C$4:$C$404)","v":0},null,{"$f":"LOOKUP(C37,StrokeData!$A$4:$A$404,StrokeData!$D$4:$D$404)","v":8000},{"$f":"LOOKUP(C37,StrokeData!$A$4:$A$404,StrokeData!$E$4:$E$404)","v":8000},{"$f":"LOOKUP(C37,StrokeData!$A$4:$A$404,StrokeData!$F$4:$F$404)","v":4500},{"$f":"LOOKUP(C37,StrokeData!$A$4:$A$404,StrokeData!$G$4:$G$404)","v":165},{"$f":"LOOKUP(C37,StrokeData!$A$4:$A$404,StrokeData!$H$4:$H$404)","v":30},{"$f":"LOOKUP(C37,StrokeData!$A$4:$A$404,StrokeData!$I$4:$I$404)","v":0},{"$f":"LOOKUP(C37,StrokeData!$A$4:$A$404,StrokeData!$J$4:$J$404)","v":160},null,null,null,null,null,{"$f":"LOOKUP(C37,StrokeData!$A$4:$A$404,StrokeData!$K$4:$K$404)","v":-1},{"$f":"LOOKUP(C37,StrokeData!$A$4:$A$404,StrokeData!$L$4:$L$404)","v":-1}]
[null,{"$f":"B37+1","v":2},{"$f":"IF(C37=-1,-1,LOOKUP(C37,StrokeData!$A$4:$A$404,StrokeData!$L$4:$L$404))","v":-1},{"$f":"LOOKUP(C38,StrokeData!$A$4:$A$404,StrokeData!$B$4:$B$404)","v":{"$error":"#N/A"}},{"$f":"LOOKUP(C38,StrokeData!$A$4:$A$404,StrokeData!$C$4:$C$404)","v":{"$error":"#N/A"}},null,{"$f":"LOOKUP(C38,StrokeData!$A$4:$A$404,StrokeData!$D$4:$D$404)","v":{"$error":"#N/A"}},{"$f":"LOOKUP(C38,StrokeData!$A$4:$A$404,StrokeData!$E$4:$E$404)","v":{"$error":"#N/A"}},{"$f":"LOOKUP(C38,StrokeData!$A$4:$A$404,StrokeData!$F$4:$F$404)","v":{"$error":"#N/A"}},{"$f":"LOOKUP(C38,StrokeData!$A$4:$A$404,StrokeData!$G$4:$G$404)","v":{"$error":"#N/A"}},{"$f":"LOOKUP(C38,StrokeData!$A$4:$A$404,StrokeData!$H$4:$H$404)","v":{"$error":"#N/A"}},{"$f":"LOOKUP(C38,StrokeData!$A$4:$A$404,StrokeData!$I$4:$I$404)","v":{"$error":"#N/A"}},{"$f":"LOOKUP(C38,StrokeData!$A$4:$A$404,StrokeData!$J$4:$J$404)","v":{"$error":"#N/A"}},null,null,null,null,null,{"$f":"LOOKUP(C38,StrokeData!$A$4:$A$404,StrokeData!$K$4:$K$404)","v":{"$error":"#N/A"}},{"$f":"LOOKUP(C38,StrokeData!$A$4:$A$404,StrokeData!$L$4:$L$404)","v":{"$error":"#N/A"}}]
[null,{"$f":"B38+1","v":3},{"$f":"IF(C38=-1,-1,LOOKUP(C38,StrokeData!$A$4:$A$404,StrokeData!$L$4:$L$404))","v":-1},{"$f":"LOOKUP(C39,StrokeData!$A$4:$A$404,StrokeData!$B$4:$B$404)","v":{"$error":"#N/A"}},{"$f":"LOOKUP(C39,StrokeData!$A$4:$A$404,StrokeData!$C$4:$C$404)","v":{"$error":"#N/A"}},null,{"$f":"LOOKUP(C39,StrokeData!$A$4:$A$404,StrokeData!$D$4:$D$404)","v":{"$error":"#N/A"}},{"$f":"LOOKUP(C39,StrokeData!$A$4:$A$404,StrokeData!$E$4:$E$404)","v":{"$error":"#N/A"}},{"$f":"LOOKUP(C39,StrokeData!$A$4:$A$404,StrokeData!$F$4:$F$404)","v":{"$error":"#N/A"}},{"$f":"LOOKUP(C39,StrokeData!$A$4:$A$404,StrokeData!$G$4:$G$404)","v":{"$error":"#N/A"}},{"$f":"LOOKUP(C39,StrokeData!$A$4:$A$404,StrokeData!$H$4:$H$404)","v":{"$error":"#N/A"}},{"$f":"LOOKUP(C39,StrokeData!$A$4:$A$404,StrokeData!$I$4:$I$404)","v":{"$error":"#N/A"}},{"$f":"LOOKUP(C39,StrokeData!$A$4:$A$404,StrokeData!$J$4:$J$404)","v":{"$error":"#N/A"}},null,null,null,null,null,{"$f":"LOOKUP(C39,StrokeData!$A$4:$A$404,StrokeData!$K$4:$K$404)","v":{"$error":"#N/A"}},{"$f":"LOOKUP(C39,StrokeData!$A$4:$A$404,StrokeData!$L$4:$L$404)","v":{"$error":"#N/A"}}]
[null,4,{"$f":"IF(C39=-1,-1,LOOKUP(C39,StrokeData!$A$4:$A$404,StrokeData!$L$4:$L$404))","v":-1},{"$f":"LOOKUP(C40,StrokeData!$A$4:$A$404,StrokeData!$B$4:$B$404)","v":{"$error":"#N/A"}},{"$f":"LOOKUP(C40,StrokeData!$A$4:$A$404,StrokeData!$C$4:$C$404)","v":{"$error":"#N/A"}},null,{"$f":"LOOKUP(C40,StrokeData!$A$4:$A$404,StrokeData!$D$4:$D$404)","v":{"$error":"#N/A"}},{"$f":"LOOKUP(C40,StrokeData!$A$4:$A$404,StrokeData!$E$4:$E$404)","v":{"$error":"#N/A"}},{"$f":"LOOKUP(C40,StrokeData!$A$4:$A$404,StrokeData!$F$4:$F$404)","v":{"$error":"#N/A"}},{"$f":"LOOKUP(C40,StrokeData!$A$4:$A$404,StrokeData!$G$4:$G$404)","v":{"$error":"#N/A"}},{"$f":"LOOKUP(C40,StrokeData!$A$4:$A$404,StrokeData!$H$4:$H$404)","v":{"$error":"#N/A"}},{"$f":"LOOKUP(C40,StrokeData!$A$4:$A$404,StrokeData!$I$4:$I$404)","v":{"$error":"#N/A"}},{"$f":"LOOKUP(C40,StrokeData!$A$4:$A$404,StrokeData!$J$4:$J$404)","v":{"$error":"#N/A"}},null,null,null,null,null,{"$f":"LOOKUP(C40,StrokeData!$A$4:$A$404,StrokeData!$K$4:$K$404)","v":{"$error":"#N/A"}},{"$f":"LOOKUP(C40,StrokeData!$A$4:$A$404,StrokeData!$L$4:$L$404)","v":{"$error":"#N/A"}}]
[null,5,{"$f":"IF(C40=-1,-1,LOOKUP(C40,StrokeData!$A$4:$A$404,StrokeData!$L$4:$L$404))","v":-1},{"$f":"LOOKUP(C41,StrokeData!$A$4:$A$404,StrokeData!$B$4:$B$404)","v":{"$error":"#N/A"}},{"$f":"LOOKUP(C41,StrokeData!$A$4:$A$404,StrokeData!$C$4:$C$404)","v":{"$error":"#N/A"}},null,{"$f":"LOOKUP(C41,StrokeData!$A$4:$A$404,StrokeData!$D$4:$D$404)","v":{"$error":"#N/A"}},{"$f":"LOOKUP(C41,StrokeData!$A$4:$A$404,StrokeData!$E$4:$E$404)","v":{"$error":"#N/A"}},{"$f":"LOOKUP(C41,StrokeData!$A$4:$A$404,StrokeData!$F$4:$F$404)","v":{"$error":"#N/A"}},{"$f":"LOOKUP(C41,StrokeData!$A$4:$A$404,StrokeData!$G$4:$G$404)","v":{"$error":"#N/A"}},{"$f":"LOOKUP(C41,StrokeData!$A$4:$A$404,StrokeData!$H$4:$H$404)","v":{"$error":"#N/A"}},{"$f":"LOOKUP(C41,StrokeData!$A$4:$A$404,StrokeData!$I$4:$I$404)","v":{"$error":"#N/A"}},{"$f":"LOOKUP(C41,StrokeData!$A$4:$A$404,StrokeData!$J$4:$J$404)","v":{"$error":"#N/A"}},null,null,null,null,null,{"$f":"LOOKUP(C41,StrokeData!$A$4:$A$404,StrokeData!$K$4:$K$404)","v":{"$error":"#N/A"}},{"$f":"LOOKUP(C41,StrokeData!$A$4:$A$404,StrokeData!$L$4:$L$404)","v":{"$error":"#N/A"}}]
[null,6,{"$f":"IF(C41=-1,-1,LOOKUP(C41,StrokeData!$A$4:$A$404,StrokeData!$L$4:$L$404))","v":-1},{"$f":"LOOKUP(C42,StrokeData!$A$4:$A$404,StrokeData!$B$4:$B$404)","v":{"$error":"#N/A"}},{"$f":"LOOKUP(C42,StrokeData!$A$4:$A$404,StrokeData!$C$4:$C$404)","v":{"$error":"#N/A"}},null,{"$f":"LOOKUP(C42,StrokeData!$A$4:$A$404,StrokeData!$D$4:$D$404)","v":{"$error":"#N/A"}},{"$f":"LOOKUP(C42,StrokeData!$A$4:$A$404,StrokeData!$E$4:$E$404)","v":{"$error":"#N/A"}},{"$f":"LOOKUP(C42,StrokeData!$A$4:$A$404,StrokeData!$F$4:$F$404)","v":{"$error":"#N/A"}},{"$f":"LOOKUP(C42,StrokeData!$A$4:$A$404,StrokeData!$G$4:$G$404)","v":{"$error":"#N/A"}},{"$f":"LOOKUP(C42,StrokeData!$A$4:$A$404,StrokeData!$H$4:$H$404)","v":{"$error":"#N/A"}},{"$f":"LOOKUP(C42,StrokeData!$A$4:$A$404,StrokeData!$I$4:$I$404)","v":{"$error":"#N/A"}},{"$f":"LOOKUP(C42,StrokeData!$A$4:$A$404,StrokeData!$J$4:$J$404)","v":{"$error":"#N/A"}},null,null,null,null,null,{"$f":"LOOKUP(C42,StrokeData!$A$4:$A$404,StrokeData!$K$4:$K$404)","v":{"$error":"#N/A"}},{"$f":"LOOKUP(C42,StrokeData!$A$4:$A$404,StrokeData!$L$4:$L$404)","v":{"$error":"#N/A"}}]
[null,7,{"$f":"IF(C42=-1,-1,LOOKUP(C42,StrokeData!$A$4:$A$404,StrokeData!$L$4:$L$404))","v":-1},{"$f":"LOOKUP(C43,StrokeData!$A$4:$A$404,StrokeData!$B$4:$B$404)","v":{"$error":"#N/A"}},{"$f":"LOOKUP(C43,StrokeData!$A$4:$A$404,StrokeData!$C$4:$C$404)","v":{"$error":"#N/A"}},null,{"$f":"LOOKUP(C43,StrokeData!$A$4:$A$404,StrokeData!$D$4:$D$404)","v":{"$error":"#N/A"}},{"$f":"LOOKUP(C43,StrokeData!$A$4:$A$404,StrokeData!$E$4:$E$404)","v":{"$error":"#N/A"}},{"$f":"LOOKUP(C43,StrokeData!$A$4:$A$404,StrokeData!$F$4:$F$404)","v":{"$error":"#N/A"}},{"$f":"LOOKUP(C43,StrokeData!$A$4:$A$404,StrokeData!$G$4:$G$404)","v":{"$error":"#N/A"}},{"$f":"LOOKUP(C43,StrokeData!$A$4:$A$404,StrokeData!$H$4:$H$404)","v":{"$error":"#N/A"}},{"$f":"LOOKUP(C43,StrokeData!$A$4:$A$404,StrokeData!$I$4:$I$404)","v":{"$error":"#N/A"}},{"$f":"LOOKUP(C43,StrokeData!$A$4:$A$404,StrokeData!$J$4:$J$404)","v":{"$error":"#N/A"}},null,null,null,null,null,{"$f":"LOOKUP(C43,StrokeData!$A$4:$A$404,StrokeData!$K$4:$K$404)","v":{"$error":"#N/A"}},{"$f":"LOOKUP(C43,StrokeData!$A$4:$A$404,StrokeData!$L$4:$L$404)","v":{"$error":"#N/A"}}]
[null,8,{"$f":"IF(C43=-1,-1,LOOKUP(C43,StrokeData!$A$4:$A$404,StrokeData!$L$4:$L$404))","v":-1},{"$f":"LOOKUP(C44,StrokeData!$A$4:$A$404,StrokeData!$B$4:$B$404)","v":{"$error":"#N/A"}},{"$f":"LOOKUP(C44,StrokeData!$A$4:$A$404,StrokeData!$C$4:$C$404)","v":{"$error":"#N/A"}},null,{"$f":"LOOKUP(C44,StrokeData!$A$4:$A$404,StrokeData!$D$4:$D$404)","v":{"$error":"#N/A"}},{"$f":"LOOKUP(C44,StrokeData!$A$4:$A$404,StrokeData!$E$4:$E$404)","v":{"$error":"#N/A"}},{"$f":"LOOKUP(C44,StrokeData!$A$4:$A$404,StrokeData!$F$4:$F$404)","v":{"$error":"#N/A"}},{"$f":"LOOKUP(C44,StrokeData!$A$4:$A$404,StrokeData!$G$4:$G$404)","v":{"$error":"#N/A"}},{"$f":"LOOKUP(C44,StrokeData!$A$4:$A$404,StrokeData!$H$4:$H$404)","v":{"$error":"#N/A"}},{"$f":"LOOKUP(C44,StrokeData!$A$4:$A$404,StrokeData!$I$4:$I$404)","v":{"$error":"#N/A"}},{"$f":"LOOKUP(C44,StrokeData!$A$4:$A$404,StrokeData!$J$4:$J$404)","v":{"$error":"#N/A"}},null,null,null,null,null,{"$f":"LOOKUP(C44,StrokeData!$A$4:$A$404,StrokeData!$K$4:$K$404)","v":{"$error":"#N/A"}},{"$f":"LOOKUP(C44,StrokeData!$A$4:$A$404,StrokeData!$L$4:$L$404)","v":{"$error":"#N/A"}}]
[null,9,{"$f":"IF(C44=-1,-1,LOOKUP(C44,StrokeData!$A$4:$A$404,StrokeData!$L$4:$L$404))","v":-1},{"$f":"LOOKUP(C45,StrokeData!$A$4:$A$404,StrokeData!$B$4:$B$404)","v":{"$error":"#N/A"}},{"$f":"LOOKUP(C45,StrokeData!$A$4:$A$404,StrokeData!$C$4:$C$404)","v":{"$error":"#N/A"}},null,{"$f":"LOOKUP(C45,StrokeData!$A$4:$A$404,StrokeData!$D$4:$D$404)","v":{"$error":"#N/A"}},{"$f":"LOOKUP(C45,StrokeData!$A$4:$A$404,StrokeData!$E$4:$E$404)","v":{"$error":"#N/A"}},{"$f":"LOOKUP(C45,StrokeData!$A$4:$A$404,StrokeData!$F$4:$F$404)","v":{"$error":"#N/A"}},{"$f":"LOOKUP(C45,StrokeData!$A$4:$A$404,StrokeData!$G$4:$G$404)","v":{"$error":"#N/A"}},{"$f":"LOOKUP(C45,StrokeData!$A$4:$A$404,StrokeData!$H$4:$H$404)","v":{"$error":"#N/A"}},{"$f":"LOOKUP(C45,StrokeData!$A$4:$A$404,StrokeData!$I$4:$I$404)","v":{"$error":"#N/A"}},{"$f":"LOOKUP(C45,StrokeData!$A$4:$A$404,StrokeData!$J$4:$J$404)","v":{"$error":"#N/A"}},null,null,null,null,null,{"$f":"LOOKUP(C45,StrokeData!$A$4:$A$404,StrokeData!$K$4:$K$404)","v":{"$error":"#N/A"}},{"$f":"LOOKUP(C45,StrokeData!$A$4:$A$404,StrokeData!$L$4:$L$404)","v":{"$error":"#N/A"}}]
[null,10,{"$f":"IF(C45=-1,-1,LOOKUP(C45,StrokeData!$A$4:$A$404,StrokeData!$L$4:$L$404))","v":-1},{"$f":"LOOKUP(C46,StrokeData!$A$4:$A$404,StrokeData!$B$4:$B$404)","v":{"$error":"#N/A"}},{"$f":"LOOKUP(C46,StrokeData!$A$4:$A$404,StrokeData!$C$4:$C$404)","v":{"$error":"#N/A"}},null,{"$f":"LOOKUP(C46,StrokeData!$A$4:$A$404,StrokeData!$D$4:$D$404)","v":{"$error":"#N/A"}},{"$f":"LOOKUP(C46,StrokeData!$A$4:$A$404,StrokeData!$E$4:$E$404)","v":{"$error":"#N/A"}},{"$f":"LOOKUP(C46,StrokeData!$A$4:$A$404,StrokeData!$F$4:$F$404)","v":{"$error":"#N/A"}},{"$f":"LOOKUP(C46,StrokeData!$A$4:$A$404,StrokeData!$G$4:$G$404)","v":{"$error":"#N/A"}},{"$f":"LOOKUP(C46,StrokeData!$A$4:$A$404,StrokeData!$H$4:$H$404)","v":{"$error":"#N/A"}},{"$f":"LOOKUP(C46,StrokeData!$A$4:$A$404,StrokeData!$I$4:$I$404)","v":{"$error":"#N/A"}},{"$f":"LOOKUP(C46,StrokeData!$A$4:$A$404,StrokeData!$J$4:$J$404)","v":{"$error":"#N/A"}},null,null,null,null,null,{"$f":"LOOKUP(C46,StrokeData!$A$4:$A$404,StrokeData!$K$4:$K$404)","v":{"$error":"#N/A"}},{"$f":"LOOKUP(C46,StrokeData!$A$4:$A$404,StrokeData!$L$4:$L$404)","v":{"$error":"#N/A"}}]
[null,11,{"$f":"IF(C46=-1,-1,LOOKUP(C46,StrokeData!$A$4:$A$404,StrokeData!$L$4:$L$404))","v":-1},{"$f":"LOOKUP(C47,StrokeData!$A$4:$A$404,StrokeData!$B$4:$B$404)","v":{"$error":"#N/A"}},{"$f":"LOOKUP(C47,StrokeData!$A$4:$A$404,StrokeData!$C$4:$C$404)","v":{"$error":"#N/A"}},null,{"$f":"LOOKUP(C47,StrokeData!$A$4:$A$404,StrokeData!$D$4:$D$404)","v":{"$error":"#N/A"}},{"$f":"LOOKUP(C47,StrokeData!$A$4:$A$404,StrokeData!$E$4:$E$404)","v":{"$error":"#N/A"}},{"$f":"LOOKUP(C47,StrokeData!$A$4:$A$404,StrokeData!$F$4:$F$404)","v":{"$error":"#N/A"}},{"$f":"LOOKUP(C47,StrokeData!$A$4:$A$404,StrokeData!$G$4:$G$404)","v":{"$error":"#N/A"}},{"$f":"LOOKUP(C47,StrokeData!$A$4:$A$404,StrokeData!$H$4:$H$404)","v":{"$error":"#N/A"}},{"$f":"LOOKUP(C47,StrokeData!$A$4:$A$404,StrokeData!$I$4:$I$404)","v":{"$error":"#N/A"}},{"$f":"LOOKUP(C47,StrokeData!$A$4:$A$404,StrokeData!$J$4:$J$404)","v":{"$error":"#N/A"}},null,null,null,null,null,{"$f":"LOOKUP(C47,StrokeData!$A$4:$A$404,StrokeData!$K$4:$K$404)","v":{"$error":"#N/A"}},{"$f":"LOOKUP(C47,StrokeData!$A$4:$A$404,StrokeData!$L$4:$L$404)","v":{"$error":"#N/A"}}]
[null,12,{"$f":"IF(C47=-1,-1,LOOKUP(C47,StrokeData!$A$4:$A$404,StrokeData!$L$4:$L$404))","v":-1},{"$f":"LOOKUP(C48,StrokeData!$A$4:$A$404,StrokeData!$B$4:$B$404)","v":{"$error":"#N/A"}},{"$f":"LOOKUP(C48,StrokeData!$A$4:$A$404,StrokeData!$C$4:$C$404)","v":{"$error":"#N/A"}},null,{"$f":"LOOKUP(C48,StrokeData!$A$4:$A$404,StrokeData!$D$4:$D$404)","v":{"$error":"#N/A"}},{"$f":"LOOKUP(C48,StrokeData!$A$4:$A$404,StrokeData!$E$4:$E$404)","v":{"$error":"#N/A"}},{"$f":"LOOKUP(C48,StrokeData!$A$4:$A$404,StrokeData!$F$4:$F$404)","v":{"$error":"#N/A"}},{"$f":"LOOKUP(C48,StrokeData!$A$4:$A$404,StrokeData!$G$4:$G$404)","v":{"$error":"#N/A"}},{"$f":"LOOKUP(C48,StrokeData!$A$4:$A$404,StrokeData!$H$4:$H$404)","v":{"$error":"#N/A"}},{"$f":"LOOKUP(C48,StrokeData!$A$4:$A$404,StrokeData!$I$4:$I$404)","v":{"$error":"#N/A"}},{"$f":"LOOKUP(C48,StrokeData!$A$4:$A$404,StrokeData!$J$4:$J$404)","v":{"$error":"#N/A"}},null,null,null,null,null,{"$f":"LOOKUP(C48,StrokeData!$A$4:$A$404,StrokeData!$K$4:$K$404)","v":{"$error":"#N/A"}},{"$f":"LOOKUP(C48,StrokeData!$A$4:$A$404,StrokeData!$L$4:$L$404)","v":{"$error":"#N/A"}}]
[null,13,{"$f":"IF(C48=-1,-1,LOOKUP(C48,StrokeData!$A$4:$A$404,StrokeData!$L$4:$L$404))","v":-1},{"$f":"LOOKUP(C49,StrokeData!$A$4:$A$404,StrokeData!$B$4:$B$404)","v":{"$error":"#N/A"}},{"$f":"LOOKUP(C49,StrokeData!$A$4:$A$404,StrokeData!$C$4:$C$404)","v":{"$error":"#N/A"}},null,{"$f":"LOOKUP(C49,StrokeData!$A$4:$A$404,StrokeData!$D$4:$D$404)","v":{"$error":"#N/A"}},{"$f":"LOOKUP(C49,StrokeData!$A$4:$A$404,StrokeData!$E$4:$E$404)","v":{"$error":"#N/A"}},{"$f":"LOOKUP(C49,StrokeData!$A$4:$A$404,StrokeData!$F$4:$F$404)","v":{"$error":"#N/A"}},{"$f":"LOOKUP(C49,StrokeData!$A$4:$A$404,StrokeData!$G$4:$G$404)","v":{"$error":"#N/A"}},{"$f":"LOOKUP(C49,StrokeData!$A$4:$A$404,StrokeData!$H$4:$H$404)","v":{"$error":"#N/A"}},{"$f":"LOOKUP(C49,StrokeData!$A$4:$A$404,StrokeData!$I$4:$I$404)","v":{"$error":"#N/A"}},{"$f":"LOOKUP(C49,StrokeData!$A$4:$A$404,StrokeData!$J$4:$J$404)","v":{"$error":"#N/A"}},null,null,null,null,null,{"$f":"LOOKUP(C49,StrokeData!$A$4:$A$404,StrokeData!$K$4:$K$404)","v":{"$error":"#N/A"}},{"$f":"LOOKUP(C49,StrokeData!$A$4:$A$404,StrokeData!$L$4:$L$404)","v":{"$error":"#N/A"}}]
[null,14,{"$f":"IF(C49=-1,-1,LOOKUP(C49,StrokeData!$A$4:$A$404,StrokeData!$L$4:$L$404))","v":-1},{"$f":"LOOKUP(C50,StrokeData!$A$4:$A$404,StrokeData!$B$4:$B$404)","v":{"$error":"#N/A"}},{"$f":"LOOKUP(C50,StrokeData!$A$4:$A$404,StrokeData!$C$4:$C$404)","v":{"$error":"#N/A"}},null,{"$f":"LOOKUP(C50,StrokeData!$A$4:$A$404,StrokeData!$D$4:$D$404)","v":{"$error":"#N/A"}},{"$f":"LOOKUP(C50,StrokeData!$A$4:$A$404,StrokeData!$E$4:$E$404)","v":{"$error":"#N/A"}},{"$f":"LOOKUP(C50,StrokeData!$A$4:$A$404,StrokeData!$F$4:$F$404)","v":{"$error":"#N/A"}},{"$f":"LOOKUP(C50,StrokeData!$A$4:$A$404,StrokeData!$G$4:$G$404)","v":{"$error":"#N/A"}},{"$f":"LOOKUP(C50,StrokeData!$A$4:$A$404,StrokeData!$H$4:$H$404)","v":{"$error":"#N/A"}},{"$f":"LOOKUP(C50,StrokeData!$A$4:$A$404,StrokeData!$I$4:$I$404)","v":{"$error":"#N/A"}},{"$f":"LOOKUP(C50,StrokeData!$A$4:$A$404,StrokeData!$J$4:$J$404)","v":{"$error":"#N/A"}},null,null,null,null,null,{"$f":"LOOKUP(C50,StrokeData!$A$4:$A$404,StrokeData!$K$4:$K$404)","v":{"$error":"#N/A"}},{"$f":"LOOKUP(C50,StrokeData!$A$4:$A$404,StrokeData!$L$4:$L$404)","v":{"$error":"#N/A"}}]
[null,15,{"$f":"IF(C50=-1,-1,LOOKUP(C50,StrokeData!$A$4:$A$404,StrokeData!$L$4:$L$404))","v":-1},{"$f":"LOOKUP(C51,StrokeData!$A$4:$A$404,StrokeData!$B$4:$B$404)","v":{"$error":"#N/A"}},{"$f":"LOOKUP(C51,StrokeData!$A$4:$A$404,StrokeData!$C$4:$C$404)","v":{"$error":"#N/A"}},null,{"$f":"LOOKUP(C51,StrokeData!$A$4:$A$404,StrokeData!$D$4:$D$404)","v":{"$error":"#N/A"}},{"$f":"LOOKUP(C51,StrokeData!$A$4:$A$404,StrokeData!$E$4:$E$404)","v":{"$error":"#N/A"}},{"$f":"LOOKUP(C51,StrokeData!$A$4:$A$404,StrokeData!$F$4:$F$404)","v":{"$error":"#N/A"}},{"$f":"LOOKUP(C51,StrokeData!$A$4:$A$404,StrokeData!$G$4:$G$404)","v":{"$error":"#N/A"}},{"$f":"LOOKUP(C51,StrokeData!$A$4:$A$404,StrokeData!$H$4:$H$404)","v":{"$error":"#N/A"}},{"$f":"LOOKUP(C51,StrokeData!$A$4:$A$404,StrokeData!$I$4:$I$404)","v":{"$error":"#N/A"}},{"$f":"LOOKUP(C51,StrokeData!$A$4:$A$404,StrokeData!$J$4:$J$404)","v":{"$error":"#N/A"}},null,null,null,null,null,{"$f":"LOOKUP(C51,StrokeData!$A$4:$A$404,StrokeData!$K$4:$K$404)","v":{"$error":"#N/A"}},{"$f":"LOOKUP(C51,StrokeData!$A$4:$A$404,StrokeData!$L$4:$L$404)","v":{"$error":"#N/A"}}]
[null,16,{"$f":"IF(C51=-1,-1,LOOKUP(C51,StrokeData!$A$4:$A$404,StrokeData!$L$4:$L$404))","v":-1},{"$f":"LOOKUP(C52,StrokeData!$A$4:$A$404,StrokeData!$B$4:$B$404)","v":{"$error":"#N/A"}},{"$f":"LOOKUP(C52,StrokeData!$A$4:$A$404,StrokeData!$C$4:$C$404)","v":{"$error":"#N/A"}},null,{"$f":"LOOKUP(C52,StrokeData!$A$4:$A$404,StrokeData!$D$4:$D$404)","v":{"$error":"#N/A"}},{"$f":"LOOKUP(C52,StrokeData!$A$4:$A$404,StrokeData!$E$4:$E$404)","v":{"$error":"#N/A"}},{"$f":"LOOKUP(C52,StrokeData!$A$4:$A$404,StrokeData!$F$4:$F$404)","v":{"$error":"#N/A"}},{"$f":"LOOKUP(C52,StrokeData!$A$4:$A$404,StrokeData!$G$4:$G$404)","v":{"$error":"#N/A"}},{"$f":"LOOKUP(C52,StrokeData!$A$4:$A$404,StrokeData!$H$4:$H$404)","v":{"$error":"#N/A"}},{"$f":"LOOKUP(C52,StrokeData!$A$4:$A$404,StrokeData!$I$4:$I$404)","v":{"$error":"#N/A"}},{"$f":"LOOKUP(C52,StrokeData!$A$4:$A$404,StrokeData!$J$4:$J$404)","v":{"$error":"#N/A"}},null,null,null,null,null,{"$f":"LOOKUP(C52,StrokeData!$A$4:$A$404,StrokeData!$K$4:$K$404)","v":{"$error":"#N/A"}},{"$f":"LOOKUP(C52,StrokeData!$A$4:$A$404,StrokeData!$L$4:$L$404)","v":{"$error":"#N/A"}}]
[null,17,{"$f":"IF(C52=-1,-1,LOOKUP(C52,StrokeData!$A$4:$A$404,StrokeData!$L$4:$L$404))","v":-1},{"$f":"LOOKUP(C53,StrokeData!$A$4:$A$404,StrokeData!$B$4:$B$404)","v":{"$error":"#N/A"}},{"$f":"LOOKUP(C53,StrokeData!$A$4:$A$404,StrokeData!$C$4:$C$404)","v":{"$error":"#N/A"}},null,{"$f":"LOOKUP(C53,StrokeData!$A$4:$A$404,StrokeData!$D$4:$D$404)","v":{"$error":"#N/A"}},{"$f":"LOOKUP(C53,StrokeData!$A$4:$A$404,StrokeData!$E$4:$E$404)","v":{"$error":"#N/A"}},{"$f":"LOOKUP(C53,StrokeData!$A$4:$A$404,StrokeData!$F$4:$F$404)","v":{"$error":"#N/A"}},{"$f":"LOOKUP(C53,StrokeData!$A$4:$A$404,StrokeData!$G$4:$G$404)","v":{"$error":"#N/A"}},{"$f":"LOOKUP(C53,StrokeData!$A$4:$A$404,StrokeData!$H$4:$H$404)","v":{"$error":"#N/A"}},{"$f":"LOOKUP(C53,StrokeData!$A$4:$A$404,StrokeData!$I$4:$I$404)","v":{"$error":"#N/A"}},{"$f":"LOOKUP(C53,StrokeData!$A$4:$A$404,StrokeData!$J$4:$J$404)","v":{"$error":"#N/A"}},null,null,null,null,null,{"$f":"LOOKUP(C53,StrokeData!$A$4:$A$404,StrokeData!$K$4:$K$404)","v":{"$error":"#N/A"}},{"$f":"LOOKUP(C53,StrokeData!$A$4:$A$404,StrokeData!$L$4:$L$404)","v":{"$error":"#N/A"}}]
[null,18,{"$f":"IF(C53=-1,-1,LOOKUP(C53,StrokeData!$A$4:$A$404,StrokeData!$L$4:$L$404))","v":-1},{"$f":"LOOKUP(C54,StrokeData!$A$4:$A$404,StrokeData!$B$4:$B$404)","v":{"$error":"#N/A"}},{"$f":"LOOKUP(C54,StrokeData!$A$4:$A$404,StrokeData!$C$4:$C$404)","v":{"$error":"#N/A"}},null,{"$f":"LOOKUP(C54,StrokeData!$A$4:$A$404,StrokeData!$D$4:$D$404)","v":{"$error":"#N/A"}},{"$f":"LOOKUP(C54,StrokeData!$A$4:$A$404,StrokeData!$E$4:$E$404)","v":{"$error":"#N/A"}},{"$f":"LOOKUP(C54,StrokeData!$A$4:$A$404,StrokeData!$F$4:$F$404)","v":{"$error":"#N/A"}},{"$f":"LOOKUP(C54,StrokeData!$A$4:$A$404,StrokeData!$G$4:$G$404)","v":{"$error":"#N/A"}},{"$f":"LOOKUP(C54,StrokeData!$A$4:$A$404,StrokeData!$H$4:$H$404)","v":{"$error":"#N/A"}},{"$f":"LOOKUP(C54,StrokeData!$A$4:$A$404,StrokeData!$I$4:$I$404)","v":{"$error":"#N/A"}},{"$f":"LOOKUP(C54,StrokeData!$A$4:$A$404,StrokeData!$J$4:$J$404)","v":{"$error":"#N/A"}},null,null,null,null,null,{"$f":"LOOKUP(C54,StrokeData!$A$4:$A$404,StrokeData!$K$4:$K$404)","v":{"$error":"#N/A"}},{"$f":"LOOKUP(C54,StrokeData!$A$4:$A$404,StrokeData!$L$4:$L$404)","v":{"$error":"#N/A"}}]
[null,19,{"$f":"IF(C54=-1,-1,LOOKUP(C54,StrokeData!$A$4:$A$404,StrokeData!$L$4:$L$404))","v":-1},{"$f":"LOOKUP(C55,StrokeData!$A$4:$A$404,StrokeData!$B$4:$B$404)","v":{"$error":"#N/A"}},{"$f":"LOOKUP(C55,StrokeData!$A$4:$A$404,StrokeData!$C$4:$C$404)","v":{"$error":"#N/A"}},null,{"$f":"LOOKUP(C55,StrokeData!$A$4:$A$404,StrokeData!$D$4:$D$404)","v":{"$error":"#N/A"}},{"$f":"LOOKUP(C55,StrokeData!$A$4:$A$404,StrokeData!$E$4:$E$404)","v":{"$error":"#N/A"}},{"$f":"LOOKUP(C55,StrokeData!$A$4:$A$404,StrokeData!$F$4:$F$404)","v":{"$error":"#N/A"}},{"$f":"LOOKUP(C55,StrokeData!$A$4:$A$404,StrokeData!$G$4:$G$404)","v":{"$error":"#N/A"}},{"$f":"LOOKUP(C55,StrokeData!$A$4:$A$404,StrokeData!$H$4:$H$404)","v":{"$error":"#N/A"}},{"$f":"LOOKUP(C55,StrokeData!$A$4:$A$404,StrokeData!$I$4:$I$404)","v":{"$error":"#N/A"}},{"$f":"LOOKUP(C55,StrokeData!$A$4:$A$404,StrokeData!$J$4:$J$404)","v":{"$error":"#N/A"}},null,null,null,null,null,{"$f":"LOOKUP(C55,StrokeData!$A$4:$A$404,StrokeData!$K$4:$K$404)","v":{"$error":"#N/A"}},{"$f":"LOOKUP(C55,StrokeData!$A$4:$A$404,StrokeData!$L$4:$L$404)","v":{"$error":"#N/A"}}]
[null,20,{"$f":"IF(C55=-1,-1,LOOKUP(C55,StrokeData!$A$4:$A$404,StrokeData!$L$4:$L$404))","v":-1},{"$f":"LOOKUP(C56,StrokeData!$A$4:$A$404,StrokeData!$B$4:$B$404)","v":{"$error":"#N/A"}},{"$f":"LOOKUP(C56,StrokeData!$A$4:$A$404,StrokeData!$C$4:$C$404)","v":{"$error":"#N/A"}},null,{"$f":"LOOKUP(C56,StrokeData!$A$4:$A$404,StrokeData!$D$4:$D$404)","v":{"$error":"#N/A"}},{"$f":"LOOKUP(C56,StrokeData!$A$4:$A$404,StrokeData!$E$4:$E$404)","v":{"$error":"#N/A"}},{"$f":"LOOKUP(C56,StrokeData!$A$4:$A$404,StrokeData!$F$4:$F$404)","v":{"$error":"#N/A"}},{"$f":"LOOKUP(C56,StrokeData!$A$4:$A$404,StrokeData!$G$4:$G$404)","v":{"$error":"#N/A"}},{"$f":"LOOKUP(C56,StrokeData!$A$4:$A$404,StrokeData!$H$4:$H$404)","v":{"$error":"#N/A"}},{"$f":"LOOKUP(C56,StrokeData!$A$4:$A$404,StrokeData!$I$4:$I$404)","v":{"$error":"#N/A"}},{"$f":"LOOKUP(C56,StrokeData!$A$4:$A$404,StrokeData!$J$4:$J$404)","v":{"$error":"#N/A"}},null,null,null,null,null,{"$f":"LOOKUP(C56,StrokeData!$A$4:$A$404,StrokeData!$K$4:$K$404)","v":{"$error":"#N/A"}},{"$f":"LOOKUP(C56,StrokeData!$A$4:$A$404,StrokeData!$L$4:$L$404)","v":{"$error":"#N/A"}}]
[null,null,null,"ストローク",{"$f":"H5","v":50},"mm","～",{"$f":"I5","v":400},"mm",null,"刻み",{"$f":"LOOKUP(D35,B26:B33,R26:R33)","v":50},"mm",null,"慣性係数",{"$f":"IF($J$5=1,0.000001,0.001)","v":1E-3},"有効桁数",{"$f":"IF($J$5=1,6,3)","v":3}]
[null,"stﾘｽﾄ検索用(降順)",null,"№",{"$f":"StrokeData!$B$2","v":"ｽﾄﾛｰｸ長"},"stﾘｽﾄ№",{"$f":"StrokeData!$C$2","v":"有効ｽﾄﾛｰｸ補正"},null,{"$f":"StrokeData!$D$2","v":"基準ｹﾞｲﾝ用搬送質量"},{"$f":"StrokeData!$E$2","v":"水平可搬質量"},{"$f":"StrokeData!$F$2","v":"垂直可搬質量"},{"$f":"StrokeData!$G$2","v":"最大速度"},{"$f":"StrokeData!$H$2","v":"位置ｹﾞｲﾝ"},{"$f":"StrokeData!$I$2","v":"FFｹﾞｲﾝ"},{"$f":"StrokeData!$J$2","v":"速度制御帯域"}]
[null,{"$f":"B36","v":"№"},{"$f":"D36","v":"ｽﾄﾛｰｸ長"},0,{"$f":"H4","v":"[mm]"},null,"[mm]","[kg/mm]",{"$f":"IF(J5=1,\"[kgm^2]\",\"[kg]\")","v":"[kg]"},{"$f":"IF(J5=1,\"[kgm^2]\",\"[kg]\")","v":"[kg]"},{"$f":"IF(J5=1,\"[kgm^2]\",\"[kg]\")","v":"[kg]"},"[mm/s]","[1/s]","[%]","[rad/s]",null,"[s]",null,null,"[Nm/rad]"]
[null,{"$f":"B56","v":20},{"$f":"D56","v":{"$error":"#N/A"}},1,{"$f":"IF( (E57+L57*D59)<=H57,(E57+L57*D59),\"- - -\")","v":50},{"$f":"(B60+1)-MATCH(E60,C60:C79,-1)","v":1},{"$f":"LOOKUP(F60,B37:B56,E37:E56)","v":0},null,{"$f":"LOOKUP(F60,B37:B56,G37:G56)*$P$57","v":8},{"$f":"LOOKUP(F60,B37:B56,H37:H56)*$P$57","v":8},{"$f":"LOOKUP(F60,B37:B56,I37:I56)*$P$57","v":4.5},{"$f":"LOOKUP(F60,B37:B56,J37:J56)","v":165},{"$f":"LOOKUP(F60,B37:B56,K37:K56)","v":30},{"$f":"LOOKUP(F60,B37:B56,L37:L56)","v":0},{"$f":"LOOKUP(F60,B37:B56,M37:M56)","v":160}]
[null,{"$f":"B55","v":19},{"$f":"D55","v":{"$error":"#N/A"}},{"$f":"D60+1","v":2},{"$f":"IF( (E57+L57*D60)<=H57,(E57+L57*D60),\"- - -\")","v":100},{"$f":"(B60+1)-MATCH(E61,C60:C79,-1)","v":1},{"$f":"LOOKUP(F61,B37:B56,E37:E56)","v":0},null,{"$f":"LOOKUP(F61,B37:B56,G37:G56)*$P$57","v":8},{"$f":"LOOKUP(F61,B37:B56,H37:H56)*$P$57","v":8},{"$f":"LOOKUP(F61,B37:B56,I37:I56)*$P$57","v":4.5},{"$f":"LOOKUP(F61,B37:B56,J37:J56)","v":165},{"$f":"LOOKUP(F61,B37:B56,K37:K56)","v":30},{"$f":"LOOKUP(F61,B37:B56,L37:L56)","v":0},{"$f":"LOOKUP(F61,B37:B56,M37:M56)","v":160}]
[null,{"$f":"B54","v":18},{"$f":"D54","v":{"$error":"#N/A"}},{"$f":"D61+1","v":3},{"$f":"IF( (E57+L57*D61)<=H57,(E57+L57*D61),\"- - -\")","v":150},{"$f":"(B60+1)-MATCH(E62,C60:C79,-1)","v":1},{"$f":"LOOKUP(F62,B37:B56,E37:E56)","v":0},null,{"$f":"LOOKUP(F62,B37:B56,G37:G56)*$P$57","v":8},{"$f":"LOOKUP(F62,B37:B56,H37:H56)*$P$57","v":8},{"$f":"LOOKUP(F62,B37:B56,I37:I56)*$P$57","v":4.5},{"$f":"LOOKUP(F62,B37:B56,J37:J56)","v":165},{"$f":"LOOKUP(F62,B37:B56,K37:K56)","v":30},{"$f":"LOOKUP(F62,B37:B56,L37:L56)","v":0},{"$f":"LOOKUP(F62,B37:B56,M37:M56)","v":160}]
[null,{"$f":"B53","v":17},{"$f":"D53","v":{"$error":"#N/A"}},4,{"$f":"IF( (E57+L57*D62)<=H57,(E57+L57*D62),\"- - -\")","v":200},{"$f":"(B60+1)-MATCH(E63,C60:C79,-1)","v":1},{"$f":"LOOKUP(F63,B37:B56,E37:E56)","v":0},null,{"$f":"LOOKUP(F63,B37:B56,G37:G56)*$P$57","v":8},{"$f":"LOOKUP(F63,B37:B56,H37:H56)*$P$57","v":8},{"$f":"LOOKUP(F63,B37:B56,I37:I56)*$P$57","v":4.5},{"$f":"LOOKUP(F63,B37:B56,J37:J56)","v":165},{"$f":"LOOKUP(F63,B37:B56,K37:K56)","v":30},{"$f":"LOOKUP(F63,B37:B56,L37:L56)","v":0},{"$f":"LOOKUP(F63,B37:B56,M37:M56)","v":160}]
[null,{"$f":"B52","v":16},{"$f":"D52","v":{"$error":"#N/A"}},5,{"$f":"IF( (E57+L57*D63)<=H57,(E57+L57*D63),\"- - -\")","v":250},{"$f":"(B60+1)-MATCH(E64,C60:C79,-1)","v":1},{"$f":"LOOKUP(F64,B37:B56,E37:E56)","v":0},null,{"$f":"LOOKUP(F64,B37:B56,G37:G56)*$P$57","v":8},{"$f":"LOOKUP(F64,B37:B56,H37:H56)*$P$57","v":8},{"$f":"LOOKUP(F64,B37:B56,I37:I56)*$P$57","v":4.5},{"$f":"LOOKUP(F64,B37:B56,J37:J56)","v":165},{"$f":"LOOKUP(F64,B37:B56,K37:K56)","v":30},{"$f":"LOOKUP(F64,B37:B56,L37:L56)","v":0},{"$f":"LOOKUP(F64,B37:B56,M37:M56)","v":160}]
[null,{"$f":"B51","v":15},{"$f":"D51","v":{"$error":"#N/A"}},6,{"$f":"IF( (E57+L57*D64)<=H57,(E57+L57*D64),\"- - -\")","v":300},{"$f":"(B60+1)-MATCH(E65,C60:C79,-1)","v":1},{"$f":"LOOKUP(F65,B37:B56,E37:E56)","v":0},null,{"$f":"LOOKUP(F65,B37:B56,G37:G56)*$P$57","v":8},{"$f":"LOOKUP(F65,B37:B56,H37:H56)*$P$57","v":8},{"$f":"LOOKUP(F65,B37:B56,I37:I56)*$P$57","v":4.5},{"$f":"LOOKUP(F65,B37:B56,J37:J56)","v":165},{"$f":"LOOKUP(F65,B37:B56,K37:K56)","v":30},{"$f":"LOOKUP(F65,B37:B56,L37:L56)","v":0},{"$f":"LOOKUP(F65,B37:B56,M37:M56)","v":160}]
[null,{"$f":"B50","v":14},{"$f":"D50","v":{"$error":"#N/A"}},7,{"$f":"IF( (E57+L57*D65)<=H57,(E57+L57*D65),\"- - -\")","v":350},{"$f":"(B60+1)-MATCH(E66,C60:C79,-1)","v":1},{"$f":"LOOKUP(F66,B37:B56,E37:E56)","v":0},null,{"$f":"LOOKUP(F66,B37:B56,G37:G56)*$P$57","v":8},{"$f":"LOOKUP(F66,B37:B56,H37:H56)*$P$57","v":8},{"$f":"LOOKUP(F66,B37:B56,I37:I56)*$P$57","v":4.5},{"$f":"LOOKUP(F66,B37:B56,J37:J56)","v":165},{"$f":"LOOKUP(F66,B37:B56,K37:K56)","v":30},{"$f":"LOOKUP(F66,B37:B56,L37:L56)","v":0},{"$f":"LOOKUP(F66,B37:B56,M37:M56)","v":160}]
[null,{"$f":"B49","v":13},{"$f":"D49","v":{"$error":"#N/A"}},8,{"$f":"IF( (E57+L57*D66)<=H57,(E57+L57*D66),\"- - -\")","v":400},{"$f":"(B60+1)-MATCH(E67,C60:C79,-1)","v":1},{"$f":"LOOKUP(F67,B37:B56,E37:E56)","v":0},null,{"$f":"LOOKUP(F67,B37:B56,G37:G56)*$P$57","v":8},{"$f":"LOOKUP(F67,B37:B56,H37:H56)*$P$57","v":8},{"$f":"LOOKUP(F67,B37:B56,I37:I56)*$P$57","v":4.5},{"$f":"LOOKUP(F67,B37:B56,J37:J56)","v":165},{"$f":"LOOKUP(F67,B37:B56,K37:K56)","v":30},{"$f":"LOOKUP(F67,B37:B56,L37:L56)","v":0},{"$f":"LOOKUP(F67,B37:B56,M37:M56)","v":160}]
[null,{"$f":"B48","v":12},{"$f":"D48","v":{"$error":"#N/A"}},9,{"$f":"IF( (E57+L57*D67)<=H57,(E57+L57*D67),\"- - -\")","v":"- - -"},{"$f":"(B60+1)-MATCH(E68,C60:C79,-1)","v":{"$error":"#N/A"}},{"$f":"LOOKUP(F68,B37:B56,E37:E56)","v":{"$error":"#N/A"}},null,{"$f":"LOOKUP(F68,B37:B56,G37:G56)*$P$57","v":{"$error":"#N/A"}},{"$f":"LOOKUP(F68,B37:B56,H37:H56)*$P$57","v":{"$error":"#N/A"}},{"$f":"LOOKUP(F68,B37:B56,I37:I56)*$P$57","v":{"$error":"#N/A"}},{"$f":"LOOKUP(F68,B37:B56,J37:J56)","v":{"$error":"#N/A"}},{"$f":"LOOKUP(F68,B37:B56,K37:K56)","v":{"$error":"#N/A"}},{"$f":"LOOKUP(F68,B37:B56,L37:L56)","v":{"$error":"#N/A"}},{"$f":"LOOKUP(F68,B37:B56,M37:M56)","v":{"$error":"#N/A"}}]
[null,{"$f":"B47","v":11},{"$f":"D47","v":{"$error":"#N/A"}},10,{"$f":"IF( (E57+L57*D68)<=H57,(E57+L57*D68),\"- - -\")","v":"- - -"},{"$f":"(B60+1)-MATCH(E69,C60:C79,-1)","v":{"$error":"#N/A"}},{"$f":"LOOKUP(F69,B37:B56,E37:E56)","v":{"$error":"#N/A"}},null,{"$f":"LOOKUP(F69,B37:B56,G37:G56)*$P$57","v":{"$error":"#N/A"}},{"$f":"LOOKUP(F69,B37:B56,H37:H56)*$P$57","v":{"$error":"#N/A"}},{"$f":"LOOKUP(F69,B37:B56,I37:I56)*$P$57","v":{"$error":"#N/A"}},{"$f":"LOOKUP(F69,B37:B56,J37:J56)","v":{"$error":"#N/A"}},{"$f":"LOOKUP(F69,B37:B56,K37:K56)","v":{"$error":"#N/A"}},{"$f":"LOOKUP(F69,B37:B56,L37:L56)","v":{"$error":"#N/A"}},{"$f":"LOOKUP(F69,B37:B56,M37:M56)","v":{"$error":"#N/A"}}]
[null,{"$f":"B46","v":10},{"$f":"D46","v":{"$error":"#N/A"}},11,{"$f":"IF( (E57+L57*D69)<=H57,(E57+L57*D69),\"- - -\")","v":"- - -"},{"$f":"(B60+1)-MATCH(E70,C60:C79,-1)","v":{"$error":"#N/A"}},{"$f":"LOOKUP(F70,B37:B56,E37:E56)","v":{"$error":"#N/A"}},null,{"$f":"LOOKUP(F70,B37:B56,G37:G56)*$P$57","v":{"$error":"#N/A"}},{"$f":"LOOKUP(F70,B37:B56,H37:H56)*$P$57","v":{"$error":"#N/A"}},{"$f":"LOOKUP(F70,B37:B56,I37:I56)*$P$57","v":{"$error":"#N/A"}},{"$f":"LOOKUP(F70,B37:B56,J37:J56)","v":{"$error":"#N/A"}},{"$f":"LOOKUP(F70,B37:B56,K37:K56)","v":{"$error":"#N/A"}},{"$f":"LOOKUP(F70,B37:B56,L37:L56)","v":{"$error":"#N/A"}},{"$f":"LOOKUP(F70,B37:B56,M37:M56)","v":{"$error":"#N/A"}}]
[null,{"$f":"B45","v":9},{"$f":"D45","v":{"$error":"#N/A"}},12,{"$f":"IF( (E57+L57*D70)<=H57,(E57+L57*D70),\"- - -\")","v":"- - -"},{"$f":"(B60+1)-MATCH(E71,C60:C79,-1)","v":{"$error":"#N/A"}},{"$f":"LOOKUP(F71,B37:B56,E37:E56)","v":{"$error":"#N/A"}},null,{"$f":"LOOKUP(F71,B37:B56,G37:G56)*$P$57","v":{"$error":"#N/A"}},{"$f":"LOOKUP(F71,B37:B56,H37:H56)*$P$57","v":{"$error":"#N/A"}},{"$f":"LOOKUP(F71,B37:B56,I37:I56)*$P$57","v":{"$error":"#N/A"}},{"$f":"LOOKUP(F71,B37:B56,J37:J56)","v":{"$error":"#N/A"}},{"$f":"LOOKUP(F71,B37:B56,K37:K56)","v":{"$error":"#N/A"}},{"$f":"LOOKUP(F71,B37:B56,L37:L56)","v":{"$error":"#N/A"}},{"$f":"LOOKUP(F71,B37:B56,M37:M56)","v":{"$error":"#N/A"}}]
[null,{"$f":"B44","v":8},{"$f":"D44","v":{"$error":"#N/A"}},13,{"$f":"IF( (E57+L57*D71)<=H57,(E57+L57*D71),\"- - -\")","v":"- - -"},{"$f":"(B60+1)-MATCH(E72,C60:C79,-1)","v":{"$error":"#N/A"}},{"$f":"LOOKUP(F72,B37:B56,E37:E56)","v":{"$error":"#N/A"}},null,{"$f":"LOOKUP(F72,B37:B56,G37:G56)*$P$57","v":{"$error":"#N/A"}},{"$f":"LOOKUP(F72,B37:B56,H37:H56)*$P$57","v":{"$error":"#N/A"}},{"$f":"LOOKUP(F72,B37:B56,I37:I56)*$P$57","v":{"$error":"#N/A"}},{"$f":"LOOKUP(F72,B37:B56,J37:J56)","v":{"$error":"#N/A"}},{"$f":"LOOKUP(F72,B37:B56,K37:K56)","v":{"$error":"#N/A"}},{"$f":"LOOKUP(F72,B37:B56,L37:L56)","v":{"$error":"#N/A"}},{"$f":"LOOKUP(F72,B37:B56,M37:M56)","v":{"$error":"#N/A"}}]
[null,{"$f":"B43","v":7},{"$f":"D43","v":{"$error":"#N/A"}},14,{"$f":"IF( (E57+L57*D72)<=H57,(E57+L57*D72),\"- - -\")","v":"- - -"},{"$f":"(B60+1)-MATCH(E73,C60:C79,-1)","v":{"$error":"#N/A"}},{"$f":"LOOKUP(F73,B37:B56,E37:E56)","v":{"$error":"#N/A"}},null,{"$f":"LOOKUP(F73,B37:B56,G37:G56)*$P$57","v":{"$error":"#N/A"}},{"$f":"LOOKUP(F73,B37:B56,H37:H56)*$P$57","v":{"$error":"#N/A"}},{"$f":"LOOKUP(F73,B37:B56,I37:I56)*$P$57","v":{"$error":"#N/A"}},{"$f":"LOOKUP(F73,B37:B56,J37:J56)","v":{"$error":"#N/A"}},{"$f":"LOOKUP(F73,B37:B56,K37:K56)","v":{"$error":"#N/A"}},{"$f":"LOOKUP(F73,B37:B56,L37:L56)","v":{"$error":"#N/A"}},{"$f":"LOOKUP(F73,B37:B56,M37:M56)","v":{"$error":"#N/A"}}]
[null,{"$f":"B42","v":6},{"$f":"D42","v":{"$error":"#N/A"}},15,{"$f":"IF( (E57+L57*D73)<=H57,(E57+L57*D73),\"- - -\")","v":"- - -"},{"$f":"(B60+1)-MATCH(E74,C60:C79,-1)","v":{"$error":"#N/A"}},{"$f":"LOOKUP(F74,B37:B56,E37:E56)","v":{"$error":"#N/A"}},null,{"$f":"LOOKUP(F74,B37:B56,G37:G56)*$P$57","v":{"$error":"#N/A"}},{"$f":"LOOKUP(F74,B37:B56,H37:H56)*$P$57","v":{"$error":"#N/A"}},{"$f":"LOOKUP(F74,B37:B56,I37:I56)*$P$57","v":{"$error":"#N/A"}},{"$f":"LOOKUP(F74,B37:B56,J37:J56)","v":{"$error":"#N/A"}},{"$f":"LOOKUP(F74,B37:B56,K37:K56)","v":{"$error":"#N/A"}},{"$f":"LOOKUP(F74,B37:B56,L37:L56)","v":{"$error":"#N/A"}},{"$f":"LOOKUP(F74,B37:B56,M37:M56)","v":{"$error":"#N/A"}}]
[null,{"$f":"B41","v":5},{"$f":"D41","v":{"$error":"#N/A"}},16,{"$f":"IF( (E57+L57*D74)<=H57,(E57+L57*D74),\"- - -\")","v":"- - -"},{"$f":"(B60+1)-MATCH(E75,C60:C79,-1)","v":{"$error":"#N/A"}},{"$f":"LOOKUP(F75,B37:B56,E37:E56)","v":{"$error":"#N/A"}},null,{"$f":"LOOKUP(F75,B37:B56,G37:G56)*$P$57","v":{"$error":"#N/A"}},{"$f":"LOOKUP(F75,B37:B56,H37:H56)*$P$57","v":{"$error":"#N/A"}},{"$f":"LOOKUP(F75,B37:B56,I37:I56)*$P$57","v":{"$error":"#N/A"}},{"$f":"LOOKUP(F75,B37:B56,J37:J56)","v":{"$error":"#N/A"}},{"$f":"LOOKUP(F75,B37:B56,K37:K56)","v":{"$error":"#N/A"}},{"$f":"LOOKUP(F75,B37:B56,L37:L56)","v":{"$error":"#N/A"}},{"$f":"LOOKUP(F75,B37:B56,M37:M56)","v":{"$error":"#N/A"}}]
[null,{"$f":"B40","v":4},{"$f":"D40","v":{"$error":"#N/A"}},17,{"$f":"IF( (E57+L57*D75)<=H57,(E57+L57*D75),\"- - -\")","v":"- - -"},{"$f":"(B60+1)-MATCH(E76,C60:C79,-1)","v":{"$error":"#N/A"}},{"$f":"LOOKUP(F76,B37:B56,E37:E56)","v":{"$error":"#N/A"}},null,{"$f":"LOOKUP(F76,B37:B56,G37:G56)*$P$57","v":{"$error":"#N/A"}},{"$f":"LOOKUP(F76,B37:B56,H37:H56)*$P$57","v":{"$error":"#N/A"}},{"$f":"LOOKUP(F76,B37:B56,I37:I56)*$P$57","v":{"$error":"#N/A"}},{"$f":"LOOKUP(F76,B37:B56,J37:J56)","v":{"$error":"#N/A"}},{"$f":"LOOKUP(F76,B37:B56,K37:K56)","v":{"$error":"#N/A"}},{"$f":"LOOKUP(F76,B37:B56,L37:L56)","v":{"$error":"#N/A"}},{"$f":"LOOKUP(F76,B37:B56,M37:M56)","v":{"$error":"#N/A"}}]
[null,{"$f":"B39","v":3},{"$f":"D39","v":{"$error":"#N/A"}},18,{"$f":"IF( (E57+L57*D76)<=H57,(E57+L57*D76),\"- - -\")","v":"- - -"},{"$f":"(B60+1)-MATCH(E77,C60:C79,-1)","v":{"$error":"#N/A"}},{"$f":"LOOKUP(F77,B37:B56,E37:E56)","v":{"$error":"#N/A"}},null,{"$f":"LOOKUP(F77,B37:B56,G37:G56)*$P$57","v":{"$error":"#N/A"}},{"$f":"LOOKUP(F77,B37:B56,H37:H56)*$P$57","v":{"$error":"#N/A"}},{"$f":"LOOKUP(F77,B37:B56,I37:I56)*$P$57","v":{"$error":"#N/A"}},{"$f":"LOOKUP(F77,B37:B56,J37:J56)","v":{"$error":"#N/A"}},{"$f":"LOOKUP(F77,B37:B56,K37:K56)","v":{"$error":"#N/A"}},{"$f":"LOOKUP(F77,B37:B56,L37:L56)","v":{"$error":"#N/A"}},{"$f":"LOOKUP(F77,B37:B56,M37:M56)","v":{"$error":"#N/A"}}]
[null,{"$f":"B38","v":2},{"$f":"D38","v":{"$error":"#N/A"}},19,{"$f":"IF( (E57+L57*D77)<=H57,(E57+L57*D77),\"- - -\")","v":"- - -"},{"$f":"(B60+1)-MATCH(E78,C60:C79,-1)","v":{"$error":"#N/A"}},{"$f":"LOOKUP(F78,B37:B56,E37:E56)","v":{"$error":"#N/A"}},null,{"$f":"LOOKUP(F78,B37:B56,G37:G56)*$P$57","v":{"$error":"#N/A"}},{"$f":"LOOKUP(F78,B37:B56,H37:H56)*$P$57","v":{"$error":"#N/A"}},{"$f":"LOOKUP(F78,B37:B56,I37:I56)*$P$57","v":{"$error":"#N/A"}},{"$f":"LOOKUP(F78,B37:B56,J37:J56)","v":{"$error":"#N/A"}},{"$f":"LOOKUP(F78,B37:B56,K37:K56)","v":{"$error":"#N/A"}},{"$f":"LOOKUP(F78,B37:B56,L37:L56)","v":{"$error":"#N/A"}},{"$f":"LOOKUP(F78,B37:B56,M37:M56)","v":{"$error":"#N/A"}}]
[null,{"$f":"B37","v":1},{"$f":"D37","v":400},20,{"$f":"IF( (E57+L57*D78)<=H57,(E57+L57*D78),\"- - -\")","v":"- - -"},{"$f":"(B60+1)-MATCH(E79,C60:C79,-1)","v":{"$error":"#N/A"}},{"$f":"LOOKUP(F79,B37:B56,E37:E56)","v":{"$error":"#N/A"}},null,{"$f":"LOOKUP(F79,B37:B56,G37:G56)*$P$57","v":{"$error":"#N/A"}},{"$f":"LOOKUP(F79,B37:B56,H37:H56)*$P$57","v":{"$error":"#N/A"}},{"$f":"LOOKUP(F79,B37:B56,I37:I56)*$P$57","v":{"$error":"#N/A"}},{"$f":"LOOKUP(F79,B37:B56,J37:J56)","v":{"$error":"#N/A"}},{"$f":"LOOKUP(F79,B37:B56,K37:K56)","v":{"$error":"#N/A"}},{"$f":"LOOKUP(F79,B37:B56,L37:L56)","v":{"$error":"#N/A"}},{"$f":"LOOKUP(F79,B37:B56,M37:M56)","v":{"$error":"#N/A"}}]
[null,null,null,21,{"$f":"IF( (E57+L57*D79)<=H57,(E57+L57*D79),\"- - -\")","v":"- - -"},{"$f":"(B60+1)-MATCH(E80,C60:C79,-1)","v":{"$error":"#N/A"}},{"$f":"LOOKUP(F80,B37:B56,E37:E56)","v":{"$error":"#N/A"}},null,{"$f":"LOOKUP(F80,B37:B56,G37:G56)*$P$57","v":{"$error":"#N/A"}},{"$f":"LOOKUP(F80,B37:B56,H37:H56)*$P$57","v":{"$error":"#N/A"}},{"$f":"LOOKUP(F80,B37:B56,I37:I56)*$P$57","v":{"$error":"#N/A"}},{"$f":"LOOKUP(F80,B37:B56,J37:J56)","v":{"$error":"#N/A"}},{"$f":"LOOKUP(F80,B37:B56,K37:K56)","v":{"$error":"#N/A"}},{"$f":"LOOKUP(F80,B37:B56,L37:L56)","v":{"$error":"#N/A"}},{"$f":"LOOKUP(F80,B37:B56,M37:M56)","v":{"$error":"#N/A"}}]
[null,null,null,22,{"$f":"IF( (E57+L57*D80)<=H57,(E57+L57*D80),\"- - -\")","v":"- - -"},{"$f":"(B60+1)-MATCH(E81,C60:C79,-1)","v":{"$error":"#N/A"}},{"$f":"LOOKUP(F81,B37:B56,E37:E56)","v":{"$error":"#N/A"}},null,{"$f":"LOOKUP(F81,B37:B56,G37:G56)*$P$57","v":{"$error":"#N/A"}},{"$f":"LOOKUP(F81,B37:B56,H37:H56)*$P$57","v":{"$error":"#N/A"}},{"$f":"LOOKUP(F81,B37:B56,I37:I56)*$P$57","v":{"$error":"#N/A"}},{"$f":"LOOKUP(F81,B37:B56,J37:J56)","v":{"$error":"#N/A"}},{"$f":"LOOKUP(F81,B37:B56,K37:K56)","v":{"$error":"#N/A"}},{"$f":"LOOKUP(F81,B37:B56,L37:L56)","v":{"$error":"#N/A"}},{"$f":"LOOKUP(F81,B37:B56,M37:M56)","v":{"$error":"#N/A"}}]
[null,null,null,23,{"$f":"IF( (E57+L57*D81)<=H57,(E57+L57*D81),\"- - -\")","v":"- - -"},{"$f":"(B60+1)-MATCH(E82,C60:C79,-1)","v":{"$error":"#N/A"}},{"$f":"LOOKUP(F82,B37:B56,E37:E56)","v":{"$error":"#N/A"}},null,{"$f":"LOOKUP(F82,B37:B56,G37:G56)*$P$57","v":{"$error":"#N/A"}},{"$f":"LOOKUP(F82,B37:B56,H37:H56)*$P$57","v":{"$error":"#N/A"}},{"$f":"LOOKUP(F82,B37:B56,I37:I56)*$P$57","v":{"$error":"#N/A"}},{"$f":"LOOKUP(F82,B37:B56,J37:J56)","v":{"$error":"#N/A"}},{"$f":"LOOKUP(F82,B37:B56,K37:K56)","v":{"$error":"#N/A"}},{"$f":"LOOKUP(F82,B37:B56,L37:L56)","v":{"$error":"#N/A"}},{"$f":"LOOKUP(F82,B37:B56,M37:M56)","v":{"$error":"#N/A"}}]
[null,null,null,24,{"$f":"IF( (E57+L57*D82)<=H57,(E57+L57*D82),\"- - -\")","v":"- - -"},{"$f":"(B60+1)-MATCH(E83,C60:C79,-1)","v":{"$error":"#N/A"}},{"$f":"LOOKUP(F83,B37:B56,E37:E56)","v":{"$error":"#N/A"}},null,{"$f":"LOOKUP(F83,B37:B56,G37:G56)*$P$57","v":{"$error":"#N/A"}},{"$f":"LOOKUP(F83,B37:B56,H37:H56)*$P$57","v":{"$error":"#N/A"}},{"$f":"LOOKUP(F83,B37:B56,I37:I56)*$P$57","v":{"$error":"#N/A"}},{"$f":"LOOKUP(F83,B37:B56,J37:J56)","v":{"$error":"#N/A"}},{"$f":"LOOKUP(F83,B37:B56,K37:K56)","v":{"$error":"#N/A"}},{"$f":"LOOKUP(F83,B37:B56,L37:L56)","v":{"$error":"#N/A"}},{"$f":"LOOKUP(F83,B37:B56,M37:M56)","v":{"$error":"#N/A"}}]
[null,null,null,25,{"$f":"IF( (E57+L57*D83)<=H57,(E57+L57*D83),\"- - -\")","v":"- - -"},{"$f":"(B60+1)-MATCH(E84,C60:C79,-1)","v":{"$error":"#N/A"}},{"$f":"LOOKUP(F84,B37:B56,E37:E56)","v":{"$error":"#N/A"}},null,{"$f":"LOOKUP(F84,B37:B56,G37:G56)*$P$57","v":{"$error":"#N/A"}},{"$f":"LOOKUP(F84,B37:B56,H37:H56)*$P$57","v":{"$error":"#N/A"}},{"$f":"LOOKUP(F84,B37:B56,I37:I56)*$P$57","v":{"$error":"#N/A"}},{"$f":"LOOKUP(F84,B37:B56,J37:J56)","v":{"$error":"#N/A"}},{"$f":"LOOKUP(F84,B37:B56,K37:K56)","v":{"$error":"#N/A"}},{"$f":"LOOKUP(F84,B37:B56,L37:L56)","v":{"$error":"#N/A"}},{"$f":"LOOKUP(F84,B37:B56,M37:M56)","v":{"$error":"#N/A"}}]
[null,null,null,26,{"$f":"IF( (E57+L57*D84)<=H57,(E57+L57*D84),\"- - -\")","v":"- - -"},{"$f":"(B60+1)-MATCH(E85,C60:C79,-1)","v":{"$error":"#N/A"}},{"$f":"LOOKUP(F85,B37:B56,E37:E56)","v":{"$error":"#N/A"}},null,{"$f":"LOOKUP(F85,B37:B56,G37:G56)*$P$57","v":{"$error":"#N/A"}},{"$f":"LOOKUP(F85,B37:B56,H37:H56)*$P$57","v":{"$error":"#N/A"}},{"$f":"LOOKUP(F85,B37:B56,I37:I56)*$P$57","v":{"$error":"#N/A"}},{"$f":"LOOKUP(F85,B37:B56,J37:J56)","v":{"$error":"#N/A"}},{"$f":"LOOKUP(F85,B37:B56,K37:K56)","v":{"$error":"#N/A"}},{"$f":"LOOKUP(F85,B37:B56,L37:L56)","v":{"$error":"#N/A"}},{"$f":"LOOKUP(F85,B37:B56,M37:M56)","v":{"$error":"#N/A"}}]
[null,null,null,27,{"$f":"IF( (E57+L57*D85)<=H57,(E57+L57*D85),\"- - -\")","v":"- - -"},{"$f":"(B60+1)-MATCH(E86,C60:C79,-1)","v":{"$error":"#N/A"}},{"$f":"LOOKUP(F86,B37:B56,E37:E56)","v":{"$error":"#N/A"}},null,{"$f":"LOOKUP(F86,B37:B56,G37:G56)*$P$57","v":{"$error":"#N/A"}},{"$f":"LOOKUP(F86,B37:B56,H37:H56)*$P$57","v":{"$error":"#N/A"}},{"$f":"LOOKUP(F86,B37:B56,I37:I56)*$P$57","v":{"$error":"#N/A"}},{"$f":"LOOKUP(F86,B37:B56,J37:J56)","v":{"$error":"#N/A"}},{"$f":"LOOKUP(F86,B37:B56,K37:K56)","v":{"$error":"#N/A"}},{"$f":"LOOKUP(F86,B37:B56,L37:L56)","v":{"$error":"#N/A"}},{"$f":"LOOKUP(F86,B37:B56,M37:M56)","v":{"$error":"#N/A"}}]
[null,null,null,28,{"$f":"IF( (E57+L57*D86)<=H57,(E57+L57*D86),\"- - -\")","v":"- - -"},{"$f":"(B60+1)-MATCH(E87,C60:C79,-1)","v":{"$error":"#N/A"}},{"$f":"LOOKUP(F87,B37:B56,E37:E56)","v":{"$error":"#N/A"}},null,{"$f":"LOOKUP(F87,B37:B56,G37:G56)*$P$57","v":{"$error":"#N/A"}},{"$f":"LOOKUP(F87,B37:B56,H37:H56)*$P$57","v":{"$error":"#N/A"}},{"$f":"LOOKUP(F87,B37:B56,I37:I56)*$P$57","v":{"$error":"#N/A"}},{"$f":"LOOKUP(F87,B37:B56,J37:J56)","v":{"$error":"#N/A"}},{"$f":"LOOKUP(F87,B37:B56,K37:K56)","v":{"$error":"#N/A"}},{"$f":"LOOKUP(F87,B37:B56,L37:L56)","v":{"$error":"#N/A"}},{"$f":"LOOKUP(F87,B37:B56,M37:M56)","v":{"$error":"#N/A"}}]
[null,null,null,29,{"$f":"IF( (E57+L57*D87)<=H57,(E57+L57*D87),\"- - -\")","v":"- - -"},{"$f":"(B60+1)-MATCH(E88,C60:C79,-1)","v":{"$error":"#N/A"}},{"$f":"LOOKUP(F88,B37:B56,E37:E56)","v":{"$error":"#N/A"}},null,{"$f":"LOOKUP(F88,B37:B56,G37:G56)*$P$57","v":{"$error":"#N/A"}},{"$f":"LOOKUP(F88,B37:B56,H37:H56)*$P$57","v":{"$error":"#N/A"}},{"$f":"LOOKUP(F88,B37:B56,I37:I56)*$P$57","v":{"$error":"#N/A"}},{"$f":"LOOKUP(F88,B37:B56,J37:J56)","v":{"$error":"#N/A"}},{"$f":"LOOKUP(F88,B37:B56,K37:K56)","v":{"$error":"#N/A"}},{"$f":"LOOKUP(F88,B37:B56,L37:L56)","v":{"$error":"#N/A"}},{"$f":"LOOKUP(F88,B37:B56,M37:M56)","v":{"$error":"#N/A"}}]
[null,null,null,30,{"$f":"IF( (E57+L57*D88)<=H57,(E57+L57*D88),\"- - -\")","v":"- - -"},{"$f":"(B60+1)-MATCH(E89,C60:C79,-1)","v":{"$error":"#N/A"}},{"$f":"LOOKUP(F89,B37:B56,E37:E56)","v":{"$error":"#N/A"}},null,{"$f":"LOOKUP(F89,B37:B56,G37:G56)*$P$57","v":{"$error":"#N/A"}},{"$f":"LOOKUP(F89,B37:B56,H37:H56)*$P$57","v":{"$error":"#N/A"}},{"$f":"LOOKUP(F89,B37:B56,I37:I56)*$P$57","v":{"$error":"#N/A"}},{"$f":"LOOKUP(F89,B37:B56,J37:J56)","v":{"$error":"#N/A"}},{"$f":"LOOKUP(F89,B37:B56,K37:K56)","v":{"$error":"#N/A"}},{"$f":"LOOKUP(F89,B37:B56,L37:L56)","v":{"$error":"#N/A"}},{"$f":"LOOKUP(F89,B37:B56,M37:M56)","v":{"$error":"#N/A"}}]
[null,null,null,{"$f":"D89+1","v":31},{"$f":"IF( (E57+L57*D89)<=H57,(E57+L57*D89),\"- - -\")","v":"- - -"},{"$f":"(B60+1)-MATCH(E90,C60:C79,-1)","v":{"$error":"#N/A"}},{"$f":"LOOKUP(F90,B37:B56,E37:E56)","v":{"$error":"#N/A"}},null,{"$f":"LOOKUP(F90,B37:B56,G37:G56)*$P$57","v":{"$error":"#N/A"}},{"$f":"LOOKUP(F90,B37:B56,H37:H56)*$P$57","v":{"$error":"#N/A"}},{"$f":"LOOKUP(F90,B37:B56,I37:I56)*$P$57","v":{"$error":"#N/A"}},{"$f":"LOOKUP(F90,B37:B56,J37:J56)","v":{"$error":"#N/A"}},{"$f":"LOOKUP(F90,B37:B56,K37:K56)","v":{"$error":"#N/A"}},{"$f":"LOOKUP(F90,B37:B56,L37:L56)","v":{"$error":"#N/A"}},{"$f":"LOOKUP(F90,B37:B56,M37:M56)","v":{"$error":"#N/A"}}]
[null,null,null,32,{"$f":"IF( (E57+L57*D90)<=H57,(E57+L57*D90),\"- - -\")","v":"- - -"},{"$f":"(B60+1)-MATCH(E91,C60:C79,-1)","v":{"$error":"#N/A"}},{"$f":"LOOKUP(F91,B37:B56,E37:E56)","v":{"$error":"#N/A"}},null,{"$f":"LOOKUP(F91,B37:B56,G37:G56)*$P$57","v":{"$error":"#N/A"}},{"$f":"LOOKUP(F91,B37:B56,H37:H56)*$P$57","v":{"$error":"#N/A"}},{"$f":"LOOKUP(F91,B37:B56,I37:I56)*$P$57","v":{"$error":"#N/A"}},{"$f":"LOOKUP(F91,B37:B56,J37:J56)","v":{"$error":"#N/A"}},{"$f":"LOOKUP(F91,B37:B56,K37:K56)","v":{"$error":"#N/A"}},{"$f":"LOOKUP(F91,B37:B56,L37:L56)","v":{"$error":"#N/A"}},{"$f":"LOOKUP(F91,B37:B56,M37:M56)","v":{"$error":"#N/A"}}]
[null,null,null,33,{"$f":"IF( (E57+L57*D91)<=H57,(E57+L57*D91),\"- - -\")","v":"- - -"},{"$f":"(B60+1)-MATCH(E92,C60:C79,-1)","v":{"$error":"#N/A"}},{"$f":"LOOKUP(F92,B37:B56,E37:E56)","v":{"$error":"#N/A"}},null,{"$f":"LOOKUP(F92,B37:B56,G37:G56)*$P$57","v":{"$error":"#N/A"}},{"$f":"LOOKUP(F92,B37:B56,H37:H56)*$P$57","v":{"$error":"#N/A"}},{"$f":"LOOKUP(F92,B37:B56,I37:I56)*$P$57","v":{"$error":"#N/A"}},{"$f":"LOOKUP(F92,B37:B56,J37:J56)","v":{"$error":"#N/A"}},{"$f":"LOOKUP(F92,B37:B56,K37:K56)","v":{"$error":"#N/A"}},{"$f":"LOOKUP(F92,B37:B56,L37:L56)","v":{"$error":"#N/A"}},{"$f":"LOOKUP(F92,B37:B56,M37:M56)","v":{"$error":"#N/A"}}]
[null,null,null,34,{"$f":"IF( (E57+L57*D92)<=H57,(E57+L57*D92),\"- - -\")","v":"- - -"},{"$f":"(B60+1)-MATCH(E93,C60:C79,-1)","v":{"$error":"#N/A"}},{"$f":"LOOKUP(F93,B37:B56,E37:E56)","v":{"$error":"#N/A"}},null,{"$f":"LOOKUP(F93,B37:B56,G37:G56)*$P$57","v":{"$error":"#N/A"}},{"$f":"LOOKUP(F93,B37:B56,H37:H56)*$P$57","v":{"$error":"#N/A"}},{"$f":"LOOKUP(F93,B37:B56,I37:I56)*$P$57","v":{"$error":"#N/A"}},{"$f":"LOOKUP(F93,B37:B56,J37:J56)","v":{"$error":"#N/A"}},{"$f":"LOOKUP(F93,B37:B56,K37:K56)","v":{"$error":"#N/A"}},{"$f":"LOOKUP(F93,B37:B56,L37:L56)","v":{"$error":"#N/A"}},{"$f":"LOOKUP(F93,B37:B56,M37:M56)","v":{"$error":"#N/A"}}]
[null,null,null,35,{"$f":"IF( (E57+L57*D93)<=H57,(E57+L57*D93),\"- - -\")","v":"- - -"},{"$f":"(B60+1)-MATCH(E94,C60:C79,-1)","v":{"$error":"#N/A"}},{"$f":"LOOKUP(F94,B37:B56,E37:E56)","v":{"$error":"#N/A"}},null,{"$f":"LOOKUP(F94,B37:B56,G37:G56)*$P$57","v":{"$error":"#N/A"}},{"$f":"LOOKUP(F94,B37:B56,H37:H56)*$P$57","v":{"$error":"#N/A"}},{"$f":"LOOKUP(F94,B37:B56,I37:I56)*$P$57","v":{"$error":"#N/A"}},{"$f":"LOOKUP(F94,B37:B56,J37:J56)","v":{"$error":"#N/A"}},{"$f":"LOOKUP(F94,B37:B56,K37:K56)","v":{"$error":"#N/A"}},{"$f":"LOOKUP(F94,B37:B56,L37:L56)","v":{"$error":"#N/A"}},{"$f":"LOOKUP(F94,B37:B56,M37:M56)","v":{"$error":"#N/A"}}]
[null,null,null,36,{"$f":"IF( (E57+L57*D94)<=H57,(E57+L57*D94),\"- - -\")","v":"- - -"},{"$f":"(B60+1)-MATCH(E95,C60:C79,-1)","v":{"$error":"#N/A"}},{"$f":"LOOKUP(F95,B37:B56,E37:E56)","v":{"$error":"#N/A"}},null,{"$f":"LOOKUP(F95,B37:B56,G37:G56)*$P$57","v":{"$error":"#N/A"}},{"$f":"LOOKUP(F95,B37:B56,H37:H56)*$P$57","v":{"$error":"#N/A"}},{"$f":"LOOKUP(F95,B37:B56,I37:I56)*$P$57","v":{"$error":"#N/A"}},{"$f":"LOOKUP(F95,B37:B56,J37:J56)","v":{"$error":"#N/A"}},{"$f":"LOOKUP(F95,B37:B56,K37:K56)","v":{"$error":"#N/A"}},{"$f":"LOOKUP(F95,B37:B56,L37:L56)","v":{"$error":"#N/A"}},{"$f":"LOOKUP(F95,B37:B56,M37:M56)","v":{"$error":"#N/A"}}]
[null,null,null,37,{"$f":"IF( (E57+L57*D95)<=H57,(E57+L57*D95),\"- - -\")","v":"- - -"},{"$f":"(B60+1)-MATCH(E96,C60:C79,-1)","v":{"$error":"#N/A"}},{"$f":"LOOKUP(F96,B37:B56,E37:E56)","v":{"$error":"#N/A"}},null,{"$f":"LOOKUP(F96,B37:B56,G37:G56)*$P$57","v":{"$error":"#N/A"}},{"$f":"LOOKUP(F96,B37:B56,H37:H56)*$P$57","v":{"$error":"#N/A"}},{"$f":"LOOKUP(F96,B37:B56,I37:I56)*$P$57","v":{"$error":"#N/A"}},{"$f":"LOOKUP(F96,B37:B56,J37:J56)","v":{"$error":"#N/A"}},{"$f":"LOOKUP(F96,B37:B56,K37:K56)","v":{"$error":"#N/A"}},{"$f":"LOOKUP(F96,B37:B56,L37:L56)","v":{"$error":"#N/A"}},{"$f":"LOOKUP(F96,B37:B56,M37:M56)","v":{"$error":"#N/A"}}]
[null,null,null,38,{"$f":"IF( (E57+L57*D96)<=H57,(E57+L57*D96),\"- - -\")","v":"- - -"},{"$f":"(B60+1)-MATCH(E97,C60:C79,-1)","v":{"$error":"#N/A"}},{"$f":"LOOKUP(F97,B37:B56,E37:E56)","v":{"$error":"#N/A"}},null,{"$f":"LOOKUP(F97,B37:B56,G37:G56)*$P$57","v":{"$error":"#N/A"}},{"$f":"LOOKUP(F97,B37:B56,H37:H56)*$P$57","v":{"$error":"#N/A"}},{"$f":"LOOKUP(F97,B37:B56,I37:I56)*$P$57","v":{"$error":"#N/A"}},{"$f":"LOOKUP(F97,B37:B56,J37:J56)","v":{"$error":"#N/A"}},{"$f":"LOOKUP(F97,B37:B56,K37:K56)","v":{"$error":"#N/A"}},{"$f":"LOOKUP(F97,B37:B56,L37:L56)","v":{"$error":"#N/A"}},{"$f":"LOOKUP(F97,B37:B56,M37:M56)","v":{"$error":"#N/A"}}]
[null,null,null,39,{"$f":"IF( (E57+L57*D97)<=H57,(E57+L57*D97),\"- - -\")","v":"- - -"},{"$f":"(B60+1)-MATCH(E98,C60:C79,-1)","v":{"$error":"#N/A"}},{"$f":"LOOKUP(F98,B37:B56,E37:E56)","v":{"$error":"#N/A"}},null,{"$f":"LOOKUP(F98,B37:B56,G37:G56)*$P$57","v":{"$error":"#N/A"}},{"$f":"LOOKUP(F98,B37:B56,H37:H56)*$P$57","v":{"$error":"#N/A"}},{"$f":"LOOKUP(F98,B37:B56,I37:I56)*$P$57","v":{"$error":"#N/A"}},{"$f":"LOOKUP(F98,B37:B56,J37:J56)","v":{"$error":"#N/A"}},{"$f":"LOOKUP(F98,B37:B56,K37:K56)","v":{"$error":"#N/A"}},{"$f":"LOOKUP(F98,B37:B56,L37:L56)","v":{"$error":"#N/A"}},{"$f":"LOOKUP(F98,B37:B56,M37:M56)","v":{"$error":"#N/A"}}]
[null,null,null,40,{"$f":"IF( (E57+L57*D98)<=H57,(E57+L57*D98),\"- - -\")","v":"- - -"},{"$f":"(B60+1)-MATCH(E99,C60:C79,-1)","v":{"$error":"#N/A"}},{"$f":"LOOKUP(F99,B37:B56,E37:E56)","v":{"$error":"#N/A"}},null,{"$f":"LOOKUP(F99,B37:B56,G37:G56)*$P$57","v":{"$error":"#N/A"}},{"$f":"LOOKUP(F99,B37:B56,H37:H56)*$P$57","v":{"$error":"#N/A"}},{"$f":"LOOKUP(F99,B37:B56,I37:I56)*$P$57","v":{"$error":"#N/A"}},{"$f":"LOOKUP(F99,B37:B56,J37:J56)","v":{"$error":"#N/A"}},{"$f":"LOOKUP(F99,B37:B56,K37:K56)","v":{"$error":"#N/A"}},{"$f":"LOOKUP(F99,B37:B56,L37:L56)","v":{"$error":"#N/A"}},{"$f":"LOOKUP(F99,B37:B56,M37:M56)","v":{"$error":"#N/A"}}]
[null,null,null,41,{"$f":"IF( (E57+L57*D99)<=H57,(E57+L57*D99),\"- - -\")","v":"- - -"},{"$f":"(B60+1)-MATCH(E100,C60:C79,-1)","v":{"$error":"#N/A"}},{"$f":"LOOKUP(F100,B37:B56,E37:E56)","v":{"$error":"#N/A"}},null,{"$f":"LOOKUP(F100,B37:B56,G37:G56)*$P$57","v":{"$error":"#N/A"}},{"$f":"LOOKUP(F100,B37:B56,H37:H56)*$P$57","v":{"$error":"#N/A"}},{"$f":"LOOKUP(F100,B37:B56,I37:I56)*$P$57","v":{"$error":"#N/A"}},{"$f":"LOOKUP(F100,B37:B56,J37:J56)","v":{"$error":"#N/A"}},{"$f":"LOOKUP(F100,B37:B56,K37:K56)","v":{"$error":"#N/A"}},{"$f":"LOOKUP(F100,B37:B56,L37:L56)","v":{"$error":"#N/A"}},{"$f":"LOOKUP(F100,B37:B56,M37:M56)","v":{"$error":"#N/A"}}]
[null,null,null,42,{"$f":"IF( (E57+L57*D100)<=H57,(E57+L57*D100),\"- - -\")","v":"- - -"},{"$f":"(B60+1)-MATCH(E101,C60:C79,-1)","v":{"$error":"#N/A"}},{"$f":"LOOKUP(F101,B37:B56,E37:E56)","v":{"$error":"#N/A"}},null,{"$f":"LOOKUP(F101,B37:B56,G37:G56)*$P$57","v":{"$error":"#N/A"}},{"$f":"LOOKUP(F101,B37:B56,H37:H56)*$P$57","v":{"$error":"#N/A"}},{"$f":"LOOKUP(F101,B37:B56,I37:I56)*$P$57","v":{"$error":"#N/A"}},{"$f":"LOOKUP(F101,B37:B56,J37:J56)","v":{"$error":"#N/A"}},{"$f":"LOOKUP(F101,B37:B56,K37:K56)","v":{"$error":"#N/A"}},{"$f":"LOOKUP(F101,B37:B56,L37:L56)","v":{"$error":"#N/A"}},{"$f":"LOOKUP(F101,B37:B56,M37:M56)","v":{"$error":"#N/A"}}]
[null,null,null,43,{"$f":"IF( (E57+L57*D101)<=H57,(E57+L57*D101),\"- - -\")","v":"- - -"},{"$f":"(B60+1)-MATCH(E102,C60:C79,-1)","v":{"$error":"#N/A"}},{"$f":"LOOKUP(F102,B37:B56,E37:E56)","v":{"$error":"#N/A"}},null,{"$f":"LOOKUP(F102,B37:B56,G37:G56)*$P$57","v":{"$error":"#N/A"}},{"$f":"LOOKUP(F102,B37:B56,H37:H56)*$P$57","v":{"$error":"#N/A"}},{"$f":"LOOKUP(F102,B37:B56,I37:I56)*$P$57","v":{"$error":"#N/A"}},{"$f":"LOOKUP(F102,B37:B56,J37:J56)","v":{"$error":"#N/A"}},{"$f":"LOOKUP(F102,B37:B56,K37:K56)","v":{"$error":"#N/A"}},{"$f":"LOOKUP(F102,B37:B56,L37:L56)","v":{"$error":"#N/A"}},{"$f":"LOOKUP(F102,B37:B56,M37:M56)","v":{"$error":"#N/A"}}]
[null,null,null,44,{"$f":"IF( (E57+L57*D102)<=H57,(E57+L57*D102),\"- - -\")","v":"- - -"},{"$f":"(B60+1)-MATCH(E103,C60:C79,-1)","v":{"$error":"#N/A"}},{"$f":"LOOKUP(F103,B37:B56,E37:E56)","v":{"$error":"#N/A"}},null,{"$f":"LOOKUP(F103,B37:B56,G37:G56)*$P$57","v":{"$error":"#N/A"}},{"$f":"LOOKUP(F103,B37:B56,H37:H56)*$P$57","v":{"$error":"#N/A"}},{"$f":"LOOKUP(F103,B37:B56,I37:I56)*$P$57","v":{"$error":"#N/A"}},{"$f":"LOOKUP(F103,B37:B56,J37:J56)","v":{"$error":"#N/A"}},{"$f":"LOOKUP(F103,B37:B56,K37:K56)","v":{"$error":"#N/A"}},{"$f":"LOOKUP(F103,B37:B56,L37:L56)","v":{"$error":"#N/A"}},{"$f":"LOOKUP(F103,B37:B56,M37:M56)","v":{"$error":"#N/A"}}]
[null,null,null,45,{"$f":"IF( (E57+L57*D103)<=H57,(E57+L57*D103),\"- - -\")","v":"- - -"},{"$f":"(B60+1)-MATCH(E104,C60:C79,-1)","v":{"$error":"#N/A"}},{"$f":"LOOKUP(F104,B37:B56,E37:E56)","v":{"$error":"#N/A"}},null,{"$f":"LOOKUP(F104,B37:B56,G37:G56)*$P$57","v":{"$error":"#N/A"}},{"$f":"LOOKUP(F104,B37:B56,H37:H56)*$P$57","v":{"$error":"#N/A"}},{"$f":"LOOKUP(F104,B37:B56,I37:I56)*$P$57","v":{"$error":"#N/A"}},{"$f":"LOOKUP(F104,B37:B56,J37:J56)","v":{"$error":"#N/A"}},{"$f":"LOOKUP(F104,B37:B56,K37:K56)","v":{"$error":"#N/A"}},{"$f":"LOOKUP(F104,B37:B56,L37:L56)","v":{"$error":"#N/A"}},{"$f":"LOOKUP(F104,B37:B56,M37:M56)","v":{"$error":"#N/A"}}]
[null,null,null,46,{"$f":"IF( (E57+L57*D104)<=H57,(E57+L57*D104),\"- - -\")","v":"- - -"},{"$f":"(B60+1)-MATCH(E105,C60:C79,-1)","v":{"$error":"#N/A"}},{"$f":"LOOKUP(F105,B37:B56,E37:E56)","v":{"$error":"#N/A"}},null,{"$f":"LOOKUP(F105,B37:B56,G37:G56)*$P$57","v":{"$error":"#N/A"}},{"$f":"LOOKUP(F105,B37:B56,H37:H56)*$P$57","v":{"$error":"#N/A"}},{"$f":"LOOKUP(F105,B37:B56,I37:I56)*$P$57","v":{"$error":"#N/A"}},{"$f":"LOOKUP(F105,B37:B56,J37:J56)","v":{"$error":"#N/A"}},{"$f":"LOOKUP(F105,B37:B56,K37:K56)","v":{"$error":"#N/A"}},{"$f":"LOOKUP(F105,B37:B56,L37:L56)","v":{"$error":"#N/A"}},{"$f":"LOOKUP(F105,B37:B56,M37:M56)","v":{"$error":"#N/A"}}]
[null,null,null,47,{"$f":"IF( (E57+L57*D105)<=H57,(E57+L57*D105),\"- - -\")","v":"- - -"},{"$f":"(B60+1)-MATCH(E106,C60:C79,-1)","v":{"$error":"#N/A"}},{"$f":"LOOKUP(F106,B37:B56,E37:E56)","v":{"$error":"#N/A"}},null,{"$f":"LOOKUP(F106,B37:B56,G37:G56)*$P$57","v":{"$error":"#N/A"}},{"$f":"LOOKUP(F106,B37:B56,H37:H56)*$P$57","v":{"$error":"#N/A"}},{"$f":"LOOKUP(F106,B37:B56,I37:I56)*$P$57","v":{"$error":"#N/A"}},{"$f":"LOOKUP(F106,B37:B56,J37:J56)","v":{"$error":"#N/A"}},{"$f":"LOOKUP(F106,B37:B56,K37:K56)","v":{"$error":"#N/A"}},{"$f":"LOOKUP(F106,B37:B56,L37:L56)","v":{"$error":"#N/A"}},{"$f":"LOOKUP(F106,B37:B56,M37:M56)","v":{"$error":"#N/A"}}]
[null,null,null,48,{"$f":"IF( (E57+L57*D106)<=H57,(E57+L57*D106),\"- - -\")","v":"- - -"},{"$f":"(B60+1)-MATCH(E107,C60:C79,-1)","v":{"$error":"#N/A"}},{"$f":"LOOKUP(F107,B37:B56,E37:E56)","v":{"$error":"#N/A"}},null,{"$f":"LOOKUP(F107,B37:B56,G37:G56)*$P$57","v":{"$error":"#N/A"}},{"$f":"LOOKUP(F107,B37:B56,H37:H56)*$P$57","v":{"$error":"#N/A"}},{"$f":"LOOKUP(F107,B37:B56,I37:I56)*$P$57","v":{"$error":"#N/A"}},{"$f":"LOOKUP(F107,B37:B56,J37:J56)","v":{"$error":"#N/A"}},{"$f":"LOOKUP(F107,B37:B56,K37:K56)","v":{"$error":"#N/A"}},{"$f":"LOOKUP(F107,B37:B56,L37:L56)","v":{"$error":"#N/A"}},{"$f":"LOOKUP(F107,B37:B56,M37:M56)","v":{"$error":"#N/A"}}]
[null,null,null,49,{"$f":"IF( (E57+L57*D107)<=H57,(E57+L57*D107),\"- - -\")","v":"- - -"},{"$f":"(B60+1)-MATCH(E108,C60:C79,-1)","v":{"$error":"#N/A"}},{"$f":"LOOKUP(F108,B37:B56,E37:E56)","v":{"$error":"#N/A"}},null,{"$f":"LOOKUP(F108,B37:B56,G37:G56)*$P$57","v":{"$error":"#N/A"}},{"$f":"LOOKUP(F108,B37:B56,H37:H56)*$P$57","v":{"$error":"#N/A"}},{"$f":"LOOKUP(F108,B37:B56,I37:I56)*$P$57","v":{"$error":"#N/A"}},{"$f":"LOOKUP(F108,B37:B56,J37:J56)","v":{"$error":"#N/A"}},{"$f":"LOOKUP(F108,B37:B56,K37:K56)","v":{"$error":"#N/A"}},{"$f":"LOOKUP(F108,B37:B56,L37:L56)","v":{"$error":"#N/A"}},{"$f":"LOOKUP(F108,B37:B56,M37:M56)","v":{"$error":"#N/A"}}]
[null,null,null,50,{"$f":"IF( (E57+L57*D108)<=H57,(E57+L57*D108),\"- - -\")","v":"- - -"},{"$f":"(B60+1)-MATCH(E109,C60:C79,-1)","v":{"$error":"#N/A"}},{"$f":"LOOKUP(F109,B37:B56,E37:E56)","v":{"$error":"#N/A"}},null,{"$f":"LOOKUP(F109,B37:B56,G37:G56)*$P$57","v":{"$error":"#N/A"}},{"$f":"LOOKUP(F109,B37:B56,H37:H56)*$P$57","v":{"$error":"#N/A"}},{"$f":"LOOKUP(F109,B37:B56,I37:I56)*$P$57","v":{"$error":"#N/A"}},{"$f":"LOOKUP(F109,B37:B56,J37:J56)","v":{"$error":"#N/A"}},{"$f":"LOOKUP(F109,B37:B56,K37:K56)","v":{"$error":"#N/A"}},{"$f":"LOOKUP(F109,B37:B56,L37:L56)","v":{"$error":"#N/A"}},{"$f":"LOOKUP(F109,B37:B56,M37:M56)","v":{"$error":"#N/A"}}]
[]
[]
[null,"搬送負荷データレコード",null,null,{"$f":"LOOKUP(C114,MassDataLink!$A$4:$A$618,MassDataLink!$G$4:$G$618)","v":"RCA-SA4C-20-2.5-水平"},null,null,null,null,"設置姿勢で絞込み",null,"- - -",null,"加減速・速度データレコード"]
[null,"№","Ldﾚｺｰﾄﾞ№",{"$f":"MassDataLink!B2","v":"ｱｸﾁｭｴｰﾀ姿勢"},{"$f":"MassDataLink!C2","v":"搬送負荷質量"},{"$f":"MassDataLink!D2","v":"加減速・速度ﾃﾞｰﾀ"},{"$f":"MassDataLink!E2","v":"前ﾃﾞｰﾀ№"},{"$f":"MassDataLink!F2","v":"次ﾃﾞｰﾀ№"},null,"№","搬送負荷質量","avﾚｺｰﾄﾞ№",null,"備考",{"$f":"LOOKUP(O115,AccVelDataLink!$A$4:$A$618,AccVelDataLink!$F$4:$F$618)","v":"RCA-SA4C-20-2.5-水平"}]
[null,1,{"$f":"LOOKUP(D35,B26:B33,E26:E33)","v":49},{"$f":"LOOKUP(C114,MassDataLink!$A$4:$A$618,MassDataLink!$B$4:$B$618)","v":0},{"$f":"LOOKUP(C114,MassDataLink!$A$4:$A$618,MassDataLink!$C$4:$C$618)","v":8000},{"$f":"LOOKUP(C114,MassDataLink!$A$4:$A$618,MassDataLink!$D$4:$D$618)","v":49},{"$f":"LOOKUP(C114,MassDataLink!$A$4:$A$618,MassDataLink!$E$4:$E$618)","v":-1},{"$f":"LOOKUP(C114,MassDataLink!$A$4:$A$618,MassDataLink!$F$4:$F$618)","v":50},null,1,{"$f":"IF(C114=-1,$L$112,IF($A$11=D114,ROUND((E114*$P$57),$R$57),$L$112))","v":8},{"$f":"IF(K114=$L$112,$L$112,F114)","v":49},null,"№","avﾚｺｰﾄﾞ№","加速度","速度","前ﾃﾞｰﾀ","次ﾃﾞｰﾀ"]
[null,{"$f":"B114+1","v":2},{"$f":"IF(C114=-1,-1,H114)","v":50},{"$f":"LOOKUP(C115,MassDataLink!$A$4:$A$618,MassDataLink!$B$4:$B$618)","v":1},{"$f":"LOOKUP(C115,MassDataLink!$A$4:$A$618,MassDataLink!$C$4:$C$618)","v":4500},{"$f":"LOOKUP(C115,MassDataLink!$A$4:$A$618,MassDataLink!$D$4:$D$618)","v":50},{"$f":"LOOKUP(C115,MassDataLink!$A$4:$A$618,MassDataLink!$E$4:$E$618)","v":49},{"$f":"LOOKUP(C115,MassDataLink!$A$4:$A$618,MassDataLink!$F$4:$F$618)","v":-1},null,{"$f":"J114+1","v":2},{"$f":"IF(C115=-1,$L$112,IF($A$11=D115,ROUND((E115*$P$57),$R$57),$L$112))","v":"- - -"},{"$f":"IF(K115=$L$112,$L$112,F115)","v":"- - -"},null,1,{"$f":"LOOKUP(A14,K114:K163,L114:L163)","v":49},{"$f":"LOOKUP(O115,AccVelDataLink!$A$4:$A$618,AccVelDataLink!$B$4:$B$618)","v":1961330},{"$f":"LOOKUP(O115,AccVelDataLink!$A$4:$A$618,AccVelDataLink!$C$4:$C$618)","v":165},{"$f":"LOOKUP(O115,AccVelDataLink!$A$4:$A$618,AccVelDataLink!$D$4:$D$618)","v":-1},{"$f":"LOOKUP(O115,AccVelDataLink!$A$4:$A$618,AccVelDataLink!$E$4:$E$618)","v":-1}]
[null,{"$f":"B115+1","v":3},{"$f":"IF(C115=-1,-1,H115)","v":-1},{"$f":"LOOKUP(C116,MassDataLink!$A$4:$A$618,MassDataLink!$B$4:$B$618)","v":{"$error":"#N/A"}},{"$f":"LOOKUP(C116,MassDataLink!$A$4:$A$618,MassDataLink!$C$4:$C$618)","v":{"$error":"#N/A"}},{"$f":"LOOKUP(C116,MassDataLink!$A$4:$A$618,MassDataLink!$D$4:$D$618)","v":{"$error":"#N/A"}},{"$f":"LOOKUP(C116,MassDataLink!$A$4:$A$618,MassDataLink!$E$4:$E$618)","v":{"$error":"#N/A"}},{"$f":"LOOKUP(C116,MassDataLink!$A$4:$A$618,MassDataLink!$F$4:$F$618)","v":{"$error":"#N/A"}},null,{"$f":"J115+1","v":3},"- - -","- - -",null,{"$f":"N115+1","v":2},{"$f":"IF(O115=-1,-1,S115)","v":-1},{"$f":"LOOKUP(O116,AccVelDataLink!$A$4:$A$618,AccVelDataLink!$B$4:$B$618)","v":{"$error":"#N/A"}},{"$f":"LOOKUP(O116,AccVelDataLink!$A$4:$A$618,AccVelDataLink!$C$4:$C$618)","v":{"$error":"#N/A"}},{"$f":"LOOKUP(O116,AccVelDataLink!$A$4:$A$618,AccVelDataLink!$D$4:$D$618)","v":{"$error":"#N/A"}},{"$f":"LOOKUP(O116,AccVelDataLink!$A$4:$A$618,AccVelDataLink!$E$4:$E$618)","v":{"$error":"#N/A"}}]
[null,{"$f":"B116+1","v":4},{"$f":"IF(C116=-1,-1,H116)","v":-1},{"$f":"LOOKUP(C117,MassDataLink!$A$4:$A$618,MassDataLink!$B$4:$B$618)","v":{"$error":"#N/A"}},{"$f":"LOOKUP(C117,MassDataLink!$A$4:$A$618,MassDataLink!$C$4:$C$618)","v":{"$error":"#N/A"}},{"$f":"LOOKUP(C117,MassDataLink!$A$4:$A$618,MassDataLink!$D$4:$D$618)","v":{"$error":"#N/A"}},{"$f":"LOOKUP(C117,MassDataLink!$A$4:$A$618,MassDataLink!$E$4:$E$618)","v":{"$error":"#N/A"}},{"$f":"LOOKUP(C117,MassDataLink!$A$4:$A$618,MassDataLink!$F$4:$F$618)","v":{"$error":"#N/A"}},null,{"$f":"J116+1","v":4},"- - -","- - -",null,3,{"$f":"IF(O116=-1,-1,S116)","v":-1},{"$f":"LOOKUP(O117,AccVelDataLink!$A$4:$A$618,AccVelDataLink!$B$4:$B$618)","v":{"$error":"#N/A"}},{"$f":"LOOKUP(O117,AccVelDataLink!$A$4:$A$618,AccVelDataLink!$C$4:$C$618)","v":{"$error":"#N/A"}},{"$f":"LOOKUP(O117,AccVelDataLink!$A$4:$A$618,AccVelDataLink!$D$4:$D$618)","v":{"$error":"#N/A"}},{"$f":"LOOKUP(O117,AccVelDataLink!$A$4:$A$618,AccVelDataLink!$E$4:$E$618)","v":{"$error":"#N/A"}}]
[null,{"$f":"B117+1","v":5},{"$f":"IF(C117=-1,-1,H117)","v":-1},{"$f":"LOOKUP(C118,MassDataLink!$A$4:$A$618,MassDataLink!$B$4:$B$618)","v":{"$error":"#N/A"}},{"$f":"LOOKUP(C118,MassDataLink!$A$4:$A$618,MassDataLink!$C$4:$C$618)","v":{"$error":"#N/A"}},{"$f":"LOOKUP(C118,MassDataLink!$A$4:$A$618,MassDataLink!$D$4:$D$618)","v":{"$error":"#N/A"}},{"$f":"LOOKUP(C118,MassDataLink!$A$4:$A$618,MassDataLink!$E$4:$E$618)","v":{"$error":"#N/A"}},{"$f":"LOOKUP(C118,MassDataLink!$A$4:$A$618,MassDataLink!$F$4:$F$618)","v":{"$error":"#N/A"}},null,{"$f":"J117+1","v":5},"- - -","- - -",null,4,-1,{"$f":"LOOKUP(O118,AccVelDataLink!$A$4:$A$618,AccVelDataLink!$B$4:$B$618)","v":{"$error":"#N/A"}},{"$f":"LOOKUP(O118,AccVelDataLink!$A$4:$A$618,AccVelDataLink!$C$4:$C$618)","v":{"$error":"#N/A"}},{"$f":"LOOKUP(O118,AccVelDataLink!$A$4:$A$618,AccVelDataLink!$D$4:$D$618)","v":{"$error":"#N/A"}},{"$f":"LOOKUP(O118,AccVelDataLink!$A$4:$A$618,AccVelDataLink!$E$4:$E$618)","v":{"$error":"#N/A"}}]
[null,{"$f":"B118+1","v":6},{"$f":"IF(C118=-1,-1,H118)","v":-1},{"$f":"LOOKUP(C119,MassDataLink!$A$4:$A$618,MassDataLink!$B$4:$B$618)","v":{"$error":"#N/A"}},{"$f":"LOOKUP(C119,MassDataLink!$A$4:$A$618,MassDataLink!$C$4:$C$618)","v":{"$error":"#N/A"}},{"$f":"LOOKUP(C119,MassDataLink!$A$4:$A$618,MassDataLink!$D$4:$D$618)","v":{"$error":"#N/A"}},{"$f":"LOOKUP(C119,MassDataLink!$A$4:$A$618,MassDataLink!$E$4:$E$618)","v":{"$error":"#N/A"}},{"$f":"LOOKUP(C119,MassDataLink!$A$4:$A$618,MassDataLink!$F$4:$F$618)","v":{"$error":"#N/A"}},null,{"$f":"J118+1","v":6},"- - -","- - -",null,5,-1,{"$f":"LOOKUP(O119,AccVelDataLink!$A$4:$A$618,AccVelDataLink!$B$4:$B$618)","v":{"$error":"#N/A"}},{"$f":"LOOKUP(O119,AccVelDataLink!$A$4:$A$618,AccVelDataLink!$C$4:$C$618)","v":{"$error":"#N/A"}},{"$f":"LOOKUP(O119,AccVelDataLink!$A$4:$A$618,AccVelDataLink!$D$4:$D$618)","v":{"$error":"#N/A"}},{"$f":"LOOKUP(O119,AccVelDataLink!$A$4:$A$618,AccVelDataLink!$E$4:$E$618)","v":{"$error":"#N/A"}}]
[null,7,-1,{"$f":"LOOKUP(C120,MassDataLink!$A$4:$A$618,MassDataLink!$B$4:$B$618)","v":{"$error":"#N/A"}},{"$f":"LOOKUP(C120,MassDataLink!$A$4:$A$618,MassDataLink!$C$4:$C$618)","v":{"$error":"#N/A"}},{"$f":"LOOKUP(C120,MassDataLink!$A$4:$A$618,MassDataLink!$D$4:$D$618)","v":{"$error":"#N/A"}},{"$f":"LOOKUP(C120,MassDataLink!$A$4:$A$618,MassDataLink!$E$4:$E$618)","v":{"$error":"#N/A"}},{"$f":"LOOKUP(C120,MassDataLink!$A$4:$A$618,MassDataLink!$F$4:$F$618)","v":{"$error":"#N/A"}},null,7,"- - -","- - -",null,6,-1,{"$f":"LOOKUP(O120,AccVelDataLink!$A$4:$A$618,AccVelDataLink!$B$4:$B$618)","v":{"$error":"#N/A"}},{"$f":"LOOKUP(O120,AccVelDataLink!$A$4:$A$618,AccVelDataLink!$C$4:$C$618)","v":{"$error":"#N/A"}},{"$f":"LOOKUP(O120,AccVelDataLink!$A$4:$A$618,AccVelDataLink!$D$4:$D$618)","v":{"$error":"#N/A"}},{"$f":"LOOKUP(O120,AccVelDataLink!$A$4:$A$618,AccVelDataLink!$E$4:$E$618)","v":{"$error":"#N/A"}}]
[null,8,-1,{"$f":"LOOKUP(C121,MassDataLink!$A$4:$A$618,MassDataLink!$B$4:$B$618)","v":{"$error":"#N/A"}},{"$f":"LOOKUP(C121,MassDataLink!$A$4:$A$618,MassDataLink!$C$4:$C$618)","v":{"$error":"#N/A"}},{"$f":"LOOKUP(C121,MassDataLink!$A$4:$A$618,MassDataLink!$D$4:$D$618)","v":{"$error":"#N/A"}},{"$f":"LOOKUP(C121,MassDataLink!$A$4:$A$618,MassDataLink!$E$4:$E$618)","v":{"$error":"#N/A"}},{"$f":"LOOKUP(C121,MassDataLink!$A$4:$A$618,MassDataLink!$F$4:$F$618)","v":{"$error":"#N/A"}},null,8,"- - -","- - -",null,7,-1,{"$f":"LOOKUP(O121,AccVelDataLink!$A$4:$A$618,AccVelDataLink!$B$4:$B$618)","v":{"$error":"#N/A"}},{"$f":"LOOKUP(O121,AccVelDataLink!$A$4:$A$618,AccVelDataLink!$C$4:$C$618)","v":{"$error":"#N/A"}},{"$f":"LOOKUP(O121,AccVelDataLink!$A$4:$A$618,AccVelDataLink!$D$4:$D$618)","v":{"$error":"#N/A"}},{"$f":"LOOKUP(O121,AccVelDataLink!$A$4:$A$618,AccVelDataLink!$E$4:$E$618)","v":{"$error":"#N/A"}}]
[null,9,-1,{"$f":"LOOKUP(C122,MassDataLink!$A$4:$A$618,MassDataLink!$B$4:$B$618)","v":{"$error":"#N/A"}},{"$f":"LOOKUP(C122,MassDataLink!$A$4:$A$618,MassDataLink!$C$4:$C$618)","v":{"$error":"#N/A"}},{"$f":"LOOKUP(C122,MassDataLink!$A$4:$A$618,MassDataLink!$D$4:$D$618)","v":{"$error":"#N/A"}},{"$f":"LOOKUP(C122,MassDataLink!$A$4:$A$618,MassDataLink!$E$4:$E$618)","v":{"$error":"#N/A"}},{"$f":"LOOKUP(C122,MassDataLink!$A$4:$A$618,MassDataLink!$F$4:$F$618)","v":{"$error":"#N/A"}},null,9,"- - -","- - -",null,8,-1,{"$f":"LOOKUP(O122,AccVelDataLink!$A$4:$A$618,AccVelDataLink!$B$4:$B$618)","v":{"$error":"#N/A"}},{"$f":"LOOKUP(O122,AccVelDataLink!$A$4:$A$618,AccVelDataLink!$C$4:$C$618)","v":{"$error":"#N/A"}},{"$f":"LOOKUP(O122,AccVelDataLink!$A$4:$A$618,AccVelDataLink!$D$4:$D$618)","v":{"$error":"#N/A"}},{"$f":"LOOKUP(O122,AccVelDataLink!$A$4:$A$618,AccVelDataLink!$E$4:$E$618)","v":{"$error":"#N/A"}}]
[null,10,-1,{"$f":"LOOKUP(C123,MassDataLink!$A$4:$A$618,MassDataLink!$B$4:$B$618)","v":{"$error":"#N/A"}},{"$f":"LOOKUP(C123,MassDataLink!$A$4:$A$618,MassDataLink!$C$4:$C$618)","v":{"$error":"#N/A"}},{"$f":"LOOKUP(C123,MassDataLink!$A$4:$A$618,MassDataLink!$D$4:$D$618)","v":{"$error":"#N/A"}},{"$f":"LOOKUP(C123,MassDataLink!$A$4:$A$618,MassDataLink!$E$4:$E$618)","v":{"$error":"#N/A"}},{"$f":"LOOKUP(C123,MassDataLink!$A$4:$A$618,MassDataLink!$F$4:$F$618)","v":{"$error":"#N/A"}},null,10,"- - -","- - -",null,9,-1,{"$f":"LOOKUP(O123,AccVelDataLink!$A$4:$A$618,AccVelDataLink!$B$4:$B$618)","v":{"$error":"#N/A"}},{"$f":"LOOKUP(O123,AccVelDataLink!$A$4:$A$618,AccVelDataLink!$C$4:$C$618)","v":{"$error":"#N/A"}},{"$f":"LOOKUP(O123,AccVelDataLink!$A$4:$A$618,AccVelDataLink!$D$4:$D$618)","v":{"$error":"#N/A"}},{"$f":"LOOKUP(O123,AccVelDataLink!$A$4:$A$618,AccVelDataLink!$E$4:$E$618)","v":{"$error":"#N/A"}}]
[null,11,-1,{"$f":"LOOKUP(C124,MassDataLink!$A$4:$A$618,MassDataLink!$B$4:$B$618)","v":{"$error":"#N/A"}},{"$f":"LOOKUP(C124,MassDataLink!$A$4:$A$618,MassDataLink!$C$4:$C$618)","v":{"$error":"#N/A"}},{"$f":"LOOKUP(C124,MassDataLink!$A$4:$A$618,MassDataLink!$D$4:$D$618)","v":{"$error":"#N/A"}},{"$f":"LOOKUP(C124,MassDataLink!$A$4:$A$618,MassDataLink!$E$4:$E$618)","v":{"$error":"#N/A"}},{"$f":"LOOKUP(C124,MassDataLink!$A$4:$A$618,MassDataLink!$F$4:$F$618)","v":{"$error":"#N/A"}},null,11,"- - -","- - -",null,10,-1,{"$f":"LOOKUP(O124,AccVelDataLink!$A$4:$A$618,AccVelDataLink!$B$4:$B$618)","v":{"$error":"#N/A"}},{"$f":"LOOKUP(O124,AccVelDataLink!$A$4:$A$618,AccVelDataLink!$C$4:$C$618)","v":{"$error":"#N/A"}},{"$f":"LOOKUP(O124,AccVelDataLink!$A$4:$A$618,AccVelDataLink!$D$4:$D$618)","v":{"$error":"#N/A"}},{"$f":"LOOKUP(O124,AccVelDataLink!$A$4:$A$618,AccVelDataLink!$E$4:$E$618)","v":{"$error":"#N/A"}}]
[null,12,-1,{"$f":"LOOKUP(C125,MassDataLink!$A$4:$A$618,MassDataLink!$B$4:$B$618)","v":{"$error":"#N/A"}},{"$f":"LOOKUP(C125,MassDataLink!$A$4:$A$618,MassDataLink!$C$4:$C$618)","v":{"$error":"#N/A"}},{"$f":"LOOKUP(C125,MassDataLink!$A$4:$A$618,MassDataLink!$D$4:$D$618)","v":{"$error":"#N/A"}},{"$f":"LOOKUP(C125,MassDataLink!$A$4:$A$618,MassDataLink!$E$4:$E$618)","v":{"$error":"#N/A"}},{"$f":"LOOKUP(C125,MassDataLink!$A$4:$A$618,MassDataLink!$F$4:$F$618)","v":{"$error":"#N/A"}},null,12,"- - -","- - -",null,null,"加速度系数",9.9999999999999995E-7]
[null,13,-1,{"$f":"LOOKUP(C126,MassDataLink!$A$4:$A$618,MassDataLink!$B$4:$B$618)","v":{"$error":"#N/A"}},{"$f":"LOOKUP(C126,MassDataLink!$A$4:$A$618,MassDataLink!$C$4:$C$618)","v":{"$error":"#N/A"}},{"$f":"LOOKUP(C126,MassDataLink!$A$4:$A$618,MassDataLink!$D$4:$D$618)","v":{"$error":"#N/A"}},{"$f":"LOOKUP(C126,MassDataLink!$A$4:$A$618,MassDataLink!$E$4:$E$618)","v":{"$error":"#N/A"}},{"$f":"LOOKUP(C126,MassDataLink!$A$4:$A$618,MassDataLink!$F$4:$F$618)","v":{"$error":"#N/A"}},null,13,"- - -","- - -",null,"G","№","加速度","速度"]
[null,14,-1,{"$f":"LOOKUP(C127,MassDataLink!$A$4:$A$618,MassDataLink!$B$4:$B$618)","v":{"$error":"#N/A"}},{"$f":"LOOKUP(C127,MassDataLink!$A$4:$A$618,MassDataLink!$C$4:$C$618)","v":{"$error":"#N/A"}},{"$f":"LOOKUP(C127,MassDataLink!$A$4:$A$618,MassDataLink!$D$4:$D$618)","v":{"$error":"#N/A"}},{"$f":"LOOKUP(C127,MassDataLink!$A$4:$A$618,MassDataLink!$E$4:$E$618)","v":{"$error":"#N/A"}},{"$f":"LOOKUP(C127,MassDataLink!$A$4:$A$618,MassDataLink!$F$4:$F$618)","v":{"$error":"#N/A"}},null,14,"- - -","- - -",null,{"$f":"LeadData!A1","v":9.8066499999999994},1,{"$f":"IF(O115=-1,$L$112,(P115/$N$127)*$P$125)","v":0.19999999999999998},{"$f":"IF(O115=-1,$L$112,Q115)","v":165}]
[null,15,-1,{"$f":"LOOKUP(C128,MassDataLink!$A$4:$A$618,MassDataLink!$B$4:$B$618)","v":{"$error":"#N/A"}},{"$f":"LOOKUP(C128,MassDataLink!$A$4:$A$618,MassDataLink!$C$4:$C$618)","v":{"$error":"#N/A"}},{"$f":"LOOKUP(C128,MassDataLink!$A$4:$A$618,MassDataLink!$D$4:$D$618)","v":{"$error":"#N/A"}},{"$f":"LOOKUP(C128,MassDataLink!$A$4:$A$618,MassDataLink!$E$4:$E$618)","v":{"$error":"#N/A"}},{"$f":"LOOKUP(C128,MassDataLink!$A$4:$A$618,MassDataLink!$F$4:$F$618)","v":{"$error":"#N/A"}},null,15,"- - -","- - -",null,null,{"$f":"O127+1","v":2},{"$f":"IF(O116=-1,$L$112,(P116/$N$127)*$P$125)","v":"- - -"},{"$f":"IF(O116=-1,$L$112,Q116)","v":"- - -"}]
[null,16,-1,{"$f":"LOOKUP(C129,MassDataLink!$A$4:$A$618,MassDataLink!$B$4:$B$618)","v":{"$error":"#N/A"}},{"$f":"LOOKUP(C129,MassDataLink!$A$4:$A$618,MassDataLink!$C$4:$C$618)","v":{"$error":"#N/A"}},{"$f":"LOOKUP(C129,MassDataLink!$A$4:$A$618,MassDataLink!$D$4:$D$618)","v":{"$error":"#N/A"}},{"$f":"LOOKUP(C129,MassDataLink!$A$4:$A$618,MassDataLink!$E$4:$E$618)","v":{"$error":"#N/A"}},{"$f":"LOOKUP(C129,MassDataLink!$A$4:$A$618,MassDataLink!$F$4:$F$618)","v":{"$error":"#N/A"}},null,16,"- - -","- - -",null,null,3,"- - -","- - -"]
[null,17,-1,{"$f":"LOOKUP(C130,MassDataLink!$A$4:$A$618,MassDataLink!$B$4:$B$618)","v":{"$error":"#N/A"}},{"$f":"LOOKUP(C130,MassDataLink!$A$4:$A$618,MassDataLink!$C$4:$C$618)","v":{"$error":"#N/A"}},{"$f":"LOOKUP(C130,MassDataLink!$A$4:$A$618,MassDataLink!$D$4:$D$618)","v":{"$error":"#N/A"}},{"$f":"LOOKUP(C130,MassDataLink!$A$4:$A$618,MassDataLink!$E$4:$E$618)","v":{"$error":"#N/A"}},{"$f":"LOOKUP(C130,MassDataLink!$A$4:$A$618,MassDataLink!$F$4:$F$618)","v":{"$error":"#N/A"}},null,17,"- - -","- - -",null,null,4,"- - -","- - -"]
[null,18,-1,{"$f":"LOOKUP(C131,MassDataLink!$A$4:$A$618,MassDataLink!$B$4:$B$618)","v":{"$error":"#N/A"}},{"$f":"LOOKUP(C131,MassDataLink!$A$4:$A$618,MassDataLink!$C$4:$C$618)","v":{"$error":"#N/A"}},{"$f":"LOOKUP(C131,MassDataLink!$A$4:$A$618,MassDataLink!$D$4:$D$618)","v":{"$error":"#N/A"}},{"$f":"LOOKUP(C131,MassDataLink!$A$4:$A$618,MassDataLink!$E$4:$E$618)","v":{"$error":"#N/A"}},{"$f":"LOOKUP(C131,MassDataLink!$A$4:$A$618,MassDataLink!$F$4:$F$618)","v":{"$error":"#N/A"}},null,18,"- - -","- - -",null,null,5,"- - -","- - -"]
[null,19,-1,{"$f":"LOOKUP(C132,MassDataLink!$A$4:$A$618,MassDataLink!$B$4:$B$618)","v":{"$error":"#N/A"}},{"$f":"LOOKUP(C132,MassDataLink!$A$4:$A$618,MassDataLink!$C$4:$C$618)","v":{"$error":"#N/A"}},{"$f":"LOOKUP(C132,MassDataLink!$A$4:$A$618,MassDataLink!$D$4:$D$618)","v":{"$error":"#N/A"}},{"$f":"LOOKUP(C132,MassDataLink!$A$4:$A$618,MassDataLink!$E$4:$E$618)","v":{"$error":"#N/A"}},{"$f":"LOOKUP(C132,MassDataLink!$A$4:$A$618,MassDataLink!$F$4:$F$618)","v":{"$error":"#N/A"}},null,19,"- - -","- - -",null,null,6,"- - -","- - -"]
[null,20,-1,{"$f":"LOOKUP(C133,MassDataLink!$A$4:$A$618,MassDataLink!$B$4:$B$618)","v":{"$error":"#N/A"}},{"$f":"LOOKUP(C133,MassDataLink!$A$4:$A$618,MassDataLink!$C$4:$C$618)","v":{"$error":"#N/A"}},{"$f":"LOOKUP(C133,MassDataLink!$A$4:$A$618,MassDataLink!$D$4:$D$618)","v":{"$error":"#N/A"}},{"$f":"LOOKUP(C133,MassDataLink!$A$4:$A$618,MassDataLink!$E$4:$E$618)","v":{"$error":"#N/A"}},{"$f":"LOOKUP(C133,MassDataLink!$A$4:$A$618,MassDataLink!$F$4:$F$618)","v":{"$error":"#N/A"}},null,20,"- - -","- - -",null,null,7,"- - -","- - -"]
[null,21,-1,{"$f":"LOOKUP(C134,MassDataLink!$A$4:$A$618,MassDataLink!$B$4:$B$618)","v":{"$error":"#N/A"}},{"$f":"LOOKUP(C134,MassDataLink!$A$4:$A$618,MassDataLink!$C$4:$C$618)","v":{"$error":"#N/A"}},{"$f":"LOOKUP(C134,MassDataLink!$A$4:$A$618,MassDataLink!$D$4:$D$618)","v":{"$error":"#N/A"}},{"$f":"LOOKUP(C134,MassDataLink!$A$4:$A$618,MassDataLink!$E$4:$E$618)","v":{"$error":"#N/A"}},{"$f":"LOOKUP(C134,MassDataLink!$A$4:$A$618,MassDataLink!$F$4:$F$618)","v":{"$error":"#N/A"}},null,21,"- - -","- - -",null,null,8,"- - -","- - -"]
[null,22,-1,{"$f":"LOOKUP(C135,MassDataLink!$A$4:$A$618,MassDataLink!$B$4:$B$618)","v":{"$error":"#N/A"}},{"$f":"LOOKUP(C135,MassDataLink!$A$4:$A$618,MassDataLink!$C$4:$C$618)","v":{"$error":"#N/A"}},{"$f":"LOOKUP(C135,MassDataLink!$A$4:$A$618,MassDataLink!$D$4:$D$618)","v":{"$error":"#N/A"}},{"$f":"LOOKUP(C135,MassDataLink!$A$4:$A$618,MassDataLink!$E$4:$E$618)","v":{"$error":"#N/A"}},{"$f":"LOOKUP(C135,MassDataLink!$A$4:$A$618,MassDataLink!$F$4:$F$618)","v":{"$error":"#N/A"}},null,22,"- - -","- - -",null,null,9,"- - -","- - -"]
[null,23,-1,{"$f":"LOOKUP(C136,MassDataLink!$A$4:$A$618,MassDataLink!$B$4:$B$618)","v":{"$error":"#N/A"}},{"$f":"LOOKUP(C136,MassDataLink!$A$4:$A$618,MassDataLink!$C$4:$C$618)","v":{"$error":"#N/A"}},{"$f":"LOOKUP(C136,MassDataLink!$A$4:$A$618,MassDataLink!$D$4:$D$618)","v":{"$error":"#N/A"}},{"$f":"LOOKUP(C136,MassDataLink!$A$4:$A$618,MassDataLink!$E$4:$E$618)","v":{"$error":"#N/A"}},{"$f":"LOOKUP(C136,MassDataLink!$A$4:$A$618,MassDataLink!$F$4:$F$618)","v":{"$error":"#N/A"}},null,23,"- - -","- - -",null,null,10,"- - -","- - -"]
[null,24,-1,{"$f":"LOOKUP(C137,MassDataLink!$A$4:$A$618,MassDataLink!$B$4:$B$618)","v":{"$error":"#N/A"}},{"$f":"LOOKUP(C137,MassDataLink!$A$4:$A$618,MassDataLink!$C$4:$C$618)","v":{"$error":"#N/A"}},{"$f":"LOOKUP(C137,MassDataLink!$A$4:$A$618,MassDataLink!$D$4:$D$618)","v":{"$error":"#N/A"}},{"$f":"LOOKUP(C137,MassDataLink!$A$4:$A$618,MassDataLink!$E$4:$E$618)","v":{"$error":"#N/A"}},{"$f":"LOOKUP(C137,MassDataLink!$A$4:$A$618,MassDataLink!$F$4:$F$618)","v":{"$error":"#N/A"}},null,24,"- - -","- - -"]
[null,25,-1,{"$f":"LOOKUP(C138,MassDataLink!$A$4:$A$618,MassDataLink!$B$4:$B$618)","v":{"$error":"#N/A"}},{"$f":"LOOKUP(C138,MassDataLink!$A$4:$A$618,MassDataLink!$C$4:$C$618)","v":{"$error":"#N/A"}},{"$f":"LOOKUP(C138,MassDataLink!$A$4:$A$618,MassDataLink!$D$4:$D$618)","v":{"$error":"#N/A"}},{"$f":"LOOKUP(C138,MassDataLink!$A$4:$A$618,MassDataLink!$E$4:$E$618)","v":{"$error":"#N/A"}},{"$f":"LOOKUP(C138,MassDataLink!$A$4:$A$618,MassDataLink!$F$4:$F$618)","v":{"$error":"#N/A"}},null,25,"- - -","- - -"]
[null,26,-1,{"$f":"LOOKUP(C139,MassDataLink!$A$4:$A$618,MassDataLink!$B$4:$B$618)","v":{"$error":"#N/A"}},{"$f":"LOOKUP(C139,MassDataLink!$A$4:$A$618,MassDataLink!$C$4:$C$618)","v":{"$error":"#N/A"}},{"$f":"LOOKUP(C139,MassDataLink!$A$4:$A$618,MassDataLink!$D$4:$D$618)","v":{"$error":"#N/A"}},{"$f":"LOOKUP(C139,MassDataLink!$A$4:$A$618,MassDataLink!$E$4:$E$618)","v":{"$error":"#N/A"}},{"$f":"LOOKUP(C139,MassDataLink!$A$4:$A$618,MassDataLink!$F$4:$F$618)","v":{"$error":"#N/A"}},null,26,"- - -","- - -"]
[null,27,-1,{"$f":"LOOKUP(C140,MassDataLink!$A$4:$A$618,MassDataLink!$B$4:$B$618)","v":{"$error":"#N/A"}},{"$f":"LOOKUP(C140,MassDataLink!$A$4:$A$618,MassDataLink!$C$4:$C$618)","v":{"$error":"#N/A"}},{"$f":"LOOKUP(C140,MassDataLink!$A$4:$A$618,MassDataLink!$D$4:$D$618)","v":{"$error":"#N/A"}},{"$f":"LOOKUP(C140,MassDataLink!$A$4:$A$618,MassDataLink!$E$4:$E$618)","v":{"$error":"#N/A"}},{"$f":"LOOKUP(C140,MassDataLink!$A$4:$A$618,MassDataLink!$F$4:$F$618)","v":{"$error":"#N/A"}},null,27,"- - -","- - -"]
[null,28,-1,{"$f":"LOOKUP(C141,MassDataLink!$A$4:$A$618,MassDataLink!$B$4:$B$618)","v":{"$error":"#N/A"}},{"$f":"LOOKUP(C141,MassDataLink!$A$4:$A$618,MassDataLink!$C$4:$C$618)","v":{"$error":"#N/A"}},{"$f":"LOOKUP(C141,MassDataLink!$A$4:$A$618,MassDataLink!$D$4:$D$618)","v":{"$error":"#N/A"}},{"$f":"LOOKUP(C141,MassDataLink!$A$4:$A$618,MassDataLink!$E$4:$E$618)","v":{"$error":"#N/A"}},{"$f":"LOOKUP(C141,MassDataLink!$A$4:$A$618,MassDataLink!$F$4:$F$618)","v":{"$error":"#N/A"}},null,28,"- - -","- - -"]
[null,29,-1,{"$f":"LOOKUP(C142,MassDataLink!$A$4:$A$618,MassDataLink!$B$4:$B$618)","v":{"$error":"#N/A"}},{"$f":"LOOKUP(C142,MassDataLink!$A$4:$A$618,MassDataLink!$C$4:$C$618)","v":{"$error":"#N/A"}},{"$f":"LOOKUP(C142,MassDataLink!$A$4:$A$618,MassDataLink!$D$4:$D$618)","v":{"$error":"#N/A"}},{"$f":"LOOKUP(C142,MassDataLink!$A$4:$A$618,MassDataLink!$E$4:$E$618)","v":{"$error":"#N/A"}},{"$f":"LOOKUP(C142,MassDataLink!$A$4:$A$618,MassDataLink!$F$4:$F$618)","v":{"$error":"#N/A"}},null,29,"- - -","- - -"]
[null,30,-1,{"$f":"LOOKUP(C143,MassDataLink!$A$4:$A$618,MassDataLink!$B$4:$B$618)","v":{"$error":"#N/A"}},{"$f":"LOOKUP(C143,MassDataLink!$A$4:$A$618,MassDataLink!$C$4:$C$618)","v":{"$error":"#N/A"}},{"$f":"LOOKUP(C143,MassDataLink!$A$4:$A$618,MassDataLink!$D$4:$D$618)","v":{"$error":"#N/A"}},{"$f":"LOOKUP(C143,MassDataLink!$A$4:$A$618,MassDataLink!$E$4:$E$618)","v":{"$error":"#N/A"}},{"$f":"LOOKUP(C143,MassDataLink!$A$4:$A$618,MassDataLink!$F$4:$F$618)","v":{"$error":"#N/A"}},null,30,"- - -","- - -"]
[null,31,-1,{"$f":"LOOKUP(C144,MassDataLink!$A$4:$A$618,MassDataLink!$B$4:$B$618)","v":{"$error":"#N/A"}},{"$f":"LOOKUP(C144,MassDataLink!$A$4:$A$618,MassDataLink!$C$4:$C$618)","v":{"$error":"#N/A"}},{"$f":"LOOKUP(C144,MassDataLink!$A$4:$A$618,MassDataLink!$D$4:$D$618)","v":{"$error":"#N/A"}},{"$f":"LOOKUP(C144,MassDataLink!$A$4:$A$618,MassDataLink!$E$4:$E$618)","v":{"$error":"#N/A"}},{"$f":"LOOKUP(C144,MassDataLink!$A$4:$A$618,MassDataLink!$F$4:$F$618)","v":{"$error":"#N/A"}},null,31,"- - -","- - -"]
[null,32,-1,{"$f":"LOOKUP(C145,MassDataLink!$A$4:$A$618,MassDataLink!$B$4:$B$618)","v":{"$error":"#N/A"}},{"$f":"LOOKUP(C145,MassDataLink!$A$4:$A$618,MassDataLink!$C$4:$C$618)","v":{"$error":"#N/A"}},{"$f":"LOOKUP(C145,MassDataLink!$A$4:$A$618,MassDataLink!$D$4:$D$618)","v":{"$error":"#N/A"}},{"$f":"LOOKUP(C145,MassDataLink!$A$4:$A$618,MassDataLink!$E$4:$E$618)","v":{"$error":"#N/A"}},{"$f":"LOOKUP(C145,MassDataLink!$A$4:$A$618,MassDataLink!$F$4:$F$618)","v":{"$error":"#N/A"}},null,32,"- - -","- - -"]
[null,33,-1,{"$f":"LOOKUP(C146,MassDataLink!$A$4:$A$618,MassDataLink!$B$4:$B$618)","v":{"$error":"#N/A"}},{"$f":"LOOKUP(C146,MassDataLink!$A$4:$A$618,MassDataLink!$C$4:$C$618)","v":{"$error":"#N/A"}},{"$f":"LOOKUP(C146,MassDataLink!$A$4:$A$618,MassDataLink!$D$4:$D$618)","v":{"$error":"#N/A"}},{"$f":"LOOKUP(C146,MassDataLink!$A$4:$A$618,MassDataLink!$E$4:$E$618)","v":{"$error":"#N/A"}},{"$f":"LOOKUP(C146,MassDataLink!$A$4:$A$618,MassDataLink!$F$4:$F$618)","v":{"$error":"#N/A"}},null,33,"- - -","- - -"]
[null,34,-1,{"$f":"LOOKUP(C147,MassDataLink!$A$4:$A$618,MassDataLink!$B$4:$B$618)","v":{"$error":"#N/A"}},{"$f":"LOOKUP(C147,MassDataLink!$A$4:$A$618,MassDataLink!$C$4:$C$618)","v":{"$error":"#N/A"}},{"$f":"LOOKUP(C147,MassDataLink!$A$4:$A$618,MassDataLink!$D$4:$D$618)","v":{"$error":"#N/A"}},{"$f":"LOOKUP(C147,MassDataLink!$A$4:$A$618,MassDataLink!$E$4:$E$618)","v":{"$error":"#N/A"}},{"$f":"LOOKUP(C147,MassDataLink!$A$4:$A$618,MassDataLink!$F$4:$F$618)","v":{"$error":"#N/A"}},null,34,"- - -","- - -"]
[null,35,-1,{"$f":"LOOKUP(C148,MassDataLink!$A$4:$A$618,MassDataLink!$B$4:$B$618)","v":{"$error":"#N/A"}},{"$f":"LOOKUP(C148,MassDataLink!$A$4:$A$618,MassDataLink!$C$4:$C$618)","v":{"$error":"#N/A"}},{"$f":"LOOKUP(C148,MassDataLink!$A$4:$A$618,MassDataLink!$D$4:$D$618)","v":{"$error":"#N/A"}},{"$f":"LOOKUP(C148,MassDataLink!$A$4:$A$618,MassDataLink!$E$4:$E$618)","v":{"$error":"#N/A"}},{"$f":"LOOKUP(C148,MassDataLink!$A$4:$A$618,MassDataLink!$F$4:$F$618)","v":{"$error":"#N/A"}},null,35,"- - -","- - -"]
[null,36,-1,{"$f":"LOOKUP(C149,MassDataLink!$A$4:$A$618,MassDataLink!$B$4:$B$618)","v":{"$error":"#N/A"}},{"$f":"LOOKUP(C149,MassDataLink!$A$4:$A$618,MassDataLink!$C$4:$C$618)","v":{"$error":"#N/A"}},{"$f":"LOOKUP(C149,MassDataLink!$A$4:$A$618,MassDataLink!$D$4:$D$618)","v":{"$error":"#N/A"}},{"$f":"LOOKUP(C149,MassDataLink!$A$4:$A$618,MassDataLink!$E$4:$E$618)","v":{"$error":"#N/A"}},{"$f":"LOOKUP(C149,MassDataLink!$A$4:$A$618,MassDataLink!$F$4:$F$618)","v":{"$error":"#N/A"}},null,36,"- - -","- - -"]
[null,37,-1,{"$f":"LOOKUP(C150,MassDataLink!$A$4:$A$618,MassDataLink!$B$4:$B$618)","v":{"$error":"#N/A"}},{"$f":"LOOKUP(C150,MassDataLink!$A$4:$A$618,MassDataLink!$C$4:$C$618)","v":{"$error":"#N/A"}},{"$f":"LOOKUP(C150,MassDataLink!$A$4:$A$618,MassDataLink!$D$4:$D$618)","v":{"$error":"#N/A"}},{"$f":"LOOKUP(C150,MassDataLink!$A$4:$A$618,MassDataLink!$E$4:$E$618)","v":{"$error":"#N/A"}},{"$f":"LOOKUP(C150,MassDataLink!$A$4:$A$618,MassDataLink!$F$4:$F$618)","v":{"$error":"#N/A"}},null,37,"- - -","- - -"]
[null,38,-1,{"$f":"LOOKUP(C151,MassDataLink!$A$4:$A$618,MassDataLink!$B$4:$B$618)","v":{"$error":"#N/A"}},{"$f":"LOOKUP(C151,MassDataLink!$A$4:$A$618,MassDataLink!$C$4:$C$618)","v":{"$error":"#N/A"}},{"$f":"LOOKUP(C151,MassDataLink!$A$4:$A$618,MassDataLink!$D$4:$D$618)","v":{"$error":"#N/A"}},{"$f":"LOOKUP(C151,MassDataLink!$A$4:$A$618,MassDataLink!$E$4:$E$618)","v":{"$error":"#N/A"}},{"$f":"LOOKUP(C151,MassDataLink!$A$4:$A$618,MassDataLink!$F$4:$F$618)","v":{"$error":"#N/A"}},null,38,"- - -","- - -"]
[null,39,-1,{"$f":"LOOKUP(C152,MassDataLink!$A$4:$A$618,MassDataLink!$B$4:$B$618)","v":{"$error":"#N/A"}},{"$f":"LOOKUP(C152,MassDataLink!$A$4:$A$618,MassDataLink!$C$4:$C$618)","v":{"$error":"#N/A"}},{"$f":"LOOKUP(C152,MassDataLink!$A$4:$A$618,MassDataLink!$D$4:$D$618)","v":{"$error":"#N/A"}},{"$f":"LOOKUP(C152,MassDataLink!$A$4:$A$618,MassDataLink!$E$4:$E$618)","v":{"$error":"#N/A"}},{"$f":"LOOKUP(C152,MassDataLink!$A$4:$A$618,MassDataLink!$F$4:$F$618)","v":{"$error":"#N/A"}},null,39,"- - -","- - -"]
[null,40,-1,{"$f":"LOOKUP(C153,MassDataLink!$A$4:$A$618,MassDataLink!$B$4:$B$618)","v":{"$error":"#N/A"}},{"$f":"LOOKUP(C153,MassDataLink!$A$4:$A$618,MassDataLink!$C$4:$C$618)","v":{"$error":"#N/A"}},{"$f":"LOOKUP(C153,MassDataLink!$A$4:$A$618,MassDataLink!$D$4:$D$618)","v":{"$error":"#N/A"}},{"$f":"LOOKUP(C153,MassDataLink!$A$4:$A$618,MassDataLink!$E$4:$E$618)","v":{"$error":"#N/A"}},{"$f":"LOOKUP(C153,MassDataLink!$A$4:$A$618,MassDataLink!$F$4:$F$618)","v":{"$error":"#N/A"}},null,40,"- - -","- - -"]
[null,41,-1,{"$f":"LOOKUP(C154,MassDataLink!$A$4:$A$618,MassDataLink!$B$4:$B$618)","v":{"$error":"#N/A"}},{"$f":"LOOKUP(C154,MassDataLink!$A$4:$A$618,MassDataLink!$C$4:$C$618)","v":{"$error":"#N/A"}},{"$f":"LOOKUP(C154,MassDataLink!$A$4:$A$618,MassDataLink!$D$4:$D$618)","v":{"$error":"#N/A"}},{"$f":"LOOKUP(C154,MassDataLink!$A$4:$A$618,MassDataLink!$E$4:$E$618)","v":{"$error":"#N/A"}},{"$f":"LOOKUP(C154,MassDataLink!$A$4:$A$618,MassDataLink!$F$4:$F$618)","v":{"$error":"#N/A"}},null,41,"- - -","- - -"]
[null,42,-1,{"$f":"LOOKUP(C155,MassDataLink!$A$4:$A$618,MassDataLink!$B$4:$B$618)","v":{"$error":"#N/A"}},{"$f":"LOOKUP(C155,MassDataLink!$A$4:$A$618,MassDataLink!$C$4:$C$618)","v":{"$error":"#N/A"}},{"$f":"LOOKUP(C155,MassDataLink!$A$4:$A$618,MassDataLink!$D$4:$D$618)","v":{"$error":"#N/A"}},{"$f":"LOOKUP(C155,MassDataLink!$A$4:$A$618,MassDataLink!$E$4:$E$618)","v":{"$error":"#N/A"}},{"$f":"LOOKUP(C155,MassDataLink!$A$4:$A$618,MassDataLink!$F$4:$F$618)","v":{"$error":"#N/A"}},null,42,"- - -","- - -"]
[null,43,-1,{"$f":"LOOKUP(C156,MassDataLink!$A$4:$A$618,MassDataLink!$B$4:$B$618)","v":{"$error":"#N/A"}},{"$f":"LOOKUP(C156,MassDataLink!$A$4:$A$618,MassDataLink!$C$4:$C$618)","v":{"$error":"#N/A"}},{"$f":"LOOKUP(C156,MassDataLink!$A$4:$A$618,MassDataLink!$D$4:$D$618)","v":{"$error":"#N/A"}},{"$f":"LOOKUP(C156,MassDataLink!$A$4:$A$618,MassDataLink!$E$4:$E$618)","v":{"$error":"#N/A"}},{"$f":"LOOKUP(C156,MassDataLink!$A$4:$A$618,MassDataLink!$F$4:$F$618)","v":{"$error":"#N/A"}},null,43,"- - -","- - -"]
[null,44,-1,{"$f":"LOOKUP(C157,MassDataLink!$A$4:$A$618,MassDataLink!$B$4:$B$618)","v":{"$error":"#N/A"}},{"$f":"LOOKUP(C157,MassDataLink!$A$4:$A$618,MassDataLink!$C$4:$C$618)","v":{"$error":"#N/A"}},{"$f":"LOOKUP(C157,MassDataLink!$A$4:$A$618,MassDataLink!$D$4:$D$618)","v":{"$error":"#N/A"}},{"$f":"LOOKUP(C157,MassDataLink!$A$4:$A$618,MassDataLink!$E$4:$E$618)","v":{"$error":"#N/A"}},{"$f":"LOOKUP(C157,MassDataLink!$A$4:$A$618,MassDataLink!$F$4:$F$618)","v":{"$error":"#N/A"}},null,44,"- - -","- - -"]
[null,45,-1,{"$f":"LOOKUP(C158,MassDataLink!$A$4:$A$618,MassDataLink!$B$4:$B$618)","v":{"$error":"#N/A"}},{"$f":"LOOKUP(C158,MassDataLink!$A$4:$A$618,MassDataLink!$C$4:$C$618)","v":{"$error":"#N/A"}},{"$f":"LOOKUP(C158,MassDataLink!$A$4:$A$618,MassDataLink!$D$4:$D$618)","v":{"$error":"#N/A"}},{"$f":"LOOKUP(C158,MassDataLink!$A$4:$A$618,MassDataLink!$E$4:$E$618)","v":{"$error":"#N/A"}},{"$f":"LOOKUP(C158,MassDataLink!$A$4:$A$618,MassDataLink!$F$4:$F$618)","v":{"$error":"#N/A"}},null,45,"- - -","- - -"]
[null,46,-1,{"$f":"LOOKUP(C159,MassDataLink!$A$4:$A$618,MassDataLink!$B$4:$B$618)","v":{"$error":"#N/A"}},{"$f":"LOOKUP(C159,MassDataLink!$A$4:$A$618,MassDataLink!$C$4:$C$618)","v":{"$error":"#N/A"}},{"$f":"LOOKUP(C159,MassDataLink!$A$4:$A$618,MassDataLink!$D$4:$D$618)","v":{"$error":"#N/A"}},{"$f":"LOOKUP(C159,MassDataLink!$A$4:$A$618,MassDataLink!$E$4:$E$618)","v":{"$error":"#N/A"}},{"$f":"LOOKUP(C159,MassDataLink!$A$4:$A$618,MassDataLink!$F$4:$F$618)","v":{"$error":"#N/A"}},null,46,"- - -","- - -"]
[null,47,-1,{"$f":"LOOKUP(C160,MassDataLink!$A$4:$A$618,MassDataLink!$B$4:$B$618)","v":{"$error":"#N/A"}},{"$f":"LOOKUP(C160,MassDataLink!$A$4:$A$618,MassDataLink!$C$4:$C$618)","v":{"$error":"#N/A"}},{"$f":"LOOKUP(C160,MassDataLink!$A$4:$A$618,MassDataLink!$D$4:$D$618)","v":{"$error":"#N/A"}},{"$f":"LOOKUP(C160,MassDataLink!$A$4:$A$618,MassDataLink!$E$4:$E$618)","v":{"$error":"#N/A"}},{"$f":"LOOKUP(C160,MassDataLink!$A$4:$A$618,MassDataLink!$F$4:$F$618)","v":{"$error":"#N/A"}},null,47,"- - -","- - -"]
[null,48,-1,{"$f":"LOOKUP(C161,MassDataLink!$A$4:$A$618,MassDataLink!$B$4:$B$618)","v":{"$error":"#N/A"}},{"$f":"LOOKUP(C161,MassDataLink!$A$4:$A$618,MassDataLink!$C$4:$C$618)","v":{"$error":"#N/A"}},{"$f":"LOOKUP(C161,MassDataLink!$A$4:$A$618,MassDataLink!$D$4:$D$618)","v":{"$error":"#N/A"}},{"$f":"LOOKUP(C161,MassDataLink!$A$4:$A$618,MassDataLink!$E$4:$E$618)","v":{"$error":"#N/A"}},{"$f":"LOOKUP(C161,MassDataLink!$A$4:$A$618,MassDataLink!$F$4:$F$618)","v":{"$error":"#N/A"}},null,48,"- - -","- - -"]
[null,49,-1,{"$f":"LOOKUP(C162,MassDataLink!$A$4:$A$618,MassDataLink!$B$4:$B$618)","v":{"$error":"#N/A"}},{"$f":"LOOKUP(C162,MassDataLink!$A$4:$A$618,MassDataLink!$C$4:$C$618)","v":{"$error":"#N/A"}},{"$f":"LOOKUP(C162,MassDataLink!$A$4:$A$618,MassDataLink!$D$4:$D$618)","v":{"$error":"#N/A"}},{"$f":"LOOKUP(C162,MassDataLink!$A$4:$A$618,MassDataLink!$E$4:$E$618)","v":{"$error":"#N/A"}},{"$f":"LOOKUP(C162,MassDataLink!$A$4:$A$618,MassDataLink!$F$4:$F$618)","v":{"$error":"#N/A"}},null,49,"- - -","- - -"]
[null,50,-1,{"$f":"LOOKUP(C163,MassDataLink!$A$4:$A$618,MassDataLink!$B$4:$B$618)","v":{"$error":"#N/A"}},{"$f":"LOOKUP(C163,MassDataLink!$A$4:$A$618,MassDataLink!$C$4:$C$618)","v":{"$error":"#N/A"}},{"$f":"LOOKUP(C163,MassDataLink!$A$4:$A$618,MassDataLink!$D$4:$D$618)","v":{"$error":"#N/A"}},{"$f":"LOOKUP(C163,MassDataLink!$A$4:$A$618,MassDataLink!$E$4:$E$618)","v":{"$error":"#N/A"}},{"$f":"LOOKUP(C163,MassDataLink!$A$4:$A$618,MassDataLink!$F$4:$F$618)","v":{"$error":"#N/A"}},null,50,"- - -","- - -"]
[null,{"$f":"B163+1","v":51},{"$f":"IF(C163=-1,-1,H163)","v":-1},{"$f":"LOOKUP(C164,MassDataLink!$A$4:$A$618,MassDataLink!$B$4:$B$618)","v":{"$error":"#N/A"}},{"$f":"LOOKUP(C164,MassDataLink!$A$4:$A$618,MassDataLink!$C$4:$C$618)","v":{"$error":"#N/A"}},{"$f":"LOOKUP(C164,MassDataLink!$A$4:$A$618,MassDataLink!$D$4:$D$618)","v":{"$error":"#N/A"}},{"$f":"LOOKUP(C164,MassDataLink!$A$4:$A$618,MassDataLink!$E$4:$E$618)","v":{"$error":"#N/A"}},{"$f":"LOOKUP(C164,MassDataLink!$A$4:$A$618,MassDataLink!$F$4:$F$618)","v":{"$error":"#N/A"}},null,{"$f":"J163+1","v":51},{"$f":"IF(C164=-1,$L$112,IF($A$11=D164,ROUND((E164*$P$57),$R$57),$L$112))","v":"- - -"},{"$f":"IF(K164=$L$112,$L$112,F164)","v":"- - -"}]
[null,52,-1,{"$f":"LOOKUP(C165,MassDataLink!$A$4:$A$618,MassDataLink!$B$4:$B$618)","v":{"$error":"#N/A"}},{"$f":"LOOKUP(C165,MassDataLink!$A$4:$A$618,MassDataLink!$C$4:$C$618)","v":{"$error":"#N/A"}},{"$f":"LOOKUP(C165,MassDataLink!$A$4:$A$618,MassDataLink!$D$4:$D$618)","v":{"$error":"#N/A"}},{"$f":"LOOKUP(C165,MassDataLink!$A$4:$A$618,MassDataLink!$E$4:$E$618)","v":{"$error":"#N/A"}},{"$f":"LOOKUP(C165,MassDataLink!$A$4:$A$618,MassDataLink!$F$4:$F$618)","v":{"$error":"#N/A"}},null,52,"- - -","- - -"]
[null,53,-1,{"$f":"LOOKUP(C166,MassDataLink!$A$4:$A$618,MassDataLink!$B$4:$B$618)","v":{"$error":"#N/A"}},{"$f":"LOOKUP(C166,MassDataLink!$A$4:$A$618,MassDataLink!$C$4:$C$618)","v":{"$error":"#N/A"}},{"$f":"LOOKUP(C166,MassDataLink!$A$4:$A$618,MassDataLink!$D$4:$D$618)","v":{"$error":"#N/A"}},{"$f":"LOOKUP(C166,MassDataLink!$A$4:$A$618,MassDataLink!$E$4:$E$618)","v":{"$error":"#N/A"}},{"$f":"LOOKUP(C166,MassDataLink!$A$4:$A$618,MassDataLink!$F$4:$F$618)","v":{"$error":"#N/A"}},null,53,"- - -","- - -"]
[null,54,-1,{"$f":"LOOKUP(C167,MassDataLink!$A$4:$A$618,MassDataLink!$B$4:$B$618)","v":{"$error":"#N/A"}},{"$f":"LOOKUP(C167,MassDataLink!$A$4:$A$618,MassDataLink!$C$4:$C$618)","v":{"$error":"#N/A"}},{"$f":"LOOKUP(C167,MassDataLink!$A$4:$A$618,MassDataLink!$D$4:$D$618)","v":{"$error":"#N/A"}},{"$f":"LOOKUP(C167,MassDataLink!$A$4:$A$618,MassDataLink!$E$4:$E$618)","v":{"$error":"#N/A"}},{"$f":"LOOKUP(C167,MassDataLink!$A$4:$A$618,MassDataLink!$F$4:$F$618)","v":{"$error":"#N/A"}},null,54,"- - -","- - -"]
[null,55,-1,{"$f":"LOOKUP(C168,MassDataLink!$A$4:$A$618,MassDataLink!$B$4:$B$618)","v":{"$error":"#N/A"}},{"$f":"LOOKUP(C168,MassDataLink!$A$4:$A$618,MassDataLink!$C$4:$C$618)","v":{"$error":"#N/A"}},{"$f":"LOOKUP(C168,MassDataLink!$A$4:$A$618,MassDataLink!$D$4:$D$618)","v":{"$error":"#N/A"}},{"$f":"LOOKUP(C168,MassDataLink!$A$4:$A$618,MassDataLink!$E$4:$E$618)","v":{"$error":"#N/A"}},{"$f":"LOOKUP(C168,MassDataLink!$A$4:$A$618,MassDataLink!$F$4:$F$618)","v":{"$error":"#N/A"}},null,55,"- - -","- - -"]
[null,56,-1,{"$f":"LOOKUP(C169,MassDataLink!$A$4:$A$618,MassDataLink!$B$4:$B$618)","v":{"$error":"#N/A"}},{"$f":"LOOKUP(C169,MassDataLink!$A$4:$A$618,MassDataLink!$C$4:$C$618)","v":{"$error":"#N/A"}},{"$f":"LOOKUP(C169,MassDataLink!$A$4:$A$618,MassDataLink!$D$4:$D$618)","v":{"$error":"#N/A"}},{"$f":"LOOKUP(C169,MassDataLink!$A$4:$A$618,MassDataLink!$E$4:$E$618)","v":{"$error":"#N/A"}},{"$f":"LOOKUP(C169,MassDataLink!$A$4:$A$618,MassDataLink!$F$4:$F$618)","v":{"$error":"#N/A"}},null,56,"- - -","- - -"]
[null,57,-1,{"$f":"LOOKUP(C170,MassDataLink!$A$4:$A$618,MassDataLink!$B$4:$B$618)","v":{"$error":"#N/A"}},{"$f":"LOOKUP(C170,MassDataLink!$A$4:$A$618,MassDataLink!$C$4:$C$618)","v":{"$error":"#N/A"}},{"$f":"LOOKUP(C170,MassDataLink!$A$4:$A$618,MassDataLink!$D$4:$D$618)","v":{"$error":"#N/A"}},{"$f":"LOOKUP(C170,MassDataLink!$A$4:$A$618,MassDataLink!$E$4:$E$618)","v":{"$error":"#N/A"}},{"$f":"LOOKUP(C170,MassDataLink!$A$4:$A$618,MassDataLink!$F$4:$F$618)","v":{"$error":"#N/A"}},null,57,"- - -","- - -"]
[null,58,-1,{"$f":"LOOKUP(C171,MassDataLink!$A$4:$A$618,MassDataLink!$B$4:$B$618)","v":{"$error":"#N/A"}},{"$f":"LOOKUP(C171,MassDataLink!$A$4:$A$618,MassDataLink!$C$4:$C$618)","v":{"$error":"#N/A"}},{"$f":"LOOKUP(C171,MassDataLink!$A$4:$A$618,MassDataLink!$D$4:$D$618)","v":{"$error":"#N/A"}},{"$f":"LOOKUP(C171,MassDataLink!$A$4:$A$618,MassDataLink!$E$4:$E$618)","v":{"$error":"#N/A"}},{"$f":"LOOKUP(C171,MassDataLink!$A$4:$A$618,MassDataLink!$F$4:$F$618)","v":{"$error":"#N/A"}},null,58,"- - -","- - -"]
[null,59,-1,{"$f":"LOOKUP(C172,MassDataLink!$A$4:$A$618,MassDataLink!$B$4:$B$618)","v":{"$error":"#N/A"}},{"$f":"LOOKUP(C172,MassDataLink!$A$4:$A$618,MassDataLink!$C$4:$C$618)","v":{"$error":"#N/A"}},{"$f":"LOOKUP(C172,MassDataLink!$A$4:$A$618,MassDataLink!$D$4:$D$618)","v":{"$error":"#N/A"}},{"$f":"LOOKUP(C172,MassDataLink!$A$4:$A$618,MassDataLink!$E$4:$E$618)","v":{"$error":"#N/A"}},{"$f":"LOOKUP(C172,MassDataLink!$A$4:$A$618,MassDataLink!$F$4:$F$618)","v":{"$error":"#N/A"}},null,59,"- - -","- - -"]
[null,60,-1,{"$f":"LOOKUP(C173,MassDataLink!$A$4:$A$618,MassDataLink!$B$4:$B$618)","v":{"$error":"#N/A"}},{"$f":"LOOKUP(C173,MassDataLink!$A$4:$A$618,MassDataLink!$C$4:$C$618)","v":{"$error":"#N/A"}},{"$f":"LOOKUP(C173,MassDataLink!$A$4:$A$618,MassDataLink!$D$4:$D$618)","v":{"$error":"#N/A"}},{"$f":"LOOKUP(C173,MassDataLink!$A$4:$A$618,MassDataLink!$E$4:$E$618)","v":{"$error":"#N/A"}},{"$f":"LOOKUP(C173,MassDataLink!$A$4:$A$618,MassDataLink!$F$4:$F$618)","v":{"$error":"#N/A"}},null,60,"- - -","- - -"]
[null,61,-1,{"$f":"LOOKUP(C174,MassDataLink!$A$4:$A$618,MassDataLink!$B$4:$B$618)","v":{"$error":"#N/A"}},{"$f":"LOOKUP(C174,MassDataLink!$A$4:$A$618,MassDataLink!$C$4:$C$618)","v":{"$error":"#N/A"}},{"$f":"LOOKUP(C174,MassDataLink!$A$4:$A$618,MassDataLink!$D$4:$D$618)","v":{"$error":"#N/A"}},{"$f":"LOOKUP(C174,MassDataLink!$A$4:$A$618,MassDataLink!$E$4:$E$618)","v":{"$error":"#N/A"}},{"$f":"LOOKUP(C174,MassDataLink!$A$4:$A$618,MassDataLink!$F$4:$F$618)","v":{"$error":"#N/A"}},null,61,"- - -","- - -"]
[null,62,-1,{"$f":"LOOKUP(C175,MassDataLink!$A$4:$A$618,MassDataLink!$B$4:$B$618)","v":{"$error":"#N/A"}},{"$f":"LOOKUP(C175,MassDataLink!$A$4:$A$618,MassDataLink!$C$4:$C$618)","v":{"$error":"#N/A"}},{"$f":"LOOKUP(C175,MassDataLink!$A$4:$A$618,MassDataLink!$D$4:$D$618)","v":{"$error":"#N/A"}},{"$f":"LOOKUP(C175,MassDataLink!$A$4:$A$618,MassDataLink!$E$4:$E$618)","v":{"$error":"#N/A"}},{"$f":"LOOKUP(C175,MassDataLink!$A$4:$A$618,MassDataLink!$F$4:$F$618)","v":{"$error":"#N/A"}},null,62,"- - -","- - -"]
[null,63,-1,{"$f":"LOOKUP(C176,MassDataLink!$A$4:$A$618,MassDataLink!$B$4:$B$618)","v":{"$error":"#N/A"}},{"$f":"LOOKUP(C176,MassDataLink!$A$4:$A$618,MassDataLink!$C$4:$C$618)","v":{"$error":"#N/A"}},{"$f":"LOOKUP(C176,MassDataLink!$A$4:$A$618,MassDataLink!$D$4:$D$618)","v":{"$error":"#N/A"}},{"$f":"LOOKUP(C176,MassDataLink!$A$4:$A$618,MassDataLink!$E$4:$E$618)","v":{"$error":"#N/A"}},{"$f":"LOOKUP(C176,MassDataLink!$A$4:$A$618,MassDataLink!$F$4:$F$618)","v":{"$error":"#N/A"}},null,63,"- - -","- - -"]
[null,64,-1,{"$f":"LOOKUP(C177,MassDataLink!$A$4:$A$618,MassDataLink!$B$4:$B$618)","v":{"$error":"#N/A"}},{"$f":"LOOKUP(C177,MassDataLink!$A$4:$A$618,MassDataLink!$C$4:$C$618)","v":{"$error":"#N/A"}},{"$f":"LOOKUP(C177,MassDataLink!$A$4:$A$618,MassDataLink!$D$4:$D$618)","v":{"$error":"#N/A"}},{"$f":"LOOKUP(C177,MassDataLink!$A$4:$A$618,MassDataLink!$E$4:$E$618)","v":{"$error":"#N/A"}},{"$f":"LOOKUP(C177,MassDataLink!$A$4:$A$618,MassDataLink!$F$4:$F$618)","v":{"$error":"#N/A"}},null,64,"- - -","- - -"]
[null,65,-1,{"$f":"LOOKUP(C178,MassDataLink!$A$4:$A$618,MassDataLink!$B$4:$B$618)","v":{"$error":"#N/A"}},{"$f":"LOOKUP(C178,MassDataLink!$A$4:$A$618,MassDataLink!$C$4:$C$618)","v":{"$error":"#N/A"}},{"$f":"LOOKUP(C178,MassDataLink!$A$4:$A$618,MassDataLink!$D$4:$D$618)","v":{"$error":"#N/A"}},{"$f":"LOOKUP(C178,MassDataLink!$A$4:$A$618,MassDataLink!$E$4:$E$618)","v":{"$error":"#N/A"}},{"$f":"LOOKUP(C178,MassDataLink!$A$4:$A$618,MassDataLink!$F$4:$F$618)","v":{"$error":"#N/A"}},null,65,"- - -","- - -"]
[null,66,-1,{"$f":"LOOKUP(C179,MassDataLink!$A$4:$A$618,MassDataLink!$B$4:$B$618)","v":{"$error":"#N/A"}},{"$f":"LOOKUP(C179,MassDataLink!$A$4:$A$618,MassDataLink!$C$4:$C$618)","v":{"$error":"#N/A"}},{"$f":"LOOKUP(C179,MassDataLink!$A$4:$A$618,MassDataLink!$D$4:$D$618)","v":{"$error":"#N/A"}},{"$f":"LOOKUP(C179,MassDataLink!$A$4:$A$618,MassDataLink!$E$4:$E$618)","v":{"$error":"#N/A"}},{"$f":"LOOKUP(C179,MassDataLink!$A$4:$A$618,MassDataLink!$F$4:$F$618)","v":{"$error":"#N/A"}},null,66,"- - -","- - -"]
[null,67,-1,{"$f":"LOOKUP(C180,MassDataLink!$A$4:$A$618,MassDataLink!$B$4:$B$618)","v":{"$error":"#N/A"}},{"$f":"LOOKUP(C180,MassDataLink!$A$4:$A$618,MassDataLink!$C$4:$C$618)","v":{"$error":"#N/A"}},{"$f":"LOOKUP(C180,MassDataLink!$A$4:$A$618,MassDataLink!$D$4:$D$618)","v":{"$error":"#N/A"}},{"$f":"LOOKUP(C180,MassDataLink!$A$4:$A$618,MassDataLink!$E$4:$E$618)","v":{"$error":"#N/A"}},{"$f":"LOOKUP(C180,MassDataLink!$A$4:$A$618,MassDataLink!$F$4:$F$618)","v":{"$error":"#N/A"}},null,67,"- - -","- - -"]
[null,68,-1,{"$f":"LOOKUP(C181,MassDataLink!$A$4:$A$618,MassDataLink!$B$4:$B$618)","v":{"$error":"#N/A"}},{"$f":"LOOKUP(C181,MassDataLink!$A$4:$A$618,MassDataLink!$C$4:$C$618)","v":{"$error":"#N/A"}},{"$f":"LOOKUP(C181,MassDataLink!$A$4:$A$618,MassDataLink!$D$4:$D$618)","v":{"$error":"#N/A"}},{"$f":"LOOKUP(C181,MassDataLink!$A$4:$A$618,MassDataLink!$E$4:$E$618)","v":{"$error":"#N/A"}},{"$f":"LOOKUP(C181,MassDataLink!$A$4:$A$618,MassDataLink!$F$4:$F$618)","v":{"$error":"#N/A"}},null,68,"- - -","- - -"]
[null,69,-1,{"$f":"LOOKUP(C182,MassDataLink!$A$4:$A$618,MassDataLink!$B$4:$B$618)","v":{"$error":"#N/A"}},{"$f":"LOOKUP(C182,MassDataLink!$A$4:$A$618,MassDataLink!$C$4:$C$618)","v":{"$error":"#N/A"}},{"$f":"LOOKUP(C182,MassDataLink!$A$4:$A$618,MassDataLink!$D$4:$D$618)","v":{"$error":"#N/A"}},{"$f":"LOOKUP(C182,MassDataLink!$A$4:$A$618,MassDataLink!$E$4:$E$618)","v":{"$error":"#N/A"}},{"$f":"LOOKUP(C182,MassDataLink!$A$4:$A$618,MassDataLink!$F$4:$F$618)","v":{"$error":"#N/A"}},null,69,"- - -","- - -"]
[null,70,-1,{"$f":"LOOKUP(C183,MassDataLink!$A$4:$A$618,MassDataLink!$B$4:$B$618)","v":{"$error":"#N/A"}},{"$f":"LOOKUP(C183,MassDataLink!$A$4:$A$618,MassDataLink!$C$4:$C$618)","v":{"$error":"#N/A"}},{"$f":"LOOKUP(C183,MassDataLink!$A$4:$A$618,MassDataLink!$D$4:$D$618)","v":{"$error":"#N/A"}},{"$f":"LOOKUP(C183,MassDataLink!$A$4:$A$618,MassDataLink!$E$4:$E$618)","v":{"$error":"#N/A"}},{"$f":"LOOKUP(C183,MassDataLink!$A$4:$A$618,MassDataLink!$F$4:$F$618)","v":{"$error":"#N/A"}},null,70,"- - -","- - -"]
[null,71,-1,{"$f":"LOOKUP(C184,MassDataLink!$A$4:$A$618,MassDataLink!$B$4:$B$618)","v":{"$error":"#N/A"}},{"$f":"LOOKUP(C184,MassDataLink!$A$4:$A$618,MassDataLink!$C$4:$C$618)","v":{"$error":"#N/A"}},{"$f":"LOOKUP(C184,MassDataLink!$A$4:$A$618,MassDataLink!$D$4:$D$618)","v":{"$error":"#N/A"}},{"$f":"LOOKUP(C184,MassDataLink!$A$4:$A$618,MassDataLink!$E$4:$E$618)","v":{"$error":"#N/A"}},{"$f":"LOOKUP(C184,MassDataLink!$A$4:$A$618,MassDataLink!$F$4:$F$618)","v":{"$error":"#N/A"}},null,71,"- - -","- - -"]
[null,72,-1,{"$f":"LOOKUP(C185,MassDataLink!$A$4:$A$618,MassDataLink!$B$4:$B$618)","v":{"$error":"#N/A"}},{"$f":"LOOKUP(C185,MassDataLink!$A$4:$A$618,MassDataLink!$C$4:$C$618)","v":{"$error":"#N/A"}},{"$f":"LOOKUP(C185,MassDataLink!$A$4:$A$618,MassDataLink!$D$4:$D$618)","v":{"$error":"#N/A"}},{"$f":"LOOKUP(C185,MassDataLink!$A$4:$A$618,MassDataLink!$E$4:$E$618)","v":{"$error":"#N/A"}},{"$f":"LOOKUP(C185,MassDataLink!$A$4:$A$618,MassDataLink!$F$4:$F$618)","v":{"$error":"#N/A"}},null,72,"- - -","- - -"]
[null,73,-1,{"$f":"LOOKUP(C186,MassDataLink!$A$4:$A$618,MassDataLink!$B$4:$B$618)","v":{"$error":"#N/A"}},{"$f":"LOOKUP(C186,MassDataLink!$A$4:$A$618,MassDataLink!$C$4:$C$618)","v":{"$error":"#N/A"}},{"$f":"LOOKUP(C186,MassDataLink!$A$4:$A$618,MassDataLink!$D$4:$D$618)","v":{"$error":"#N/A"}},{"$f":"LOOKUP(C186,MassDataLink!$A$4:$A$618,MassDataLink!$E$4:$E$618)","v":{"$error":"#N/A"}},{"$f":"LOOKUP(C186,MassDataLink!$A$4:$A$618,MassDataLink!$F$4:$F$618)","v":{"$error":"#N/A"}},null,73,"- - -","- - -"]
[null,74,-1,{"$f":"LOOKUP(C187,MassDataLink!$A$4:$A$618,MassDataLink!$B$4:$B$618)","v":{"$error":"#N/A"}},{"$f":"LOOKUP(C187,MassDataLink!$A$4:$A$618,MassDataLink!$C$4:$C$618)","v":{"$error":"#N/A"}},{"$f":"LOOKUP(C187,MassDataLink!$A$4:$A$618,MassDataLink!$D$4:$D$618)","v":{"$error":"#N/A"}},{"$f":"LOOKUP(C187,MassDataLink!$A$4:$A$618,MassDataLink!$E$4:$E$618)","v":{"$error":"#N/A"}},{"$f":"LOOKUP(C187,MassDataLink!$A$4:$A$618,MassDataLink!$F$4:$F$618)","v":{"$error":"#N/A"}},null,74,"- - -","- - -"]
[null,75,-1,{"$f":"LOOKUP(C188,MassDataLink!$A$4:$A$618,MassDataLink!$B$4:$B$618)","v":{"$error":"#N/A"}},{"$f":"LOOKUP(C188,MassDataLink!$A$4:$A$618,MassDataLink!$C$4:$C$618)","v":{"$error":"#N/A"}},{"$f":"LOOKUP(C188,MassDataLink!$A$4:$A$618,MassDataLink!$D$4:$D$618)","v":{"$error":"#N/A"}},{"$f":"LOOKUP(C188,MassDataLink!$A$4:$A$618,MassDataLink!$E$4:$E$618)","v":{"$error":"#N/A"}},{"$f":"LOOKUP(C188,MassDataLink!$A$4:$A$618,MassDataLink!$F$4:$F$618)","v":{"$error":"#N/A"}},null,75,"- - -","- - -"]
[null,76,-1,{"$f":"LOOKUP(C189,MassDataLink!$A$4:$A$618,MassDataLink!$B$4:$B$618)","v":{"$error":"#N/A"}},{"$f":"LOOKUP(C189,MassDataLink!$A$4:$A$618,MassDataLink!$C$4:$C$618)","v":{"$error":"#N/A"}},{"$f":"LOOKUP(C189,MassDataLink!$A$4:$A$618,MassDataLink!$D$4:$D$618)","v":{"$error":"#N/A"}},{"$f":"LOOKUP(C189,MassDataLink!$A$4:$A$618,MassDataLink!$E$4:$E$618)","v":{"$error":"#N/A"}},{"$f":"LOOKUP(C189,MassDataLink!$A$4:$A$618,MassDataLink!$F$4:$F$618)","v":{"$error":"#N/A"}},null,76,"- - -","- - -"]
[null,77,-1,{"$f":"LOOKUP(C190,MassDataLink!$A$4:$A$618,MassDataLink!$B$4:$B$618)","v":{"$error":"#N/A"}},{"$f":"LOOKUP(C190,MassDataLink!$A$4:$A$618,MassDataLink!$C$4:$C$618)","v":{"$error":"#N/A"}},{"$f":"LOOKUP(C190,MassDataLink!$A$4:$A$618,MassDataLink!$D$4:$D$618)","v":{"$error":"#N/A"}},{"$f":"LOOKUP(C190,MassDataLink!$A$4:$A$618,MassDataLink!$E$4:$E$618)","v":{"$error":"#N/A"}},{"$f":"LOOKUP(C190,MassDataLink!$A$4:$A$618,MassDataLink!$F$4:$F$618)","v":{"$error":"#N/A"}},null,77,"- - -","- - -"]
[null,78,-1,{"$f":"LOOKUP(C191,MassDataLink!$A$4:$A$618,MassDataLink!$B$4:$B$618)","v":{"$error":"#N/A"}},{"$f":"LOOKUP(C191,MassDataLink!$A$4:$A$618,MassDataLink!$C$4:$C$618)","v":{"$error":"#N/A"}},{"$f":"LOOKUP(C191,MassDataLink!$A$4:$A$618,MassDataLink!$D$4:$D$618)","v":{"$error":"#N/A"}},{"$f":"LOOKUP(C191,MassDataLink!$A$4:$A$618,MassDataLink!$E$4:$E$618)","v":{"$error":"#N/A"}},{"$f":"LOOKUP(C191,MassDataLink!$A$4:$A$618,MassDataLink!$F$4:$F$618)","v":{"$error":"#N/A"}},null,78,"- - -","- - -"]
[null,79,-1,{"$f":"LOOKUP(C192,MassDataLink!$A$4:$A$618,MassDataLink!$B$4:$B$618)","v":{"$error":"#N/A"}},{"$f":"LOOKUP(C192,MassDataLink!$A$4:$A$618,MassDataLink!$C$4:$C$618)","v":{"$error":"#N/A"}},{"$f":"LOOKUP(C192,MassDataLink!$A$4:$A$618,MassDataLink!$D$4:$D$618)","v":{"$error":"#N/A"}},{"$f":"LOOKUP(C192,MassDataLink!$A$4:$A$618,MassDataLink!$E$4:$E$618)","v":{"$error":"#N/A"}},{"$f":"LOOKUP(C192,MassDataLink!$A$4:$A$618,MassDataLink!$F$4:$F$618)","v":{"$error":"#N/A"}},null,79,"- - -","- - -"]
[null,80,-1,{"$f":"LOOKUP(C193,MassDataLink!$A$4:$A$618,MassDataLink!$B$4:$B$618)","v":{"$error":"#N/A"}},{"$f":"LOOKUP(C193,MassDataLink!$A$4:$A$618,MassDataLink!$C$4:$C$618)","v":{"$error":"#N/A"}},{"$f":"LOOKUP(C193,MassDataLink!$A$4:$A$618,MassDataLink!$D$4:$D$618)","v":{"$error":"#N/A"}},{"$f":"LOOKUP(C193,MassDataLink!$A$4:$A$618,MassDataLink!$E$4:$E$618)","v":{"$error":"#N/A"}},{"$f":"LOOKUP(C193,MassDataLink!$A$4:$A$618,MassDataLink!$F$4:$F$618)","v":{"$error":"#N/A"}},null,80,"- - -","- - -"]
[null,81,-1,{"$f":"LOOKUP(C194,MassDataLink!$A$4:$A$618,MassDataLink!$B$4:$B$618)","v":{"$error":"#N/A"}},{"$f":"LOOKUP(C194,MassDataLink!$A$4:$A$618,MassDataLink!$C$4:$C$618)","v":{"$error":"#N/A"}},{"$f":"LOOKUP(C194,MassDataLink!$A$4:$A$618,MassDataLink!$D$4:$D$618)","v":{"$error":"#N/A"}},{"$f":"LOOKUP(C194,MassDataLink!$A$4:$A$618,MassDataLink!$E$4:$E$618)","v":{"$error":"#N/A"}},{"$f":"LOOKUP(C194,MassDataLink!$A$4:$A$618,MassDataLink!$F$4:$F$618)","v":{"$error":"#N/A"}},null,81,"- - -","- - -"]
[null,82,-1,{"$f":"LOOKUP(C195,MassDataLink!$A$4:$A$618,MassDataLink!$B$4:$B$618)","v":{"$error":"#N/A"}},{"$f":"LOOKUP(C195,MassDataLink!$A$4:$A$618,MassDataLink!$C$4:$C$618)","v":{"$error":"#N/A"}},{"$f":"LOOKUP(C195,MassDataLink!$A$4:$A$618,MassDataLink!$D$4:$D$618)","v":{"$error":"#N/A"}},{"$f":"LOOKUP(C195,MassDataLink!$A$4:$A$618,MassDataLink!$E$4:$E$618)","v":{"$error":"#N/A"}},{"$f":"LOOKUP(C195,MassDataLink!$A$4:$A$618,MassDataLink!$F$4:$F$618)","v":{"$error":"#N/A"}},null,82,"- - -","- - -"]
[null,83,-1,{"$f":"LOOKUP(C196,MassDataLink!$A$4:$A$618,MassDataLink!$B$4:$B$618)","v":{"$error":"#N/A"}},{"$f":"LOOKUP(C196,MassDataLink!$A$4:$A$618,MassDataLink!$C$4:$C$618)","v":{"$error":"#N/A"}},{"$f":"LOOKUP(C196,MassDataLink!$A$4:$A$618,MassDataLink!$D$4:$D$618)","v":{"$error":"#N/A"}},{"$f":"LOOKUP(C196,MassDataLink!$A$4:$A$618,MassDataLink!$E$4:$E$618)","v":{"$error":"#N/A"}},{"$f":"LOOKUP(C196,MassDataLink!$A$4:$A$618,MassDataLink!$F$4:$F$618)","v":{"$error":"#N/A"}},null,83,"- - -","- - -"]
[null,84,-1,{"$f":"LOOKUP(C197,MassDataLink!$A$4:$A$618,MassDataLink!$B$4:$B$618)","v":{"$error":"#N/A"}},{"$f":"LOOKUP(C197,MassDataLink!$A$4:$A$618,MassDataLink!$C$4:$C$618)","v":{"$error":"#N/A"}},{"$f":"LOOKUP(C197,MassDataLink!$A$4:$A$618,MassDataLink!$D$4:$D$618)","v":{"$error":"#N/A"}},{"$f":"LOOKUP(C197,MassDataLink!$A$4:$A$618,MassDataLink!$E$4:$E$618)","v":{"$error":"#N/A"}},{"$f":"LOOKUP(C197,MassDataLink!$A$4:$A$618,MassDataLink!$F$4:$F$618)","v":{"$error":"#N/A"}},null,84,"- - -","- - -"]
[null,85,-1,{"$f":"LOOKUP(C198,MassDataLink!$A$4:$A$618,MassDataLink!$B$4:$B$618)","v":{"$error":"#N/A"}},{"$f":"LOOKUP(C198,MassDataLink!$A$4:$A$618,MassDataLink!$C$4:$C$618)","v":{"$error":"#N/A"}},{"$f":"LOOKUP(C198,MassDataLink!$A$4:$A$618,MassDataLink!$D$4:$D$618)","v":{"$error":"#N/A"}},{"$f":"LOOKUP(C198,MassDataLink!$A$4:$A$618,MassDataLink!$E$4:$E$618)","v":{"$error":"#N/A"}},{"$f":"LOOKUP(C198,MassDataLink!$A$4:$A$618,MassDataLink!$F$4:$F$618)","v":{"$error":"#N/A"}},null,85,"- - -","- - -"]
[null,86,-1,{"$f":"LOOKUP(C199,MassDataLink!$A$4:$A$618,MassDataLink!$B$4:$B$618)","v":{"$error":"#N/A"}},{"$f":"LOOKUP(C199,MassDataLink!$A$4:$A$618,MassDataLink!$C$4:$C$618)","v":{"$error":"#N/A"}},{"$f":"LOOKUP(C199,MassDataLink!$A$4:$A$618,MassDataLink!$D$4:$D$618)","v":{"$error":"#N/A"}},{"$f":"LOOKUP(C199,MassDataLink!$A$4:$A$618,MassDataLink!$E$4:$E$618)","v":{"$error":"#N/A"}},{"$f":"LOOKUP(C199,MassDataLink!$A$4:$A$618,MassDataLink!$F$4:$F$618)","v":{"$error":"#N/A"}},null,86,"- - -","- - -"]
[null,87,-1,{"$f":"LOOKUP(C200,MassDataLink!$A$4:$A$618,MassDataLink!$B$4:$B$618)","v":{"$error":"#N/A"}},{"$f":"LOOKUP(C200,MassDataLink!$A$4:$A$618,MassDataLink!$C$4:$C$618)","v":{"$error":"#N/A"}},{"$f":"LOOKUP(C200,MassDataLink!$A$4:$A$618,MassDataLink!$D$4:$D$618)","v":{"$error":"#N/A"}},{"$f":"LOOKUP(C200,MassDataLink!$A$4:$A$618,MassDataLink!$E$4:$E$618)","v":{"$error":"#N/A"}},{"$f":"LOOKUP(C200,MassDataLink!$A$4:$A$618,MassDataLink!$F$4:$F$618)","v":{"$error":"#N/A"}},null,87,"- - -","- - -"]
[null,88,-1,{"$f":"LOOKUP(C201,MassDataLink!$A$4:$A$618,MassDataLink!$B$4:$B$618)","v":{"$error":"#N/A"}},{"$f":"LOOKUP(C201,MassDataLink!$A$4:$A$618,MassDataLink!$C$4:$C$618)","v":{"$error":"#N/A"}},{"$f":"LOOKUP(C201,MassDataLink!$A$4:$A$618,MassDataLink!$D$4:$D$618)","v":{"$error":"#N/A"}},{"$f":"LOOKUP(C201,MassDataLink!$A$4:$A$618,MassDataLink!$E$4:$E$618)","v":{"$error":"#N/A"}},{"$f":"LOOKUP(C201,MassDataLink!$A$4:$A$618,MassDataLink!$F$4:$F$618)","v":{"$error":"#N/A"}},null,88,"- - -","- - -"]
[null,89,-1,{"$f":"LOOKUP(C202,MassDataLink!$A$4:$A$618,MassDataLink!$B$4:$B$618)","v":{"$error":"#N/A"}},{"$f":"LOOKUP(C202,MassDataLink!$A$4:$A$618,MassDataLink!$C$4:$C$618)","v":{"$error":"#N/A"}},{"$f":"LOOKUP(C202,MassDataLink!$A$4:$A$618,MassDataLink!$D$4:$D$618)","v":{"$error":"#N/A"}},{"$f":"LOOKUP(C202,MassDataLink!$A$4:$A$618,MassDataLink!$E$4:$E$618)","v":{"$error":"#N/A"}},{"$f":"LOOKUP(C202,MassDataLink!$A$4:$A$618,MassDataLink!$F$4:$F$618)","v":{"$error":"#N/A"}},null,89,"- - -","- - -"]
[null,90,-1,{"$f":"LOOKUP(C203,MassDataLink!$A$4:$A$618,MassDataLink!$B$4:$B$618)","v":{"$error":"#N/A"}},{"$f":"LOOKUP(C203,MassDataLink!$A$4:$A$618,MassDataLink!$C$4:$C$618)","v":{"$error":"#N/A"}},{"$f":"LOOKUP(C203,MassDataLink!$A$4:$A$618,MassDataLink!$D$4:$D$618)","v":{"$error":"#N/A"}},{"$f":"LOOKUP(C203,MassDataLink!$A$4:$A$618,MassDataLink!$E$4:$E$618)","v":{"$error":"#N/A"}},{"$f":"LOOKUP(C203,MassDataLink!$A$4:$A$618,MassDataLink!$F$4:$F$618)","v":{"$error":"#N/A"}},null,90,"- - -","- - -"]
[null,91,-1,{"$f":"LOOKUP(C204,MassDataLink!$A$4:$A$618,MassDataLink!$B$4:$B$618)","v":{"$error":"#N/A"}},{"$f":"LOOKUP(C204,MassDataLink!$A$4:$A$618,MassDataLink!$C$4:$C$618)","v":{"$error":"#N/A"}},{"$f":"LOOKUP(C204,MassDataLink!$A$4:$A$618,MassDataLink!$D$4:$D$618)","v":{"$error":"#N/A"}},{"$f":"LOOKUP(C204,MassDataLink!$A$4:$A$618,MassDataLink!$E$4:$E$618)","v":{"$error":"#N/A"}},{"$f":"LOOKUP(C204,MassDataLink!$A$4:$A$618,MassDataLink!$F$4:$F$618)","v":{"$error":"#N/A"}},null,91,"- - -","- - -"]
[null,92,-1,{"$f":"LOOKUP(C205,MassDataLink!$A$4:$A$618,MassDataLink!$B$4:$B$618)","v":{"$error":"#N/A"}},{"$f":"LOOKUP(C205,MassDataLink!$A$4:$A$618,MassDataLink!$C$4:$C$618)","v":{"$error":"#N/A"}},{"$f":"LOOKUP(C205,MassDataLink!$A$4:$A$618,MassDataLink!$D$4:$D$618)","v":{"$error":"#N/A"}},{"$f":"LOOKUP(C205,MassDataLink!$A$4:$A$618,MassDataLink!$E$4:$E$618)","v":{"$error":"#N/A"}},{"$f":"LOOKUP(C205,MassDataLink!$A$4:$A$618,MassDataLink!$F$4:$F$618)","v":{"$error":"#N/A"}},null,92,"- - -","- - -"]
[null,93,-1,{"$f":"LOOKUP(C206,MassDataLink!$A$4:$A$618,MassDataLink!$B$4:$B$618)","v":{"$error":"#N/A"}},{"$f":"LOOKUP(C206,MassDataLink!$A$4:$A$618,MassDataLink!$C$4:$C$618)","v":{"$error":"#N/A"}},{"$f":"LOOKUP(C206,MassDataLink!$A$4:$A$618,MassDataLink!$D$4:$D$618)","v":{"$error":"#N/A"}},{"$f":"LOOKUP(C206,MassDataLink!$A$4:$A$618,MassDataLink!$E$4:$E$618)","v":{"$error":"#N/A"}},{"$f":"LOOKUP(C206,MassDataLink!$A$4:$A$618,MassDataLink!$F$4:$F$618)","v":{"$error":"#N/A"}},null,93,"- - -","- - -"]
[null,94,-1,{"$f":"LOOKUP(C207,MassDataLink!$A$4:$A$618,MassDataLink!$B$4:$B$618)","v":{"$error":"#N/A"}},{"$f":"LOOKUP(C207,MassDataLink!$A$4:$A$618,MassDataLink!$C$4:$C$618)","v":{"$error":"#N/A"}},{"$f":"LOOKUP(C207,MassDataLink!$A$4:$A$618,MassDataLink!$D$4:$D$618)","v":{"$error":"#N/A"}},{"$f":"LOOKUP(C207,MassDataLink!$A$4:$A$618,MassDataLink!$E$4:$E$618)","v":{"$error":"#N/A"}},{"$f":"LOOKUP(C207,MassDataLink!$A$4:$A$618,MassDataLink!$F$4:$F$618)","v":{"$error":"#N/A"}},null,94,"- - -","- - -"]
[null,95,-1,{"$f":"LOOKUP(C208,MassDataLink!$A$4:$A$618,MassDataLink!$B$4:$B$618)","v":{"$error":"#N/A"}},{"$f":"LOOKUP(C208,MassDataLink!$A$4:$A$618,MassDataLink!$C$4:$C$618)","v":{"$error":"#N/A"}},{"$f":"LOOKUP(C208,MassDataLink!$A$4:$A$618,MassDataLink!$D$4:$D$618)","v":{"$error":"#N/A"}},{"$f":"LOOKUP(C208,MassDataLink!$A$4:$A$618,MassDataLink!$E$4:$E$618)","v":{"$error":"#N/A"}},{"$f":"LOOKUP(C208,MassDataLink!$A$4:$A$618,MassDataLink!$F$4:$F$618)","v":{"$error":"#N/A"}},null,95,"- - -","- - -"]
[null,96,-1,{"$f":"LOOKUP(C209,MassDataLink!$A$4:$A$618,MassDataLink!$B$4:$B$618)","v":{"$error":"#N/A"}},{"$f":"LOOKUP(C209,MassDataLink!$A$4:$A$618,MassDataLink!$C$4:$C$618)","v":{"$error":"#N/A"}},{"$f":"LOOKUP(C209,MassDataLink!$A$4:$A$618,MassDataLink!$D$4:$D$618)","v":{"$error":"#N/A"}},{"$f":"LOOKUP(C209,MassDataLink!$A$4:$A$618,MassDataLink!$E$4:$E$618)","v":{"$error":"#N/A"}},{"$f":"LOOKUP(C209,MassDataLink!$A$4:$A$618,MassDataLink!$F$4:$F$618)","v":{"$error":"#N/A"}},null,96,"- - -","- - -"]
[null,97,-1,{"$f":"LOOKUP(C210,MassDataLink!$A$4:$A$618,MassDataLink!$B$4:$B$618)","v":{"$error":"#N/A"}},{"$f":"LOOKUP(C210,MassDataLink!$A$4:$A$618,MassDataLink!$C$4:$C$618)","v":{"$error":"#N/A"}},{"$f":"LOOKUP(C210,MassDataLink!$A$4:$A$618,MassDataLink!$D$4:$D$618)","v":{"$error":"#N/A"}},{"$f":"LOOKUP(C210,MassDataLink!$A$4:$A$618,MassDataLink!$E$4:$E$618)","v":{"$error":"#N/A"}},{"$f":"LOOKUP(C210,MassDataLink!$A$4:$A$618,MassDataLink!$F$4:$F$618)","v":{"$error":"#N/A"}},null,97,"- - -","- - -"]
[null,98,-1,{"$f":"LOOKUP(C211,MassDataLink!$A$4:$A$618,MassDataLink!$B$4:$B$618)","v":{"$error":"#N/A"}},{"$f":"LOOKUP(C211,MassDataLink!$A$4:$A$618,MassDataLink!$C$4:$C$618)","v":{"$error":"#N/A"}},{"$f":"LOOKUP(C211,MassDataLink!$A$4:$A$618,MassDataLink!$D$4:$D$618)","v":{"$error":"#N/A"}},{"$f":"LOOKUP(C211,MassDataLink!$A$4:$A$618,MassDataLink!$E$4:$E$618)","v":{"$error":"#N/A"}},{"$f":"LOOKUP(C211,MassDataLink!$A$4:$A$618,MassDataLink!$F$4:$F$618)","v":{"$error":"#N/A"}},null,98,"- - -","- - -"]
[null,99,-1,{"$f":"LOOKUP(C212,MassDataLink!$A$4:$A$618,MassDataLink!$B$4:$B$618)","v":{"$error":"#N/A"}},{"$f":"LOOKUP(C212,MassDataLink!$A$4:$A$618,MassDataLink!$C$4:$C$618)","v":{"$error":"#N/A"}},{"$f":"LOOKUP(C212,MassDataLink!$A$4:$A$618,MassDataLink!$D$4:$D$618)","v":{"$error":"#N/A"}},{"$f":"LOOKUP(C212,MassDataLink!$A$4:$A$618,MassDataLink!$E$4:$E$618)","v":{"$error":"#N/A"}},{"$f":"LOOKUP(C212,MassDataLink!$A$4:$A$618,MassDataLink!$F$4:$F$618)","v":{"$error":"#N/A"}},null,99,"- - -","- - -"]
[null,100,-1,{"$f":"LOOKUP(C213,MassDataLink!$A$4:$A$618,MassDataLink!$B$4:$B$618)","v":{"$error":"#N/A"}},{"$f":"LOOKUP(C213,MassDataLink!$A$4:$A$618,MassDataLink!$C$4:$C$618)","v":{"$error":"#N/A"}},{"$f":"LOOKUP(C213,MassDataLink!$A$4:$A$618,MassDataLink!$D$4:$D$618)","v":{"$error":"#N/A"}},{"$f":"LOOKUP(C213,MassDataLink!$A$4:$A$618,MassDataLink!$E$4:$E$618)","v":{"$error":"#N/A"}},{"$f":"LOOKUP(C213,MassDataLink!$A$4:$A$618,MassDataLink!$F$4:$F$618)","v":{"$error":"#N/A"}},null,100,"- - -","- - -"]
[null,101,-1,{"$f":"LOOKUP(C214,MassDataLink!$A$4:$A$618,MassDataLink!$B$4:$B$618)","v":{"$error":"#N/A"}},{"$f":"LOOKUP(C214,MassDataLink!$A$4:$A$618,MassDataLink!$C$4:$C$618)","v":{"$error":"#N/A"}},{"$f":"LOOKUP(C214,MassDataLink!$A$4:$A$618,MassDataLink!$D$4:$D$618)","v":{"$error":"#N/A"}},{"$f":"LOOKUP(C214,MassDataLink!$A$4:$A$618,MassDataLink!$E$4:$E$618)","v":{"$error":"#N/A"}},{"$f":"LOOKUP(C214,MassDataLink!$A$4:$A$618,MassDataLink!$F$4:$F$618)","v":{"$error":"#N/A"}},null,101,"- - -","- - -"]
[null,102,-1,{"$f":"LOOKUP(C215,MassDataLink!$A$4:$A$618,MassDataLink!$B$4:$B$618)","v":{"$error":"#N/A"}},{"$f":"LOOKUP(C215,MassDataLink!$A$4:$A$618,MassDataLink!$C$4:$C$618)","v":{"$error":"#N/A"}},{"$f":"LOOKUP(C215,MassDataLink!$A$4:$A$618,MassDataLink!$D$4:$D$618)","v":{"$error":"#N/A"}},{"$f":"LOOKUP(C215,MassDataLink!$A$4:$A$618,MassDataLink!$E$4:$E$618)","v":{"$error":"#N/A"}},{"$f":"LOOKUP(C215,MassDataLink!$A$4:$A$618,MassDataLink!$F$4:$F$618)","v":{"$error":"#N/A"}},null,102,"- - -","- - -"]
[null,103,-1,{"$f":"LOOKUP(C216,MassDataLink!$A$4:$A$618,MassDataLink!$B$4:$B$618)","v":{"$error":"#N/A"}},{"$f":"LOOKUP(C216,MassDataLink!$A$4:$A$618,MassDataLink!$C$4:$C$618)","v":{"$error":"#N/A"}},{"$f":"LOOKUP(C216,MassDataLink!$A$4:$A$618,MassDataLink!$D$4:$D$618)","v":{"$error":"#N/A"}},{"$f":"LOOKUP(C216,MassDataLink!$A$4:$A$618,MassDataLink!$E$4:$E$618)","v":{"$error":"#N/A"}},{"$f":"LOOKUP(C216,MassDataLink!$A$4:$A$618,MassDataLink!$F$4:$F$618)","v":{"$error":"#N/A"}},null,103,"- - -","- - -"]
[null,104,-1,{"$f":"LOOKUP(C217,MassDataLink!$A$4:$A$618,MassDataLink!$B$4:$B$618)","v":{"$error":"#N/A"}},{"$f":"LOOKUP(C217,MassDataLink!$A$4:$A$618,MassDataLink!$C$4:$C$618)","v":{"$error":"#N/A"}},{"$f":"LOOKUP(C217,MassDataLink!$A$4:$A$618,MassDataLink!$D$4:$D$618)","v":{"$error":"#N/A"}},{"$f":"LOOKUP(C217,MassDataLink!$A$4:$A$618,MassDataLink!$E$4:$E$618)","v":{"$error":"#N/A"}},{"$f":"LOOKUP(C217,MassDataLink!$A$4:$A$618,MassDataLink!$F$4:$F$618)","v":{"$error":"#N/A"}},null,104,"- - -","- - -"]
[null,105,-1,{"$f":"LOOKUP(C218,MassDataLink!$A$4:$A$618,MassDataLink!$B$4:$B$618)","v":{"$error":"#N/A"}},{"$f":"LOOKUP(C218,MassDataLink!$A$4:$A$618,MassDataLink!$C$4:$C$618)","v":{"$error":"#N/A"}},{"$f":"LOOKUP(C218,MassDataLink!$A$4:$A$618,MassDataLink!$D$4:$D$618)","v":{"$error":"#N/A"}},{"$f":"LOOKUP(C218,MassDataLink!$A$4:$A$618,MassDataLink!$E$4:$E$618)","v":{"$error":"#N/A"}},{"$f":"LOOKUP(C218,MassDataLink!$A$4:$A$618,MassDataLink!$F$4:$F$618)","v":{"$error":"#N/A"}},null,105,"- - -","- - -"]
[null,106,-1,{"$f":"LOOKUP(C219,MassDataLink!$A$4:$A$618,MassDataLink!$B$4:$B$618)","v":{"$error":"#N/A"}},{"$f":"LOOKUP(C219,MassDataLink!$A$4:$A$618,MassDataLink!$C$4:$C$618)","v":{"$error":"#N/A"}},{"$f":"LOOKUP(C219,MassDataLink!$A$4:$A$618,MassDataLink!$D$4:$D$618)","v":{"$error":"#N/A"}},{"$f":"LOOKUP(C219,MassDataLink!$A$4:$A$618,MassDataLink!$E$4:$E$618)","v":{"$error":"#N/A"}},{"$f":"LOOKUP(C219,MassDataLink!$A$4:$A$618,MassDataLink!$F$4:$F$618)","v":{"$error":"#N/A"}},null,106,"- - -","- - -"]
[null,107,-1,{"$f":"LOOKUP(C220,MassDataLink!$A$4:$A$618,MassDataLink!$B$4:$B$618)","v":{"$error":"#N/A"}},{"$f":"LOOKUP(C220,MassDataLink!$A$4:$A$618,MassDataLink!$C$4:$C$618)","v":{"$error":"#N/A"}},{"$f":"LOOKUP(C220,MassDataLink!$A$4:$A$618,MassDataLink!$D$4:$D$618)","v":{"$error":"#N/A"}},{"$f":"LOOKUP(C220,MassDataLink!$A$4:$A$618,MassDataLink!$E$4:$E$618)","v":{"$error":"#N/A"}},{"$f":"LOOKUP(C220,MassDataLink!$A$4:$A$618,MassDataLink!$F$4:$F$618)","v":{"$error":"#N/A"}},null,107,"- - -","- - -"]
[null,108,-1,{"$f":"LOOKUP(C221,MassDataLink!$A$4:$A$618,MassDataLink!$B$4:$B$618)","v":{"$error":"#N/A"}},{"$f":"LOOKUP(C221,MassDataLink!$A$4:$A$618,MassDataLink!$C$4:$C$618)","v":{"$error":"#N/A"}},{"$f":"LOOKUP(C221,MassDataLink!$A$4:$A$618,MassDataLink!$D$4:$D$618)","v":{"$error":"#N/A"}},{"$f":"LOOKUP(C221,MassDataLink!$A$4:$A$618,MassDataLink!$E$4:$E$618)","v":{"$error":"#N/A"}},{"$f":"LOOKUP(C221,MassDataLink!$A$4:$A$618,MassDataLink!$F$4:$F$618)","v":{"$error":"#N/A"}},null,108,"- - -","- - -"]
[null,109,-1,{"$f":"LOOKUP(C222,MassDataLink!$A$4:$A$618,MassDataLink!$B$4:$B$618)","v":{"$error":"#N/A"}},{"$f":"LOOKUP(C222,MassDataLink!$A$4:$A$618,MassDataLink!$C$4:$C$618)","v":{"$error":"#N/A"}},{"$f":"LOOKUP(C222,MassDataLink!$A$4:$A$618,MassDataLink!$D$4:$D$618)","v":{"$error":"#N/A"}},{"$f":"LOOKUP(C222,MassDataLink!$A$4:$A$618,MassDataLink!$E$4:$E$618)","v":{"$error":"#N/A"}},{"$f":"LOOKUP(C222,MassDataLink!$A$4:$A$618,MassDataLink!$F$4:$F$618)","v":{"$error":"#N/A"}},null,109,"- - -","- - -"]
[null,110,-1,{"$f":"LOOKUP(C223,MassDataLink!$A$4:$A$618,MassDataLink!$B$4:$B$618)","v":{"$error":"#N/A"}},{"$f":"LOOKUP(C223,MassDataLink!$A$4:$A$618,MassDataLink!$C$4:$C$618)","v":{"$error":"#N/A"}},{"$f":"LOOKUP(C223,MassDataLink!$A$4:$A$618,MassDataLink!$D$4:$D$618)","v":{"$error":"#N/A"}},{"$f":"LOOKUP(C223,MassDataLink!$A$4:$A$618,MassDataLink!$E$4:$E$618)","v":{"$error":"#N/A"}},{"$f":"LOOKUP(C223,MassDataLink!$A$4:$A$618,MassDataLink!$F$4:$F$618)","v":{"$error":"#N/A"}},null,110,"- - -","- - -"]
[null,111,-1,{"$f":"LOOKUP(C224,MassDataLink!$A$4:$A$618,MassDataLink!$B$4:$B$618)","v":{"$error":"#N/A"}},{"$f":"LOOKUP(C224,MassDataLink!$A$4:$A$618,MassDataLink!$C$4:$C$618)","v":{"$error":"#N/A"}},{"$f":"LOOKUP(C224,MassDataLink!$A$4:$A$618,MassDataLink!$D$4:$D$618)","v":{"$error":"#N/A"}},{"$f":"LOOKUP(C224,MassDataLink!$A$4:$A$618,MassDataLink!$E$4:$E$618)","v":{"$error":"#N/A"}},{"$f":"LOOKUP(C224,MassDataLink!$A$4:$A$618,MassDataLink!$F$4:$F$618)","v":{"$error":"#N/A"}},null,111,"- - -","- - -"]
[null,112,-1,{"$f":"LOOKUP(C225,MassDataLink!$A$4:$A$618,MassDataLink!$B$4:$B$618)","v":{"$error":"#N/A"}},{"$f":"LOOKUP(C225,MassDataLink!$A$4:$A$618,MassDataLink!$C$4:$C$618)","v":{"$error":"#N/A"}},{"$f":"LOOKUP(C225,MassDataLink!$A$4:$A$618,MassDataLink!$D$4:$D$618)","v":{"$error":"#N/A"}},{"$f":"LOOKUP(C225,MassDataLink!$A$4:$A$618,MassDataLink!$E$4:$E$618)","v":{"$error":"#N/A"}},{"$f":"LOOKUP(C225,MassDataLink!$A$4:$A$618,MassDataLink!$F$4:$F$618)","v":{"$error":"#N/A"}},null,112,"- - -","- - -"]
[null,113,-1,{"$f":"LOOKUP(C226,MassDataLink!$A$4:$A$618,MassDataLink!$B$4:$B$618)","v":{"$error":"#N/A"}},{"$f":"LOOKUP(C226,MassDataLink!$A$4:$A$618,MassDataLink!$C$4:$C$618)","v":{"$error":"#N/A"}},{"$f":"LOOKUP(C226,MassDataLink!$A$4:$A$618,MassDataLink!$D$4:$D$618)","v":{"$error":"#N/A"}},{"$f":"LOOKUP(C226,MassDataLink!$A$4:$A$618,MassDataLink!$E$4:$E$618)","v":{"$error":"#N/A"}},{"$f":"LOOKUP(C226,MassDataLink!$A$4:$A$618,MassDataLink!$F$4:$F$618)","v":{"$error":"#N/A"}},null,113,"- - -","- - -"]
[null,114,-1,{"$f":"LOOKUP(C227,MassDataLink!$A$4:$A$618,MassDataLink!$B$4:$B$618)","v":{"$error":"#N/A"}},{"$f":"LOOKUP(C227,MassDataLink!$A$4:$A$618,MassDataLink!$C$4:$C$618)","v":{"$error":"#N/A"}},{"$f":"LOOKUP(C227,MassDataLink!$A$4:$A$618,MassDataLink!$D$4:$D$618)","v":{"$error":"#N/A"}},{"$f":"LOOKUP(C227,MassDataLink!$A$4:$A$618,MassDataLink!$E$4:$E$618)","v":{"$error":"#N/A"}},{"$f":"LOOKUP(C227,MassDataLink!$A$4:$A$618,MassDataLink!$F$4:$F$618)","v":{"$error":"#N/A"}},null,114,"- - -","- - -"]
[null,{"$f":"B227+1","v":115},{"$f":"IF(C227=-1,-1,H227)","v":-1},{"$f":"LOOKUP(C228,MassDataLink!$A$4:$A$618,MassDataLink!$B$4:$B$618)","v":{"$error":"#N/A"}},{"$f":"LOOKUP(C228,MassDataLink!$A$4:$A$618,MassDataLink!$C$4:$C$618)","v":{"$error":"#N/A"}},{"$f":"LOOKUP(C228,MassDataLink!$A$4:$A$618,MassDataLink!$D$4:$D$618)","v":{"$error":"#N/A"}},{"$f":"LOOKUP(C228,MassDataLink!$A$4:$A$618,MassDataLink!$E$4:$E$618)","v":{"$error":"#N/A"}},{"$f":"LOOKUP(C228,MassDataLink!$A$4:$A$618,MassDataLink!$F$4:$F$618)","v":{"$error":"#N/A"}},null,{"$f":"J227+1","v":115},{"$f":"IF(C228=-1,$L$112,IF($A$11=D228,ROUND((E228*$P$57),$R$57),$L$112))","v":"- - -"},{"$f":"IF(K228=$L$112,$L$112,F228)","v":"- - -"}]
[null,116,-1,{"$f":"LOOKUP(C229,MassDataLink!$A$4:$A$618,MassDataLink!$B$4:$B$618)","v":{"$error":"#N/A"}},{"$f":"LOOKUP(C229,MassDataLink!$A$4:$A$618,MassDataLink!$C$4:$C$618)","v":{"$error":"#N/A"}},{"$f":"LOOKUP(C229,MassDataLink!$A$4:$A$618,MassDataLink!$D$4:$D$618)","v":{"$error":"#N/A"}},{"$f":"LOOKUP(C229,MassDataLink!$A$4:$A$618,MassDataLink!$E$4:$E$618)","v":{"$error":"#N/A"}},{"$f":"LOOKUP(C229,MassDataLink!$A$4:$A$618,MassDataLink!$F$4:$F$618)","v":{"$error":"#N/A"}},null,116,"- - -","- - -"]
[null,117,-1,{"$f":"LOOKUP(C230,MassDataLink!$A$4:$A$618,MassDataLink!$B$4:$B$618)","v":{"$error":"#N/A"}},{"$f":"LOOKUP(C230,MassDataLink!$A$4:$A$618,MassDataLink!$C$4:$C$618)","v":{"$error":"#N/A"}},{"$f":"LOOKUP(C230,MassDataLink!$A$4:$A$618,MassDataLink!$D$4:$D$618)","v":{"$error":"#N/A"}},{"$f":"LOOKUP(C230,MassDataLink!$A$4:$A$618,MassDataLink!$E$4:$E$618)","v":{"$error":"#N/A"}},{"$f":"LOOKUP(C230,MassDataLink!$A$4:$A$618,MassDataLink!$F$4:$F$618)","v":{"$error":"#N/A"}},null,117,"- - -","- - -"]
[null,118,-1,{"$f":"LOOKUP(C231,MassDataLink!$A$4:$A$618,MassDataLink!$B$4:$B$618)","v":{"$error":"#N/A"}},{"$f":"LOOKUP(C231,MassDataLink!$A$4:$A$618,MassDataLink!$C$4:$C$618)","v":{"$error":"#N/A"}},{"$f":"LOOKUP(C231,MassDataLink!$A$4:$A$618,MassDataLink!$D$4:$D$618)","v":{"$error":"#N/A"}},{"$f":"LOOKUP(C231,MassDataLink!$A$4:$A$618,MassDataLink!$E$4:$E$618)","v":{"$error":"#N/A"}},{"$f":"LOOKUP(C231,MassDataLink!$A$4:$A$618,MassDataLink!$F$4:$F$618)","v":{"$error":"#N/A"}},null,118,"- - -","- - -"]
[null,119,-1,{"$f":"LOOKUP(C232,MassDataLink!$A$4:$A$618,MassDataLink!$B$4:$B$618)","v":{"$error":"#N/A"}},{"$f":"LOOKUP(C232,MassDataLink!$A$4:$A$618,MassDataLink!$C$4:$C$618)","v":{"$error":"#N/A"}},{"$f":"LOOKUP(C232,MassDataLink!$A$4:$A$618,MassDataLink!$D$4:$D$618)","v":{"$error":"#N/A"}},{"$f":"LOOKUP(C232,MassDataLink!$A$4:$A$618,MassDataLink!$E$4:$E$618)","v":{"$error":"#N/A"}},{"$f":"LOOKUP(C232,MassDataLink!$A$4:$A$618,MassDataLink!$F$4:$F$618)","v":{"$error":"#N/A"}},null,119,"- - -","- - -"]
[null,120,-1,{"$f":"LOOKUP(C233,MassDataLink!$A$4:$A$618,MassDataLink!$B$4:$B$618)","v":{"$error":"#N/A"}},{"$f":"LOOKUP(C233,MassDataLink!$A$4:$A$618,MassDataLink!$C$4:$C$618)","v":{"$error":"#N/A"}},{"$f":"LOOKUP(C233,MassDataLink!$A$4:$A$618,MassDataLink!$D$4:$D$618)","v":{"$error":"#N/A"}},{"$f":"LOOKUP(C233,MassDataLink!$A$4:$A$618,MassDataLink!$E$4:$E$618)","v":{"$error":"#N/A"}},{"$f":"LOOKUP(C233,MassDataLink!$A$4:$A$618,MassDataLink!$F$4:$F$618)","v":{"$error":"#N/A"}},null,120,"- - -","- - -"]
[null,121,-1,{"$f":"LOOKUP(C234,MassDataLink!$A$4:$A$618,MassDataLink!$B$4:$B$618)","v":{"$error":"#N/A"}},{"$f":"LOOKUP(C234,MassDataLink!$A$4:$A$618,MassDataLink!$C$4:$C$618)","v":{"$error":"#N/A"}},{"$f":"LOOKUP(C234,MassDataLink!$A$4:$A$618,MassDataLink!$D$4:$D$618)","v":{"$error":"#N/A"}},{"$f":"LOOKUP(C234,MassDataLink!$A$4:$A$618,MassDataLink!$E$4:$E$618)","v":{"$error":"#N/A"}},{"$f":"LOOKUP(C234,MassDataLink!$A$4:$A$618,MassDataLink!$F$4:$F$618)","v":{"$error":"#N/A"}},null,121,"- - -","- - -"]
[null,122,-1,{"$f":"LOOKUP(C235,MassDataLink!$A$4:$A$618,MassDataLink!$B$4:$B$618)","v":{"$error":"#N/A"}},{"$f":"LOOKUP(C235,MassDataLink!$A$4:$A$618,MassDataLink!$C$4:$C$618)","v":{"$error":"#N/A"}},{"$f":"LOOKUP(C235,MassDataLink!$A$4:$A$618,MassDataLink!$D$4:$D$618)","v":{"$error":"#N/A"}},{"$f":"LOOKUP(C235,MassDataLink!$A$4:$A$618,MassDataLink!$E$4:$E$618)","v":{"$error":"#N/A"}},{"$f":"LOOKUP(C235,MassDataLink!$A$4:$A$618,MassDataLink!$F$4:$F$618)","v":{"$error":"#N/A"}},null,122,"- - -","- - -"]
[null,123,-1,{"$f":"LOOKUP(C236,MassDataLink!$A$4:$A$618,MassDataLink!$B$4:$B$618)","v":{"$error":"#N/A"}},{"$f":"LOOKUP(C236,MassDataLink!$A$4:$A$618,MassDataLink!$C$4:$C$618)","v":{"$error":"#N/A"}},{"$f":"LOOKUP(C236,MassDataLink!$A$4:$A$618,MassDataLink!$D$4:$D$618)","v":{"$error":"#N/A"}},{"$f":"LOOKUP(C236,MassDataLink!$A$4:$A$618,MassDataLink!$E$4:$E$618)","v":{"$error":"#N/A"}},{"$f":"LOOKUP(C236,MassDataLink!$A$4:$A$618,MassDataLink!$F$4:$F$618)","v":{"$error":"#N/A"}},null,123,"- - -","- - -"]
[null,124,-1,{"$f":"LOOKUP(C237,MassDataLink!$A$4:$A$618,MassDataLink!$B$4:$B$618)","v":{"$error":"#N/A"}},{"$f":"LOOKUP(C237,MassDataLink!$A$4:$A$618,MassDataLink!$C$4:$C$618)","v":{"$error":"#N/A"}},{"$f":"LOOKUP(C237,MassDataLink!$A$4:$A$618,MassDataLink!$D$4:$D$618)","v":{"$error":"#N/A"}},{"$f":"LOOKUP(C237,MassDataLink!$A$4:$A$618,MassDataLink!$E$4:$E$618)","v":{"$error":"#N/A"}},{"$f":"LOOKUP(C237,MassDataLink!$A$4:$A$618,MassDataLink!$F$4:$F$618)","v":{"$error":"#N/A"}},null,124,"- - -","- - -"]
[null,125,-1,{"$f":"LOOKUP(C238,MassDataLink!$A$4:$A$618,MassDataLink!$B$4:$B$618)","v":{"$error":"#N/A"}},{"$f":"LOOKUP(C238,MassDataLink!$A$4:$A$618,MassDataLink!$C$4:$C$618)","v":{"$error":"#N/A"}},{"$f":"LOOKUP(C238,MassDataLink!$A$4:$A$618,MassDataLink!$D$4:$D$618)","v":{"$error":"#N/A"}},{"$f":"LOOKUP(C238,MassDataLink!$A$4:$A$618,MassDataLink!$E$4:$E$618)","v":{"$error":"#N/A"}},{"$f":"LOOKUP(C238,MassDataLink!$A$4:$A$618,MassDataLink!$F$4:$F$618)","v":{"$error":"#N/A"}},null,125,"- - -","- - -"]
[null,126,-1,{"$f":"LOOKUP(C239,MassDataLink!$A$4:$A$618,MassDataLink!$B$4:$B$618)","v":{"$error":"#N/A"}},{"$f":"LOOKUP(C239,MassDataLink!$A$4:$A$618,MassDataLink!$C$4:$C$618)","v":{"$error":"#N/A"}},{"$f":"LOOKUP(C239,MassDataLink!$A$4:$A$618,MassDataLink!$D$4:$D$618)","v":{"$error":"#N/A"}},{"$f":"LOOKUP(C239,MassDataLink!$A$4:$A$618,MassDataLink!$E$4:$E$618)","v":{"$error":"#N/A"}},{"$f":"LOOKUP(C239,MassDataLink!$A$4:$A$618,MassDataLink!$F$4:$F$618)","v":{"$error":"#N/A"}},null,126,"- - -","- - -"]
[null,127,-1,{"$f":"LOOKUP(C240,MassDataLink!$A$4:$A$618,MassDataLink!$B$4:$B$618)","v":{"$error":"#N/A"}},{"$f":"LOOKUP(C240,MassDataLink!$A$4:$A$618,MassDataLink!$C$4:$C$618)","v":{"$error":"#N/A"}},{"$f":"LOOKUP(C240,MassDataLink!$A$4:$A$618,MassDataLink!$D$4:$D$618)","v":{"$error":"#N/A"}},{"$f":"LOOKUP(C240,MassDataLink!$A$4:$A$618,MassDataLink!$E$4:$E$618)","v":{"$error":"#N/A"}},{"$f":"LOOKUP(C240,MassDataLink!$A$4:$A$618,MassDataLink!$F$4:$F$618)","v":{"$error":"#N/A"}},null,127,"- - -","- - -"]
[null,128,-1,{"$f":"LOOKUP(C241,MassDataLink!$A$4:$A$618,MassDataLink!$B$4:$B$618)","v":{"$error":"#N/A"}},{"$f":"LOOKUP(C241,MassDataLink!$A$4:$A$618,MassDataLink!$C$4:$C$618)","v":{"$error":"#N/A"}},{"$f":"LOOKUP(C241,MassDataLink!$A$4:$A$618,MassDataLink!$D$4:$D$618)","v":{"$error":"#N/A"}},{"$f":"LOOKUP(C241,MassDataLink!$A$4:$A$618,MassDataLink!$E$4:$E$618)","v":{"$error":"#N/A"}},{"$f":"LOOKUP(C241,MassDataLink!$A$4:$A$618,MassDataLink!$F$4:$F$618)","v":{"$error":"#N/A"}},null,128,"- - -","- - -"]
[null,129,-1,{"$f":"LOOKUP(C242,MassDataLink!$A$4:$A$618,MassDataLink!$B$4:$B$618)","v":{"$error":"#N/A"}},{"$f":"LOOKUP(C242,MassDataLink!$A$4:$A$618,MassDataLink!$C$4:$C$618)","v":{"$error":"#N/A"}},{"$f":"LOOKUP(C242,MassDataLink!$A$4:$A$618,MassDataLink!$D$4:$D$618)","v":{"$error":"#N/A"}},{"$f":"LOOKUP(C242,MassDataLink!$A$4:$A$618,MassDataLink!$E$4:$E$618)","v":{"$error":"#N/A"}},{"$f":"LOOKUP(C242,MassDataLink!$A$4:$A$618,MassDataLink!$F$4:$F$618)","v":{"$error":"#N/A"}},null,129,"- - -","- - -"]
[null,130,-1,{"$f":"LOOKUP(C243,MassDataLink!$A$4:$A$618,MassDataLink!$B$4:$B$618)","v":{"$error":"#N/A"}},{"$f":"LOOKUP(C243,MassDataLink!$A$4:$A$618,MassDataLink!$C$4:$C$618)","v":{"$error":"#N/A"}},{"$f":"LOOKUP(C243,MassDataLink!$A$4:$A$618,MassDataLink!$D$4:$D$618)","v":{"$error":"#N/A"}},{"$f":"LOOKUP(C243,MassDataLink!$A$4:$A$618,MassDataLink!$E$4:$E$618)","v":{"$error":"#N/A"}},{"$f":"LOOKUP(C243,MassDataLink!$A$4:$A$618,MassDataLink!$F$4:$F$618)","v":{"$error":"#N/A"}},null,130,"- - -","- - -"]
[null,131,-1,{"$f":"LOOKUP(C244,MassDataLink!$A$4:$A$618,MassDataLink!$B$4:$B$618)","v":{"$error":"#N/A"}},{"$f":"LOOKUP(C244,MassDataLink!$A$4:$A$618,MassDataLink!$C$4:$C$618)","v":{"$error":"#N/A"}},{"$f":"LOOKUP(C244,MassDataLink!$A$4:$A$618,MassDataLink!$D$4:$D$618)","v":{"$error":"#N/A"}},{"$f":"LOOKUP(C244,MassDataLink!$A$4:$A$618,MassDataLink!$E$4:$E$618)","v":{"$error":"#N/A"}},{"$f":"LOOKUP(C244,MassDataLink!$A$4:$A$618,MassDataLink!$F$4:$F$618)","v":{"$error":"#N/A"}},null,131,"- - -","- - -"]
[null,132,-1,{"$f":"LOOKUP(C245,MassDataLink!$A$4:$A$618,MassDataLink!$B$4:$B$618)","v":{"$error":"#N/A"}},{"$f":"LOOKUP(C245,MassDataLink!$A$4:$A$618,MassDataLink!$C$4:$C$618)","v":{"$error":"#N/A"}},{"$f":"LOOKUP(C245,MassDataLink!$A$4:$A$618,MassDataLink!$D$4:$D$618)","v":{"$error":"#N/A"}},{"$f":"LOOKUP(C245,MassDataLink!$A$4:$A$618,MassDataLink!$E$4:$E$618)","v":{"$error":"#N/A"}},{"$f":"LOOKUP(C245,MassDataLink!$A$4:$A$618,MassDataLink!$F$4:$F$618)","v":{"$error":"#N/A"}},null,132,"- - -","- - -"]
[null,133,-1,{"$f":"LOOKUP(C246,MassDataLink!$A$4:$A$618,MassDataLink!$B$4:$B$618)","v":{"$error":"#N/A"}},{"$f":"LOOKUP(C246,MassDataLink!$A$4:$A$618,MassDataLink!$C$4:$C$618)","v":{"$error":"#N/A"}},{"$f":"LOOKUP(C246,MassDataLink!$A$4:$A$618,MassDataLink!$D$4:$D$618)","v":{"$error":"#N/A"}},{"$f":"LOOKUP(C246,MassDataLink!$A$4:$A$618,MassDataLink!$E$4:$E$618)","v":{"$error":"#N/A"}},{"$f":"LOOKUP(C246,MassDataLink!$A$4:$A$618,MassDataLink!$F$4:$F$618)","v":{"$error":"#N/A"}},null,133,"- - -","- - -"]
[null,134,-1,{"$f":"LOOKUP(C247,MassDataLink!$A$4:$A$618,MassDataLink!$B$4:$B$618)","v":{"$error":"#N/A"}},{"$f":"LOOKUP(C247,MassDataLink!$A$4:$A$618,MassDataLink!$C$4:$C$618)","v":{"$error":"#N/A"}},{"$f":"LOOKUP(C247,MassDataLink!$A$4:$A$618,MassDataLink!$D$4:$D$618)","v":{"$error":"#N/A"}},{"$f":"LOOKUP(C247,MassDataLink!$A$4:$A$618,MassDataLink!$E$4:$E$618)","v":{"$error":"#N/A"}},{"$f":"LOOKUP(C247,MassDataLink!$A$4:$A$618,MassDataLink!$F$4:$F$618)","v":{"$error":"#N/A"}},null,134,"- - -","- - -"]
[null,135,-1,{"$f":"LOOKUP(C248,MassDataLink!$A$4:$A$618,MassDataLink!$B$4:$B$618)","v":{"$error":"#N/A"}},{"$f":"LOOKUP(C248,MassDataLink!$A$4:$A$618,MassDataLink!$C$4:$C$618)","v":{"$error":"#N/A"}},{"$f":"LOOKUP(C248,MassDataLink!$A$4:$A$618,MassDataLink!$D$4:$D$618)","v":{"$error":"#N/A"}},{"$f":"LOOKUP(C248,MassDataLink!$A$4:$A$618,MassDataLink!$E$4:$E$618)","v":{"$error":"#N/A"}},{"$f":"LOOKUP(C248,MassDataLink!$A$4:$A$618,MassDataLink!$F$4:$F$618)","v":{"$error":"#N/A"}},null,135,"- - -","- - -"]
[null,136,-1,{"$f":"LOOKUP(C249,MassDataLink!$A$4:$A$618,MassDataLink!$B$4:$B$618)","v":{"$error":"#N/A"}},{"$f":"LOOKUP(C249,MassDataLink!$A$4:$A$618,MassDataLink!$C$4:$C$618)","v":{"$error":"#N/A"}},{"$f":"LOOKUP(C249,MassDataLink!$A$4:$A$618,MassDataLink!$D$4:$D$618)","v":{"$error":"#N/A"}},{"$f":"LOOKUP(C249,MassDataLink!$A$4:$A$618,MassDataLink!$E$4:$E$618)","v":{"$error":"#N/A"}},{"$f":"LOOKUP(C249,MassDataLink!$A$4:$A$618,MassDataLink!$F$4:$F$618)","v":{"$error":"#N/A"}},null,136,"- - -","- - -"]
[null,137,-1,{"$f":"LOOKUP(C250,MassDataLink!$A$4:$A$618,MassDataLink!$B$4:$B$618)","v":{"$error":"#N/A"}},{"$f":"LOOKUP(C250,MassDataLink!$A$4:$A$618,MassDataLink!$C$4:$C$618)","v":{"$error":"#N/A"}},{"$f":"LOOKUP(C250,MassDataLink!$A$4:$A$618,MassDataLink!$D$4:$D$618)","v":{"$error":"#N/A"}},{"$f":"LOOKUP(C250,MassDataLink!$A$4:$A$618,MassDataLink!$E$4:$E$618)","v":{"$error":"#N/A"}},{"$f":"LOOKUP(C250,MassDataLink!$A$4:$A$618,MassDataLink!$F$4:$F$618)","v":{"$error":"#N/A"}},null,137,"- - -","- - -"]
[null,138,-1,{"$f":"LOOKUP(C251,MassDataLink!$A$4:$A$618,MassDataLink!$B$4:$B$618)","v":{"$error":"#N/A"}},{"$f":"LOOKUP(C251,MassDataLink!$A$4:$A$618,MassDataLink!$C$4:$C$618)","v":{"$error":"#N/A"}},{"$f":"LOOKUP(C251,MassDataLink!$A$4:$A$618,MassDataLink!$D$4:$D$618)","v":{"$error":"#N/A"}},{"$f":"LOOKUP(C251,MassDataLink!$A$4:$A$618,MassDataLink!$E$4:$E$618)","v":{"$error":"#N/A"}},{"$f":"LOOKUP(C251,MassDataLink!$A$4:$A$618,MassDataLink!$F$4:$F$618)","v":{"$error":"#N/A"}},null,138,"- - -","- - -"]
[null,139,-1,{"$f":"LOOKUP(C252,MassDataLink!$A$4:$A$618,MassDataLink!$B$4:$B$618)","v":{"$error":"#N/A"}},{"$f":"LOOKUP(C252,MassDataLink!$A$4:$A$618,MassDataLink!$C$4:$C$618)","v":{"$error":"#N/A"}},{"$f":"LOOKUP(C252,MassDataLink!$A$4:$A$618,MassDataLink!$D$4:$D$618)","v":{"$error":"#N/A"}},{"$f":"LOOKUP(C252,MassDataLink!$A$4:$A$618,MassDataLink!$E$4:$E$618)","v":{"$error":"#N/A"}},{"$f":"LOOKUP(C252,MassDataLink!$A$4:$A$618,MassDataLink!$F$4:$F$618)","v":{"$error":"#N/A"}},null,139,"- - -","- - -"]
[null,140,-1,{"$f":"LOOKUP(C253,MassDataLink!$A$4:$A$618,MassDataLink!$B$4:$B$618)","v":{"$error":"#N/A"}},{"$f":"LOOKUP(C253,MassDataLink!$A$4:$A$618,MassDataLink!$C$4:$C$618)","v":{"$error":"#N/A"}},{"$f":"LOOKUP(C253,MassDataLink!$A$4:$A$618,MassDataLink!$D$4:$D$618)","v":{"$error":"#N/A"}},{"$f":"LOOKUP(C253,MassDataLink!$A$4:$A$618,MassDataLink!$E$4:$E$618)","v":{"$error":"#N/A"}},{"$f":"LOOKUP(C253,MassDataLink!$A$4:$A$618,MassDataLink!$F$4:$F$618)","v":{"$error":"#N/A"}},null,140,"- - -","- - -"]
[null,141,-1,{"$f":"LOOKUP(C254,MassDataLink!$A$4:$A$618,MassDataLink!$B$4:$B$618)","v":{"$error":"#N/A"}},{"$f":"LOOKUP(C254,MassDataLink!$A$4:$A$618,MassDataLink!$C$4:$C$618)","v":{"$error":"#N/A"}},{"$f":"LOOKUP(C254,MassDataLink!$A$4:$A$618,MassDataLink!$D$4:$D$618)","v":{"$error":"#N/A"}},{"$f":"LOOKUP(C254,MassDataLink!$A$4:$A$618,MassDataLink!$E$4:$E$618)","v":{"$error":"#N/A"}},{"$f":"LOOKUP(C254,MassDataLink!$A$4:$A$618,MassDataLink!$F$4:$F$618)","v":{"$error":"#N/A"}},null,141,"- - -","- - -"]
[null,142,-1,{"$f":"LOOKUP(C255,MassDataLink!$A$4:$A$618,MassDataLink!$B$4:$B$618)","v":{"$error":"#N/A"}},{"$f":"LOOKUP(C255,MassDataLink!$A$4:$A$618,MassDataLink!$C$4:$C$618)","v":{"$error":"#N/A"}},{"$f":"LOOKUP(C255,MassDataLink!$A$4:$A$618,MassDataLink!$D$4:$D$618)","v":{"$error":"#N/A"}},{"$f":"LOOKUP(C255,MassDataLink!$A$4:$A$618,MassDataLink!$E$4:$E$618)","v":{"$error":"#N/A"}},{"$f":"LOOKUP(C255,MassDataLink!$A$4:$A$618,MassDataLink!$F$4:$F$618)","v":{"$error":"#N/A"}},null,142,"- - -","- - -"]
[null,143,-1,{"$f":"LOOKUP(C256,MassDataLink!$A$4:$A$618,MassDataLink!$B$4:$B$618)","v":{"$error":"#N/A"}},{"$f":"LOOKUP(C256,MassDataLink!$A$4:$A$618,MassDataLink!$C$4:$C$618)","v":{"$error":"#N/A"}},{"$f":"LOOKUP(C256,MassDataLink!$A$4:$A$618,MassDataLink!$D$4:$D$618)","v":{"$error":"#N/A"}},{"$f":"LOOKUP(C256,MassDataLink!$A$4:$A$618,MassDataLink!$E$4:$E$618)","v":{"$error":"#N/A"}},{"$f":"LOOKUP(C256,MassDataLink!$A$4:$A$618,MassDataLink!$F$4:$F$618)","v":{"$error":"#N/A"}},null,143,"- - -","- - -"]
[null,144,-1,{"$f":"LOOKUP(C257,MassDataLink!$A$4:$A$618,MassDataLink!$B$4:$B$618)","v":{"$error":"#N/A"}},{"$f":"LOOKUP(C257,MassDataLink!$A$4:$A$618,MassDataLink!$C$4:$C$618)","v":{"$error":"#N/A"}},{"$f":"LOOKUP(C257,MassDataLink!$A$4:$A$618,MassDataLink!$D$4:$D$618)","v":{"$error":"#N/A"}},{"$f":"LOOKUP(C257,MassDataLink!$A$4:$A$618,MassDataLink!$E$4:$E$618)","v":{"$error":"#N/A"}},{"$f":"LOOKUP(C257,MassDataLink!$A$4:$A$618,MassDataLink!$F$4:$F$618)","v":{"$error":"#N/A"}},null,144,"- - -","- - -"]
[null,145,-1,{"$f":"LOOKUP(C258,MassDataLink!$A$4:$A$618,MassDataLink!$B$4:$B$618)","v":{"$error":"#N/A"}},{"$f":"LOOKUP(C258,MassDataLink!$A$4:$A$618,MassDataLink!$C$4:$C$618)","v":{"$error":"#N/A"}},{"$f":"LOOKUP(C258,MassDataLink!$A$4:$A$618,MassDataLink!$D$4:$D$618)","v":{"$error":"#N/A"}},{"$f":"LOOKUP(C258,MassDataLink!$A$4:$A$618,MassDataLink!$E$4:$E$618)","v":{"$error":"#N/A"}},{"$f":"LOOKUP(C258,MassDataLink!$A$4:$A$618,MassDataLink!$F$4:$F$618)","v":{"$error":"#N/A"}},null,145,"- - -","- - -"]
[null,146,-1,{"$f":"LOOKUP(C259,MassDataLink!$A$4:$A$618,MassDataLink!$B$4:$B$618)","v":{"$error":"#N/A"}},{"$f":"LOOKUP(C259,MassDataLink!$A$4:$A$618,MassDataLink!$C$4:$C$618)","v":{"$error":"#N/A"}},{"$f":"LOOKUP(C259,MassDataLink!$A$4:$A$618,MassDataLink!$D$4:$D$618)","v":{"$error":"#N/A"}},{"$f":"LOOKUP(C259,MassDataLink!$A$4:$A$618,MassDataLink!$E$4:$E$618)","v":{"$error":"#N/A"}},{"$f":"LOOKUP(C259,MassDataLink!$A$4:$A$618,MassDataLink!$F$4:$F$618)","v":{"$error":"#N/A"}},null,146,"- - -","- - -"]
[null,147,-1,{"$f":"LOOKUP(C260,MassDataLink!$A$4:$A$618,MassDataLink!$B$4:$B$618)","v":{"$error":"#N/A"}},{"$f":"LOOKUP(C260,MassDataLink!$A$4:$A$618,MassDataLink!$C$4:$C$618)","v":{"$error":"#N/A"}},{"$f":"LOOKUP(C260,MassDataLink!$A$4:$A$618,MassDataLink!$D$4:$D$618)","v":{"$error":"#N/A"}},{"$f":"LOOKUP(C260,MassDataLink!$A$4:$A$618,MassDataLink!$E$4:$E$618)","v":{"$error":"#N/A"}},{"$f":"LOOKUP(C260,MassDataLink!$A$4:$A$618,MassDataLink!$F$4:$F$618)","v":{"$error":"#N/A"}},null,147,"- - -","- - -"]
[null,148,-1,{"$f":"LOOKUP(C261,MassDataLink!$A$4:$A$618,MassDataLink!$B$4:$B$618)","v":{"$error":"#N/A"}},{"$f":"LOOKUP(C261,MassDataLink!$A$4:$A$618,MassDataLink!$C$4:$C$618)","v":{"$error":"#N/A"}},{"$f":"LOOKUP(C261,MassDataLink!$A$4:$A$618,MassDataLink!$D$4:$D$618)","v":{"$error":"#N/A"}},{"$f":"LOOKUP(C261,MassDataLink!$A$4:$A$618,MassDataLink!$E$4:$E$618)","v":{"$error":"#N/A"}},{"$f":"LOOKUP(C261,MassDataLink!$A$4:$A$618,MassDataLink!$F$4:$F$618)","v":{"$error":"#N/A"}},null,148,"- - -","- - -"]
[null,149,-1,{"$f":"LOOKUP(C262,MassDataLink!$A$4:$A$618,MassDataLink!$B$4:$B$618)","v":{"$error":"#N/A"}},{"$f":"LOOKUP(C262,MassDataLink!$A$4:$A$618,MassDataLink!$C$4:$C$618)","v":{"$error":"#N/A"}},{"$f":"LOOKUP(C262,MassDataLink!$A$4:$A$618,MassDataLink!$D$4:$D$618)","v":{"$error":"#N/A"}},{"$f":"LOOKUP(C262,MassDataLink!$A$4:$A$618,MassDataLink!$E$4:$E$618)","v":{"$error":"#N/A"}},{"$f":"LOOKUP(C262,MassDataLink!$A$4:$A$618,MassDataLink!$F$4:$F$618)","v":{"$error":"#N/A"}},null,149,"- - -","- - -"]
[null,150,-1,{"$f":"LOOKUP(C263,MassDataLink!$A$4:$A$618,MassDataLink!$B$4:$B$618)","v":{"$error":"#N/A"}},{"$f":"LOOKUP(C263,MassDataLink!$A$4:$A$618,MassDataLink!$C$4:$C$618)","v":{"$error":"#N/A"}},{"$f":"LOOKUP(C263,MassDataLink!$A$4:$A$618,MassDataLink!$D$4:$D$618)","v":{"$error":"#N/A"}},{"$f":"LOOKUP(C263,MassDataLink!$A$4:$A$618,MassDataLink!$E$4:$E$618)","v":{"$error":"#N/A"}},{"$f":"LOOKUP(C263,MassDataLink!$A$4:$A$618,MassDataLink!$F$4:$F$618)","v":{"$error":"#N/A"}},null,150,"- - -","- - -"]
[null,151,-1,{"$f":"LOOKUP(C264,MassDataLink!$A$4:$A$618,MassDataLink!$B$4:$B$618)","v":{"$error":"#N/A"}},{"$f":"LOOKUP(C264,MassDataLink!$A$4:$A$618,MassDataLink!$C$4:$C$618)","v":{"$error":"#N/A"}},{"$f":"LOOKUP(C264,MassDataLink!$A$4:$A$618,MassDataLink!$D$4:$D$618)","v":{"$error":"#N/A"}},{"$f":"LOOKUP(C264,MassDataLink!$A$4:$A$618,MassDataLink!$E$4:$E$618)","v":{"$error":"#N/A"}},{"$f":"LOOKUP(C264,MassDataLink!$A$4:$A$618,MassDataLink!$F$4:$F$618)","v":{"$error":"#N/A"}},null,151,"- - -","- - -"]
[null,152,-1,{"$f":"LOOKUP(C265,MassDataLink!$A$4:$A$618,MassDataLink!$B$4:$B$618)","v":{"$error":"#N/A"}},{"$f":"LOOKUP(C265,MassDataLink!$A$4:$A$618,MassDataLink!$C$4:$C$618)","v":{"$error":"#N/A"}},{"$f":"LOOKUP(C265,MassDataLink!$A$4:$A$618,MassDataLink!$D$4:$D$618)","v":{"$error":"#N/A"}},{"$f":"LOOKUP(C265,MassDataLink!$A$4:$A$618,MassDataLink!$E$4:$E$618)","v":{"$error":"#N/A"}},{"$f":"LOOKUP(C265,MassDataLink!$A$4:$A$618,MassDataLink!$F$4:$F$618)","v":{"$error":"#N/A"}},null,152,"- - -","- - -"]
[null,153,-1,{"$f":"LOOKUP(C266,MassDataLink!$A$4:$A$618,MassDataLink!$B$4:$B$618)","v":{"$error":"#N/A"}},{"$f":"LOOKUP(C266,MassDataLink!$A$4:$A$618,MassDataLink!$C$4:$C$618)","v":{"$error":"#N/A"}},{"$f":"LOOKUP(C266,MassDataLink!$A$4:$A$618,MassDataLink!$D$4:$D$618)","v":{"$error":"#N/A"}},{"$f":"LOOKUP(C266,MassDataLink!$A$4:$A$618,MassDataLink!$E$4:$E$618)","v":{"$error":"#N/A"}},{"$f":"LOOKUP(C266,MassDataLink!$A$4:$A$618,MassDataLink!$F$4:$F$618)","v":{"$error":"#N/A"}},null,153,"- - -","- - -"]
[null,154,-1,{"$f":"LOOKUP(C267,MassDataLink!$A$4:$A$618,MassDataLink!$B$4:$B$618)","v":{"$error":"#N/A"}},{"$f":"LOOKUP(C267,MassDataLink!$A$4:$A$618,MassDataLink!$C$4:$C$618)","v":{"$error":"#N/A"}},{"$f":"LOOKUP(C267,MassDataLink!$A$4:$A$618,MassDataLink!$D$4:$D$618)","v":{"$error":"#N/A"}},{"$f":"LOOKUP(C267,MassDataLink!$A$4:$A$618,MassDataLink!$E$4:$E$618)","v":{"$error":"#N/A"}},{"$f":"LOOKUP(C267,MassDataLink!$A$4:$A$618,MassDataLink!$F$4:$F$618)","v":{"$error":"#N/A"}},null,154,"- - -","- - -"]
[null,155,-1,{"$f":"LOOKUP(C268,MassDataLink!$A$4:$A$618,MassDataLink!$B$4:$B$618)","v":{"$error":"#N/A"}},{"$f":"LOOKUP(C268,MassDataLink!$A$4:$A$618,MassDataLink!$C$4:$C$618)","v":{"$error":"#N/A"}},{"$f":"LOOKUP(C268,MassDataLink!$A$4:$A$618,MassDataLink!$D$4:$D$618)","v":{"$error":"#N/A"}},{"$f":"LOOKUP(C268,MassDataLink!$A$4:$A$618,MassDataLink!$E$4:$E$618)","v":{"$error":"#N/A"}},{"$f":"LOOKUP(C268,MassDataLink!$A$4:$A$618,MassDataLink!$F$4:$F$618)","v":{"$error":"#N/A"}},null,155,"- - -","- - -"]
[null,156,-1,{"$f":"LOOKUP(C269,MassDataLink!$A$4:$A$618,MassDataLink!$B$4:$B$618)","v":{"$error":"#N/A"}},{"$f":"LOOKUP(C269,MassDataLink!$A$4:$A$618,MassDataLink!$C$4:$C$618)","v":{"$error":"#N/A"}},{"$f":"LOOKUP(C269,MassDataLink!$A$4:$A$618,MassDataLink!$D$4:$D$618)","v":{"$error":"#N/A"}},{"$f":"LOOKUP(C269,MassDataLink!$A$4:$A$618,MassDataLink!$E$4:$E$618)","v":{"$error":"#N/A"}},{"$f":"LOOKUP(C269,MassDataLink!$A$4:$A$618,MassDataLink!$F$4:$F$618)","v":{"$error":"#N/A"}},null,156,"- - -","- - -"]
[null,157,-1,{"$f":"LOOKUP(C270,MassDataLink!$A$4:$A$618,MassDataLink!$B$4:$B$618)","v":{"$error":"#N/A"}},{"$f":"LOOKUP(C270,MassDataLink!$A$4:$A$618,MassDataLink!$C$4:$C$618)","v":{"$error":"#N/A"}},{"$f":"LOOKUP(C270,MassDataLink!$A$4:$A$618,MassDataLink!$D$4:$D$618)","v":{"$error":"#N/A"}},{"$f":"LOOKUP(C270,MassDataLink!$A$4:$A$618,MassDataLink!$E$4:$E$618)","v":{"$error":"#N/A"}},{"$f":"LOOKUP(C270,MassDataLink!$A$4:$A$618,MassDataLink!$F$4:$F$618)","v":{"$error":"#N/A"}},null,157,"- - -","- - -"]
[null,158,-1,{"$f":"LOOKUP(C271,MassDataLink!$A$4:$A$618,MassDataLink!$B$4:$B$618)","v":{"$error":"#N/A"}},{"$f":"LOOKUP(C271,MassDataLink!$A$4:$A$618,MassDataLink!$C$4:$C$618)","v":{"$error":"#N/A"}},{"$f":"LOOKUP(C271,MassDataLink!$A$4:$A$618,MassDataLink!$D$4:$D$618)","v":{"$error":"#N/A"}},{"$f":"LOOKUP(C271,MassDataLink!$A$4:$A$618,MassDataLink!$E$4:$E$618)","v":{"$error":"#N/A"}},{"$f":"LOOKUP(C271,MassDataLink!$A$4:$A$618,MassDataLink!$F$4:$F$618)","v":{"$error":"#N/A"}},null,158,"- - -","- - -"]
[null,159,-1,{"$f":"LOOKUP(C272,MassDataLink!$A$4:$A$618,MassDataLink!$B$4:$B$618)","v":{"$error":"#N/A"}},{"$f":"LOOKUP(C272,MassDataLink!$A$4:$A$618,MassDataLink!$C$4:$C$618)","v":{"$error":"#N/A"}},{"$f":"LOOKUP(C272,MassDataLink!$A$4:$A$618,MassDataLink!$D$4:$D$618)","v":{"$error":"#N/A"}},{"$f":"LOOKUP(C272,MassDataLink!$A$4:$A$618,MassDataLink!$E$4:$E$618)","v":{"$error":"#N/A"}},{"$f":"LOOKUP(C272,MassDataLink!$A$4:$A$618,MassDataLink!$F$4:$F$618)","v":{"$error":"#N/A"}},null,159,"- - -","- - -"]
[null,160,-1,{"$f":"LOOKUP(C273,MassDataLink!$A$4:$A$618,MassDataLink!$B$4:$B$618)","v":{"$error":"#N/A"}},{"$f":"LOOKUP(C273,MassDataLink!$A$4:$A$618,MassDataLink!$C$4:$C$618)","v":{"$error":"#N/A"}},{"$f":"LOOKUP(C273,MassDataLink!$A$4:$A$618,MassDataLink!$D$4:$D$618)","v":{"$error":"#N/A"}},{"$f":"LOOKUP(C273,MassDataLink!$A$4:$A$618,MassDataLink!$E$4:$E$618)","v":{"$error":"#N/A"}},{"$f":"LOOKUP(C273,MassDataLink!$A$4:$A$618,MassDataLink!$F$4:$F$618)","v":{"$error":"#N/A"}},null,160,"- - -","- - -"]
[null,161,-1,{"$f":"LOOKUP(C274,MassDataLink!$A$4:$A$618,MassDataLink!$B$4:$B$618)","v":{"$error":"#N/A"}},{"$f":"LOOKUP(C274,MassDataLink!$A$4:$A$618,MassDataLink!$C$4:$C$618)","v":{"$error":"#N/A"}},{"$f":"LOOKUP(C274,MassDataLink!$A$4:$A$618,MassDataLink!$D$4:$D$618)","v":{"$error":"#N/A"}},{"$f":"LOOKUP(C274,MassDataLink!$A$4:$A$618,MassDataLink!$E$4:$E$618)","v":{"$error":"#N/A"}},{"$f":"LOOKUP(C274,MassDataLink!$A$4:$A$618,MassDataLink!$F$4:$F$618)","v":{"$error":"#N/A"}},null,161,"- - -","- - -"]
[null,162,-1,{"$f":"LOOKUP(C275,MassDataLink!$A$4:$A$618,MassDataLink!$B$4:$B$618)","v":{"$error":"#N/A"}},{"$f":"LOOKUP(C275,MassDataLink!$A$4:$A$618,MassDataLink!$C$4:$C$618)","v":{"$error":"#N/A"}},{"$f":"LOOKUP(C275,MassDataLink!$A$4:$A$618,MassDataLink!$D$4:$D$618)","v":{"$error":"#N/A"}},{"$f":"LOOKUP(C275,MassDataLink!$A$4:$A$618,MassDataLink!$E$4:$E$618)","v":{"$error":"#N/A"}},{"$f":"LOOKUP(C275,MassDataLink!$A$4:$A$618,MassDataLink!$F$4:$F$618)","v":{"$error":"#N/A"}},null,162,"- - -","- - -"]
[null,163,-1,{"$f":"LOOKUP(C276,MassDataLink!$A$4:$A$618,MassDataLink!$B$4:$B$618)","v":{"$error":"#N/A"}},{"$f":"LOOKUP(C276,MassDataLink!$A$4:$A$618,MassDataLink!$C$4:$C$618)","v":{"$error":"#N/A"}},{"$f":"LOOKUP(C276,MassDataLink!$A$4:$A$618,MassDataLink!$D$4:$D$618)","v":{"$error":"#N/A"}},{"$f":"LOOKUP(C276,MassDataLink!$A$4:$A$618,MassDataLink!$E$4:$E$618)","v":{"$error":"#N/A"}},{"$f":"LOOKUP(C276,MassDataLink!$A$4:$A$618,MassDataLink!$F$4:$F$618)","v":{"$error":"#N/A"}},null,163,"- - -","- - -"]
[null,164,-1,{"$f":"LOOKUP(C277,MassDataLink!$A$4:$A$618,MassDataLink!$B$4:$B$618)","v":{"$error":"#N/A"}},{"$f":"LOOKUP(C277,MassDataLink!$A$4:$A$618,MassDataLink!$C$4:$C$618)","v":{"$error":"#N/A"}},{"$f":"LOOKUP(C277,MassDataLink!$A$4:$A$618,MassDataLink!$D$4:$D$618)","v":{"$error":"#N/A"}},{"$f":"LOOKUP(C277,MassDataLink!$A$4:$A$618,MassDataLink!$E$4:$E$618)","v":{"$error":"#N/A"}},{"$f":"LOOKUP(C277,MassDataLink!$A$4:$A$618,MassDataLink!$F$4:$F$618)","v":{"$error":"#N/A"}},null,164,"- - -","- - -"]
[null,165,-1,{"$f":"LOOKUP(C278,MassDataLink!$A$4:$A$618,MassDataLink!$B$4:$B$618)","v":{"$error":"#N/A"}},{"$f":"LOOKUP(C278,MassDataLink!$A$4:$A$618,MassDataLink!$C$4:$C$618)","v":{"$error":"#N/A"}},{"$f":"LOOKUP(C278,MassDataLink!$A$4:$A$618,MassDataLink!$D$4:$D$618)","v":{"$error":"#N/A"}},{"$f":"LOOKUP(C278,MassDataLink!$A$4:$A$618,MassDataLink!$E$4:$E$618)","v":{"$error":"#N/A"}},{"$f":"LOOKUP(C278,MassDataLink!$A$4:$A$618,MassDataLink!$F$4:$F$618)","v":{"$error":"#N/A"}},null,165,"- - -","- - -"]
[null,166,-1,{"$f":"LOOKUP(C279,MassDataLink!$A$4:$A$618,MassDataLink!$B$4:$B$618)","v":{"$error":"#N/A"}},{"$f":"LOOKUP(C279,MassDataLink!$A$4:$A$618,MassDataLink!$C$4:$C$618)","v":{"$error":"#N/A"}},{"$f":"LOOKUP(C279,MassDataLink!$A$4:$A$618,MassDataLink!$D$4:$D$618)","v":{"$error":"#N/A"}},{"$f":"LOOKUP(C279,MassDataLink!$A$4:$A$618,MassDataLink!$E$4:$E$618)","v":{"$error":"#N/A"}},{"$f":"LOOKUP(C279,MassDataLink!$A$4:$A$618,MassDataLink!$F$4:$F$618)","v":{"$error":"#N/A"}},null,166,"- - -","- - -"]
[null,167,-1,{"$f":"LOOKUP(C280,MassDataLink!$A$4:$A$618,MassDataLink!$B$4:$B$618)","v":{"$error":"#N/A"}},{"$f":"LOOKUP(C280,MassDataLink!$A$4:$A$618,MassDataLink!$C$4:$C$618)","v":{"$error":"#N/A"}},{"$f":"LOOKUP(C280,MassDataLink!$A$4:$A$618,MassDataLink!$D$4:$D$618)","v":{"$error":"#N/A"}},{"$f":"LOOKUP(C280,MassDataLink!$A$4:$A$618,MassDataLink!$E$4:$E$618)","v":{"$error":"#N/A"}},{"$f":"LOOKUP(C280,MassDataLink!$A$4:$A$618,MassDataLink!$F$4:$F$618)","v":{"$error":"#N/A"}},null,167,"- - -","- - -"]
[null,168,-1,{"$f":"LOOKUP(C281,MassDataLink!$A$4:$A$618,MassDataLink!$B$4:$B$618)","v":{"$error":"#N/A"}},{"$f":"LOOKUP(C281,MassDataLink!$A$4:$A$618,MassDataLink!$C$4:$C$618)","v":{"$error":"#N/A"}},{"$f":"LOOKUP(C281,MassDataLink!$A$4:$A$618,MassDataLink!$D$4:$D$618)","v":{"$error":"#N/A"}},{"$f":"LOOKUP(C281,MassDataLink!$A$4:$A$618,MassDataLink!$E$4:$E$618)","v":{"$error":"#N/A"}},{"$f":"LOOKUP(C281,MassDataLink!$A$4:$A$618,MassDataLink!$F$4:$F$618)","v":{"$error":"#N/A"}},null,168,"- - -","- - -"]
[null,169,-1,{"$f":"LOOKUP(C282,MassDataLink!$A$4:$A$618,MassDataLink!$B$4:$B$618)","v":{"$error":"#N/A"}},{"$f":"LOOKUP(C282,MassDataLink!$A$4:$A$618,MassDataLink!$C$4:$C$618)","v":{"$error":"#N/A"}},{"$f":"LOOKUP(C282,MassDataLink!$A$4:$A$618,MassDataLink!$D$4:$D$618)","v":{"$error":"#N/A"}},{"$f":"LOOKUP(C282,MassDataLink!$A$4:$A$618,MassDataLink!$E$4:$E$618)","v":{"$error":"#N/A"}},{"$f":"LOOKUP(C282,MassDataLink!$A$4:$A$618,MassDataLink!$F$4:$F$618)","v":{"$error":"#N/A"}},null,169,"- - -","- - -"]
[null,170,-1,{"$f":"LOOKUP(C283,MassDataLink!$A$4:$A$618,MassDataLink!$B$4:$B$618)","v":{"$error":"#N/A"}},{"$f":"LOOKUP(C283,MassDataLink!$A$4:$A$618,MassDataLink!$C$4:$C$618)","v":{"$error":"#N/A"}},{"$f":"LOOKUP(C283,MassDataLink!$A$4:$A$618,MassDataLink!$D$4:$D$618)","v":{"$error":"#N/A"}},{"$f":"LOOKUP(C283,MassDataLink!$A$4:$A$618,MassDataLink!$E$4:$E$618)","v":{"$error":"#N/A"}},{"$f":"LOOKUP(C283,MassDataLink!$A$4:$A$618,MassDataLink!$F$4:$F$618)","v":{"$error":"#N/A"}},null,170,"- - -","- - -"]
[null,171,-1,{"$f":"LOOKUP(C284,MassDataLink!$A$4:$A$618,MassDataLink!$B$4:$B$618)","v":{"$error":"#N/A"}},{"$f":"LOOKUP(C284,MassDataLink!$A$4:$A$618,MassDataLink!$C$4:$C$618)","v":{"$error":"#N/A"}},{"$f":"LOOKUP(C284,MassDataLink!$A$4:$A$618,MassDataLink!$D$4:$D$618)","v":{"$error":"#N/A"}},{"$f":"LOOKUP(C284,MassDataLink!$A$4:$A$618,MassDataLink!$E$4:$E$618)","v":{"$error":"#N/A"}},{"$f":"LOOKUP(C284,MassDataLink!$A$4:$A$618,MassDataLink!$F$4:$F$618)","v":{"$error":"#N/A"}},null,171,"- - -","- - -"]
[null,172,-1,{"$f":"LOOKUP(C285,MassDataLink!$A$4:$A$618,MassDataLink!$B$4:$B$618)","v":{"$error":"#N/A"}},{"$f":"LOOKUP(C285,MassDataLink!$A$4:$A$618,MassDataLink!$C$4:$C$618)","v":{"$error":"#N/A"}},{"$f":"LOOKUP(C285,MassDataLink!$A$4:$A$618,MassDataLink!$D$4:$D$618)","v":{"$error":"#N/A"}},{"$f":"LOOKUP(C285,MassDataLink!$A$4:$A$618,MassDataLink!$E$4:$E$618)","v":{"$error":"#N/A"}},{"$f":"LOOKUP(C285,MassDataLink!$A$4:$A$618,MassDataLink!$F$4:$F$618)","v":{"$error":"#N/A"}},null,172,"- - -","- - -"]
[null,173,-1,{"$f":"LOOKUP(C286,MassDataLink!$A$4:$A$618,MassDataLink!$B$4:$B$618)","v":{"$error":"#N/A"}},{"$f":"LOOKUP(C286,MassDataLink!$A$4:$A$618,MassDataLink!$C$4:$C$618)","v":{"$error":"#N/A"}},{"$f":"LOOKUP(C286,MassDataLink!$A$4:$A$618,MassDataLink!$D$4:$D$618)","v":{"$error":"#N/A"}},{"$f":"LOOKUP(C286,MassDataLink!$A$4:$A$618,MassDataLink!$E$4:$E$618)","v":{"$error":"#N/A"}},{"$f":"LOOKUP(C286,MassDataLink!$A$4:$A$618,MassDataLink!$F$4:$F$618)","v":{"$error":"#N/A"}},null,173,"- - -","- - -"]
[null,174,-1,{"$f":"LOOKUP(C287,MassDataLink!$A$4:$A$618,MassDataLink!$B$4:$B$618)","v":{"$error":"#N/A"}},{"$f":"LOOKUP(C287,MassDataLink!$A$4:$A$618,MassDataLink!$C$4:$C$618)","v":{"$error":"#N/A"}},{"$f":"LOOKUP(C287,MassDataLink!$A$4:$A$618,MassDataLink!$D$4:$D$618)","v":{"$error":"#N/A"}},{"$f":"LOOKUP(C287,MassDataLink!$A$4:$A$618,MassDataLink!$E$4:$E$618)","v":{"$error":"#N/A"}},{"$f":"LOOKUP(C287,MassDataLink!$A$4:$A$618,MassDataLink!$F$4:$F$618)","v":{"$error":"#N/A"}},null,174,"- - -","- - -"]
[null,175,-1,{"$f":"LOOKUP(C288,MassDataLink!$A$4:$A$618,MassDataLink!$B$4:$B$618)","v":{"$error":"#N/A"}},{"$f":"LOOKUP(C288,MassDataLink!$A$4:$A$618,MassDataLink!$C$4:$C$618)","v":{"$error":"#N/A"}},{"$f":"LOOKUP(C288,MassDataLink!$A$4:$A$618,MassDataLink!$D$4:$D$618)","v":{"$error":"#N/A"}},{"$f":"LOOKUP(C288,MassDataLink!$A$4:$A$618,MassDataLink!$E$4:$E$618)","v":{"$error":"#N/A"}},{"$f":"LOOKUP(C288,MassDataLink!$A$4:$A$618,MassDataLink!$F$4:$F$618)","v":{"$error":"#N/A"}},null,175,"- - -","- - -"]
[null,176,-1,{"$f":"LOOKUP(C289,MassDataLink!$A$4:$A$618,MassDataLink!$B$4:$B$618)","v":{"$error":"#N/A"}},{"$f":"LOOKUP(C289,MassDataLink!$A$4:$A$618,MassDataLink!$C$4:$C$618)","v":{"$error":"#N/A"}},{"$f":"LOOKUP(C289,MassDataLink!$A$4:$A$618,MassDataLink!$D$4:$D$618)","v":{"$error":"#N/A"}},{"$f":"LOOKUP(C289,MassDataLink!$A$4:$A$618,MassDataLink!$E$4:$E$618)","v":{"$error":"#N/A"}},{"$f":"LOOKUP(C289,MassDataLink!$A$4:$A$618,MassDataLink!$F$4:$F$618)","v":{"$error":"#N/A"}},null,176,"- - -","- - -"]
[null,177,-1,{"$f":"LOOKUP(C290,MassDataLink!$A$4:$A$618,MassDataLink!$B$4:$B$618)","v":{"$error":"#N/A"}},{"$f":"LOOKUP(C290,MassDataLink!$A$4:$A$618,MassDataLink!$C$4:$C$618)","v":{"$error":"#N/A"}},{"$f":"LOOKUP(C290,MassDataLink!$A$4:$A$618,MassDataLink!$D$4:$D$618)","v":{"$error":"#N/A"}},{"$f":"LOOKUP(C290,MassDataLink!$A$4:$A$618,MassDataLink!$E$4:$E$618)","v":{"$error":"#N/A"}},{"$f":"LOOKUP(C290,MassDataLink!$A$4:$A$618,MassDataLink!$F$4:$F$618)","v":{"$error":"#N/A"}},null,177,"- - -","- - -"]
[null,178,-1,{"$f":"LOOKUP(C291,MassDataLink!$A$4:$A$618,MassDataLink!$B$4:$B$618)","v":{"$error":"#N/A"}},{"$f":"LOOKUP(C291,MassDataLink!$A$4:$A$618,MassDataLink!$C$4:$C$618)","v":{"$error":"#N/A"}},{"$f":"LOOKUP(C291,MassDataLink!$A$4:$A$618,MassDataLink!$D$4:$D$618)","v":{"$error":"#N/A"}},{"$f":"LOOKUP(C291,MassDataLink!$A$4:$A$618,MassDataLink!$E$4:$E$618)","v":{"$error":"#N/A"}},{"$f":"LOOKUP(C291,MassDataLink!$A$4:$A$618,MassDataLink!$F$4:$F$618)","v":{"$error":"#N/A"}},null,178,"- - -","- - -"]
[null,{"$f":"B291+1","v":179},{"$f":"IF(C291=-1,-1,H291)","v":-1},{"$f":"LOOKUP(C292,MassDataLink!$A$4:$A$618,MassDataLink!$B$4:$B$618)","v":{"$error":"#N/A"}},{"$f":"LOOKUP(C292,MassDataLink!$A$4:$A$618,MassDataLink!$C$4:$C$618)","v":{"$error":"#N/A"}},{"$f":"LOOKUP(C292,MassDataLink!$A$4:$A$618,MassDataLink!$D$4:$D$618)","v":{"$error":"#N/A"}},{"$f":"LOOKUP(C292,MassDataLink!$A$4:$A$618,MassDataLink!$E$4:$E$618)","v":{"$error":"#N/A"}},{"$f":"LOOKUP(C292,MassDataLink!$A$4:$A$618,MassDataLink!$F$4:$F$618)","v":{"$error":"#N/A"}},null,{"$f":"J291+1","v":179},{"$f":"IF(C292=-1,$L$112,IF($A$11=D292,ROUND((E292*$P$57),$R$57),$L$112))","v":"- - -"},{"$f":"IF(K292=$L$112,$L$112,F292)","v":"- - -"}]
[null,180,-1,{"$f":"LOOKUP(C293,MassDataLink!$A$4:$A$618,MassDataLink!$B$4:$B$618)","v":{"$error":"#N/A"}},{"$f":"LOOKUP(C293,MassDataLink!$A$4:$A$618,MassDataLink!$C$4:$C$618)","v":{"$error":"#N/A"}},{"$f":"LOOKUP(C293,MassDataLink!$A$4:$A$618,MassDataLink!$D$4:$D$618)","v":{"$error":"#N/A"}},{"$f":"LOOKUP(C293,MassDataLink!$A$4:$A$618,MassDataLink!$E$4:$E$618)","v":{"$error":"#N/A"}},{"$f":"LOOKUP(C293,MassDataLink!$A$4:$A$618,MassDataLink!$F$4:$F$618)","v":{"$error":"#N/A"}},null,180,"- - -","- - -"]
[null,181,-1,{"$f":"LOOKUP(C294,MassDataLink!$A$4:$A$618,MassDataLink!$B$4:$B$618)","v":{"$error":"#N/A"}},{"$f":"LOOKUP(C294,MassDataLink!$A$4:$A$618,MassDataLink!$C$4:$C$618)","v":{"$error":"#N/A"}},{"$f":"LOOKUP(C294,MassDataLink!$A$4:$A$618,MassDataLink!$D$4:$D$618)","v":{"$error":"#N/A"}},{"$f":"LOOKUP(C294,MassDataLink!$A$4:$A$618,MassDataLink!$E$4:$E$618)","v":{"$error":"#N/A"}},{"$f":"LOOKUP(C294,MassDataLink!$A$4:$A$618,MassDataLink!$F$4:$F$618)","v":{"$error":"#N/A"}},null,181,"- - -","- - -"]
[null,182,-1,{"$f":"LOOKUP(C295,MassDataLink!$A$4:$A$618,MassDataLink!$B$4:$B$618)","v":{"$error":"#N/A"}},{"$f":"LOOKUP(C295,MassDataLink!$A$4:$A$618,MassDataLink!$C$4:$C$618)","v":{"$error":"#N/A"}},{"$f":"LOOKUP(C295,MassDataLink!$A$4:$A$618,MassDataLink!$D$4:$D$618)","v":{"$error":"#N/A"}},{"$f":"LOOKUP(C295,MassDataLink!$A$4:$A$618,MassDataLink!$E$4:$E$618)","v":{"$error":"#N/A"}},{"$f":"LOOKUP(C295,MassDataLink!$A$4:$A$618,MassDataLink!$F$4:$F$618)","v":{"$error":"#N/A"}},null,182,"- - -","- - -"]
[null,183,-1,{"$f":"LOOKUP(C296,MassDataLink!$A$4:$A$618,MassDataLink!$B$4:$B$618)","v":{"$error":"#N/A"}},{"$f":"LOOKUP(C296,MassDataLink!$A$4:$A$618,MassDataLink!$C$4:$C$618)","v":{"$error":"#N/A"}},{"$f":"LOOKUP(C296,MassDataLink!$A$4:$A$618,MassDataLink!$D$4:$D$618)","v":{"$error":"#N/A"}},{"$f":"LOOKUP(C296,MassDataLink!$A$4:$A$618,MassDataLink!$E$4:$E$618)","v":{"$error":"#N/A"}},{"$f":"LOOKUP(C296,MassDataLink!$A$4:$A$618,MassDataLink!$F$4:$F$618)","v":{"$error":"#N/A"}},null,183,"- - -","- - -"]
[null,184,-1,{"$f":"LOOKUP(C297,MassDataLink!$A$4:$A$618,MassDataLink!$B$4:$B$618)","v":{"$error":"#N/A"}},{"$f":"LOOKUP(C297,MassDataLink!$A$4:$A$618,MassDataLink!$C$4:$C$618)","v":{"$error":"#N/A"}},{"$f":"LOOKUP(C297,MassDataLink!$A$4:$A$618,MassDataLink!$D$4:$D$618)","v":{"$error":"#N/A"}},{"$f":"LOOKUP(C297,MassDataLink!$A$4:$A$618,MassDataLink!$E$4:$E$618)","v":{"$error":"#N/A"}},{"$f":"LOOKUP(C297,MassDataLink!$A$4:$A$618,MassDataLink!$F$4:$F$618)","v":{"$error":"#N/A"}},null,184,"- - -","- - -"]
[null,185,-1,{"$f":"LOOKUP(C298,MassDataLink!$A$4:$A$618,MassDataLink!$B$4:$B$618)","v":{"$error":"#N/A"}},{"$f":"LOOKUP(C298,MassDataLink!$A$4:$A$618,MassDataLink!$C$4:$C$618)","v":{"$error":"#N/A"}},{"$f":"LOOKUP(C298,MassDataLink!$A$4:$A$618,MassDataLink!$D$4:$D$618)","v":{"$error":"#N/A"}},{"$f":"LOOKUP(C298,MassDataLink!$A$4:$A$618,MassDataLink!$E$4:$E$618)","v":{"$error":"#N/A"}},{"$f":"LOOKUP(C298,MassDataLink!$A$4:$A$618,MassDataLink!$F$4:$F$618)","v":{"$error":"#N/A"}},null,185,"- - -","- - -"]
[null,186,-1,{"$f":"LOOKUP(C299,MassDataLink!$A$4:$A$618,MassDataLink!$B$4:$B$618)","v":{"$error":"#N/A"}},{"$f":"LOOKUP(C299,MassDataLink!$A$4:$A$618,MassDataLink!$C$4:$C$618)","v":{"$error":"#N/A"}},{"$f":"LOOKUP(C299,MassDataLink!$A$4:$A$618,MassDataLink!$D$4:$D$618)","v":{"$error":"#N/A"}},{"$f":"LOOKUP(C299,MassDataLink!$A$4:$A$618,MassDataLink!$E$4:$E$618)","v":{"$error":"#N/A"}},{"$f":"LOOKUP(C299,MassDataLink!$A$4:$A$618,MassDataLink!$F$4:$F$618)","v":{"$error":"#N/A"}},null,186,"- - -","- - -"]
[null,187,-1,{"$f":"LOOKUP(C300,MassDataLink!$A$4:$A$618,MassDataLink!$B$4:$B$618)","v":{"$error":"#N/A"}},{"$f":"LOOKUP(C300,MassDataLink!$A$4:$A$618,MassDataLink!$C$4:$C$618)","v":{"$error":"#N/A"}},{"$f":"LOOKUP(C300,MassDataLink!$A$4:$A$618,MassDataLink!$D$4:$D$618)","v":{"$error":"#N/A"}},{"$f":"LOOKUP(C300,MassDataLink!$A$4:$A$618,MassDataLink!$E$4:$E$618)","v":{"$error":"#N/A"}},{"$f":"LOOKUP(C300,MassDataLink!$A$4:$A$618,MassDataLink!$F$4:$F$618)","v":{"$error":"#N/A"}},null,187,"- - -","- - -"]
[null,188,-1,{"$f":"LOOKUP(C301,MassDataLink!$A$4:$A$618,MassDataLink!$B$4:$B$618)","v":{"$error":"#N/A"}},{"$f":"LOOKUP(C301,MassDataLink!$A$4:$A$618,MassDataLink!$C$4:$C$618)","v":{"$error":"#N/A"}},{"$f":"LOOKUP(C301,MassDataLink!$A$4:$A$618,MassDataLink!$D$4:$D$618)","v":{"$error":"#N/A"}},{"$f":"LOOKUP(C301,MassDataLink!$A$4:$A$618,MassDataLink!$E$4:$E$618)","v":{"$error":"#N/A"}},{"$f":"LOOKUP(C301,MassDataLink!$A$4:$A$618,MassDataLink!$F$4:$F$618)","v":{"$error":"#N/A"}},null,188,"- - -","- - -"]
[null,189,-1,{"$f":"LOOKUP(C302,MassDataLink!$A$4:$A$618,MassDataLink!$B$4:$B$618)","v":{"$error":"#N/A"}},{"$f":"LOOKUP(C302,MassDataLink!$A$4:$A$618,MassDataLink!$C$4:$C$618)","v":{"$error":"#N/A"}},{"$f":"LOOKUP(C302,MassDataLink!$A$4:$A$618,MassDataLink!$D$4:$D$618)","v":{"$error":"#N/A"}},{"$f":"LOOKUP(C302,MassDataLink!$A$4:$A$618,MassDataLink!$E$4:$E$618)","v":{"$error":"#N/A"}},{"$f":"LOOKUP(C302,MassDataLink!$A$4:$A$618,MassDataLink!$F$4:$F$618)","v":{"$error":"#N/A"}},null,189,"- - -","- - -"]
[null,190,-1,{"$f":"LOOKUP(C303,MassDataLink!$A$4:$A$618,MassDataLink!$B$4:$B$618)","v":{"$error":"#N/A"}},{"$f":"LOOKUP(C303,MassDataLink!$A$4:$A$618,MassDataLink!$C$4:$C$618)","v":{"$error":"#N/A"}},{"$f":"LOOKUP(C303,MassDataLink!$A$4:$A$618,MassDataLink!$D$4:$D$618)","v":{"$error":"#N/A"}},{"$f":"LOOKUP(C303,MassDataLink!$A$4:$A$618,MassDataLink!$E$4:$E$618)","v":{"$error":"#N/A"}},{"$f":"LOOKUP(C303,MassDataLink!$A$4:$A$618,MassDataLink!$F$4:$F$618)","v":{"$error":"#N/A"}},null,190,"- - -","- - -"]
[null,191,-1,{"$f":"LOOKUP(C304,MassDataLink!$A$4:$A$618,MassDataLink!$B$4:$B$618)","v":{"$error":"#N/A"}},{"$f":"LOOKUP(C304,MassDataLink!$A$4:$A$618,MassDataLink!$C$4:$C$618)","v":{"$error":"#N/A"}},{"$f":"LOOKUP(C304,MassDataLink!$A$4:$A$618,MassDataLink!$D$4:$D$618)","v":{"$error":"#N/A"}},{"$f":"LOOKUP(C304,MassDataLink!$A$4:$A$618,MassDataLink!$E$4:$E$618)","v":{"$error":"#N/A"}},{"$f":"LOOKUP(C304,MassDataLink!$A$4:$A$618,MassDataLink!$F$4:$F$618)","v":{"$error":"#N/A"}},null,191,"- - -","- - -"]
[null,192,-1,{"$f":"LOOKUP(C305,MassDataLink!$A$4:$A$618,MassDataLink!$B$4:$B$618)","v":{"$error":"#N/A"}},{"$f":"LOOKUP(C305,MassDataLink!$A$4:$A$618,MassDataLink!$C$4:$C$618)","v":{"$error":"#N/A"}},{"$f":"LOOKUP(C305,MassDataLink!$A$4:$A$618,MassDataLink!$D$4:$D$618)","v":{"$error":"#N/A"}},{"$f":"LOOKUP(C305,MassDataLink!$A$4:$A$618,MassDataLink!$E$4:$E$618)","v":{"$error":"#N/A"}},{"$f":"LOOKUP(C305,MassDataLink!$A$4:$A$618,MassDataLink!$F$4:$F$618)","v":{"$error":"#N/A"}},null,192,"- - -","- - -"]
[null,193,-1,{"$f":"LOOKUP(C306,MassDataLink!$A$4:$A$618,MassDataLink!$B$4:$B$618)","v":{"$error":"#N/A"}},{"$f":"LOOKUP(C306,MassDataLink!$A$4:$A$618,MassDataLink!$C$4:$C$618)","v":{"$error":"#N/A"}},{"$f":"LOOKUP(C306,MassDataLink!$A$4:$A$618,MassDataLink!$D$4:$D$618)","v":{"$error":"#N/A"}},{"$f":"LOOKUP(C306,MassDataLink!$A$4:$A$618,MassDataLink!$E$4:$E$618)","v":{"$error":"#N/A"}},{"$f":"LOOKUP(C306,MassDataLink!$A$4:$A$618,MassDataLink!$F$4:$F$618)","v":{"$error":"#N/A"}},null,193,"- - -","- - -"]
[null,194,-1,{"$f":"LOOKUP(C307,MassDataLink!$A$4:$A$618,MassDataLink!$B$4:$B$618)","v":{"$error":"#N/A"}},{"$f":"LOOKUP(C307,MassDataLink!$A$4:$A$618,MassDataLink!$C$4:$C$618)","v":{"$error":"#N/A"}},{"$f":"LOOKUP(C307,MassDataLink!$A$4:$A$618,MassDataLink!$D$4:$D$618)","v":{"$error":"#N/A"}},{"$f":"LOOKUP(C307,MassDataLink!$A$4:$A$618,MassDataLink!$E$4:$E$618)","v":{"$error":"#N/A"}},{"$f":"LOOKUP(C307,MassDataLink!$A$4:$A$618,MassDataLink!$F$4:$F$618)","v":{"$error":"#N/A"}},null,194,"- - -","- - -"]
[null,195,-1,{"$f":"LOOKUP(C308,MassDataLink!$A$4:$A$618,MassDataLink!$B$4:$B$618)","v":{"$error":"#N/A"}},{"$f":"LOOKUP(C308,MassDataLink!$A$4:$A$618,MassDataLink!$C$4:$C$618)","v":{"$error":"#N/A"}},{"$f":"LOOKUP(C308,MassDataLink!$A$4:$A$618,MassDataLink!$D$4:$D$618)","v":{"$error":"#N/A"}},{"$f":"LOOKUP(C308,MassDataLink!$A$4:$A$618,MassDataLink!$E$4:$E$618)","v":{"$error":"#N/A"}},{"$f":"LOOKUP(C308,MassDataLink!$A$4:$A$618,MassDataLink!$F$4:$F$618)","v":{"$error":"#N/A"}},null,195,"- - -","- - -"]
[null,196,-1,{"$f":"LOOKUP(C309,MassDataLink!$A$4:$A$618,MassDataLink!$B$4:$B$618)","v":{"$error":"#N/A"}},{"$f":"LOOKUP(C309,MassDataLink!$A$4:$A$618,MassDataLink!$C$4:$C$618)","v":{"$error":"#N/A"}},{"$f":"LOOKUP(C309,MassDataLink!$A$4:$A$618,MassDataLink!$D$4:$D$618)","v":{"$error":"#N/A"}},{"$f":"LOOKUP(C309,MassDataLink!$A$4:$A$618,MassDataLink!$E$4:$E$618)","v":{"$error":"#N/A"}},{"$f":"LOOKUP(C309,MassDataLink!$A$4:$A$618,MassDataLink!$F$4:$F$618)","v":{"$error":"#N/A"}},null,196,"- - -","- - -"]
[null,197,-1,{"$f":"LOOKUP(C310,MassDataLink!$A$4:$A$618,MassDataLink!$B$4:$B$618)","v":{"$error":"#N/A"}},{"$f":"LOOKUP(C310,MassDataLink!$A$4:$A$618,MassDataLink!$C$4:$C$618)","v":{"$error":"#N/A"}},{"$f":"LOOKUP(C310,MassDataLink!$A$4:$A$618,MassDataLink!$D$4:$D$618)","v":{"$error":"#N/A"}},{"$f":"LOOKUP(C310,MassDataLink!$A$4:$A$618,MassDataLink!$E$4:$E$618)","v":{"$error":"#N/A"}},{"$f":"LOOKUP(C310,MassDataLink!$A$4:$A$618,MassDataLink!$F$4:$F$618)","v":{"$error":"#N/A"}},null,197,"- - -","- - -"]
[null,198,-1,{"$f":"LOOKUP(C311,MassDataLink!$A$4:$A$618,MassDataLink!$B$4:$B$618)","v":{"$error":"#N/A"}},{"$f":"LOOKUP(C311,MassDataLink!$A$4:$A$618,MassDataLink!$C$4:$C$618)","v":{"$error":"#N/A"}},{"$f":"LOOKUP(C311,MassDataLink!$A$4:$A$618,MassDataLink!$D$4:$D$618)","v":{"$error":"#N/A"}},{"$f":"LOOKUP(C311,MassDataLink!$A$4:$A$618,MassDataLink!$E$4:$E$618)","v":{"$error":"#N/A"}},{"$f":"LOOKUP(C311,MassDataLink!$A$4:$A$618,MassDataLink!$F$4:$F$618)","v":{"$error":"#N/A"}},null,198,"- - -","- - -"]
[null,199,-1,{"$f":"LOOKUP(C312,MassDataLink!$A$4:$A$618,MassDataLink!$B$4:$B$618)","v":{"$error":"#N/A"}},{"$f":"LOOKUP(C312,MassDataLink!$A$4:$A$618,MassDataLink!$C$4:$C$618)","v":{"$error":"#N/A"}},{"$f":"LOOKUP(C312,MassDataLink!$A$4:$A$618,MassDataLink!$D$4:$D$618)","v":{"$error":"#N/A"}},{"$f":"LOOKUP(C312,MassDataLink!$A$4:$A$618,MassDataLink!$E$4:$E$618)","v":{"$error":"#N/A"}},{"$f":"LOOKUP(C312,MassDataLink!$A$4:$A$618,MassDataLink!$F$4:$F$618)","v":{"$error":"#N/A"}},null,199,"- - -","- - -"]
[null,200,-1,{"$f":"LOOKUP(C313,MassDataLink!$A$4:$A$618,MassDataLink!$B$4:$B$618)","v":{"$error":"#N/A"}},{"$f":"LOOKUP(C313,MassDataLink!$A$4:$A$618,MassDataLink!$C$4:$C$618)","v":{"$error":"#N/A"}},{"$f":"LOOKUP(C313,MassDataLink!$A$4:$A$618,MassDataLink!$D$4:$D$618)","v":{"$error":"#N/A"}},{"$f":"LOOKUP(C313,MassDataLink!$A$4:$A$618,MassDataLink!$E$4:$E$618)","v":{"$error":"#N/A"}},{"$f":"LOOKUP(C313,MassDataLink!$A$4:$A$618,MassDataLink!$F$4:$F$618)","v":{"$error":"#N/A"}},null,200,"- - -","- - -"]
[null,201,-1,{"$f":"LOOKUP(C314,MassDataLink!$A$4:$A$618,MassDataLink!$B$4:$B$618)","v":{"$error":"#N/A"}},{"$f":"LOOKUP(C314,MassDataLink!$A$4:$A$618,MassDataLink!$C$4:$C$618)","v":{"$error":"#N/A"}},{"$f":"LOOKUP(C314,MassDataLink!$A$4:$A$618,MassDataLink!$D$4:$D$618)","v":{"$error":"#N/A"}},{"$f":"LOOKUP(C314,MassDataLink!$A$4:$A$618,MassDataLink!$E$4:$E$618)","v":{"$error":"#N/A"}},{"$f":"LOOKUP(C314,MassDataLink!$A$4:$A$618,MassDataLink!$F$4:$F$618)","v":{"$error":"#N/A"}},null,201,"- - -","- - -"]
[null,202,-1,{"$f":"LOOKUP(C315,MassDataLink!$A$4:$A$618,MassDataLink!$B$4:$B$618)","v":{"$error":"#N/A"}},{"$f":"LOOKUP(C315,MassDataLink!$A$4:$A$618,MassDataLink!$C$4:$C$618)","v":{"$error":"#N/A"}},{"$f":"LOOKUP(C315,MassDataLink!$A$4:$A$618,MassDataLink!$D$4:$D$618)","v":{"$error":"#N/A"}},{"$f":"LOOKUP(C315,MassDataLink!$A$4:$A$618,MassDataLink!$E$4:$E$618)","v":{"$error":"#N/A"}},{"$f":"LOOKUP(C315,MassDataLink!$A$4:$A$618,MassDataLink!$F$4:$F$618)","v":{"$error":"#N/A"}},null,202,"- - -","- - -"]
[null,203,-1,{"$f":"LOOKUP(C316,MassDataLink!$A$4:$A$618,MassDataLink!$B$4:$B$618)","v":{"$error":"#N/A"}},{"$f":"LOOKUP(C316,MassDataLink!$A$4:$A$618,MassDataLink!$C$4:$C$618)","v":{"$error":"#N/A"}},{"$f":"LOOKUP(C316,MassDataLink!$A$4:$A$618,MassDataLink!$D$4:$D$618)","v":{"$error":"#N/A"}},{"$f":"LOOKUP(C316,MassDataLink!$A$4:$A$618,MassDataLink!$E$4:$E$618)","v":{"$error":"#N/A"}},{"$f":"LOOKUP(C316,MassDataLink!$A$4:$A$618,MassDataLink!$F$4:$F$618)","v":{"$error":"#N/A"}},null,203,"- - -","- - -"]
[null,204,-1,{"$f":"LOOKUP(C317,MassDataLink!$A$4:$A$618,MassDataLink!$B$4:$B$618)","v":{"$error":"#N/A"}},{"$f":"LOOKUP(C317,MassDataLink!$A$4:$A$618,MassDataLink!$C$4:$C$618)","v":{"$error":"#N/A"}},{"$f":"LOOKUP(C317,MassDataLink!$A$4:$A$618,MassDataLink!$D$4:$D$618)","v":{"$error":"#N/A"}},{"$f":"LOOKUP(C317,MassDataLink!$A$4:$A$618,MassDataLink!$E$4:$E$618)","v":{"$error":"#N/A"}},{"$f":"LOOKUP(C317,MassDataLink!$A$4:$A$618,MassDataLink!$F$4:$F$618)","v":{"$error":"#N/A"}},null,204,"- - -","- - -"]
[null,205,-1,{"$f":"LOOKUP(C318,MassDataLink!$A$4:$A$618,MassDataLink!$B$4:$B$618)","v":{"$error":"#N/A"}},{"$f":"LOOKUP(C318,MassDataLink!$A$4:$A$618,MassDataLink!$C$4:$C$618)","v":{"$error":"#N/A"}},{"$f":"LOOKUP(C318,MassDataLink!$A$4:$A$618,MassDataLink!$D$4:$D$618)","v":{"$error":"#N/A"}},{"$f":"LOOKUP(C318,MassDataLink!$A$4:$A$618,MassDataLink!$E$4:$E$618)","v":{"$error":"#N/A"}},{"$f":"LOOKUP(C318,MassDataLink!$A$4:$A$618,MassDataLink!$F$4:$F$618)","v":{"$error":"#N/A"}},null,205,"- - -","- - -"]
[null,206,-1,{"$f":"LOOKUP(C319,MassDataLink!$A$4:$A$618,MassDataLink!$B$4:$B$618)","v":{"$error":"#N/A"}},{"$f":"LOOKUP(C319,MassDataLink!$A$4:$A$618,MassDataLink!$C$4:$C$618)","v":{"$error":"#N/A"}},{"$f":"LOOKUP(C319,MassDataLink!$A$4:$A$618,MassDataLink!$D$4:$D$618)","v":{"$error":"#N/A"}},{"$f":"LOOKUP(C319,MassDataLink!$A$4:$A$618,MassDataLink!$E$4:$E$618)","v":{"$error":"#N/A"}},{"$f":"LOOKUP(C319,MassDataLink!$A$4:$A$618,MassDataLink!$F$4:$F$618)","v":{"$error":"#N/A"}},null,206,"- - -","- - -"]
[null,207,-1,{"$f":"LOOKUP(C320,MassDataLink!$A$4:$A$618,MassDataLink!$B$4:$B$618)","v":{"$error":"#N/A"}},{"$f":"LOOKUP(C320,MassDataLink!$A$4:$A$618,MassDataLink!$C$4:$C$618)","v":{"$error":"#N/A"}},{"$f":"LOOKUP(C320,MassDataLink!$A$4:$A$618,MassDataLink!$D$4:$D$618)","v":{"$error":"#N/A"}},{"$f":"LOOKUP(C320,MassDataLink!$A$4:$A$618,MassDataLink!$E$4:$E$618)","v":{"$error":"#N/A"}},{"$f":"LOOKUP(C320,MassDataLink!$A$4:$A$618,MassDataLink!$F$4:$F$618)","v":{"$error":"#N/A"}},null,207,"- - -","- - -"]
[null,208,-1,{"$f":"LOOKUP(C321,MassDataLink!$A$4:$A$618,MassDataLink!$B$4:$B$618)","v":{"$error":"#N/A"}},{"$f":"LOOKUP(C321,MassDataLink!$A$4:$A$618,MassDataLink!$C$4:$C$618)","v":{"$error":"#N/A"}},{"$f":"LOOKUP(C321,MassDataLink!$A$4:$A$618,MassDataLink!$D$4:$D$618)","v":{"$error":"#N/A"}},{"$f":"LOOKUP(C321,MassDataLink!$A$4:$A$618,MassDataLink!$E$4:$E$618)","v":{"$error":"#N/A"}},{"$f":"LOOKUP(C321,MassDataLink!$A$4:$A$618,MassDataLink!$F$4:$F$618)","v":{"$error":"#N/A"}},null,208,"- - -","- - -"]
[null,209,-1,{"$f":"LOOKUP(C322,MassDataLink!$A$4:$A$618,MassDataLink!$B$4:$B$618)","v":{"$error":"#N/A"}},{"$f":"LOOKUP(C322,MassDataLink!$A$4:$A$618,MassDataLink!$C$4:$C$618)","v":{"$error":"#N/A"}},{"$f":"LOOKUP(C322,MassDataLink!$A$4:$A$618,MassDataLink!$D$4:$D$618)","v":{"$error":"#N/A"}},{"$f":"LOOKUP(C322,MassDataLink!$A$4:$A$618,MassDataLink!$E$4:$E$618)","v":{"$error":"#N/A"}},{"$f":"LOOKUP(C322,MassDataLink!$A$4:$A$618,MassDataLink!$F$4:$F$618)","v":{"$error":"#N/A"}},null,209,"- - -","- - -"]
[null,210,-1,{"$f":"LOOKUP(C323,MassDataLink!$A$4:$A$618,MassDataLink!$B$4:$B$618)","v":{"$error":"#N/A"}},{"$f":"LOOKUP(C323,MassDataLink!$A$4:$A$618,MassDataLink!$C$4:$C$618)","v":{"$error":"#N/A"}},{"$f":"LOOKUP(C323,MassDataLink!$A$4:$A$618,MassDataLink!$D$4:$D$618)","v":{"$error":"#N/A"}},{"$f":"LOOKUP(C323,MassDataLink!$A$4:$A$618,MassDataLink!$E$4:$E$618)","v":{"$error":"#N/A"}},{"$f":"LOOKUP(C323,MassDataLink!$A$4:$A$618,MassDataLink!$F$4:$F$618)","v":{"$error":"#N/A"}},null,210,"- - -","- - -"]
[null,211,-1,{"$f":"LOOKUP(C324,MassDataLink!$A$4:$A$618,MassDataLink!$B$4:$B$618)","v":{"$error":"#N/A"}},{"$f":"LOOKUP(C324,MassDataLink!$A$4:$A$618,MassDataLink!$C$4:$C$618)","v":{"$error":"#N/A"}},{"$f":"LOOKUP(C324,MassDataLink!$A$4:$A$618,MassDataLink!$D$4:$D$618)","v":{"$error":"#N/A"}},{"$f":"LOOKUP(C324,MassDataLink!$A$4:$A$618,MassDataLink!$E$4:$E$618)","v":{"$error":"#N/A"}},{"$f":"LOOKUP(C324,MassDataLink!$A$4:$A$618,MassDataLink!$F$4:$F$618)","v":{"$error":"#N/A"}},null,211,"- - -","- - -"]
[null,212,-1,{"$f":"LOOKUP(C325,MassDataLink!$A$4:$A$618,MassDataLink!$B$4:$B$618)","v":{"$error":"#N/A"}},{"$f":"LOOKUP(C325,MassDataLink!$A$4:$A$618,MassDataLink!$C$4:$C$618)","v":{"$error":"#N/A"}},{"$f":"LOOKUP(C325,MassDataLink!$A$4:$A$618,MassDataLink!$D$4:$D$618)","v":{"$error":"#N/A"}},{"$f":"LOOKUP(C325,MassDataLink!$A$4:$A$618,MassDataLink!$E$4:$E$618)","v":{"$error":"#N/A"}},{"$f":"LOOKUP(C325,MassDataLink!$A$4:$A$618,MassDataLink!$F$4:$F$618)","v":{"$error":"#N/A"}},null,212,"- - -","- - -"]
[null,213,-1,{"$f":"LOOKUP(C326,MassDataLink!$A$4:$A$618,MassDataLink!$B$4:$B$618)","v":{"$error":"#N/A"}},{"$f":"LOOKUP(C326,MassDataLink!$A$4:$A$618,MassDataLink!$C$4:$C$618)","v":{"$error":"#N/A"}},{"$f":"LOOKUP(C326,MassDataLink!$A$4:$A$618,MassDataLink!$D$4:$D$618)","v":{"$error":"#N/A"}},{"$f":"LOOKUP(C326,MassDataLink!$A$4:$A$618,MassDataLink!$E$4:$E$618)","v":{"$error":"#N/A"}},{"$f":"LOOKUP(C326,MassDataLink!$A$4:$A$618,MassDataLink!$F$4:$F$618)","v":{"$error":"#N/A"}},null,213,"- - -","- - -"]
[null,214,-1,{"$f":"LOOKUP(C327,MassDataLink!$A$4:$A$618,MassDataLink!$B$4:$B$618)","v":{"$error":"#N/A"}},{"$f":"LOOKUP(C327,MassDataLink!$A$4:$A$618,MassDataLink!$C$4:$C$618)","v":{"$error":"#N/A"}},{"$f":"LOOKUP(C327,MassDataLink!$A$4:$A$618,MassDataLink!$D$4:$D$618)","v":{"$error":"#N/A"}},{"$f":"LOOKUP(C327,MassDataLink!$A$4:$A$618,MassDataLink!$E$4:$E$618)","v":{"$error":"#N/A"}},{"$f":"LOOKUP(C327,MassDataLink!$A$4:$A$618,MassDataLink!$F$4:$F$618)","v":{"$error":"#N/A"}},null,214,"- - -","- - -"]
[null,215,-1,{"$f":"LOOKUP(C328,MassDataLink!$A$4:$A$618,MassDataLink!$B$4:$B$618)","v":{"$error":"#N/A"}},{"$f":"LOOKUP(C328,MassDataLink!$A$4:$A$618,MassDataLink!$C$4:$C$618)","v":{"$error":"#N/A"}},{"$f":"LOOKUP(C328,MassDataLink!$A$4:$A$618,MassDataLink!$D$4:$D$618)","v":{"$error":"#N/A"}},{"$f":"LOOKUP(C328,MassDataLink!$A$4:$A$618,MassDataLink!$E$4:$E$618)","v":{"$error":"#N/A"}},{"$f":"LOOKUP(C328,MassDataLink!$A$4:$A$618,MassDataLink!$F$4:$F$618)","v":{"$error":"#N/A"}},null,215,"- - -","- - -"]
[null,216,-1,{"$f":"LOOKUP(C329,MassDataLink!$A$4:$A$618,MassDataLink!$B$4:$B$618)","v":{"$error":"#N/A"}},{"$f":"LOOKUP(C329,MassDataLink!$A$4:$A$618,MassDataLink!$C$4:$C$618)","v":{"$error":"#N/A"}},{"$f":"LOOKUP(C329,MassDataLink!$A$4:$A$618,MassDataLink!$D$4:$D$618)","v":{"$error":"#N/A"}},{"$f":"LOOKUP(C329,MassDataLink!$A$4:$A$618,MassDataLink!$E$4:$E$618)","v":{"$error":"#N/A"}},{"$f":"LOOKUP(C329,MassDataLink!$A$4:$A$618,MassDataLink!$F$4:$F$618)","v":{"$error":"#N/A"}},null,216,"- - -","- - -"]
[null,217,-1,{"$f":"LOOKUP(C330,MassDataLink!$A$4:$A$618,MassDataLink!$B$4:$B$618)","v":{"$error":"#N/A"}},{"$f":"LOOKUP(C330,MassDataLink!$A$4:$A$618,MassDataLink!$C$4:$C$618)","v":{"$error":"#N/A"}},{"$f":"LOOKUP(C330,MassDataLink!$A$4:$A$618,MassDataLink!$D$4:$D$618)","v":{"$error":"#N/A"}},{"$f":"LOOKUP(C330,MassDataLink!$A$4:$A$618,MassDataLink!$E$4:$E$618)","v":{"$error":"#N/A"}},{"$f":"LOOKUP(C330,MassDataLink!$A$4:$A$618,MassDataLink!$F$4:$F$618)","v":{"$error":"#N/A"}},null,217,"- - -","- - -"]
[null,218,-1,{"$f":"LOOKUP(C331,MassDataLink!$A$4:$A$618,MassDataLink!$B$4:$B$618)","v":{"$error":"#N/A"}},{"$f":"LOOKUP(C331,MassDataLink!$A$4:$A$618,MassDataLink!$C$4:$C$618)","v":{"$error":"#N/A"}},{"$f":"LOOKUP(C331,MassDataLink!$A$4:$A$618,MassDataLink!$D$4:$D$618)","v":{"$error":"#N/A"}},{"$f":"LOOKUP(C331,MassDataLink!$A$4:$A$618,MassDataLink!$E$4:$E$618)","v":{"$error":"#N/A"}},{"$f":"LOOKUP(C331,MassDataLink!$A$4:$A$618,MassDataLink!$F$4:$F$618)","v":{"$error":"#N/A"}},null,218,"- - -","- - -"]
[null,219,-1,{"$f":"LOOKUP(C332,MassDataLink!$A$4:$A$618,MassDataLink!$B$4:$B$618)","v":{"$error":"#N/A"}},{"$f":"LOOKUP(C332,MassDataLink!$A$4:$A$618,MassDataLink!$C$4:$C$618)","v":{"$error":"#N/A"}},{"$f":"LOOKUP(C332,MassDataLink!$A$4:$A$618,MassDataLink!$D$4:$D$618)","v":{"$error":"#N/A"}},{"$f":"LOOKUP(C332,MassDataLink!$A$4:$A$618,MassDataLink!$E$4:$E$618)","v":{"$error":"#N/A"}},{"$f":"LOOKUP(C332,MassDataLink!$A$4:$A$618,MassDataLink!$F$4:$F$618)","v":{"$error":"#N/A"}},null,219,"- - -","- - -"]
[null,220,-1,{"$f":"LOOKUP(C333,MassDataLink!$A$4:$A$618,MassDataLink!$B$4:$B$618)","v":{"$error":"#N/A"}},{"$f":"LOOKUP(C333,MassDataLink!$A$4:$A$618,MassDataLink!$C$4:$C$618)","v":{"$error":"#N/A"}},{"$f":"LOOKUP(C333,MassDataLink!$A$4:$A$618,MassDataLink!$D$4:$D$618)","v":{"$error":"#N/A"}},{"$f":"LOOKUP(C333,MassDataLink!$A$4:$A$618,MassDataLink!$E$4:$E$618)","v":{"$error":"#N/A"}},{"$f":"LOOKUP(C333,MassDataLink!$A$4:$A$618,MassDataLink!$F$4:$F$618)","v":{"$error":"#N/A"}},null,220,"- - -","- - -"]
[null,221,-1,{"$f":"LOOKUP(C334,MassDataLink!$A$4:$A$618,MassDataLink!$B$4:$B$618)","v":{"$error":"#N/A"}},{"$f":"LOOKUP(C334,MassDataLink!$A$4:$A$618,MassDataLink!$C$4:$C$618)","v":{"$error":"#N/A"}},{"$f":"LOOKUP(C334,MassDataLink!$A$4:$A$618,MassDataLink!$D$4:$D$618)","v":{"$error":"#N/A"}},{"$f":"LOOKUP(C334,MassDataLink!$A$4:$A$618,MassDataLink!$E$4:$E$618)","v":{"$error":"#N/A"}},{"$f":"LOOKUP(C334,MassDataLink!$A$4:$A$618,MassDataLink!$F$4:$F$618)","v":{"$error":"#N/A"}},null,221,"- - -","- - -"]
[null,222,-1,{"$f":"LOOKUP(C335,MassDataLink!$A$4:$A$618,MassDataLink!$B$4:$B$618)","v":{"$error":"#N/A"}},{"$f":"LOOKUP(C335,MassDataLink!$A$4:$A$618,MassDataLink!$C$4:$C$618)","v":{"$error":"#N/A"}},{"$f":"LOOKUP(C335,MassDataLink!$A$4:$A$618,MassDataLink!$D$4:$D$618)","v":{"$error":"#N/A"}},{"$f":"LOOKUP(C335,MassDataLink!$A$4:$A$618,MassDataLink!$E$4:$E$618)","v":{"$error":"#N/A"}},{"$f":"LOOKUP(C335,MassDataLink!$A$4:$A$618,MassDataLink!$F$4:$F$618)","v":{"$error":"#N/A"}},null,222,"- - -","- - -"]
[null,223,-1,{"$f":"LOOKUP(C336,MassDataLink!$A$4:$A$618,MassDataLink!$B$4:$B$618)","v":{"$error":"#N/A"}},{"$f":"LOOKUP(C336,MassDataLink!$A$4:$A$618,MassDataLink!$C$4:$C$618)","v":{"$error":"#N/A"}},{"$f":"LOOKUP(C336,MassDataLink!$A$4:$A$618,MassDataLink!$D$4:$D$618)","v":{"$error":"#N/A"}},{"$f":"LOOKUP(C336,MassDataLink!$A$4:$A$618,MassDataLink!$E$4:$E$618)","v":{"$error":"#N/A"}},{"$f":"LOOKUP(C336,MassDataLink!$A$4:$A$618,MassDataLink!$F$4:$F$618)","v":{"$error":"#N/A"}},null,223,"- - -","- - -"]
[null,224,-1,{"$f":"LOOKUP(C337,MassDataLink!$A$4:$A$618,MassDataLink!$B$4:$B$618)","v":{"$error":"#N/A"}},{"$f":"LOOKUP(C337,MassDataLink!$A$4:$A$618,MassDataLink!$C$4:$C$618)","v":{"$error":"#N/A"}},{"$f":"LOOKUP(C337,MassDataLink!$A$4:$A$618,MassDataLink!$D$4:$D$618)","v":{"$error":"#N/A"}},{"$f":"LOOKUP(C337,MassDataLink!$A$4:$A$618,MassDataLink!$E$4:$E$618)","v":{"$error":"#N/A"}},{"$f":"LOOKUP(C337,MassDataLink!$A$4:$A$618,MassDataLink!$F$4:$F$618)","v":{"$error":"#N/A"}},null,224,"- - -","- - -"]
[null,225,-1,{"$f":"LOOKUP(C338,MassDataLink!$A$4:$A$618,MassDataLink!$B$4:$B$618)","v":{"$error":"#N/A"}},{"$f":"LOOKUP(C338,MassDataLink!$A$4:$A$618,MassDataLink!$C$4:$C$618)","v":{"$error":"#N/A"}},{"$f":"LOOKUP(C338,MassDataLink!$A$4:$A$618,MassDataLink!$D$4:$D$618)","v":{"$error":"#N/A"}},{"$f":"LOOKUP(C338,MassDataLink!$A$4:$A$618,MassDataLink!$E$4:$E$618)","v":{"$error":"#N/A"}},{"$f":"LOOKUP(C338,MassDataLink!$A$4:$A$618,MassDataLink!$F$4:$F$618)","v":{"$error":"#N/A"}},null,225,"- - -","- - -"]

{"sheet":"ModelData","index":2,"n_rows":110,"n_cols":29,"rows_kept":110,"cut":false,"hidden":true,"merged":[[1,26,1,28],[1,11,1,13],[1,8,1,10],[1,5,1,7],[1,23,1,25],[1,20,1,22],[1,17,1,19],[1,14,1,16]]}
[null,1,6,7,8,10,11,12,13,14,15,16,17,18,19,20,21,22,23,24,25,26,27,28,29,30,31,32,33]
["データ№","ｱｸﾁｭｴｰﾀ型式","最小ｽﾄﾛｰｸ","最大ｽﾄﾛｰｸ","動作種別","リンク[0]",null,null,"リンク[1]",null,null,"リンク[2]",null,null,"リンク[3]",null,null,"リンク[4]",null,null,"リンク[5]",null,null,"リンク[6]",null,null,"リンク[7]"]
[0,null,"㎜","㎜","1/0:回/直","ﾘｰﾄﾞ","ｽﾄﾛｰｸ","搬送負荷","ﾘｰﾄﾞ","ｽﾄﾛｰｸ","搬送負荷","ﾘｰﾄﾞ","ｽﾄﾛｰｸ","搬送負荷","ﾘｰﾄﾞ","ｽﾄﾛｰｸ","搬送負荷","ﾘｰﾄﾞ","ｽﾄﾛｰｸ","搬送負荷","ﾘｰﾄﾞ","ｽﾄﾛｰｸ","搬送負荷","ﾘｰﾄﾞ","ｽﾄﾛｰｸ","搬送負荷","ﾘｰﾄﾞ","ｽﾄﾛｰｸ","搬送負荷"]
[{"$f":"A3+1","v":1},"RCA2-SA3C",50,300,0,{"$f":"LeadData!A4","v":1},{"$f":"StrokeData!A4","v":1},{"$f":"MassDataLink!A4","v":1},{"$f":"LeadData!A5","v":2},{"$f":"StrokeData!A5","v":2},{"$f":"MassDataLink!A6","v":3},{"$f":"LeadData!A6","v":3},{"$f":"StrokeData!A6","v":3},{"$f":"MassDataLink!A8","v":5},-1,-1,-1,-1,-1,-1,-1,-1,-1,-1,-1,-1,-1,-1,-1]
[{"$f":"A4+1","v":2},"RCA2-SA4C",50,500,0,{"$f":"LeadData!A7","v":4},{"$f":"StrokeData!A7","v":4},{"$f":"MassDataLink!A10","v":7},{"$f":"LeadData!A8","v":5},{"$f":"StrokeData!A8","v":5},{"$f":"MassDataLink!A12","v":9},{"$f":"LeadData!A9","v":6},{"$f":"StrokeData!A9","v":6},{"$f":"MassDataLink!A14","v":11},-1,-1,-1,-1,-1,-1,-1,-1,-1,-1,-1,-1,-1,-1,-1]
[{"$f":"A5+1","v":3},"RCA2-SA5C",50,800,0,{"$f":"LeadData!A10","v":7},{"$f":"StrokeData!A10","v":7},{"$f":"MassDataLink!A16","v":13},{"$f":"LeadData!A11","v":8},{"$f":"StrokeData!A16","v":13},{"$f":"MassDataLink!A18","v":15},{"$f":"LeadData!A12","v":9},{"$f":"StrokeData!A22","v":19},{"$f":"MassDataLink!A20","v":17},-1,-1,-1,-1,-1,-1,-1,-1,-1,-1,-1,-1,-1,-1,-1]
[4,"RCA2-SA6C",50,800,0,{"$f":"LeadData!A13","v":10},{"$f":"StrokeData!A28","v":25},{"$f":"MassDataLink!A22","v":19},{"$f":"LeadData!A14","v":11},{"$f":"StrokeData!A34","v":31},{"$f":"MassDataLink!A24","v":21},{"$f":"LeadData!A15","v":12},{"$f":"StrokeData!A40","v":37},{"$f":"MassDataLink!A26","v":23},-1,-1,-1,-1,-1,-1,-1,-1,-1,-1,-1,-1,-1,-1,-1]
[{"$f":"A7+1","v":5},"RCA2-SA3R",50,300,0,{"$f":"LeadData!A16","v":13},{"$f":"StrokeData!A46","v":43},{"$f":"MassDataLink!A28","v":25},{"$f":"LeadData!A17","v":14},{"$f":"StrokeData!A47","v":44},{"$f":"MassDataLink!A30","v":27},{"$f":"LeadData!A18","v":15},{"$f":"StrokeData!A48","v":45},{"$f":"MassDataLink!A32","v":29},-1,-1,-1,-1,-1,-1,-1,-1,-1,-1,-1,-1,-1,-1,-1]
[6,"RCA2-SA4R",50,500,0,{"$f":"LeadData!A19","v":16},{"$f":"StrokeData!A49","v":46},{"$f":"MassDataLink!A34","v":31},{"$f":"LeadData!A20","v":17},{"$f":"StrokeData!A50","v":47},{"$f":"MassDataLink!A36","v":33},{"$f":"LeadData!A21","v":18},{"$f":"StrokeData!A51","v":48},{"$f":"MassDataLink!A38","v":35},-1,-1,-1,-1,-1,-1,-1,-1,-1,-1,-1,-1,-1,-1,-1]
[7,"RCA2-SA5R",50,800,0,{"$f":"LeadData!A22","v":19},{"$f":"StrokeData!A52","v":49},{"$f":"MassDataLink!A40","v":37},{"$f":"LeadData!A23","v":20},{"$f":"StrokeData!A58","v":55},{"$f":"MassDataLink!A42","v":39},{"$f":"LeadData!A24","v":21},{"$f":"StrokeData!A64","v":61},{"$f":"MassDataLink!A44","v":41},-1,-1,-1,-1,-1,-1,-1,-1,-1,-1,-1,-1,-1,-1,-1]
[8,"RCA2-SA6R",50,800,0,{"$f":"LeadData!A25","v":22},{"$f":"StrokeData!A70","v":67},{"$f":"MassDataLink!A46","v":43},{"$f":"LeadData!A26","v":23},{"$f":"StrokeData!A76","v":73},{"$f":"MassDataLink!A48","v":45},{"$f":"LeadData!A27","v":24},{"$f":"StrokeData!A82","v":79},{"$f":"MassDataLink!A50","v":47},-1,-1,-1,-1,-1,-1,-1,-1,-1,-1,-1,-1,-1,-1,-1]
[{"$f":"A11+1","v":9},"RCA-SA4C-20",50,400,0,{"$f":"LeadData!A28","v":25},{"$f":"StrokeData!A88","v":85},{"$f":"MassDataLink!A52","v":49},{"$f":"LeadData!A29","v":26},{"$f":"StrokeData!A89","v":86},{"$f":"MassDataLink!A54","v":51},{"$f":"LeadData!A30","v":27},{"$f":"StrokeData!A90","v":87},{"$f":"MassDataLink!A56","v":53},-1,-1,-1,-1,-1,-1,-1,-1,-1,-1,-1,-1,-1,-1,-1]
[{"$f":"A12+1","v":10},"RCA-SA5C-20",50,500,0,{"$f":"LeadData!A31","v":28},{"$f":"StrokeData!A91","v":88},{"$f":"MassDataLink!A58","v":55},{"$f":"LeadData!A32","v":29},{"$f":"StrokeData!A93","v":90},{"$f":"MassDataLink!A60","v":57},{"$f":"LeadData!A33","v":30},{"$f":"StrokeData!A95","v":92},{"$f":"MassDataLink!A62","v":59},{"$f":"LeadData!A34","v":31},{"$f":"StrokeData!A97","v":94},{"$f":"MassDataLink!A64","v":61},-1,-1,-1,-1,-1,-1,-1,-1,-1,-1,-1,-1]
[{"$f":"A13+1","v":11},"RCA-SA6C-30",50,600,0,{"$f":"LeadData!A35","v":32},{"$f":"StrokeData!A98","v":95},{"$f":"MassDataLink!A66","v":63},{"$f":"LeadData!A36","v":33},{"$f":"StrokeData!A102","v":99},{"$f":"MassDataLink!A68","v":65},{"$f":"LeadData!A37","v":34},{"$f":"StrokeData!A106","v":103},{"$f":"MassDataLink!A70","v":67},{"$f":"LeadData!A38","v":35},{"$f":"StrokeData!A110","v":107},{"$f":"MassDataLink!A72","v":69},-1,-1,-1,-1,-1,-1,-1,-1,-1,-1,-1,-1]
[{"$f":"A14+1","v":12},"RCA-SA4D-20",50,300,0,{"$f":"LeadData!A39","v":36},{"$f":"StrokeData!A113","v":110},{"$f":"MassDataLink!A74","v":71},{"$f":"LeadData!A40","v":37},{"$f":"StrokeData!A114","v":111},{"$f":"MassDataLink!A76","v":73},{"$f":"LeadData!A41","v":38},{"$f":"StrokeData!A115","v":112},{"$f":"MassDataLink!A78","v":75},-1,-1,-1,-1,-1,-1,-1,-1,-1,-1,-1,-1,-1,-1,-1]
[13,"RCA-SA5D-20",50,500,0,{"$f":"LeadData!A42","v":39},{"$f":"StrokeData!A116","v":113},{"$f":"MassDataLink!A80","v":77},{"$f":"LeadData!A43","v":40},{"$f":"StrokeData!A118","v":115},{"$f":"MassDataLink!A82","v":79},{"$f":"LeadData!A44","v":41},{"$f":"StrokeData!A120","v":117},{"$f":"MassDataLink!A84","v":81},-1,-1,-1,-1,-1,-1,-1,-1,-1,-1,-1,-1,-1,-1,-1]
[14,"RCA-SA6D-30",50,600,0,{"$f":"LeadData!A45","v":42},{"$f":"StrokeData!A122","v":119},{"$f":"MassDataLink!A86","v":83},{"$f":"LeadData!A46","v":43},{"$f":"StrokeData!A126","v":123},{"$f":"MassDataLink!A88","v":85},{"$f":"LeadData!A47","v":44},{"$f":"StrokeData!A130","v":127},{"$f":"MassDataLink!A90","v":87},-1,-1,-1,-1,-1,-1,-1,-1,-1,-1,-1,-1,-1,-1,-1]
[15,"RCA-SS4D-20",50,300,0,{"$f":"LeadData!A48","v":45},{"$f":"StrokeData!A134","v":131},{"$f":"MassDataLink!A92","v":89},{"$f":"LeadData!A49","v":46},{"$f":"StrokeData!A135","v":132},{"$f":"MassDataLink!A94","v":91},{"$f":"LeadData!A50","v":47},{"$f":"StrokeData!A136","v":133},{"$f":"MassDataLink!A96","v":93},-1,-1,-1,-1,-1,-1,-1,-1,-1,-1,-1,-1,-1,-1,-1]
[16,"RCA-SS5D-20",50,500,0,{"$f":"LeadData!A51","v":48},{"$f":"StrokeData!A137","v":134},{"$f":"MassDataLink!A98","v":95},{"$f":"LeadData!A52","v":49},{"$f":"StrokeData!A139","v":136},{"$f":"MassDataLink!A100","v":97},{"$f":"LeadData!A53","v":50},{"$f":"StrokeData!A141","v":138},{"$f":"MassDataLink!A102","v":99},-1,-1,-1,-1,-1,-1,-1,-1,-1,-1,-1,-1,-1,-1,-1]
[17,"RCA-SS6D-30",50,600,0,{"$f":"LeadData!A54","v":51},{"$f":"StrokeData!A143","v":140},{"$f":"MassDataLink!A104","v":101},{"$f":"LeadData!A55","v":52},{"$f":"StrokeData!A147","v":144},{"$f":"MassDataLink!A106","v":103},{"$f":"LeadData!A56","v":53},{"$f":"StrokeData!A151","v":148},{"$f":"MassDataLink!A108","v":105},-1,-1,-1,-1,-1,-1,-1,-1,-1,-1,-1,-1,-1,-1,-1]
[18,"RCA-SA4R-20",50,400,0,{"$f":"LeadData!A57","v":54},{"$f":"StrokeData!A155","v":152},{"$f":"MassDataLink!A110","v":107},{"$f":"LeadData!A58","v":55},{"$f":"StrokeData!A156","v":153},{"$f":"MassDataLink!A112","v":109},{"$f":"LeadData!A59","v":56},{"$f":"StrokeData!A157","v":154},{"$f":"MassDataLink!A114","v":111},-1,-1,-1,-1,-1,-1,-1,-1,-1,-1,-1,-1,-1,-1,-1]
[19,"RCA-SA5R-20",50,500,0,{"$f":"LeadData!A60","v":57},{"$f":"StrokeData!A158","v":155},{"$f":"MassDataLink!A116","v":113},{"$f":"LeadData!A61","v":58},{"$f":"StrokeData!A160","v":157},{"$f":"MassDataLink!A118","v":115},{"$f":"LeadData!A62","v":59},{"$f":"StrokeData!A162","v":159},{"$f":"MassDataLink!A120","v":117},-1,-1,-1,-1,-1,-1,-1,-1,-1,-1,-1,-1,-1,-1,-1]
[{"$f":"A22+1","v":20},"RCA-SA6R-30",50,600,0,{"$f":"LeadData!A63","v":60},{"$f":"StrokeData!A164","v":161},{"$f":"MassDataLink!A122","v":119},{"$f":"LeadData!A64","v":61},{"$f":"StrokeData!A168","v":165},{"$f":"MassDataLink!A124","v":121},{"$f":"LeadData!A65","v":62},{"$f":"StrokeData!A172","v":169},{"$f":"MassDataLink!A126","v":123},-1,-1,-1,-1,-1,-1,-1,-1,-1,-1,-1,-1,-1,-1,-1]
[{"$f":"A23+1","v":21},"RCA2-RN3NA-10",30,50,0,{"$f":"LeadData!A66","v":63},{"$f":"StrokeData!A176","v":173},{"$f":"MassDataLink!A128","v":125},{"$f":"LeadData!A67","v":64},{"$f":"StrokeData!A177","v":174},{"$f":"MassDataLink!A130","v":127},{"$f":"LeadData!A68","v":65},{"$f":"StrokeData!A178","v":175},{"$f":"MassDataLink!A132","v":129},-1,-1,-1,-1,-1,-1,-1,-1,-1,-1,-1,-1,-1,-1,-1]
[{"$f":"A24+1","v":22},"RCA2-RN3NA-10-*S",30,50,0,{"$f":"LeadData!A69","v":66},{"$f":"StrokeData!A179","v":176},{"$f":"MassDataLink!A134","v":131},{"$f":"LeadData!A70","v":67},{"$f":"StrokeData!A180","v":177},{"$f":"MassDataLink!A136","v":133},{"$f":"LeadData!A71","v":68},{"$f":"StrokeData!A181","v":178},{"$f":"MassDataLink!A138","v":135},-1,-1,-1,-1,-1,-1,-1,-1,-1,-1,-1,-1,-1,-1,-1]
[23,"RCA2-RN4NA-20",30,50,0,{"$f":"LeadData!A72","v":69},{"$f":"StrokeData!A182","v":179},{"$f":"MassDataLink!A140","v":137},{"$f":"LeadData!A73","v":70},{"$f":"StrokeData!A183","v":180},{"$f":"MassDataLink!A142","v":139},{"$f":"LeadData!A74","v":71},{"$f":"StrokeData!A184","v":181},{"$f":"MassDataLink!A144","v":141},-1,-1,-1,-1,-1,-1,-1,-1,-1,-1,-1,-1,-1,-1,-1]
[{"$f":"A26+1","v":24},"RCA2-RN4NA-20-*S",30,50,0,{"$f":"LeadData!A75","v":72},{"$f":"StrokeData!A185","v":182},{"$f":"MassDataLink!A146","v":143},{"$f":"LeadData!A76","v":73},{"$f":"StrokeData!A186","v":183},{"$f":"MassDataLink!A148","v":145},{"$f":"LeadData!A77","v":74},{"$f":"StrokeData!A187","v":184},{"$f":"MassDataLink!A150","v":147},-1,-1,-1,-1,-1,-1,-1,-1,-1,-1,-1,-1,-1,-1,-1]
[{"$f":"A27+1","v":25},"RCA2-RP3NA-10",30,50,0,{"$f":"LeadData!A78","v":75},{"$f":"StrokeData!A188","v":185},{"$f":"MassDataLink!A152","v":149},{"$f":"LeadData!A79","v":76},{"$f":"StrokeData!A189","v":186},{"$f":"MassDataLink!A154","v":151},{"$f":"LeadData!A80","v":77},{"$f":"StrokeData!A190","v":187},{"$f":"MassDataLink!A156","v":153},-1,-1,-1,-1,-1,-1,-1,-1,-1,-1,-1,-1,-1,-1,-1]
[{"$f":"A28+1","v":26},"RCA2-RP3NA-10-*S",30,50,0,{"$f":"LeadData!A81","v":78},{"$f":"StrokeData!A191","v":188},{"$f":"MassDataLink!A158","v":155},{"$f":"LeadData!A82","v":79},{"$f":"StrokeData!A192","v":189},{"$f":"MassDataLink!A160","v":157},{"$f":"LeadData!A83","v":80},{"$f":"StrokeData!A193","v":190},{"$f":"MassDataLink!A162","v":159},-1,-1,-1,-1,-1,-1,-1,-1,-1,-1,-1,-1,-1,-1,-1]
[27,"RCA2-RP4NA-20",30,50,0,{"$f":"LeadData!A84","v":81},{"$f":"StrokeData!A194","v":191},{"$f":"MassDataLink!A164","v":161},{"$f":"LeadData!A85","v":82},{"$f":"StrokeData!A195","v":192},{"$f":"MassDataLink!A166","v":163},{"$f":"LeadData!A86","v":83},{"$f":"StrokeData!A196","v":193},{"$f":"MassDataLink!A168","v":165},-1,-1,-1,-1,-1,-1,-1,-1,-1,-1,-1,-1,-1,-1,-1]
[{"$f":"A30+1","v":28},"RCA2-RP4NA-20-*S",30,50,0,{"$f":"LeadData!A87","v":84},{"$f":"StrokeData!A197","v":194},{"$f":"MassDataLink!A170","v":167},{"$f":"LeadData!A88","v":85},{"$f":"StrokeData!A198","v":195},{"$f":"MassDataLink!A172","v":169},{"$f":"LeadData!A89","v":86},{"$f":"StrokeData!A199","v":196},{"$f":"MassDataLink!A174","v":171},-1,-1,-1,-1,-1,-1,-1,-1,-1,-1,-1,-1,-1,-1,-1]
[{"$f":"A31+1","v":29},"RCA2-GS3NA-10",30,50,0,{"$f":"LeadData!A90","v":87},{"$f":"StrokeData!A200","v":197},{"$f":"MassDataLink!A176","v":173},{"$f":"LeadData!A91","v":88},{"$f":"StrokeData!A201","v":198},{"$f":"MassDataLink!A178","v":175},{"$f":"LeadData!A92","v":89},{"$f":"StrokeData!A202","v":199},{"$f":"MassDataLink!A180","v":177},-1,-1,-1,-1,-1,-1,-1,-1,-1,-1,-1,-1,-1,-1,-1]
[{"$f":"A32+1","v":30},"RCA2-GS3NA-10-*S",30,50,0,{"$f":"LeadData!A93","v":90},{"$f":"StrokeData!A203","v":200},{"$f":"MassDataLink!A182","v":179},{"$f":"LeadData!A94","v":91},{"$f":"StrokeData!A204","v":201},{"$f":"MassDataLink!A184","v":181},{"$f":"LeadData!A95","v":92},{"$f":"StrokeData!A205","v":202},{"$f":"MassDataLink!A186","v":183},-1,-1,-1,-1,-1,-1,-1,-1,-1,-1,-1,-1,-1,-1,-1]
[31,"RCA2-GS4NA-20",30,50,0,{"$f":"LeadData!A96","v":93},{"$f":"StrokeData!A206","v":203},{"$f":"MassDataLink!A188","v":185},{"$f":"LeadData!A97","v":94},{"$f":"StrokeData!A207","v":204},{"$f":"MassDataLink!A190","v":187},{"$f":"LeadData!A98","v":95},{"$f":"StrokeData!A208","v":205},{"$f":"MassDataLink!A192","v":189},-1,-1,-1,-1,-1,-1,-1,-1,-1,-1,-1,-1,-1,-1,-1]
[{"$f":"A34+1","v":32},"RCA2-GS4NA-20-*S",30,50,0,{"$f":"LeadData!A99","v":96},{"$f":"StrokeData!A209","v":206},{"$f":"MassDataLink!A194","v":191},{"$f":"LeadData!A100","v":97},{"$f":"StrokeData!A210","v":207},{"$f":"MassDataLink!A196","v":193},{"$f":"LeadData!A101","v":98},{"$f":"StrokeData!A211","v":208},{"$f":"MassDataLink!A198","v":195},-1,-1,-1,-1,-1,-1,-1,-1,-1,-1,-1,-1,-1,-1,-1]
[{"$f":"A35+1","v":33},"RCA2-GD3NA-10",30,50,0,{"$f":"LeadData!A102","v":99},{"$f":"StrokeData!A212","v":209},{"$f":"MassDataLink!A200","v":197},{"$f":"LeadData!A103","v":100},{"$f":"StrokeData!A213","v":210},{"$f":"MassDataLink!A202","v":199},{"$f":"LeadData!A104","v":101},{"$f":"StrokeData!A214","v":211},{"$f":"MassDataLink!A204","v":201},-1,-1,-1,-1,-1,-1,-1,-1,-1,-1,-1,-1,-1,-1,-1]
[{"$f":"A36+1","v":34},"RCA2-GD3NA-10-*S",30,50,0,{"$f":"LeadData!A105","v":102},{"$f":"StrokeData!A215","v":212},{"$f":"MassDataLink!A206","v":203},{"$f":"LeadData!A106","v":103},{"$f":"StrokeData!A216","v":213},{"$f":"MassDataLink!A208","v":205},{"$f":"LeadData!A107","v":104},{"$f":"StrokeData!A217","v":214},{"$f":"MassDataLink!A210","v":207},-1,-1,-1,-1,-1,-1,-1,-1,-1,-1,-1,-1,-1,-1,-1]
[35,"RCA2-GD4NA-20",30,50,0,{"$f":"LeadData!A108","v":105},{"$f":"StrokeData!A218","v":215},{"$f":"MassDataLink!A212","v":209},{"$f":"LeadData!A109","v":106},{"$f":"StrokeData!A219","v":216},{"$f":"MassDataLink!A214","v":211},{"$f":"LeadData!A110","v":107},{"$f":"StrokeData!A220","v":217},{"$f":"MassDataLink!A216","v":213},-1,-1,-1,-1,-1,-1,-1,-1,-1,-1,-1,-1,-1,-1,-1]
[{"$f":"A38+1","v":36},"RCA2-GD4NA-20-*S",30,50,0,{"$f":"LeadData!A111","v":108},{"$f":"StrokeData!A221","v":218},{"$f":"MassDataLink!A218","v":215},{"$f":"LeadData!A112","v":109},{"$f":"StrokeData!A222","v":219},{"$f":"MassDataLink!A220","v":217},{"$f":"LeadData!A113","v":110},{"$f":"StrokeData!A223","v":220},{"$f":"MassDataLink!A222","v":219},-1,-1,-1,-1,-1,-1,-1,-1,-1,-1,-1,-1,-1,-1,-1]
[{"$f":"A39+1","v":37},"RCA2-SD3NA-10",25,50,0,{"$f":"LeadData!A114","v":111},{"$f":"StrokeData!A224","v":221},{"$f":"MassDataLink!A224","v":221},{"$f":"LeadData!A115","v":112},{"$f":"StrokeData!A225","v":222},{"$f":"MassDataLink!A226","v":223},{"$f":"LeadData!A116","v":113},{"$f":"StrokeData!A226","v":223},{"$f":"MassDataLink!A228","v":225},-1,-1,-1,-1,-1,-1,-1,-1,-1,-1,-1,-1,-1,-1,-1]
[{"$f":"A40+1","v":38},"RCA2-SD3NA-10-*S",25,50,0,{"$f":"LeadData!A117","v":114},{"$f":"StrokeData!A227","v":224},{"$f":"MassDataLink!A230","v":227},{"$f":"LeadData!A118","v":115},{"$f":"StrokeData!A228","v":225},{"$f":"MassDataLink!A232","v":229},{"$f":"LeadData!A119","v":116},{"$f":"StrokeData!A229","v":226},{"$f":"MassDataLink!A234","v":231},-1,-1,-1,-1,-1,-1,-1,-1,-1,-1,-1,-1,-1,-1,-1]
[39,"RCA2-SD4NA-20",25,75,0,{"$f":"LeadData!A120","v":117},{"$f":"StrokeData!A230","v":227},{"$f":"MassDataLink!A236","v":233},{"$f":"LeadData!A121","v":118},{"$f":"StrokeData!A231","v":228},{"$f":"MassDataLink!A238","v":235},{"$f":"LeadData!A122","v":119},{"$f":"StrokeData!A232","v":229},{"$f":"MassDataLink!A240","v":237},-1,-1,-1,-1,-1,-1,-1,-1,-1,-1,-1,-1,-1,-1,-1]
[40,"RCA2-SD4NA-20-*S",25,75,0,{"$f":"LeadData!A123","v":120},{"$f":"StrokeData!A233","v":230},{"$f":"MassDataLink!A242","v":239},{"$f":"LeadData!A124","v":121},{"$f":"StrokeData!A234","v":231},{"$f":"MassDataLink!A244","v":241},{"$f":"LeadData!A125","v":122},{"$f":"StrokeData!A235","v":232},{"$f":"MassDataLink!A246","v":243},-1,-1,-1,-1,-1,-1,-1,-1,-1,-1,-1,-1,-1,-1,-1]
[{"$f":"A43+1","v":41},"RCA-RA3C-20",50,200,0,{"$f":"LeadData!A126","v":123},{"$f":"StrokeData!A236","v":233},{"$f":"MassDataLink!A248","v":245},{"$f":"LeadData!A127","v":124},{"$f":"StrokeData!A237","v":234},{"$f":"MassDataLink!A250","v":247},{"$f":"LeadData!A128","v":125},{"$f":"StrokeData!A238","v":235},{"$f":"MassDataLink!A252","v":249},-1,-1,-1,-1,-1,-1,-1,-1,-1,-1,-1,-1,-1,-1,-1]
[{"$f":"A44+1","v":42},"RCA-RA4C-20",50,300,0,{"$f":"LeadData!A129","v":126},{"$f":"StrokeData!A239","v":236},{"$f":"MassDataLink!A254","v":251},{"$f":"LeadData!A130","v":127},{"$f":"StrokeData!A240","v":237},{"$f":"MassDataLink!A256","v":253},{"$f":"LeadData!A131","v":128},{"$f":"StrokeData!A241","v":238},{"$f":"MassDataLink!A258","v":255},-1,-1,-1,-1,-1,-1,-1,-1,-1,-1,-1,-1,-1,-1,-1]
[{"$f":"A45+1","v":43},"RCA-RA4C-30",50,300,0,{"$f":"LeadData!A132","v":129},{"$f":"StrokeData!A242","v":239},{"$f":"MassDataLink!A260","v":257},{"$f":"LeadData!A133","v":130},{"$f":"StrokeData!A243","v":240},{"$f":"MassDataLink!A262","v":259},{"$f":"LeadData!A134","v":131},{"$f":"StrokeData!A244","v":241},{"$f":"MassDataLink!A264","v":261},-1,-1,-1,-1,-1,-1,-1,-1,-1,-1,-1,-1,-1,-1,-1]
[{"$f":"A46+1","v":44},"RCA-RA3D-20",50,200,0,{"$f":"LeadData!A135","v":132},{"$f":"StrokeData!A245","v":242},{"$f":"MassDataLink!A266","v":263},{"$f":"LeadData!A136","v":133},{"$f":"StrokeData!A246","v":243},{"$f":"MassDataLink!A268","v":265},{"$f":"LeadData!A137","v":134},{"$f":"StrokeData!A247","v":244},{"$f":"MassDataLink!A270","v":267},-1,-1,-1,-1,-1,-1,-1,-1,-1,-1,-1,-1,-1,-1,-1]
[45,"RCA-RA4D-20",50,300,0,{"$f":"LeadData!A138","v":135},{"$f":"StrokeData!A248","v":245},{"$f":"MassDataLink!A272","v":269},{"$f":"LeadData!A139","v":136},{"$f":"StrokeData!A249","v":246},{"$f":"MassDataLink!A274","v":271},{"$f":"LeadData!A140","v":137},{"$f":"StrokeData!A250","v":247},{"$f":"MassDataLink!A276","v":273},-1,-1,-1,-1,-1,-1,-1,-1,-1,-1,-1,-1,-1,-1,-1]
[46,"RCA-RA4D-30",50,300,0,{"$f":"LeadData!A141","v":138},{"$f":"StrokeData!A251","v":248},{"$f":"MassDataLink!A278","v":275},{"$f":"LeadData!A142","v":139},{"$f":"StrokeData!A252","v":249},{"$f":"MassDataLink!A280","v":277},{"$f":"LeadData!A143","v":140},{"$f":"StrokeData!A253","v":250},{"$f":"MassDataLink!A282","v":279},-1,-1,-1,-1,-1,-1,-1,-1,-1,-1,-1,-1,-1,-1,-1]
[47,"RCA-RA3R-20",50,200,0,{"$f":"LeadData!A144","v":141},{"$f":"StrokeData!A254","v":251},{"$f":"MassDataLink!A284","v":281},{"$f":"LeadData!A145","v":142},{"$f":"StrokeData!A255","v":252},{"$f":"MassDataLink!A286","v":283},{"$f":"LeadData!A146","v":143},{"$f":"StrokeData!A256","v":253},{"$f":"MassDataLink!A288","v":285},-1,-1,-1,-1,-1,-1,-1,-1,-1,-1,-1,-1,-1,-1,-1]
[48,"RCA-RA4R-20",50,300,0,{"$f":"LeadData!A147","v":144},{"$f":"StrokeData!A257","v":254},{"$f":"MassDataLink!A290","v":287},{"$f":"LeadData!A148","v":145},{"$f":"StrokeData!A258","v":255},{"$f":"MassDataLink!A292","v":289},{"$f":"LeadData!A149","v":146},{"$f":"StrokeData!A259","v":256},{"$f":"MassDataLink!A294","v":291},-1,-1,-1,-1,-1,-1,-1,-1,-1,-1,-1,-1,-1,-1,-1]
[49,"RCA-RA4R-30",50,300,0,{"$f":"LeadData!A150","v":147},{"$f":"StrokeData!A260","v":257},{"$f":"MassDataLink!A296","v":293},{"$f":"LeadData!A151","v":148},{"$f":"StrokeData!A261","v":258},{"$f":"MassDataLink!A298","v":295},{"$f":"LeadData!A152","v":149},{"$f":"StrokeData!A262","v":259},{"$f":"MassDataLink!A300","v":297},-1,-1,-1,-1,-1,-1,-1,-1,-1,-1,-1,-1,-1,-1,-1]
[50,"RCA-SRA4R-20",20,200,0,{"$f":"LeadData!A153","v":150},{"$f":"StrokeData!A263","v":260},{"$f":"MassDataLink!A302","v":299},{"$f":"LeadData!A154","v":151},{"$f":"StrokeData!A264","v":261},{"$f":"MassDataLink!A304","v":301},-1,-1,-1,-1,-1,-1,-1,-1,-1,-1,-1,-1,-1,-1,-1,-1,-1,-1]
[{"$f":"A53+1","v":51},"RCA-RGS3C-20",50,200,0,{"$f":"LeadData!A155","v":152},{"$f":"StrokeData!A265","v":262},{"$f":"MassDataLink!A306","v":303},{"$f":"LeadData!A156","v":153},{"$f":"StrokeData!A266","v":263},{"$f":"MassDataLink!A308","v":305},{"$f":"LeadData!A157","v":154},{"$f":"StrokeData!A267","v":264},{"$f":"MassDataLink!A310","v":307},-1,-1,-1,-1,-1,-1,-1,-1,-1,-1,-1,-1,-1,-1,-1]
[{"$f":"A54+1","v":52},"RCA-RGS4C-20",50,300,0,{"$f":"LeadData!A158","v":155},{"$f":"StrokeData!A268","v":265},{"$f":"MassDataLink!A312","v":309},{"$f":"LeadData!A159","v":156},{"$f":"StrokeData!A269","v":266},{"$f":"MassDataLink!A314","v":311},{"$f":"LeadData!A160","v":157},{"$f":"StrokeData!A270","v":267},{"$f":"MassDataLink!A316","v":313},-1,-1,-1,-1,-1,-1,-1,-1,-1,-1,-1,-1,-1,-1,-1]
[{"$f":"A55+1","v":53},"RCA-RGS4C-30",50,300,0,{"$f":"LeadData!A161","v":158},{"$f":"StrokeData!A271","v":268},{"$f":"MassDataLink!A318","v":315},{"$f":"LeadData!A162","v":159},{"$f":"StrokeData!A272","v":269},{"$f":"MassDataLink!A320","v":317},{"$f":"LeadData!A163","v":160},{"$f":"StrokeData!A273","v":270},{"$f":"MassDataLink!A322","v":319},-1,-1,-1,-1,-1,-1,-1,-1,-1,-1,-1,-1,-1,-1,-1]
[{"$f":"A56+1","v":54},"RCA-RGS3D-20",50,200,0,{"$f":"LeadData!A164","v":161},{"$f":"StrokeData!A274","v":271},{"$f":"MassDataLink!A324","v":321},{"$f":"LeadData!A165","v":162},{"$f":"StrokeData!A275","v":272},{"$f":"MassDataLink!A326","v":323},{"$f":"LeadData!A166","v":163},{"$f":"StrokeData!A276","v":273},{"$f":"MassDataLink!A328","v":325},-1,-1,-1,-1,-1,-1,-1,-1,-1,-1,-1,-1,-1,-1,-1]
[55,"RCA-RGS4D-20",50,300,0,{"$f":"LeadData!A167","v":164},{"$f":"StrokeData!A277","v":274},{"$f":"MassDataLink!A330","v":327},{"$f":"LeadData!A168","v":165},{"$f":"StrokeData!A278","v":275},{"$f":"MassDataLink!A332","v":329},{"$f":"LeadData!A169","v":166},{"$f":"StrokeData!A279","v":276},{"$f":"MassDataLink!A334","v":331},-1,-1,-1,-1,-1,-1,-1,-1,-1,-1,-1,-1,-1,-1,-1]
[56,"RCA-RGS4D-30",50,300,0,{"$f":"LeadData!A170","v":167},{"$f":"StrokeData!A280","v":277},{"$f":"MassDataLink!A336","v":333},{"$f":"LeadData!A171","v":168},{"$f":"StrokeData!A281","v":278},{"$f":"MassDataLink!A338","v":335},{"$f":"LeadData!A172","v":169},{"$f":"StrokeData!A282","v":279},{"$f":"MassDataLink!A340","v":337},-1,-1,-1,-1,-1,-1,-1,-1,-1,-1,-1,-1,-1,-1,-1]
[57,"RCA-SRGS4R-20",20,200,0,{"$f":"LeadData!A173","v":170},{"$f":"StrokeData!A283","v":280},{"$f":"MassDataLink!A342","v":339},{"$f":"LeadData!A174","v":171},{"$f":"StrokeData!A284","v":281},{"$f":"MassDataLink!A344","v":341},-1,-1,-1,-1,-1,-1,-1,-1,-1,-1,-1,-1,-1,-1,-1,-1,-1,-1]
[{"$f":"A60+1","v":58},"RCA-RGD3C-20",50,200,0,{"$f":"LeadData!A175","v":172},{"$f":"StrokeData!A285","v":282},{"$f":"MassDataLink!A346","v":343},{"$f":"LeadData!A176","v":173},{"$f":"StrokeData!A286","v":283},{"$f":"MassDataLink!A348","v":345},{"$f":"LeadData!A177","v":174},{"$f":"StrokeData!A287","v":284},{"$f":"MassDataLink!A350","v":347},-1,-1,-1,-1,-1,-1,-1,-1,-1,-1,-1,-1,-1,-1,-1]
[{"$f":"A61+1","v":59},"RCA-RGD4C-20",50,300,0,{"$f":"LeadData!A178","v":175},{"$f":"StrokeData!A288","v":285},{"$f":"MassDataLink!A352","v":349},{"$f":"LeadData!A179","v":176},{"$f":"StrokeData!A289","v":286},{"$f":"MassDataLink!A354","v":351},{"$f":"LeadData!A180","v":177},{"$f":"StrokeData!A290","v":287},{"$f":"MassDataLink!A356","v":353},-1,-1,-1,-1,-1,-1,-1,-1,-1,-1,-1,-1,-1,-1,-1]
[{"$f":"A62+1","v":60},"RCA-RGD4C-30",50,300,0,{"$f":"LeadData!A181","v":178},{"$f":"StrokeData!A291","v":288},{"$f":"MassDataLink!A358","v":355},{"$f":"LeadData!A182","v":179},{"$f":"StrokeData!A292","v":289},{"$f":"MassDataLink!A360","v":357},{"$f":"LeadData!A183","v":180},{"$f":"StrokeData!A293","v":290},{"$f":"MassDataLink!A362","v":359},-1,-1,-1,-1,-1,-1,-1,-1,-1,-1,-1,-1,-1,-1,-1]
[{"$f":"A63+1","v":61},"RCA-RGD3D-20",50,200,0,{"$f":"LeadData!A184","v":181},{"$f":"StrokeData!A294","v":291},{"$f":"MassDataLink!A364","v":361},{"$f":"LeadData!A185","v":182},{"$f":"StrokeData!A295","v":292},{"$f":"MassDataLink!A366","v":363},{"$f":"LeadData!A186","v":183},{"$f":"StrokeData!A296","v":293},{"$f":"MassDataLink!A368","v":365},-1,-1,-1,-1,-1,-1,-1,-1,-1,-1,-1,-1,-1,-1,-1]
[62,"RCA-RGD4D-20",50,300,0,{"$f":"LeadData!A187","v":184},{"$f":"StrokeData!A297","v":294},{"$f":"MassDataLink!A370","v":367},{"$f":"LeadData!A188","v":185},{"$f":"StrokeData!A298","v":295},{"$f":"MassDataLink!A372","v":369},{"$f":"LeadData!A189","v":186},{"$f":"StrokeData!A299","v":296},{"$f":"MassDataLink!A374","v":371},-1,-1,-1,-1,-1,-1,-1,-1,-1,-1,-1,-1,-1,-1,-1]
[63,"RCA-RGD4D-30",50,300,0,{"$f":"LeadData!A190","v":187},{"$f":"StrokeData!A300","v":297},{"$f":"MassDataLink!A376","v":373},{"$f":"LeadData!A191","v":188},{"$f":"StrokeData!A301","v":298},{"$f":"MassDataLink!A378","v":375},{"$f":"LeadData!A192","v":189},{"$f":"StrokeData!A302","v":299},{"$f":"MassDataLink!A380","v":377},-1,-1,-1,-1,-1,-1,-1,-1,-1,-1,-1,-1,-1,-1,-1]
[64,"RCA-RGD3R-20",50,200,0,{"$f":"LeadData!A193","v":190},{"$f":"StrokeData!A303","v":300},{"$f":"MassDataLink!A382","v":379},{"$f":"LeadData!A194","v":191},{"$f":"StrokeData!A304","v":301},{"$f":"MassDataLink!A384","v":381},{"$f":"LeadData!A195","v":192},{"$f":"StrokeData!A305","v":302},{"$f":"MassDataLink!A386","v":383},-1,-1,-1,-1,-1,-1,-1,-1,-1,-1,-1,-1,-1,-1,-1]
[65,"RCA-RGD4R-20",50,300,0,{"$f":"LeadData!A196","v":193},{"$f":"StrokeData!A306","v":303},{"$f":"MassDataLink!A388","v":385},{"$f":"LeadData!A197","v":194},{"$f":"StrokeData!A307","v":304},{"$f":"MassDataLink!A390","v":387},{"$f":"LeadData!A198","v":195},{"$f":"StrokeData!A308","v":305},{"$f":"MassDataLink!A392","v":389},-1,-1,-1,-1,-1,-1,-1,-1,-1,-1,-1,-1,-1,-1,-1]
[66,"RCA-RGD4R-30",50,300,0,{"$f":"LeadData!A199","v":196},{"$f":"StrokeData!A309","v":306},{"$f":"MassDataLink!A394","v":391},{"$f":"LeadData!A200","v":197},{"$f":"StrokeData!A310","v":307},{"$f":"MassDataLink!A396","v":393},{"$f":"LeadData!A201","v":198},{"$f":"StrokeData!A311","v":308},{"$f":"MassDataLink!A398","v":395},-1,-1,-1,-1,-1,-1,-1,-1,-1,-1,-1,-1,-1,-1,-1]
[{"$f":"A69+1","v":67},"RCA-SRGD4R-20",20,200,0,{"$f":"LeadData!A202","v":199},{"$f":"StrokeData!A312","v":309},{"$f":"MassDataLink!A400","v":397},{"$f":"LeadData!A203","v":200},{"$f":"StrokeData!A313","v":310},{"$f":"MassDataLink!A402","v":399},-1,-1,-1,-1,-1,-1,-1,-1,-1,-1,-1,-1,-1,-1,-1,-1,-1,-1]
[{"$f":"A70+1","v":68},"RCA2-TCA3NA-10",30,50,0,{"$f":"LeadData!A204","v":201},{"$f":"StrokeData!A314","v":311},{"$f":"MassDataLink!A404","v":401},{"$f":"LeadData!A205","v":202},{"$f":"StrokeData!A315","v":312},{"$f":"MassDataLink!A406","v":403},{"$f":"LeadData!A206","v":203},{"$f":"StrokeData!A316","v":313},{"$f":"MassDataLink!A408","v":405},-1,-1,-1,-1,-1,-1,-1,-1,-1,-1,-1,-1,-1,-1,-1]
[{"$f":"A71+1","v":69},"RCA2-TCA3NA-10-*S",30,50,0,{"$f":"LeadData!A207","v":204},{"$f":"StrokeData!A317","v":314},{"$f":"MassDataLink!A410","v":407},{"$f":"LeadData!A208","v":205},{"$f":"StrokeData!A318","v":315},{"$f":"MassDataLink!A412","v":409},{"$f":"LeadData!A209","v":206},{"$f":"StrokeData!A319","v":316},{"$f":"MassDataLink!A414","v":411},-1,-1,-1,-1,-1,-1,-1,-1,-1,-1,-1,-1,-1,-1,-1]
[{"$f":"A72+1","v":70},"RCA2-TCA4NA-20",30,50,0,{"$f":"LeadData!A210","v":207},{"$f":"StrokeData!A320","v":317},{"$f":"MassDataLink!A416","v":413},{"$f":"LeadData!A211","v":208},{"$f":"StrokeData!A321","v":318},{"$f":"MassDataLink!A418","v":415},{"$f":"LeadData!A212","v":209},{"$f":"StrokeData!A322","v":319},{"$f":"MassDataLink!A420","v":417},-1,-1,-1,-1,-1,-1,-1,-1,-1,-1,-1,-1,-1,-1,-1]
[{"$f":"A73+1","v":71},"RCA2-TCA4NA-20-*S",30,50,0,{"$f":"LeadData!A213","v":210},{"$f":"StrokeData!A323","v":320},{"$f":"MassDataLink!A422","v":419},{"$f":"LeadData!A214","v":211},{"$f":"StrokeData!A324","v":321},{"$f":"MassDataLink!A424","v":421},{"$f":"LeadData!A215","v":212},{"$f":"StrokeData!A325","v":322},{"$f":"MassDataLink!A426","v":423},-1,-1,-1,-1,-1,-1,-1,-1,-1,-1,-1,-1,-1,-1,-1]
[{"$f":"A74+1","v":72},"RCA2-TWA3NA-10",30,50,0,{"$f":"LeadData!A216","v":213},{"$f":"StrokeData!A326","v":323},{"$f":"MassDataLink!A428","v":425},{"$f":"LeadData!A217","v":214},{"$f":"StrokeData!A327","v":324},{"$f":"MassDataLink!A430","v":427},{"$f":"LeadData!A218","v":215},{"$f":"StrokeData!A328","v":325},{"$f":"MassDataLink!A432","v":429},-1,-1,-1,-1,-1,-1,-1,-1,-1,-1,-1,-1,-1,-1,-1]
[{"$f":"A75+1","v":73},"RCA2-TWA3NA-10-*S",30,50,0,{"$f":"LeadData!A219","v":216},{"$f":"StrokeData!A329","v":326},{"$f":"MassDataLink!A434","v":431},{"$f":"LeadData!A220","v":217},{"$f":"StrokeData!A330","v":327},{"$f":"MassDataLink!A436","v":433},{"$f":"LeadData!A221","v":218},{"$f":"StrokeData!A331","v":328},{"$f":"MassDataLink!A438","v":435},-1,-1,-1,-1,-1,-1,-1,-1,-1,-1,-1,-1,-1,-1,-1]
[74,"RCA2-TWA4NA-20",30,50,0,{"$f":"LeadData!A222","v":219},{"$f":"StrokeData!A332","v":329},{"$f":"MassDataLink!A440","v":437},{"$f":"LeadData!A223","v":220},{"$f":"StrokeData!A333","v":330},{"$f":"MassDataLink!A442","v":439},{"$f":"LeadData!A224","v":221},{"$f":"StrokeData!A334","v":331},{"$f":"MassDataLink!A444","v":441},-1,-1,-1,-1,-1,-1,-1,-1,-1,-1,-1,-1,-1,-1,-1]
[{"$f":"A77+1","v":75},"RCA2-TWA4NA-20-*S",30,50,0,{"$f":"LeadData!A225","v":222},{"$f":"StrokeData!A335","v":332},{"$f":"MassDataLink!A446","v":443},{"$f":"LeadData!A226","v":223},{"$f":"StrokeData!A336","v":333},{"$f":"MassDataLink!A448","v":445},{"$f":"LeadData!A227","v":224},{"$f":"StrokeData!A337","v":334},{"$f":"MassDataLink!A450","v":447},-1,-1,-1,-1,-1,-1,-1,-1,-1,-1,-1,-1,-1,-1,-1]
[{"$f":"A78+1","v":76},"RCA2-TFA3NA-10",30,50,0,{"$f":"LeadData!A228","v":225},{"$f":"StrokeData!A338","v":335},{"$f":"MassDataLink!A452","v":449},{"$f":"LeadData!A229","v":226},{"$f":"StrokeData!A339","v":336},{"$f":"MassDataLink!A454","v":451},{"$f":"LeadData!A230","v":227},{"$f":"StrokeData!A340","v":337},{"$f":"MassDataLink!A456","v":453},-1,-1,-1,-1,-1,-1,-1,-1,-1,-1,-1,-1,-1,-1,-1]
[{"$f":"A79+1","v":77},"RCA2-TFA3NA-10-*S",30,50,0,{"$f":"LeadData!A231","v":228},{"$f":"StrokeData!A341","v":338},{"$f":"MassDataLink!A458","v":455},{"$f":"LeadData!A232","v":229},{"$f":"StrokeData!A342","v":339},{"$f":"MassDataLink!A460","v":457},{"$f":"LeadData!A233","v":230},{"$f":"StrokeData!A343","v":340},{"$f":"MassDataLink!A462","v":459},-1,-1,-1,-1,-1,-1,-1,-1,-1,-1,-1,-1,-1,-1,-1]
[78,"RCA2-TFA4NA-20",30,50,0,{"$f":"LeadData!A234","v":231},{"$f":"StrokeData!A344","v":341},{"$f":"MassDataLink!A464","v":461},{"$f":"LeadData!A235","v":232},{"$f":"StrokeData!A345","v":342},{"$f":"MassDataLink!A466","v":463},{"$f":"LeadData!A236","v":233},{"$f":"StrokeData!A346","v":343},{"$f":"MassDataLink!A468","v":465},-1,-1,-1,-1,-1,-1,-1,-1,-1,-1,-1,-1,-1,-1,-1]
[79,"RCA2-TFA4NA-20-*S",30,50,0,{"$f":"LeadData!A237","v":234},{"$f":"StrokeData!A347","v":344},{"$f":"MassDataLink!A470","v":467},{"$f":"LeadData!A238","v":235},{"$f":"StrokeData!A348","v":345},{"$f":"MassDataLink!A472","v":469},{"$f":"LeadData!A239","v":236},{"$f":"StrokeData!A349","v":346},{"$f":"MassDataLink!A474","v":471},-1,-1,-1,-1,-1,-1,-1,-1,-1,-1,-1,-1,-1,-1,-1]
[80,"RCA2-TA4C",20,100,0,{"$f":"LeadData!A240","v":237},{"$f":"StrokeData!A350","v":347},{"$f":"MassDataLink!A476","v":473},{"$f":"LeadData!A241","v":238},{"$f":"StrokeData!A351","v":348},{"$f":"MassDataLink!A478","v":475},{"$f":"LeadData!A242","v":239},{"$f":"StrokeData!A352","v":349},{"$f":"MassDataLink!A480","v":477},-1,-1,-1,-1,-1,-1,-1,-1,-1,-1,-1,-1,-1,-1,-1]
[81,"RCA2-TA5C",25,100,0,{"$f":"LeadData!A243","v":240},{"$f":"StrokeData!A353","v":350},{"$f":"MassDataLink!A482","v":479},{"$f":"LeadData!A244","v":241},{"$f":"StrokeData!A354","v":351},{"$f":"MassDataLink!A484","v":481},{"$f":"LeadData!A245","v":242},{"$f":"StrokeData!A355","v":352},{"$f":"MassDataLink!A486","v":483},-1,-1,-1,-1,-1,-1,-1,-1,-1,-1,-1,-1,-1,-1,-1]
[82,"RCA2-TA6C",25,150,0,{"$f":"LeadData!A246","v":243},{"$f":"StrokeData!A356","v":353},{"$f":"MassDataLink!A488","v":485},{"$f":"LeadData!A247","v":244},{"$f":"StrokeData!A357","v":354},{"$f":"MassDataLink!A490","v":487},{"$f":"LeadData!A248","v":245},{"$f":"StrokeData!A358","v":355},{"$f":"MassDataLink!A492","v":489},-1,-1,-1,-1,-1,-1,-1,-1,-1,-1,-1,-1,-1,-1,-1]
[83,"RCA2-TA7C",25,200,0,{"$f":"LeadData!A249","v":246},{"$f":"StrokeData!A359","v":356},{"$f":"MassDataLink!A494","v":491},{"$f":"LeadData!A250","v":247},{"$f":"StrokeData!A360","v":357},{"$f":"MassDataLink!A496","v":493},{"$f":"LeadData!A251","v":248},{"$f":"StrokeData!A361","v":358},{"$f":"MassDataLink!A498","v":495},-1,-1,-1,-1,-1,-1,-1,-1,-1,-1,-1,-1,-1,-1,-1]
[84,"RCA2-TA4R",20,100,0,{"$f":"LeadData!A252","v":249},{"$f":"StrokeData!A362","v":359},{"$f":"MassDataLink!A500","v":497},{"$f":"LeadData!A253","v":250},{"$f":"StrokeData!A363","v":360},{"$f":"MassDataLink!A502","v":499},{"$f":"LeadData!A254","v":251},{"$f":"StrokeData!A364","v":361},{"$f":"MassDataLink!A504","v":501},-1,-1,-1,-1,-1,-1,-1,-1,-1,-1,-1,-1,-1,-1,-1]
[85,"RCA2-TA5R",25,100,0,{"$f":"LeadData!A255","v":252},{"$f":"StrokeData!A365","v":362},{"$f":"MassDataLink!A506","v":503},{"$f":"LeadData!A256","v":253},{"$f":"StrokeData!A366","v":363},{"$f":"MassDataLink!A508","v":505},{"$f":"LeadData!A257","v":254},{"$f":"StrokeData!A367","v":364},{"$f":"MassDataLink!A510","v":507},-1,-1,-1,-1,-1,-1,-1,-1,-1,-1,-1,-1,-1,-1,-1]
[86,"RCA2-TA6R",25,150,0,{"$f":"LeadData!A258","v":255},{"$f":"StrokeData!A368","v":365},{"$f":"MassDataLink!A512","v":509},{"$f":"LeadData!A259","v":256},{"$f":"StrokeData!A369","v":366},{"$f":"MassDataLink!A514","v":511},{"$f":"LeadData!A260","v":257},{"$f":"StrokeData!A370","v":367},{"$f":"MassDataLink!A516","v":513},-1,-1,-1,-1,-1,-1,-1,-1,-1,-1,-1,-1,-1,-1,-1]
[87,"RCA2-TA7R",25,200,0,{"$f":"LeadData!A261","v":258},{"$f":"StrokeData!A371","v":368},{"$f":"MassDataLink!A518","v":515},{"$f":"LeadData!A262","v":259},{"$f":"StrokeData!A372","v":369},{"$f":"MassDataLink!A520","v":517},{"$f":"LeadData!A263","v":260},{"$f":"StrokeData!A373","v":370},{"$f":"MassDataLink!A522","v":519},-1,-1,-1,-1,-1,-1,-1,-1,-1,-1,-1,-1,-1,-1,-1]
[88,"RCA-A4R-20",50,200,0,{"$f":"LeadData!A264","v":261},{"$f":"StrokeData!A374","v":371},{"$f":"MassDataLink!A524","v":521},{"$f":"LeadData!A265","v":262},{"$f":"StrokeData!A375","v":372},{"$f":"MassDataLink!A525","v":522},-1,-1,-1,-1,-1,-1,-1,-1,-1,-1,-1,-1,-1,-1,-1,-1,-1,-1]
[89,"RCA-A5R-20",50,200,0,{"$f":"LeadData!A266","v":263},{"$f":"StrokeData!A376","v":373},{"$f":"MassDataLink!A526","v":523},{"$f":"LeadData!A267","v":264},{"$f":"StrokeData!A377","v":374},{"$f":"MassDataLink!A527","v":524},-1,-1,-1,-1,-1,-1,-1,-1,-1,-1,-1,-1,-1,-1,-1,-1,-1,-1]
[90,"RCA-A6R-30",50,200,0,{"$f":"LeadData!A268","v":265},{"$f":"StrokeData!A378","v":375},{"$f":"MassDataLink!A528","v":525},{"$f":"LeadData!A269","v":266},{"$f":"StrokeData!A379","v":376},{"$f":"MassDataLink!A529","v":526},-1,-1,-1,-1,-1,-1,-1,-1,-1,-1,-1,-1,-1,-1,-1,-1,-1,-1]
[91,"RCL-SA1L",40,40,0,{"$f":"LeadData!A270","v":267},{"$f":"StrokeData!A380","v":377},{"$f":"MassDataLink!A530","v":527},-1,-1,-1,-1,-1,-1,-1,-1,-1,-1,-1,-1,-1,-1,-1,-1,-1,-1,-1,-1,-1]
[92,"RCL-SA2L",48,48,0,{"$f":"LeadData!A271","v":268},{"$f":"StrokeData!A381","v":378},{"$f":"MassDataLink!A535","v":532},-1,-1,-1,-1,-1,-1,-1,-1,-1,-1,-1,-1,-1,-1,-1,-1,-1,-1,-1,-1,-1]
[93,"RCL-SA3L",64,64,0,{"$f":"LeadData!A272","v":269},{"$f":"StrokeData!A382","v":379},{"$f":"MassDataLink!A540","v":537},-1,-1,-1,-1,-1,-1,-1,-1,-1,-1,-1,-1,-1,-1,-1,-1,-1,-1,-1,-1,-1]
[94,"RCL-SA4L",30,180,0,{"$f":"LeadData!A273","v":270},{"$f":"StrokeData!A383","v":380},{"$f":"MassDataLink!A545","v":542},-1,-1,-1,-1,-1,-1,-1,-1,-1,-1,-1,-1,-1,-1,-1,-1,-1,-1,-1,-1,-1]
[95,"RCL-SM4L",30,120,0,{"$f":"LeadData!A274","v":271},{"$f":"StrokeData!A384","v":381},{"$f":"MassDataLink!A550","v":547},-1,-1,-1,-1,-1,-1,-1,-1,-1,-1,-1,-1,-1,-1,-1,-1,-1,-1,-1,-1,-1]
[96,"RCL-SA5L",36,216,0,{"$f":"LeadData!A275","v":272},{"$f":"StrokeData!A385","v":382},{"$f":"MassDataLink!A555","v":552},-1,-1,-1,-1,-1,-1,-1,-1,-1,-1,-1,-1,-1,-1,-1,-1,-1,-1,-1,-1,-1]
[97,"RCL-SM5L",36,144,0,{"$f":"LeadData!A276","v":273},{"$f":"StrokeData!A386","v":383},{"$f":"MassDataLink!A560","v":557},-1,-1,-1,-1,-1,-1,-1,-1,-1,-1,-1,-1,-1,-1,-1,-1,-1,-1,-1,-1,-1]
[98,"RCL-SA6L",48,288,0,{"$f":"LeadData!A277","v":274},{"$f":"StrokeData!A387","v":384},{"$f":"MassDataLink!A565","v":562},-1,-1,-1,-1,-1,-1,-1,-1,-1,-1,-1,-1,-1,-1,-1,-1,-1,-1,-1,-1,-1]
[99,"RCL-SM6L",48,192,0,{"$f":"LeadData!A278","v":275},{"$f":"StrokeData!A388","v":385},{"$f":"MassDataLink!A570","v":567},-1,-1,-1,-1,-1,-1,-1,-1,-1,-1,-1,-1,-1,-1,-1,-1,-1,-1,-1,-1,-1]
[100,"RCL-RA1L",25,25,0,{"$f":"LeadData!A279","v":276},{"$f":"StrokeData!A389","v":386},{"$f":"MassDataLink!A575","v":572},-1,-1,-1,-1,-1,-1,-1,-1,-1,-1,-1,-1,-1,-1,-1,-1,-1,-1,-1,-1,-1]
[101,"RCL-RA2L",30,30,0,{"$f":"LeadData!A280","v":277},{"$f":"StrokeData!A390","v":387},{"$f":"MassDataLink!A581","v":578},-1,-1,-1,-1,-1,-1,-1,-1,-1,-1,-1,-1,-1,-1,-1,-1,-1,-1,-1,-1,-1]
[102,"RCL-RA3L",40,40,0,{"$f":"LeadData!A281","v":278},{"$f":"StrokeData!A391","v":388},{"$f":"MassDataLink!A587","v":584},-1,-1,-1,-1,-1,-1,-1,-1,-1,-1,-1,-1,-1,-1,-1,-1,-1,-1,-1,-1,-1]
[103,"RCA2-SA2AC",25,100,0,{"$f":"LeadData!A282","v":279},{"$f":"StrokeData!A392","v":389},{"$f":"MassDataLink!A593","v":590},{"$f":"LeadData!A283","v":280},{"$f":"StrokeData!A393","v":390},{"$f":"MassDataLink!A595","v":592},{"$f":"LeadData!A284","v":281},{"$f":"StrokeData!A394","v":391},{"$f":"MassDataLink!A597","v":594},-1,-1,-1,-1,-1,-1,-1,-1,-1,-1,-1,-1,-1,-1,-1]
[104,"RCA2-SA2AR",25,100,0,{"$f":"LeadData!A285","v":282},{"$f":"StrokeData!A395","v":392},{"$f":"MassDataLink!A599","v":596},{"$f":"LeadData!A286","v":283},{"$f":"StrokeData!A396","v":393},{"$f":"MassDataLink!A601","v":598},{"$f":"LeadData!A287","v":284},{"$f":"StrokeData!A397","v":394},{"$f":"MassDataLink!A603","v":600},-1,-1,-1,-1,-1,-1,-1,-1,-1,-1,-1,-1,-1,-1,-1]
[105,"RCA2-RA2AC",25,100,0,{"$f":"LeadData!A288","v":285},{"$f":"StrokeData!A398","v":395},{"$f":"MassDataLink!A605","v":602},{"$f":"LeadData!A289","v":286},{"$f":"StrokeData!A399","v":396},{"$f":"MassDataLink!A607","v":604},{"$f":"LeadData!A290","v":287},{"$f":"StrokeData!A400","v":397},{"$f":"MassDataLink!A609","v":606},-1,-1,-1,-1,-1,-1,-1,-1,-1,-1,-1,-1,-1,-1,-1]
[106,"RCA2-RA2AR",25,100,0,{"$f":"LeadData!A291","v":288},{"$f":"StrokeData!A401","v":398},{"$f":"MassDataLink!A611","v":608},{"$f":"LeadData!A292","v":289},{"$f":"StrokeData!A402","v":399},{"$f":"MassDataLink!A613","v":610},{"$f":"LeadData!A293","v":290},{"$f":"StrokeData!A403","v":400},{"$f":"MassDataLink!A615","v":612},-1,-1,-1,-1,-1,-1,-1,-1,-1,-1,-1,-1,-1,-1,-1]
[107,"RCD-RA1D",10,30,0,{"$f":"LeadData!A294","v":291},{"$f":"StrokeData!A404","v":401},{"$f":"MassDataLink!A617","v":614},-1,-1,-1,-1,-1,-1,-1,-1,-1,-1,-1,-1,-1,-1,-1,-1,-1,-1,-1,-1,-1]

{"sheet":"LeadData","index":3,"n_rows":294,"n_cols":10,"rows_kept":294,"cut":false,"hidden":true,"merged":[[281,9,283,9],[284,9,286,9],[287,9,289,9],[290,9,292,9],[65,9,67,9],[77,9,79,9],[89,9,91,9],[101,9,103,9],[71,9,73,9],[74,9,76,9],[163,9,165,9],[157,9,159,9],[95,9,97,9],[98,9,100,9],[104,9,106,9],[80,9,82,9],[83,9,85,9],[86,9,88,9],[92,9,94,9],[160,9,162,9],[44,9,46,9],[107,9,109,9],[125,9,127,9],[110,9,112,9],[116,9,118,9],[122,9,124,9],[119,9,121,9],[113,9,115,9],[128,9,130,9],[131,9,133,9],[154,9,156,9],[140,9,142,9],[30,9,33,9],[34,9,37,9],[68,9,70,9],[47,9,49,9],[50,9,52,9],[53,9,55,9],[56,9,58,9],[59,9,61,9],[62,9,64,9],[24,9,26,9],[18,9,20,9],[21,9,23,9],[245,9,247,9],[206,9,208,9],[192,9,194,9],[195,9,197,9],[212,9,214,9],[218,9,220,9],[239,9,241,9],[242,9,244,9],[198,9,200,9],[201,9,202,9],[27,9,29,9],[38,9,40,9],[41,9,43,9],[3,9,5,9],[6,9,8,9],[9,9,11,9],[12,9,14,9],[15,9,17,9],[267,9,268,9],[248,9,250,9],[251,9,253,9],[254,9,256,9],[257,9,259,9],[260,9,262,9],[263,9,264,9],[265,9,266,9],[143,9,145,9],[146,9,148,9],[149,9,151,9],[137,9,139,9],[134,9,136,9],[152,9,153,9],[166,9,168,9],[169,9,171,9],[172,9,173,9],[174,9,176,9],[215,9,217,9],[183,9,185,9],[186,9,188,9],[177,9,179,9],[180,9,182,9],[189,9,191,9],[209,9,211,9],[203,9,205,9],[227,9,229,9],[236,9,238,9],[221,9,223,9],[224,9,226,9],[230,9,232,9],[233,9,235,9]]}
[9.8066499999999994,1,3,4,5,6,10,11,13]
["データ№","ﾘｰﾄﾞ長","水平定格加速度","垂直定格加速度","水平最大加速度","垂直最大加速度","ｷﾞｱ比分子","ｷﾞｱ比分母","ｽﾄﾛｰｸ刻み","備考"]
[{"$f":"ModelData!A3","v":0},"0.001㎜","0.001mm/s^2","0.001mm/s^2","0.001mm/s^2","0.001mm/s^2",null,null,"mm"]
[{"$f":"A3+1","v":1},2000,{"$f":"$A$1*1000^2*0.2","v":1961330},{"$f":"$A$1*1000^2*0.2","v":1961330},{"$f":"$A$1*1000^2*0.2","v":1961330},{"$f":"$A$1*1000^2*0.2","v":1961330},1,1,50,"RCA2-SA3C"]
[{"$f":"A4+1","v":2},4000,{"$f":"$A$1*1000^2*0.3","v":2941995},{"$f":"$A$1*1000^2*0.2","v":1961330},{"$f":"$A$1*1000^2*0.3","v":2941995},{"$f":"$A$1*1000^2*0.2","v":1961330},1,1,50]
[{"$f":"A5+1","v":3},6000,{"$f":"$A$1*1000^2*0.3","v":2941995},1961330,{"$f":"$A$1*1000^2*0.3","v":2941995},1961330,1,1,50]
[4,2500,{"$f":"$A$1*1000^2*0.2","v":1961330},1961330,{"$f":"$A$1*1000^2*0.2","v":1961330},1961330,1,1,50,"RCA2-SA4C"]
[5,5000,{"$f":"$A$1*1000^2*0.3","v":2941995},1961330,{"$f":"$A$1*1000^2*0.3","v":2941995},1961330,1,1,50]
[6,10000,{"$f":"$A$1*1000^2*0.3","v":2941995},1961330,{"$f":"$A$1*1000^2*0.3","v":2941995},1961330,1,1,50]
[7,3000,{"$f":"$A$1*1000^2*0.2","v":1961330},1961330,{"$f":"$A$1*1000^2*0.2","v":1961330},1961330,1,1,50,"RCA2-SA5C"]
[8,6000,{"$f":"$A$1*1000^2*0.3","v":2941995},1961330,{"$f":"$A$1*1000^2*0.3","v":2941995},1961330,1,1,50]
[9,12000,{"$f":"$A$1*1000^2*0.3","v":2941995},1961330,{"$f":"$A$1*1000^2*0.3","v":2941995},1961330,1,1,50]
[10,3000,{"$f":"$A$1*1000^2*0.2","v":1961330},1961330,{"$f":"$A$1*1000^2*0.2","v":1961330},1961330,1,1,50,"RCA2-SA6C"]
[11,6000,{"$f":"$A$1*1000^2*0.3","v":2941995},1961330,{"$f":"$A$1*1000^2*0.3","v":2941995},1961330,1,1,50]
[12,12000,{"$f":"$A$1*1000^2*0.3","v":2941995},1961330,{"$f":"$A$1*1000^2*0.3","v":2941995},1961330,1,1,50]
[13,2000,{"$f":"$A$1*1000^2*0.2","v":1961330},1961330,{"$f":"$A$1*1000^2*0.2","v":1961330},1961330,1,1,50,"RCA2-SA3R"]
[14,4000,{"$f":"$A$1*1000^2*0.3","v":2941995},1961330,{"$f":"$A$1*1000^2*0.3","v":2941995},1961330,1,1,50]
[15,6000,{"$f":"$A$1*1000^2*0.3","v":2941995},1961330,{"$f":"$A$1*1000^2*0.3","v":2941995},1961330,1,1,50]
[16,2500,{"$f":"$A$1*1000^2*0.2","v":1961330},1961330,{"$f":"$A$1*1000^2*0.2","v":1961330},1961330,1,1,50,"RCA2-SA4R"]
[17,5000,{"$f":"$A$1*1000^2*0.3","v":2941995},1961330,{"$f":"$A$1*1000^2*0.3","v":2941995},1961330,1,1,50]
[18,10000,{"$f":"$A$1*1000^2*0.3","v":2941995},1961330,{"$f":"$A$1*1000^2*0.3","v":2941995},1961330,1,1,50]
[19,3000,{"$f":"$A$1*1000^2*0.2","v":1961330},1961330,{"$f":"$A$1*1000^2*0.2","v":1961330},1961330,1,1,50,"RCA2-SA5R"]
[20,6000,{"$f":"$A$1*1000^2*0.3","v":2941995},1961330,{"$f":"$A$1*1000^2*0.3","v":2941995},1961330,1,1,50]
[21,12000,{"$f":"$A$1*1000^2*0.3","v":2941995},1961330,{"$f":"$A$1*1000^2*0.3","v":2941995},1961330,1,1,50]
[22,3000,{"$f":"$A$1*1000^2*0.2","v":1961330},1961330,{"$f":"$A$1*1000^2*0.2","v":1961330},1961330,1,1,50,"RCA2-SA6R"]
[23,6000,{"$f":"$A$1*1000^2*0.3","v":2941995},1961330,{"$f":"$A$1*1000^2*0.3","v":2941995},1961330,1,1,50]
[24,12000,{"$f":"$A$1*1000^2*0.3","v":2941995},1961330,{"$f":"$A$1*1000^2*0.3","v":2941995},1961330,1,1,50]
[25,2500,{"$f":"$A$1*1000^2*0.2","v":1961330},1961330,{"$f":"$A$1*1000^2*0.2","v":1961330},1961330,1,1,50,"RCA-SA4C-20"]
[26,5000,{"$f":"$A$1*1000^2*0.3","v":2941995},2941995,2941995,2941995,1,1,50]
[{"$f":"A29+1","v":27},10000,2941995,2941995,2941995,2941995,1,1,50]
[{"$f":"A30+1","v":28},3000,{"$f":"$A$1*1000^2*0.2","v":1961330},{"$f":"$A$1*1000^2*0.2","v":1961330},{"$f":"$A$1*1000^2*0.2","v":1961330},{"$f":"$A$1*1000^2*0.2","v":1961330},1,1,50,"RCA-SA5C-20"]
[29,6000,{"$f":"$A$1*1000^2*0.3","v":2941995},2941995,2941995,2941995,1,1,50]
[{"$f":"A32+1","v":30},12000,2941995,2941995,2941995,2941995,1,1,50]
[{"$f":"A33+1","v":31},20000,{"$f":"$A$1*1000^2*0.3","v":2941995},{"$f":"$A$1*1000^2*0.3","v":2941995},{"$f":"$A$1*1000^2*0.3","v":2941995},{"$f":"$A$1*1000^2*0.3","v":2941995},1,1,50]
[{"$f":"A34+1","v":32},3000,{"$f":"$A$1*1000^2*0.2","v":1961330},{"$f":"$A$1*1000^2*0.2","v":1961330},{"$f":"$A$1*1000^2*0.2","v":1961330},{"$f":"$A$1*1000^2*0.2","v":1961330},1,1,50,"RCA-SA6C-30"]
[33,6000,{"$f":"$A$1*1000^2*0.3","v":2941995},2941995,2941995,2941995,1,1,50]
[{"$f":"A36+1","v":34},12000,2941995,2941995,2941995,2941995,1,1,50]
[{"$f":"A37+1","v":35},20000,{"$f":"$A$1*1000^2*0.3","v":2941995},{"$f":"$A$1*1000^2*0.3","v":2941995},{"$f":"$A$1*1000^2*0.3","v":2941995},{"$f":"$A$1*1000^2*0.3","v":2941995},1,1,50]
[{"$f":"A38+1","v":36},2500,{"$f":"$A$1*1000^2*0.2","v":1961330},{"$f":"$A$1*1000^2*0.2","v":1961330},{"$f":"$A$1*1000^2*0.2","v":1961330},{"$f":"$A$1*1000^2*0.2","v":1961330},1,1,50,"RCA-SA4D-20"]
[37,5000,{"$f":"$A$1*1000^2*0.3","v":2941995},2941995,2941995,2941995,1,1,50]
[38,10000,2941995,2941995,2941995,2941995,1,1,50]
[39,3000,{"$f":"$A$1*1000^2*0.2","v":1961330},{"$f":"$A$1*1000^2*0.2","v":1961330},{"$f":"$A$1*1000^2*0.2","v":1961330},{"$f":"$A$1*1000^2*0.2","v":1961330},1,1,50,"RCA-SA5D-20"]
[40,6000,{"$f":"$A$1*1000^2*0.3","v":2941995},2941995,2941995,2941995,1,1,50]
[41,12000,2941995,2941995,2941995,2941995,1,1,50]
[42,3000,{"$f":"$A$1*1000^2*0.2","v":1961330},{"$f":"$A$1*1000^2*0.2","v":1961330},{"$f":"$A$1*1000^2*0.2","v":1961330},{"$f":"$A$1*1000^2*0.2","v":1961330},1,1,50,"RCA-SA6D-30"]
[43,6000,{"$f":"$A$1*1000^2*0.3","v":2941995},2941995,2941995,2941995,1,1,50]
[44,12000,2941995,2941995,2941995,2941995,1,1,50]
[45,2500,{"$f":"$A$1*1000^2*0.2","v":1961330},{"$f":"$A$1*1000^2*0.2","v":1961330},{"$f":"$A$1*1000^2*0.2","v":1961330},{"$f":"$A$1*1000^2*0.2","v":1961330},1,1,50,"RCA-SS4D-20"]
[46,5000,{"$f":"$A$1*1000^2*0.3","v":2941995},2941995,2941995,2941995,1,1,50]
[47,10000,2941995,2941995,2941995,2941995,1,1,50]
[48,3000,{"$f":"$A$1*1000^2*0.2","v":1961330},{"$f":"$A$1*1000^2*0.2","v":1961330},{"$f":"$A$1*1000^2*0.2","v":1961330},{"$f":"$A$1*1000^2*0.2","v":1961330},1,1,50,"RCA-SS5D-20"]
[49,6000,{"$f":"$A$1*1000^2*0.3","v":2941995},2941995,2941995,2941995,1,1,50]
[50,12000,2941995,2941995,2941995,2941995,1,1,50]
[51,3000,{"$f":"$A$1*1000^2*0.2","v":1961330},{"$f":"$A$1*1000^2*0.2","v":1961330},{"$f":"$A$1*1000^2*0.2","v":1961330},{"$f":"$A$1*1000^2*0.2","v":1961330},1,1,50,"RCA-SS6D-30"]
[52,6000,{"$f":"$A$1*1000^2*0.3","v":2941995},2941995,2941995,2941995,1,1,50]
[53,12000,2941995,2941995,2941995,2941995,1,1,50]
[54,2500,{"$f":"$A$1*1000^2*0.2","v":1961330},{"$f":"$A$1*1000^2*0.2","v":1961330},{"$f":"$A$1*1000^2*0.2","v":1961330},{"$f":"$A$1*1000^2*0.2","v":1961330},1,1,50,"RCA-SA4R-20"]
[55,5000,{"$f":"$A$1*1000^2*0.3","v":2941995},2941995,2941995,2941995,1,1,50]
[56,10000,2941995,2941995,2941995,2941995,1,1,50]
[57,3000,{"$f":"$A$1*1000^2*0.2","v":1961330},{"$f":"$A$1*1000^2*0.2","v":1961330},{"$f":"$A$1*1000^2*0.2","v":1961330},{"$f":"$A$1*1000^2*0.2","v":1961330},1,1,50,"RCA-SA5R-20"]
[58,6000,{"$f":"$A$1*1000^2*0.3","v":2941995},2941995,2941995,2941995,1,1,50]
[59,12000,2941995,2941995,2941995,2941995,1,1,50]
[60,3000,{"$f":"$A$1*1000^2*0.2","v":1961330},{"$f":"$A$1*1000^2*0.2","v":1961330},{"$f":"$A$1*1000^2*0.2","v":1961330},{"$f":"$A$1*1000^2*0.2","v":1961330},1,1,50,"RCA-SA6R-30"]
[61,6000,{"$f":"$A$1*1000^2*0.3","v":2941995},2941995,2941995,2941995,1,1,50]
[{"$f":"A64+1","v":62},12000,2941995,2941995,2941995,2941995,1,1,50]
[{"$f":"A65+1","v":63},1000,{"$f":"$A$1*1000^2*0.2","v":1961330},{"$f":"$A$1*1000^2*0.2","v":1961330},{"$f":"$A$1*1000^2*0.2","v":1961330},{"$f":"$A$1*1000^2*0.2","v":1961330},1,1,20,"RCA2-RN3NA-10"]
[{"$f":"A66+1","v":64},2000,{"$f":"$A$1*1000^2*0.3","v":2941995},{"$f":"$A$1*1000^2*0.2","v":1961330},{"$f":"$A$1*1000^2*0.3","v":2941995},{"$f":"$A$1*1000^2*0.2","v":1961330},1,1,20]
[{"$f":"A67+1","v":65},4000,{"$f":"$A$1*1000^2*0.3","v":2941995},1961330,{"$f":"$A$1*1000^2*0.3","v":2941995},1961330,1,1,20]
[{"$f":"A68+1","v":66},1000,{"$f":"$A$1*1000^2*0.2","v":1961330},1961330,{"$f":"$A$1*1000^2*0.2","v":1961330},1961330,1,1,20,"RCA2-RN3NA-10-*S"]
[67,2000,{"$f":"$A$1*1000^2*0.2","v":1961330},1961330,{"$f":"$A$1*1000^2*0.2","v":1961330},1961330,1,1,20]
[68,4000,{"$f":"$A$1*1000^2*0.2","v":1961330},1961330,{"$f":"$A$1*1000^2*0.2","v":1961330},1961330,1,1,20]
[{"$f":"A71+1","v":69},2000,{"$f":"$A$1*1000^2*0.2","v":1961330},1961330,{"$f":"$A$1*1000^2*0.2","v":1961330},1961330,1,1,20,"RCA2-RN4NA-20"]
[70,4000,{"$f":"$A$1*1000^2*0.3","v":2941995},1961330,{"$f":"$A$1*1000^2*0.3","v":2941995},1961330,1,1,20]
[71,6000,{"$f":"$A$1*1000^2*0.3","v":2941995},1961330,{"$f":"$A$1*1000^2*0.3","v":2941995},1961330,1,1,20]
[72,2000,{"$f":"$A$1*1000^2*0.2","v":1961330},1961330,{"$f":"$A$1*1000^2*0.2","v":1961330},1961330,1,1,20,"RCA2-RN4NA-20-*S"]
[73,4000,{"$f":"$A$1*1000^2*0.2","v":1961330},1961330,{"$f":"$A$1*1000^2*0.2","v":1961330},1961330,1,1,20]
[{"$f":"A76+1","v":74},6000,{"$f":"$A$1*1000^2*0.2","v":1961330},1961330,{"$f":"$A$1*1000^2*0.2","v":1961330},1961330,1,1,20]
[{"$f":"A77+1","v":75},1000,{"$f":"$A$1*1000^2*0.2","v":1961330},1961330,{"$f":"$A$1*1000^2*0.2","v":1961330},1961330,1,1,20,"RCA2-RP3NA-10"]
[{"$f":"A78+1","v":76},2000,{"$f":"$A$1*1000^2*0.3","v":2941995},1961330,{"$f":"$A$1*1000^2*0.3","v":2941995},1961330,1,1,20]
[{"$f":"A79+1","v":77},4000,{"$f":"$A$1*1000^2*0.3","v":2941995},1961330,{"$f":"$A$1*1000^2*0.3","v":2941995},1961330,1,1,20]
[{"$f":"A80+1","v":78},1000,{"$f":"$A$1*1000^2*0.2","v":1961330},1961330,{"$f":"$A$1*1000^2*0.2","v":1961330},1961330,1,1,20,"RCA2-RP3NA-10-*S"]
[79,2000,{"$f":"$A$1*1000^2*0.2","v":1961330},1961330,{"$f":"$A$1*1000^2*0.2","v":1961330},1961330,1,1,20]
[80,4000,{"$f":"$A$1*1000^2*0.2","v":1961330},1961330,{"$f":"$A$1*1000^2*0.2","v":1961330},1961330,1,1,20]
[81,2000,{"$f":"$A$1*1000^2*0.2","v":1961330},1961330,{"$f":"$A$1*1000^2*0.2","v":1961330},1961330,1,1,20,"RCA2-RP4NA-20"]
[82,4000,{"$f":"$A$1*1000^2*0.3","v":2941995},1961330,{"$f":"$A$1*1000^2*0.3","v":2941995},1961330,1,1,20]
[83,6000,{"$f":"$A$1*1000^2*0.3","v":2941995},1961330,{"$f":"$A$1*1000^2*0.3","v":2941995},1961330,1,1,20]
[84,2000,{"$f":"$A$1*1000^2*0.2","v":1961330},1961330,{"$f":"$A$1*1000^2*0.2","v":1961330},1961330,1,1,20,"RCA2-RP4NA-20-*S"]
[85,4000,{"$f":"$A$1*1000^2*0.2","v":1961330},1961330,{"$f":"$A$1*1000^2*0.2","v":1961330},1961330,1,1,20]
[{"$f":"A88+1","v":86},6000,{"$f":"$A$1*1000^2*0.2","v":1961330},1961330,{"$f":"$A$1*1000^2*0.2","v":1961330},1961330,1,1,20]
[{"$f":"A89+1","v":87},1000,{"$f":"$A$1*1000^2*0.2","v":1961330},1961330,{"$f":"$A$1*1000^2*0.2","v":1961330},1961330,1,1,20,"RCA2-GS3NA-10"]
[{"$f":"A90+1","v":88},2000,{"$f":"$A$1*1000^2*0.3","v":2941995},1961330,{"$f":"$A$1*1000^2*0.3","v":2941995},1961330,1,1,20]
[{"$f":"A91+1","v":89},4000,{"$f":"$A$1*1000^2*0.3","v":2941995},1961330,{"$f":"$A$1*1000^2*0.3","v":2941995},1961330,1,1,20]
[{"$f":"A92+1","v":90},1000,{"$f":"$A$1*1000^2*0.2","v":1961330},1961330,{"$f":"$A$1*1000^2*0.2","v":1961330},1961330,1,1,20,"RCA2-GS3NA-10-*S"]
[91,2000,{"$f":"$A$1*1000^2*0.2","v":1961330},1961330,{"$f":"$A$1*1000^2*0.2","v":1961330},1961330,1,1,20]
[92,4000,{"$f":"$A$1*1000^2*0.2","v":1961330},1961330,{"$f":"$A$1*1000^2*0.2","v":1961330},1961330,1,1,20]
[93,2000,{"$f":"$A$1*1000^2*0.2","v":1961330},1961330,{"$f":"$A$1*1000^2*0.2","v":1961330},1961330,1,1,20,"RCA2-GS4NA-20"]
[94,4000,{"$f":"$A$1*1000^2*0.3","v":2941995},1961330,{"$f":"$A$1*1000^2*0.3","v":2941995},1961330,1,1,20]
[95,6000,{"$f":"$A$1*1000^2*0.3","v":2941995},1961330,{"$f":"$A$1*1000^2*0.3","v":2941995},1961330,1,1,20]
[96,2000,{"$f":"$A$1*1000^2*0.2","v":1961330},{"$f":"$A$1*1000^2*0.2","v":1961330},{"$f":"$A$1*1000^2*0.2","v":1961330},{"$f":"$A$1*1000^2*0.2","v":1961330},1,1,20,"RCA2-GS4NA-20-*S"]
[97,4000,{"$f":"$A$1*1000^2*0.2","v":1961330},1961330,{"$f":"$A$1*1000^2*0.2","v":1961330},1961330,1,1,20]
[{"$f":"A100+1","v":98},6000,{"$f":"$A$1*1000^2*0.2","v":1961330},1961330,{"$f":"$A$1*1000^2*0.2","v":1961330},1961330,1,1,20]
[{"$f":"A101+1","v":99},1000,{"$f":"$A$1*1000^2*0.2","v":1961330},1961330,{"$f":"$A$1*1000^2*0.2","v":1961330},1961330,1,1,20,"RCA2-GD3NA-10"]
[{"$f":"A102+1","v":100},2000,{"$f":"$A$1*1000^2*0.3","v":2941995},1961330,{"$f":"$A$1*1000^2*0.3","v":2941995},1961330,1,1,20]
[{"$f":"A103+1","v":101},4000,{"$f":"$A$1*1000^2*0.3","v":2941995},1961330,{"$f":"$A$1*1000^2*0.3","v":2941995},1961330,1,1,20]
[{"$f":"A104+1","v":102},1000,{"$f":"$A$1*1000^2*0.2","v":1961330},1961330,{"$f":"$A$1*1000^2*0.2","v":1961330},1961330,1,1,20,"RCA2-GD3NA-10-*S"]
[103,2000,{"$f":"$A$1*1000^2*0.2","v":1961330},1961330,{"$f":"$A$1*1000^2*0.2","v":1961330},1961330,1,1,20]
[104,4000,{"$f":"$A$1*1000^2*0.2","v":1961330},1961330,{"$f":"$A$1*1000^2*0.2","v":1961330},1961330,1,1,20]
[105,2000,{"$f":"$A$1*1000^2*0.2","v":1961330},1961330,{"$f":"$A$1*1000^2*0.2","v":1961330},1961330,1,1,20,"RCA2-GD4NA-20"]
[106,4000,{"$f":"$A$1*1000^2*0.3","v":2941995},1961330,{"$f":"$A$1*1000^2*0.3","v":2941995},1961330,1,1,20]
[107,6000,{"$f":"$A$1*1000^2*0.3","v":2941995},1961330,{"$f":"$A$1*1000^2*0.3","v":2941995},1961330,1,1,20]
[108,2000,{"$f":"$A$1*1000^2*0.2","v":1961330},1961330,{"$f":"$A$1*1000^2*0.2","v":1961330},1961330,1,1,20,"RCA2-GD4NA-20-*S"]
[109,4000,{"$f":"$A$1*1000^2*0.2","v":1961330},1961330,{"$f":"$A$1*1000^2*0.2","v":1961330},1961330,1,1,20]
[{"$f":"A112+1","v":110},6000,{"$f":"$A$1*1000^2*0.2","v":1961330},1961330,{"$f":"$A$1*1000^2*0.2","v":1961330},1961330,1,1,20]
[{"$f":"A113+1","v":111},1000,{"$f":"$A$1*1000^2*0.2","v":1961330},1961330,{"$f":"$A$1*1000^2*0.2","v":1961330},1961330,1,1,25,"RCA2-SD3NA-10"]
[{"$f":"A114+1","v":112},2000,{"$f":"$A$1*1000^2*0.3","v":2941995},1961330,{"$f":"$A$1*1000^2*0.3","v":2941995},1961330,1,1,25]
[{"$f":"A115+1","v":113},4000,{"$f":"$A$1*1000^2*0.3","v":2941995},1961330,{"$f":"$A$1*1000^2*0.3","v":2941995},1961330,1,1,25]
[{"$f":"A116+1","v":114},1000,{"$f":"$A$1*1000^2*0.2","v":1961330},1961330,{"$f":"$A$1*1000^2*0.2","v":1961330},1961330,1,1,25,"RCA2-SD3NA-10-*S"]
[115,2000,{"$f":"$A$1*1000^2*0.2","v":1961330},1961330,{"$f":"$A$1*1000^2*0.2","v":1961330},1961330,1,1,25]
[116,4000,{"$f":"$A$1*1000^2*0.2","v":1961330},1961330,{"$f":"$A$1*1000^2*0.2","v":1961330},1961330,1,1,25]
[117,2000,{"$f":"$A$1*1000^2*0.2","v":1961330},1961330,{"$f":"$A$1*1000^2*0.2","v":1961330},1961330,1,1,25,"RCA2-SD4NA-20"]
[118,4000,{"$f":"$A$1*1000^2*0.3","v":2941995},1961330,{"$f":"$A$1*1000^2*0.3","v":2941995},1961330,1,1,25]
[119,6000,{"$f":"$A$1*1000^2*0.3","v":2941995},1961330,{"$f":"$A$1*1000^2*0.3","v":2941995},1961330,1,1,25]
[120,2000,{"$f":"$A$1*1000^2*0.2","v":1961330},1961330,{"$f":"$A$1*1000^2*0.2","v":1961330},1961330,1,1,25,"RCA2-SD4NA-20-*S"]
[121,4000,{"$f":"$A$1*1000^2*0.2","v":1961330},1961330,{"$f":"$A$1*1000^2*0.2","v":1961330},1961330,1,1,25]
[122,6000,{"$f":"$A$1*1000^2*0.2","v":1961330},1961330,{"$f":"$A$1*1000^2*0.2","v":1961330},1961330,1,1,25]
[123,2500,{"$f":"$A$1*1000^2*0.2","v":1961330},1961330,{"$f":"$A$1*1000^2*0.2","v":1961330},1961330,1,1,50,"RCA-RA3C-20"]
[124,5000,{"$f":"$A$1*1000^2*0.3","v":2941995},2941995,2941995,2941995,1,1,50]
[{"$f":"A127+1","v":125},10000,2941995,2941995,2941995,2941995,1,1,50]
[{"$f":"A128+1","v":126},3000,{"$f":"$A$1*1000^2*0.2","v":1961330},{"$f":"$A$1*1000^2*0.2","v":1961330},{"$f":"$A$1*1000^2*0.2","v":1961330},{"$f":"$A$1*1000^2*0.2","v":1961330},1,1,50,"RCA-RA4C-20"]
[127,6000,{"$f":"$A$1*1000^2*0.3","v":2941995},2941995,2941995,2941995,1,1,50]
[128,12000,2941995,2941995,2941995,2941995,1,1,50]
[129,3000,{"$f":"$A$1*1000^2*0.2","v":1961330},{"$f":"$A$1*1000^2*0.2","v":1961330},{"$f":"$A$1*1000^2*0.2","v":1961330},{"$f":"$A$1*1000^2*0.2","v":1961330},1,1,50,"RCA-RA4C-30"]
[130,6000,{"$f":"$A$1*1000^2*0.3","v":2941995},2941995,2941995,2941995,1,1,50]
[{"$f":"A133+1","v":131},12000,2941995,2941995,2941995,2941995,1,1,50]
[{"$f":"A134+1","v":132},2500,{"$f":"$A$1*1000^2*0.2","v":1961330},{"$f":"$A$1*1000^2*0.2","v":1961330},{"$f":"$A$1*1000^2*0.2","v":1961330},{"$f":"$A$1*1000^2*0.2","v":1961330},1,1,50,"RCA-RA3D-20"]
[133,5000,{"$f":"$A$1*1000^2*0.3","v":2941995},2941995,2941995,2941995,1,1,50]
[134,10000,2941995,2941995,2941995,2941995,1,1,50]
[135,3000,{"$f":"$A$1*1000^2*0.2","v":1961330},{"$f":"$A$1*1000^2*0.2","v":1961330},{"$f":"$A$1*1000^2*0.2","v":1961330},{"$f":"$A$1*1000^2*0.2","v":1961330},1,1,50,"RCA-RA4D-20"]
[136,6000,{"$f":"$A$1*1000^2*0.3","v":2941995},2941995,2941995,2941995,1,1,50]
[137,12000,2941995,2941995,2941995,2941995,1,1,50]
[138,3000,{"$f":"$A$1*1000^2*0.2","v":1961330},{"$f":"$A$1*1000^2*0.2","v":1961330},{"$f":"$A$1*1000^2*0.2","v":1961330},{"$f":"$A$1*1000^2*0.2","v":1961330},1,1,50,"RCA-RA4D-30"]
[139,6000,{"$f":"$A$1*1000^2*0.3","v":2941995},2941995,2941995,2941995,1,1,50]
[140,12000,2941995,2941995,2941995,2941995,1,1,50]
[{"$f":"A143+1","v":141},2500,{"$f":"$A$1*1000^2*0.2","v":1961330},{"$f":"$A$1*1000^2*0.2","v":1961330},{"$f":"$A$1*1000^2*0.2","v":1961330},{"$f":"$A$1*1000^2*0.2","v":1961330},1,1,50,"RCA-RA3R-20"]
[142,5000,{"$f":"$A$1*1000^2*0.3","v":2941995},2941995,2941995,2941995,1,1,50]
[143,10000,2941995,2941995,2941995,2941995,1,1,50]
[144,3000,{"$f":"$A$1*1000^2*0.2","v":1961330},{"$f":"$A$1*1000^2*0.2","v":1961330},{"$f":"$A$1*1000^2*0.2","v":1961330},{"$f":"$A$1*1000^2*0.2","v":1961330},1,1,50,"RCA-RA4R-20"]
[145,6000,{"$f":"$A$1*1000^2*0.3","v":2941995},2941995,2941995,2941995,1,1,50]
[146,12000,2941995,2941995,2941995,2941995,1,1,50]
[147,3000,{"$f":"$A$1*1000^2*0.2","v":1961330},{"$f":"$A$1*1000^2*0.2","v":1961330},{"$f":"$A$1*1000^2*0.2","v":1961330},{"$f":"$A$1*1000^2*0.2","v":1961330},1,1,50,"RCA-RA4R-30"]
[148,6000,{"$f":"$A$1*1000^2*0.3","v":2941995},2941995,2941995,2941995,1,1,50]
[149,12000,2941995,2941995,2941995,2941995,1,1,50]
[150,2500,{"$f":"$A$1*1000^2*0.2","v":1961330},{"$f":"$A$1*1000^2*0.2","v":1961330},{"$f":"$A$1*1000^2*0.2","v":1961330},{"$f":"$A$1*1000^2*0.2","v":1961330},1,1,10,"RCA-SRA4R-20"]
[151,5000,{"$f":"$A$1*1000^2*0.3","v":2941995},{"$f":"$A$1*1000^2*0.2","v":1961330},{"$f":"$A$1*1000^2*0.3","v":2941995},{"$f":"$A$1*1000^2*0.2","v":1961330},1,1,10]
[152,2500,{"$f":"$A$1*1000^2*0.2","v":1961330},{"$f":"$A$1*1000^2*0.2","v":1961330},{"$f":"$A$1*1000^2*0.2","v":1961330},{"$f":"$A$1*1000^2*0.2","v":1961330},1,1,50,"RCA-RGS3C-20"]
[153,5000,{"$f":"$A$1*1000^2*0.3","v":2941995},2941995,2941995,2941995,1,1,50]
[{"$f":"A156+1","v":154},10000,2941995,2941995,2941995,2941995,1,1,50]
[{"$f":"A157+1","v":155},3000,{"$f":"$A$1*1000^2*0.2","v":1961330},{"$f":"$A$1*1000^2*0.2","v":1961330},{"$f":"$A$1*1000^2*0.2","v":1961330},{"$f":"$A$1*1000^2*0.2","v":1961330},1,1,50,"RCA-RGS4C-20"]
[156,6000,{"$f":"$A$1*1000^2*0.3","v":2941995},2941995,2941995,2941995,1,1,50]
[157,12000,2941995,2941995,2941995,2941995,1,1,50]
[158,3000,{"$f":"$A$1*1000^2*0.2","v":1961330},{"$f":"$A$1*1000^2*0.2","v":1961330},{"$f":"$A$1*1000^2*0.2","v":1961330},{"$f":"$A$1*1000^2*0.2","v":1961330},1,1,50,"RCA-RGS4C-30"]
[159,6000,{"$f":"$A$1*1000^2*0.3","v":2941995},2941995,2941995,2941995,1,1,50]
[{"$f":"A162+1","v":160},12000,2941995,2941995,2941995,2941995,1,1,50]
[{"$f":"A163+1","v":161},2500,{"$f":"$A$1*1000^2*0.2","v":1961330},{"$f":"$A$1*1000^2*0.2","v":1961330},{"$f":"$A$1*1000^2*0.2","v":1961330},{"$f":"$A$1*1000^2*0.2","v":1961330},1,1,50,"RCA-RGS3D-20"]
[162,5000,{"$f":"$A$1*1000^2*0.3","v":2941995},2941995,2941995,2941995,1,1,50]
[163,10000,2941995,2941995,2941995,2941995,1,1,50]
[164,3000,{"$f":"$A$1*1000^2*0.2","v":1961330},{"$f":"$A$1*1000^2*0.2","v":1961330},{"$f":"$A$1*1000^2*0.2","v":1961330},{"$f":"$A$1*1000^2*0.2","v":1961330},1,1,50,"RCA-RGS4D-20"]
[165,6000,{"$f":"$A$1*1000^2*0.3","v":2941995},2941995,2941995,2941995,1,1,50]
[166,12000,2941995,2941995,2941995,2941995,1,1,50]
[167,3000,{"$f":"$A$1*1000^2*0.2","v":1961330},{"$f":"$A$1*1000^2*0.2","v":1961330},{"$f":"$A$1*1000^2*0.2","v":1961330},{"$f":"$A$1*1000^2*0.2","v":1961330},1,1,50,"RCA-RGS4D-30"]
[168,6000,{"$f":"$A$1*1000^2*0.3","v":2941995},2941995,2941995,2941995,1,1,50]
[169,12000,2941995,2941995,2941995,2941995,1,1,50]
[170,2500,{"$f":"$A$1*1000^2*0.2","v":1961330},{"$f":"$A$1*1000^2*0.2","v":1961330},{"$f":"$A$1*1000^2*0.2","v":1961330},{"$f":"$A$1*1000^2*0.2","v":1961330},1,1,10,"RCA-SRGS4R-20"]
[171,5000,{"$f":"$A$1*1000^2*0.3","v":2941995},{"$f":"$A$1*1000^2*0.2","v":1961330},{"$f":"$A$1*1000^2*0.3","v":2941995},{"$f":"$A$1*1000^2*0.2","v":1961330},1,1,10]
[172,2500,{"$f":"$A$1*1000^2*0.2","v":1961330},{"$f":"$A$1*1000^2*0.2","v":1961330},{"$f":"$A$1*1000^2*0.2","v":1961330},{"$f":"$A$1*1000^2*0.2","v":1961330},1,1,50,"RCA-RGD3C-20"]
[173,5000,{"$f":"$A$1*1000^2*0.3","v":2941995},2941995,2941995,2941995,1,1,50]
[{"$f":"A176+1","v":174},10000,2941995,2941995,2941995,2941995,1,1,50]
[{"$f":"A177+1","v":175},3000,{"$f":"$A$1*1000^2*0.2","v":1961330},{"$f":"$A$1*1000^2*0.2","v":1961330},{"$f":"$A$1*1000^2*0.2","v":1961330},{"$f":"$A$1*1000^2*0.2","v":1961330},1,1,50,"RCA-RGD4C-20"]
[176,6000,{"$f":"$A$1*1000^2*0.3","v":2941995},2941995,2941995,2941995,1,1,50]
[177,12000,2941995,2941995,2941995,2941995,1,1,50]
[178,3000,{"$f":"$A$1*1000^2*0.2","v":1961330},{"$f":"$A$1*1000^2*0.2","v":1961330},{"$f":"$A$1*1000^2*0.2","v":1961330},{"$f":"$A$1*1000^2*0.2","v":1961330},1,1,50,"RCA-RGD4C-30"]
[179,6000,{"$f":"$A$1*1000^2*0.3","v":2941995},2941995,2941995,2941995,1,1,50]
[{"$f":"A182+1","v":180},12000,2941995,2941995,2941995,2941995,1,1,50]
[{"$f":"A183+1","v":181},2500,{"$f":"$A$1*1000^2*0.2","v":1961330},{"$f":"$A$1*1000^2*0.2","v":1961330},{"$f":"$A$1*1000^2*0.2","v":1961330},{"$f":"$A$1*1000^2*0.2","v":1961330},1,1,50,"RCA-RGD3D-20"]
[182,5000,{"$f":"$A$1*1000^2*0.3","v":2941995},2941995,2941995,2941995,1,1,50]
[183,10000,2941995,2941995,2941995,2941995,1,1,50]
[184,3000,{"$f":"$A$1*1000^2*0.2","v":1961330},{"$f":"$A$1*1000^2*0.2","v":1961330},{"$f":"$A$1*1000^2*0.2","v":1961330},{"$f":"$A$1*1000^2*0.2","v":1961330},1,1,50,"RCA-RGD4D-20"]
[185,6000,{"$f":"$A$1*1000^2*0.3","v":2941995},2941995,2941995,2941995,1,1,50]
[186,12000,2941995,2941995,2941995,2941995,1,1,50]
[187,3000,{"$f":"$A$1*1000^2*0.2","v":1961330},{"$f":"$A$1*1000^2*0.2","v":1961330},{"$f":"$A$1*1000^2*0.2","v":1961330},{"$f":"$A$1*1000^2*0.2","v":1961330},1,1,50,"RCA-RGD4D-30"]
[188,6000,{"$f":"$A$1*1000^2*0.3","v":2941995},2941995,2941995,2941995,1,1,50]
[189,12000,2941995,2941995,2941995,2941995,1,1,50]
[190,2500,{"$f":"$A$1*1000^2*0.2","v":1961330},{"$f":"$A$1*1000^2*0.2","v":1961330},{"$f":"$A$1*1000^2*0.2","v":1961330},{"$f":"$A$1*1000^2*0.2","v":1961330},1,1,50,"RCA-RGD3R-20"]
[191,5000,{"$f":"$A$1*1000^2*0.3","v":2941995},2941995,2941995,2941995,1,1,50]
[192,10000,2941995,2941995,2941995,2941995,1,1,50]
[193,3000,{"$f":"$A$1*1000^2*0.2","v":1961330},{"$f":"$A$1*1000^2*0.2","v":1961330},{"$f":"$A$1*1000^2*0.2","v":1961330},{"$f":"$A$1*1000^2*0.2","v":1961330},1,1,50,"RCA-RGD4R-20"]
[194,6000,{"$f":"$A$1*1000^2*0.3","v":2941995},2941995,2941995,2941995,1,1,50]
[195,12000,2941995,2941995,2941995,2941995,1,1,50]
[196,3000,{"$f":"$A$1*1000^2*0.2","v":1961330},{"$f":"$A$1*1000^2*0.2","v":1961330},{"$f":"$A$1*1000^2*0.2","v":1961330},{"$f":"$A$1*1000^2*0.2","v":1961330},1,1,50,"RCA-RGD4R-30"]
[{"$f":"A199+1","v":197},6000,{"$f":"$A$1*1000^2*0.3","v":2941995},2941995,2941995,2941995,1,1,50]
[198,12000,2941995,2941995,2941995,2941995,1,1,50]
[199,2500,{"$f":"$A$1*1000^2*0.2","v":1961330},{"$f":"$A$1*1000^2*0.2","v":1961330},{"$f":"$A$1*1000^2*0.2","v":1961330},{"$f":"$A$1*1000^2*0.2","v":1961330},1,1,10,"RCA-SRGD4R-20"]
[{"$f":"A202+1","v":200},5000,{"$f":"$A$1*1000^2*0.3","v":2941995},{"$f":"$A$1*1000^2*0.2","v":1961330},{"$f":"$A$1*1000^2*0.3","v":2941995},{"$f":"$A$1*1000^2*0.2","v":1961330},1,1,10]
[{"$f":"A203+1","v":201},1000,{"$f":"$A$1*1000^2*0.2","v":1961330},1961330,{"$f":"$A$1*1000^2*0.2","v":1961330},1961330,1,1,20,"RCA2-TCA3NA-10"]
[{"$f":"A204+1","v":202},2000,{"$f":"$A$1*1000^2*0.3","v":2941995},1961330,{"$f":"$A$1*1000^2*0.3","v":2941995},1961330,1,1,20]
[{"$f":"A205+1","v":203},4000,{"$f":"$A$1*1000^2*0.3","v":2941995},1961330,{"$f":"$A$1*1000^2*0.3","v":2941995},1961330,1,1,20]
[{"$f":"A206+1","v":204},1000,{"$f":"$A$1*1000^2*0.2","v":1961330},1961330,{"$f":"$A$1*1000^2*0.2","v":1961330},1961330,1,1,20,"RCA2-TCA3NA-10-*S"]
[205,2000,{"$f":"$A$1*1000^2*0.2","v":1961330},1961330,{"$f":"$A$1*1000^2*0.2","v":1961330},1961330,1,1,20]
[206,4000,{"$f":"$A$1*1000^2*0.2","v":1961330},1961330,{"$f":"$A$1*1000^2*0.2","v":1961330},1961330,1,1,20]
[207,2000,{"$f":"$A$1*1000^2*0.2","v":1961330},1961330,{"$f":"$A$1*1000^2*0.2","v":1961330},1961330,1,1,20,"RCA2-TCA4NA-20"]
[208,4000,{"$f":"$A$1*1000^2*0.3","v":2941995},1961330,{"$f":"$A$1*1000^2*0.3","v":2941995},1961330,1,1,20]
[209,6000,{"$f":"$A$1*1000^2*0.3","v":2941995},1961330,{"$f":"$A$1*1000^2*0.3","v":2941995},1961330,1,1,20]
[210,2000,{"$f":"$A$1*1000^2*0.2","v":1961330},1961330,{"$f":"$A$1*1000^2*0.2","v":1961330},1961330,1,1,20,"RCA2-TCA4NA-20-*S"]
[211,4000,{"$f":"$A$1*1000^2*0.2","v":1961330},1961330,{"$f":"$A$1*1000^2*0.2","v":1961330},1961330,1,1,20]
[{"$f":"A214+1","v":212},6000,{"$f":"$A$1*1000^2*0.2","v":1961330},1961330,{"$f":"$A$1*1000^2*0.2","v":1961330},1961330,1,1,20]
[{"$f":"A215+1","v":213},1000,{"$f":"$A$1*1000^2*0.2","v":1961330},1961330,{"$f":"$A$1*1000^2*0.2","v":1961330},1961330,1,1,20,"RCA2-TWA3NA-10"]
[{"$f":"A216+1","v":214},2000,{"$f":"$A$1*1000^2*0.3","v":2941995},1961330,{"$f":"$A$1*1000^2*0.3","v":2941995},1961330,1,1,20]
[{"$f":"A217+1","v":215},4000,{"$f":"$A$1*1000^2*0.3","v":2941995},1961330,{"$f":"$A$1*1000^2*0.3","v":2941995},1961330,1,1,20]
[{"$f":"A218+1","v":216},1000,{"$f":"$A$1*1000^2*0.2","v":1961330},1961330,{"$f":"$A$1*1000^2*0.2","v":1961330},1961330,1,1,20,"RCA2-TWA3NA-10-*S"]
[217,2000,{"$f":"$A$1*1000^2*0.2","v":1961330},1961330,{"$f":"$A$1*1000^2*0.2","v":1961330},1961330,1,1,20]
[218,4000,{"$f":"$A$1*1000^2*0.2","v":1961330},1961330,{"$f":"$A$1*1000^2*0.2","v":1961330},1961330,1,1,20]
[219,2000,{"$f":"$A$1*1000^2*0.2","v":1961330},1961330,{"$f":"$A$1*1000^2*0.2","v":1961330},1961330,1,1,20,"RCA2-TWA4NA-20"]
[220,4000,{"$f":"$A$1*1000^2*0.3","v":2941995},1961330,{"$f":"$A$1*1000^2*0.3","v":2941995},1961330,1,1,20]
[{"$f":"A223+1","v":221},6000,{"$f":"$A$1*1000^2*0.3","v":2941995},1961330,{"$f":"$A$1*1000^2*0.3","v":2941995},1961330,1,1,20]
[{"$f":"A224+1","v":222},2000,{"$f":"$A$1*1000^2*0.2","v":1961330},1961330,{"$f":"$A$1*1000^2*0.2","v":1961330},1961330,1,1,20,"RCA2-TWA4NA-20-*S"]
[223,4000,{"$f":"$A$1*1000^2*0.2","v":1961330},1961330,{"$f":"$A$1*1000^2*0.2","v":1961330},1961330,1,1,20]
[{"$f":"A226+1","v":224},6000,{"$f":"$A$1*1000^2*0.2","v":1961330},1961330,{"$f":"$A$1*1000^2*0.2","v":1961330},1961330,1,1,20]
[{"$f":"A227+1","v":225},1000,{"$f":"$A$1*1000^2*0.2","v":1961330},1961330,{"$f":"$A$1*1000^2*0.2","v":1961330},1961330,1,1,20,"RCA2-TFA3NA-10"]
[{"$f":"A228+1","v":226},2000,{"$f":"$A$1*1000^2*0.3","v":2941995},1961330,{"$f":"$A$1*1000^2*0.3","v":2941995},1961330,1,1,20]
[{"$f":"A229+1","v":227},4000,{"$f":"$A$1*1000^2*0.3","v":2941995},1961330,{"$f":"$A$1*1000^2*0.3","v":2941995},1961330,1,1,20]
[{"$f":"A230+1","v":228},1000,{"$f":"$A$1*1000^2*0.2","v":1961330},1961330,{"$f":"$A$1*1000^2*0.2","v":1961330},1961330,1,1,20,"RCA2-TFA3NA-10-*S"]
[229,2000,{"$f":"$A$1*1000^2*0.2","v":1961330},1961330,{"$f":"$A$1*1000^2*0.2","v":1961330},1961330,1,1,20]
[230,4000,{"$f":"$A$1*1000^2*0.2","v":1961330},1961330,{"$f":"$A$1*1000^2*0.2","v":1961330},1961330,1,1,20]
[231,2000,{"$f":"$A$1*1000^2*0.2","v":1961330},1961330,{"$f":"$A$1*1000^2*0.2","v":1961330},1961330,1,1,20,"RCA2-TFA4NA-20"]
[232,4000,{"$f":"$A$1*1000^2*0.3","v":2941995},{"$f":"$A$1*1000^2*0.2","v":1961330},{"$f":"$A$1*1000^2*0.3","v":2941995},{"$f":"$A$1*1000^2*0.2","v":1961330},1,1,20]
[233,6000,{"$f":"$A$1*1000^2*0.3","v":2941995},1961330,{"$f":"$A$1*1000^2*0.3","v":2941995},1961330,1,1,20]
[234,2000,{"$f":"$A$1*1000^2*0.2","v":1961330},1961330,{"$f":"$A$1*1000^2*0.2","v":1961330},1961330,1,1,20,"RCA2-TFA4NA-20-*S"]
[235,4000,{"$f":"$A$1*1000^2*0.2","v":1961330},1961330,{"$f":"$A$1*1000^2*0.2","v":1961330},1961330,1,1,20]
[236,6000,{"$f":"$A$1*1000^2*0.2","v":1961330},1961330,{"$f":"$A$1*1000^2*0.2","v":1961330},1961330,1,1,20]
[237,2000,{"$f":"$A$1*1000^2*0.2","v":1961330},1961330,{"$f":"$A$1*1000^2*0.2","v":1961330},1961330,1,1,10,"RCA2-TA4C"]
[238,4000,{"$f":"$A$1*1000^2*0.3","v":2941995},1961330,{"$f":"$A$1*1000^2*0.3","v":2941995},1961330,1,1,10]
[239,6000,{"$f":"$A$1*1000^2*0.3","v":2941995},1961330,{"$f":"$A$1*1000^2*0.3","v":2941995},1961330,1,1,10]
[240,2500,{"$f":"$A$1*1000^2*0.2","v":1961330},1961330,{"$f":"$A$1*1000^2*0.2","v":1961330},1961330,1,1,25,"RCA2-TA5C"]
[241,5000,{"$f":"$A$1*1000^2*0.3","v":2941995},1961330,{"$f":"$A$1*1000^2*0.3","v":2941995},1961330,1,1,25]
[242,10000,{"$f":"$A$1*1000^2*0.3","v":2941995},1961330,{"$f":"$A$1*1000^2*0.3","v":2941995},1961330,1,1,25]
[243,3000,{"$f":"$A$1*1000^2*0.2","v":1961330},1961330,{"$f":"$A$1*1000^2*0.2","v":1961330},1961330,1,1,25,"RCA2-TA6C"]
[244,6000,{"$f":"$A$1*1000^2*0.3","v":2941995},1961330,{"$f":"$A$1*1000^2*0.3","v":2941995},1961330,1,1,25]
[245,12000,{"$f":"$A$1*1000^2*0.3","v":2941995},1961330,{"$f":"$A$1*1000^2*0.3","v":2941995},1961330,1,1,25]
[246,3000,{"$f":"$A$1*1000^2*0.2","v":1961330},1961330,{"$f":"$A$1*1000^2*0.2","v":1961330},1961330,1,1,25,"RCA2-TA7C"]
[247,6000,{"$f":"$A$1*1000^2*0.3","v":2941995},1961330,{"$f":"$A$1*1000^2*0.3","v":2941995},1961330,1,1,25]
[248,12000,{"$f":"$A$1*1000^2*0.3","v":2941995},1961330,{"$f":"$A$1*1000^2*0.3","v":2941995},1961330,1,1,25]
[249,2000,{"$f":"$A$1*1000^2*0.2","v":1961330},1961330,{"$f":"$A$1*1000^2*0.2","v":1961330},1961330,1,1,10,"RCA2-TA4R"]
[250,4000,{"$f":"$A$1*1000^2*0.3","v":2941995},1961330,{"$f":"$A$1*1000^2*0.3","v":2941995},1961330,1,1,10]
[251,6000,{"$f":"$A$1*1000^2*0.3","v":2941995},1961330,{"$f":"$A$1*1000^2*0.3","v":2941995},1961330,1,1,10]
[252,2500,{"$f":"$A$1*1000^2*0.2","v":1961330},1961330,{"$f":"$A$1*1000^2*0.2","v":1961330},1961330,1,1,25,"RCA2-TA5R"]
[253,5000,{"$f":"$A$1*1000^2*0.3","v":2941995},1961330,{"$f":"$A$1*1000^2*0.3","v":2941995},1961330,1,1,25]
[254,10000,{"$f":"$A$1*1000^2*0.3","v":2941995},1961330,{"$f":"$A$1*1000^2*0.3","v":2941995},1961330,1,1,25]
[255,3000,{"$f":"$A$1*1000^2*0.2","v":1961330},1961330,{"$f":"$A$1*1000^2*0.2","v":1961330},1961330,1,1,25,"RCA2-TA6R"]
[256,6000,{"$f":"$A$1*1000^2*0.3","v":2941995},1961330,{"$f":"$A$1*1000^2*0.3","v":2941995},1961330,1,1,25]
[257,12000,{"$f":"$A$1*1000^2*0.3","v":2941995},1961330,{"$f":"$A$1*1000^2*0.3","v":2941995},1961330,1,1,25]
[258,3000,{"$f":"$A$1*1000^2*0.2","v":1961330},1961330,{"$f":"$A$1*1000^2*0.2","v":1961330},1961330,1,1,25,"RCA2-TA7R"]
[259,6000,{"$f":"$A$1*1000^2*0.3","v":2941995},1961330,{"$f":"$A$1*1000^2*0.3","v":2941995},1961330,1,1,25]
[260,12000,{"$f":"$A$1*1000^2*0.3","v":2941995},1961330,{"$f":"$A$1*1000^2*0.3","v":2941995},1961330,1,1,25]
[261,5000,-1,1961330,-1,1961330,1,2,50,"RCA-A4R-20"]
[262,10000,-1,1961330,-1,1961330,1,2,50]
[263,6000,-1,1961330,-1,1961330,1,2,50,"RCA-A5R-20"]
[264,12000,-1,1961330,-1,1961330,1,2,50]
[265,6000,-1,1961330,-1,1961330,1,2,50,"RCA-A6R-30"]
[266,12000,-1,1961330,-1,1961330,1,2,50]
[267,30030,{"$f":"$A$1*1000^2*0.3","v":2941995},-1,{"$f":"$A$1*1000^2*2","v":19613300},-1,1,1,40,"RCL-SA1L"]
[268,35910,2941995,-1,19613300,-1,1,1,48,"RCL-SA2L"]
[269,48090,2941995,-1,19613300,-1,1,1,64,"RCL-SA3L"]
[{"$f":"A272+1","v":270},30030,2941995,-1,19613300,-1,1,1,30,"RCL-SA4L"]
[271,30030,2941995,-1,19613300,-1,1,1,30,"RCL-SM4L"]
[272,35910,2941995,-1,19613300,-1,1,1,36,"RCL-SA5L"]
[273,35910,2941995,-1,19613300,-1,1,1,36,"RCL-SM5L"]
[274,48090,2941995,-1,19613300,-1,1,1,48,"RCL-SA6L"]
[275,48090,2941995,-1,19613300,-1,1,1,48,"RCL-SM6L"]
[276,30030,2941995,{"$f":"$A$1*1000*1000*0.3","v":2941995},19613300,{"$f":"$A$1*1000*1000*1","v":9806650},1,1,25,"RCL-RA1L"]
[277,35910,2941995,{"$f":"$A$1*1000*1000*0.3","v":2941995},19613300,{"$f":"$A$1*1000*1000*1","v":9806650},1,1,30,"RCL-RA2L"]
[{"$f":"A280+1","v":278},48090,2941995,{"$f":"$A$1*1000*1000*0.3","v":2941995},19613300,{"$f":"$A$1*1000*1000*1","v":9806650},1,1,40,"RCL-RA3L"]
[279,1000,{"$f":"$A$1*1000^2*0.3","v":2941995},2941995,2941995,2941995,1,1,25,"RCA2-SA2AC"]
[280,2000,2941995,2941995,2941995,2941995,1,1,25]
[281,4000,2941995,2941995,2941995,2941995,1,1,25]
[282,1000,2941995,2941995,2941995,2941995,1,1,25,"RCA2-SA2AR"]
[283,2000,2941995,2941995,2941995,2941995,1,1,25]
[284,4000,2941995,2941995,2941995,2941995,1,1,25]
[285,1000,2941995,2941995,2941995,2941995,1,1,25,"RCA2-RA2AC"]
[286,2000,2941995,2941995,2941995,2941995,1,1,25]
[287,4000,2941995,2941995,2941995,2941995,1,1,25]
[288,1000,2941995,2941995,2941995,2941995,1,1,25,"RCA2-RA2AR"]
[289,2000,2941995,2941995,2941995,2941995,1,1,25]
[290,4000,2941995,2941995,2941995,2941995,1,1,25]
[291,2000,{"$f":"$A$1*1000^2*1","v":9806650},{"$f":"$A$1*1000^2*1","v":9806650},{"$f":"$A$1*1000^2*1","v":9806650},{"$f":"$A$1*1000^2*1","v":9806650},1,1,10,"RCD-RA1D"]

{"sheet":"StrokeData","index":4,"n_rows":404,"n_cols":13,"rows_kept":404,"cut":false,"hidden":true,"merged":[[9,12,14,12],[15,12,20,12],[21,12,26,12],[51,12,56,12],[63,12,68,12],[57,12,62,12],[27,12,32,12],[33,12,38,12],[39,12,44,12],[92,12,93,12],[94,12,95,12],[69,12,74,12],[75,12,80,12],[81,12,86,12],[90,12,91,12],[142,12,145,12],[97,12,100,12],[101,12,104,12],[105,12,108,12],[121,12,124,12],[115,12,116,12],[117,12,118,12],[119,12,120,12],[109,12,111,12],[125,12,128,12],[129,12,132,12],[136,12,137,12],[138,12,139,12],[140,12,141,12],[146,12,149,12],[163,12,166,12],[167,12,170,12],[171,12,174,12],[150,12,153,12],[157,12,158,12],[159,12,160,12],[161,12,162,12]]}
[null,1,2,4,5,6,7,8,9,10,16,17]
["ﾃﾞｰﾀ№","ｽﾄﾛｰｸ長","有効ｽﾄﾛｰｸ補正","基準ｹﾞｲﾝ用搬送質量","水平可搬質量","垂直可搬質量","最大速度","位置ｹﾞｲﾝ","FFｹﾞｲﾝ","速度制御帯域","前ﾃﾞｰﾀ№","次ﾃﾞｰﾀ№","備考"]
[{"$f":"ModelData!A3","v":0},"㎜","㎜","1g","1g","1g","㎜/s","1/s","%","rad/s"]
[{"$f":"A3+1","v":1},300,0,3000,3000,1500,100,30,0,200,-1,-1,"RCS2-SA3C-10-2"]
[2,300,0,2000,2000,1000,200,30,0,160,-1,-1,"RCS2-SA3C-10-4"]
[3,300,0,1000,1000,500,300,30,0,160,-1,-1,"RCS2-SA3C-10-6"]
[4,500,0,6000,6000,3000,125,30,0,200,-1,-1,"RCA2-SA4C-20-2.5"]
[5,500,0,4000,4000,1500,250,30,0,160,-1,-1,"RCA2-SA4C-20-5"]
[6,500,0,2000,2000,1000,500,30,0,160,-1,-1,"RCA2-SA4C-20-10"]
[7,550,0,8000,9000,3000,150,30,0,160,-1,{"$f":"A11","v":8},"RCA2-SA5C-20-3"]
[8,600,0,8000,9000,3000,140,30,0,160,{"$f":"A10","v":7},{"$f":"A12","v":9}]
[9,650,0,8000,9000,3000,120,30,0,160,{"$f":"A11","v":8},{"$f":"A13","v":10}]
[10,700,0,8000,9000,3000,105,30,0,160,{"$f":"A12","v":9},{"$f":"A14","v":11}]
[11,750,0,8000,9000,3000,90,30,0,160,{"$f":"A13","v":10},{"$f":"A15","v":12}]
[12,800,0,8000,9000,3000,80,30,0,160,{"$f":"A14","v":11},-1]
[13,550,0,6000,6000,1500,300,30,0,160,-1,{"$f":"A17","v":14},"RCA2-SA5C-20-6"]
[14,600,0,6000,6000,1500,285,30,0,160,{"$f":"A16","v":13},{"$f":"A18","v":15}]
[15,650,0,6000,6000,1500,245,30,0,160,{"$f":"A17","v":14},{"$f":"A19","v":16}]
[16,700,0,6000,6000,1500,210,30,0,160,{"$f":"A18","v":15},{"$f":"A20","v":17}]
[17,750,0,6000,6000,1500,185,30,0,160,{"$f":"A19","v":16},{"$f":"A21","v":18}]
[18,800,0,6000,6000,1500,165,30,0,160,{"$f":"A20","v":17},-1]
[19,550,0,3000,3000,1000,600,30,0,160,-1,{"$f":"A23","v":20},"RCA2-SA5C-20-12"]
[20,600,0,3000,3000,1000,570,30,0,160,{"$f":"A22","v":19},{"$f":"A24","v":21}]
[21,650,0,3000,3000,1000,490,30,0,160,{"$f":"A23","v":20},{"$f":"A25","v":22}]
[22,700,0,3000,3000,1000,425,30,0,160,{"$f":"A24","v":21},{"$f":"A26","v":23}]
[23,750,0,3000,3000,1000,370,30,0,160,{"$f":"A25","v":22},{"$f":"A27","v":24}]
[24,800,0,3000,3000,1000,330,30,0,160,{"$f":"A26","v":23},-1]
[25,550,0,12000,10000,4000,150,30,0,160,-1,{"$f":"A29","v":26},"RCA2-SA6C-30-3"]
[26,600,0,12000,10000,4000,140,30,0,160,{"$f":"A28","v":25},{"$f":"A30","v":27}]
[27,650,0,12000,10000,4000,120,30,0,160,{"$f":"A29","v":26},{"$f":"A31","v":28}]
[28,700,0,12000,10000,4000,105,30,0,160,{"$f":"A30","v":27},{"$f":"A32","v":29}]
[29,750,0,12000,10000,4000,90,30,0,160,{"$f":"A31","v":28},{"$f":"A33","v":30}]
[30,800,0,12000,10000,4000,80,30,0,160,{"$f":"A32","v":29},-1]
[31,550,0,8000,7000,2000,300,30,0,160,-1,{"$f":"A35","v":32},"RCA2-SA6C-30-6"]
[32,600,0,8000,7000,2000,285,30,0,160,{"$f":"A34","v":31},{"$f":"A36","v":33}]
[33,650,0,8000,7000,2000,245,30,0,160,{"$f":"A35","v":32},{"$f":"A37","v":34}]
[34,700,0,8000,7000,2000,210,30,0,160,{"$f":"A36","v":33},{"$f":"A38","v":35}]
[35,750,0,8000,7000,2000,185,30,0,160,{"$f":"A37","v":34},{"$f":"A39","v":36}]
[36,800,0,8000,7000,2000,165,30,0,160,{"$f":"A38","v":35},-1]
[37,550,0,5000,4000,1500,600,30,0,160,-1,{"$f":"A41","v":38},"RCA2-SA6C-30-12"]
[38,600,0,5000,4000,1500,570,30,0,160,{"$f":"A40","v":37},{"$f":"A42","v":39}]
[39,650,0,5000,4000,1500,490,30,0,160,{"$f":"A41","v":38},{"$f":"A43","v":40}]
[40,700,0,5000,4000,1500,425,30,0,160,{"$f":"A42","v":39},{"$f":"A44","v":41}]
[41,750,0,5000,4000,1500,370,30,0,160,{"$f":"A43","v":40},{"$f":"A45","v":42}]
[42,800,0,5000,4000,1500,330,30,0,160,{"$f":"A44","v":41},-1]
[43,300,0,3000,3000,1500,100,30,0,200,-1,-1,"RCS2-SA3R-10-2"]
[44,300,0,2000,2000,1000,200,30,0,160,-1,-1,"RCS2-SA3R-10-4"]
[45,300,0,1000,1000,500,300,30,0,160,-1,-1,"RCS2-SA3R-10-6"]
[46,500,0,6000,6000,3000,125,30,0,200,-1,-1,"RCA2-SA4R-20-2.5"]
[47,500,0,4000,4000,1500,250,30,0,160,-1,-1,"RCA2-SA4R-20-5"]
[48,500,0,2000,2000,1000,500,30,0,160,-1,-1,"RCA2-SA4R-20-10"]
[49,550,0,8000,9000,3000,150,30,0,160,-1,{"$f":"A53","v":50},"RCA2-SA5R-20-3"]
[50,600,0,8000,9000,3000,140,30,0,160,{"$f":"A52","v":49},{"$f":"A54","v":51}]
[51,650,0,8000,9000,3000,120,30,0,160,{"$f":"A53","v":50},{"$f":"A55","v":52}]
[52,700,0,8000,9000,3000,105,30,0,160,{"$f":"A54","v":51},{"$f":"A56","v":53}]
[53,750,0,8000,9000,3000,90,30,0,160,{"$f":"A55","v":52},{"$f":"A57","v":54}]
[54,800,0,8000,9000,3000,80,30,0,160,{"$f":"A56","v":53},-1]
[55,550,0,6000,6000,1500,300,30,0,160,-1,{"$f":"A59","v":56},"RCA2-SA5R-20-6"]
[56,600,0,6000,6000,1500,285,30,0,160,{"$f":"A58","v":55},{"$f":"A60","v":57}]
[57,650,0,6000,6000,1500,245,30,0,160,{"$f":"A59","v":56},{"$f":"A61","v":58}]
[58,700,0,6000,6000,1500,210,30,0,160,{"$f":"A60","v":57},{"$f":"A62","v":59}]
[59,750,0,6000,6000,1500,185,30,0,160,{"$f":"A61","v":58},{"$f":"A63","v":60}]
[60,800,0,6000,6000,1500,165,30,0,160,{"$f":"A62","v":59},-1]
[61,550,0,3000,3000,1000,600,30,0,160,-1,{"$f":"A65","v":62},"RCA2-SA5R-20-12"]
[62,600,0,3000,3000,1000,570,30,0,160,{"$f":"A64","v":61},{"$f":"A66","v":63}]
[63,650,0,3000,3000,1000,490,30,0,160,{"$f":"A65","v":62},{"$f":"A67","v":64}]
[64,700,0,3000,3000,1000,425,30,0,160,{"$f":"A66","v":63},{"$f":"A68","v":65}]
[{"$f":"A67+1","v":65},750,0,3000,3000,1000,370,30,0,160,{"$f":"A67","v":64},{"$f":"A69","v":66}]
[66,800,0,3000,3000,1000,330,30,0,160,{"$f":"A68","v":65},-1]
[67,550,0,12000,10000,4000,150,30,0,160,-1,{"$f":"A71","v":68},"RCA2-SA6R-30-3"]
[68,600,0,12000,10000,4000,140,30,0,160,{"$f":"A70","v":67},{"$f":"A72","v":69}]
[69,650,0,12000,10000,4000,120,30,0,160,{"$f":"A71","v":68},{"$f":"A73","v":70}]
[70,700,0,12000,10000,4000,105,30,0,160,{"$f":"A72","v":69},{"$f":"A74","v":71}]
[71,750,0,12000,10000,4000,90,30,0,160,{"$f":"A73","v":70},{"$f":"A75","v":72}]
[72,800,0,12000,10000,4000,80,30,0,160,{"$f":"A74","v":71},-1]
[73,550,0,8000,7000,2000,300,30,0,160,-1,{"$f":"A77","v":74},"RCA2-SA6R-30-6"]
[74,600,0,8000,7000,2000,285,30,0,160,{"$f":"A76","v":73},{"$f":"A78","v":75}]
[75,650,0,8000,7000,2000,245,30,0,160,{"$f":"A77","v":74},{"$f":"A79","v":76}]
[76,700,0,8000,7000,2000,210,30,0,160,{"$f":"A78","v":75},{"$f":"A80","v":77}]
[77,750,0,8000,7000,2000,185,30,0,160,{"$f":"A79","v":76},{"$f":"A81","v":78}]
[78,800,0,8000,7000,2000,165,30,0,160,{"$f":"A80","v":77},-1]
[79,550,0,5000,4000,1500,600,30,0,160,-1,{"$f":"A83","v":80},"RCA2-SA6R-30-12"]
[80,600,0,5000,4000,1500,570,30,0,160,{"$f":"A82","v":79},{"$f":"A84","v":81}]
[81,650,0,5000,4000,1500,490,30,0,160,{"$f":"A83","v":80},{"$f":"A85","v":82}]
[82,700,0,5000,4000,1500,425,30,0,160,{"$f":"A84","v":81},{"$f":"A86","v":83}]
[83,750,0,5000,4000,1500,370,30,0,160,{"$f":"A85","v":82},{"$f":"A87","v":84}]
[84,800,0,5000,4000,1500,330,30,0,160,{"$f":"A86","v":83},-1]
[85,400,0,8000,8000,4500,165,30,0,160,-1,-1,"RCA-SA4C-20-2.5"]
[86,400,0,6000,6000,2500,330,30,0,160,-1,-1,"RCA-SA4C-20-5"]
[87,400,0,4000,4000,1000,665,30,0,160,-1,-1,"RCA-SA4C-20-10"]
[88,450,0,12000,12000,4000,200,30,0,160,-1,{"$f":"A92","v":89},"RCA-SA5C-20-3"]
[89,500,0,12000,12000,4000,190,30,0,160,{"$f":"A91","v":88},-1]
[90,450,0,8000,8000,2000,400,30,0,160,-1,{"$f":"A94","v":91},"RCA-SA5C-20-6"]
[91,500,0,8000,8000,2000,380,30,0,160,{"$f":"A93","v":90},-1]
[92,450,0,4000,4000,1000,800,30,0,120,-1,{"$f":"A96","v":93},"RCA-SA5C-20-12"]
[93,500,0,4000,4000,1000,760,30,0,120,{"$f":"A95","v":92},-1]
[94,500,0,2000,2000,500,1300,30,0,120,-1,-1,"RCA-SA5C-20-20"]
[95,450,0,18000,18000,6000,200,30,0,160,-1,{"$f":"A99","v":96},"RCA-SA6C-30-3"]
[96,500,0,18000,18000,6000,190,30,0,160,{"$f":"A98","v":95},{"$f":"A100","v":97}]
[97,550,0,18000,18000,6000,160,30,0,160,{"$f":"A99","v":96},{"$f":"A101","v":98}]
[98,600,0,18000,18000,6000,135,30,0,160,{"$f":"A100","v":97},-1]
[99,450,0,12000,12000,3000,400,30,0,160,-1,{"$f":"A103","v":100},"RCA-SA6C-30-6"]
[100,500,0,12000,12000,3000,380,30,0,160,{"$f":"A102","v":99},{"$f":"A104","v":101}]
[101,550,0,12000,12000,3000,320,30,0,160,{"$f":"A103","v":100},{"$f":"A105","v":102}]
[102,600,0,12000,12000,3000,270,30,0,160,{"$f":"A104","v":101},-1]
[103,450,0,6000,6000,1500,800,30,0,160,-1,{"$f":"A107","v":104},"RCA-SA6C-30-12"]
[104,500,0,6000,6000,1500,760,30,0,160,{"$f":"A106","v":103},{"$f":"A108","v":105}]
[105,550,0,6000,6000,1500,640,30,0,160,{"$f":"A107","v":104},{"$f":"A109","v":106}]
[106,600,0,6000,6000,1500,540,30,0,160,{"$f":"A108","v":105},-1]
[107,500,0,3000,3000,500,1300,30,0,120,-1,{"$f":"A111","v":108},"RCA-SA6C-20-20"]
[108,550,0,3000,3000,500,1160,30,0,120,{"$f":"A110","v":107},{"$f":"A112","v":109}]
[109,600,0,3000,3000,500,990,30,0,120,{"$f":"A111","v":108},-1]
[110,300,0,8000,8000,4500,165,30,0,160,-1,-1,"RCA-SA4D-20-2.5"]
[111,300,0,6000,6000,2500,330,30,0,160,-1,-1,"RCA-SA4D-20-5"]
[112,300,0,4000,4000,1000,665,30,0,160,-1,-1,"RCA-SA4D-20-10"]
[113,450,0,12000,12000,4000,200,30,0,160,-1,{"$f":"A117","v":114},"RCA-SA5D-20-3"]
[114,500,0,12000,12000,4000,190,30,0,160,{"$f":"A116","v":113},-1]
[115,450,0,8000,8000,2000,400,30,0,160,-1,{"$f":"A119","v":116},"RCA-SA5D-20-6"]
[116,500,0,8000,8000,2000,380,30,0,160,{"$f":"A118","v":115},-1]
[117,450,0,4000,4000,1000,800,30,0,120,-1,{"$f":"A121","v":118},"RCA-SA5D-20-12"]
[118,500,0,4000,4000,1000,760,30,0,120,{"$f":"A120","v":117},-1]
[119,450,0,18000,18000,6000,200,30,0,160,-1,{"$f":"A123","v":120},"RCA-SA6D-30-3"]
[120,500,0,18000,18000,6000,190,30,0,160,{"$f":"A122","v":119},{"$f":"A124","v":121}]
[121,550,0,18000,18000,6000,160,30,0,160,{"$f":"A123","v":120},{"$f":"A125","v":122}]
[122,600,0,18000,18000,6000,135,30,0,160,{"$f":"A124","v":121},-1]
[123,450,0,12000,12000,3000,400,30,0,160,-1,{"$f":"A127","v":124},"RCA-SA6D-30-6"]
[124,500,0,12000,12000,3000,380,30,0,160,{"$f":"A126","v":123},{"$f":"A128","v":125}]
[125,550,0,12000,12000,3000,320,30,0,160,{"$f":"A127","v":124},{"$f":"A129","v":126}]
[126,600,0,12000,12000,3000,270,30,0,160,{"$f":"A128","v":125},-1]
[127,450,0,6000,6000,1500,800,30,0,160,-1,{"$f":"A131","v":128},"RCA-SA6D-30-12"]
[128,500,0,6000,6000,1500,760,30,0,160,{"$f":"A130","v":127},{"$f":"A132","v":129}]
[{"$f":"A131+1","v":129},550,0,6000,6000,1500,640,30,0,160,{"$f":"A131","v":128},{"$f":"A133","v":130}]
[130,600,0,6000,6000,1500,540,30,0,160,{"$f":"A132","v":129},-1]
[131,300,0,8000,8000,4500,165,30,0,160,-1,-1,"RCA-SS4D-20-2.5"]
[132,300,0,6000,6000,2500,330,30,0,160,-1,-1,"RCA-SS4D-20-5"]
[133,300,0,4000,4000,1000,665,30,0,160,-1,-1,"RCA-SS4D-20-10"]
[134,450,0,12000,12000,4000,200,30,0,160,-1,{"$f":"A138","v":135},"RCA-SS5D-20-3"]
[135,500,0,12000,12000,4000,190,30,0,160,{"$f":"A137","v":134},-1]
[136,450,0,8000,8000,2000,400,30,0,160,-1,{"$f":"A140","v":137},"RCA-SS5D-20-6"]
[137,500,0,8000,8000,2000,380,30,0,160,{"$f":"A139","v":136},-1]
[138,450,0,4000,4000,1000,800,30,0,120,-1,{"$f":"A142","v":139},"RCA-SS5D-20-12"]
[139,500,0,4000,4000,1000,760,30,0,120,{"$f":"A141","v":138},-1]
[140,450,0,18000,18000,6000,200,30,0,160,-1,{"$f":"A144","v":141},"RCA-SS6D-30-3"]
[141,500,0,18000,18000,6000,190,30,0,160,{"$f":"A143","v":140},{"$f":"A145","v":142}]
[142,550,0,18000,18000,6000,160,30,0,160,{"$f":"A144","v":141},{"$f":"A146","v":143}]
[143,600,0,18000,18000,6000,135,30,0,160,{"$f":"A145","v":142},-1]
[144,450,0,12000,12000,3000,400,30,0,160,-1,{"$f":"A148","v":145},"RCA-SS6D-30-6"]
[145,500,0,12000,12000,3000,380,30,0,160,{"$f":"A147","v":144},{"$f":"A149","v":146}]
[146,550,0,12000,12000,3000,320,30,0,160,{"$f":"A148","v":145},{"$f":"A150","v":147}]
[147,600,0,12000,12000,3000,270,30,0,160,{"$f":"A149","v":146},-1]
[148,450,0,6000,6000,1500,800,30,0,160,-1,{"$f":"A152","v":149},"RCA-SS6D-30-12"]
[149,500,0,6000,6000,1500,760,30,0,160,{"$f":"A151","v":148},{"$f":"A153","v":150}]
[150,550,0,6000,6000,1500,640,30,0,160,{"$f":"A152","v":149},{"$f":"A154","v":151}]
[151,600,0,6000,6000,1500,540,30,0,160,{"$f":"A153","v":150},-1]
[152,400,0,8000,8000,4500,165,30,0,160,-1,-1,"RCA-SA4R-20-2.5"]
[153,400,0,6000,6000,2500,330,30,0,160,-1,-1,"RCA-SA4R-20-5"]
[154,400,0,4000,4000,1000,665,30,0,160,-1,-1,"RCA-SA4R-20-10"]
[155,450,0,12000,12000,4000,200,30,0,160,-1,{"$f":"A159","v":156},"RCA-SA5R-20-3"]
[156,500,0,12000,12000,4000,190,30,0,160,{"$f":"A158","v":155},-1]
[157,450,0,8000,8000,2000,400,30,0,160,-1,{"$f":"A161","v":158},"RCA-SA5R-20-6"]
[158,500,0,8000,8000,2000,380,30,0,160,{"$f":"A160","v":157},-1]
[159,450,0,4000,4000,1000,800,30,0,120,-1,{"$f":"A163","v":160},"RCA-SA5R-20-12"]
[160,500,0,4000,4000,1000,760,30,0,120,{"$f":"A162","v":159},-1]
[161,450,0,18000,18000,6000,200,30,0,160,-1,{"$f":"A165","v":162},"RCA-SA6R-30-3"]
[162,500,0,18000,18000,6000,190,30,0,160,{"$f":"A164","v":161},{"$f":"A166","v":163}]
[163,550,0,18000,18000,6000,160,30,0,160,{"$f":"A165","v":162},{"$f":"A167","v":164}]
[164,600,0,18000,18000,6000,135,30,0,160,{"$f":"A166","v":163},-1]
[165,450,0,12000,12000,3000,400,30,0,160,-1,{"$f":"A169","v":166},"RCA-SA6R-30-6"]
[166,500,0,12000,12000,3000,380,30,0,160,{"$f":"A168","v":165},{"$f":"A170","v":167}]
[167,550,0,12000,12000,3000,320,30,0,160,{"$f":"A169","v":166},{"$f":"A171","v":168}]
[168,600,0,12000,12000,3000,270,30,0,160,{"$f":"A170","v":167},-1]
[169,450,0,6000,6000,1500,800,30,0,160,-1,{"$f":"A173","v":170},"RCA-SA6R-30-12"]
[170,500,0,6000,6000,1500,760,30,0,160,{"$f":"A172","v":169},{"$f":"A174","v":171}]
[171,550,0,6000,6000,1500,640,30,0,160,{"$f":"A173","v":170},{"$f":"A175","v":172}]
[172,600,0,6000,6000,1500,540,30,0,160,{"$f":"A174","v":171},-1]
[173,50,0,1000,3000,1000,50,30,0,300,-1,-1,"RCS2-RN3NA-10-1"]
[174,50,0,500,1500,500,100,30,0,300,-1,-1,"RCS2-RN3NA-10-2"]
[175,50,0,250,750,250,200,50,50,300,-1,-1,"RCS2-RN3NA-10-4"]
[176,50,0,1000,1000,500,50,30,0,300,-1,-1,"RCS2-RN3NA-10-1S"]
[177,50,0,500,500,250,100,30,0,300,-1,-1,"RCS2-RN3NA-10-2S"]
[178,50,0,250,250,125,200,50,50,300,-1,-1,"RCS2-RN3NA-10-4S"]
[179,50,0,6000,6000,1500,100,30,0,280,-1,-1,"RCS2-RN4NA-20-2"]
[180,50,0,3000,3000,750,200,50,50,280,-1,-1,"RCS2-RN4NA-20-4"]
[181,50,0,2000,2000,500,300,50,50,280,-1,-1,"RCS2-RN4NA-20-6"]
[182,50,0,1000,1000,500,100,30,0,280,-1,-1,"RCS2-RN4NA-20-2S"]
[183,50,0,500,500,250,200,50,50,280,-1,-1,"RCS2-RN4NA-20-4S"]
[184,50,0,250,250,125,300,50,50,280,-1,-1,"RCS2-RN4NA-20-6S"]
[185,50,0,1000,3000,1000,50,30,0,300,-1,-1,"RCS2-RP3NA-10-1"]
[186,50,0,500,1500,500,100,30,0,300,-1,-1,"RCS2-RP3NA-10-2"]
[187,50,0,250,750,250,200,50,50,300,-1,-1,"RCS2-RP3NA-10-4"]
[188,50,0,1000,1000,500,50,30,0,300,-1,-1,"RCS2-RP3NA-10-1S"]
[189,50,0,500,500,250,100,30,0,300,-1,-1,"RCS2-RP3NA-10-2S"]
[190,50,0,250,250,125,200,50,50,300,-1,-1,"RCS2-RP3NA-10-4S"]
[191,50,0,6000,6000,1500,100,30,0,280,-1,-1,"RCS2-RP4NA-20-2"]
[192,50,0,3000,3000,750,200,50,50,280,-1,-1,"RCS2-RP4NA-20-4"]
[{"$f":"A195+1","v":193},50,0,2000,2000,500,300,50,50,280,-1,-1,"RCS2-RP4NA-20-6"]
[194,50,0,1000,1000,500,100,30,0,280,-1,-1,"RCS2-RP4NA-20-2S"]
[195,50,0,500,500,250,200,50,50,280,-1,-1,"RCS2-RP4NA-20-4S"]
[196,50,0,250,250,125,300,50,50,280,-1,-1,"RCS2-RP4NA-20-6S"]
[197,50,0,1000,3000,1000,50,30,0,300,-1,-1,"RCS2-GS3NA-10-1"]
[198,50,0,500,1500,500,100,30,0,300,-1,-1,"RCS2-GS3NA-10-2"]
[199,50,0,250,750,250,200,50,50,300,-1,-1,"RCS2-GS3NA-10-4"]
[200,50,0,1000,1000,500,50,30,0,300,-1,-1,"RCS2-GS3NA-10-1S"]
[201,50,0,500,500,250,100,30,0,300,-1,-1,"RCS2-GS3NA-10-2S"]
[202,50,0,250,250,125,200,50,50,300,-1,-1,"RCS2-GS3NA-10-4S"]
[203,50,0,6000,6000,1500,100,30,0,280,-1,-1,"RCS2-GS4NA-20-2"]
[204,50,0,3000,3000,750,200,50,50,280,-1,-1,"RCS2-GS4NA-20-4"]
[205,50,0,2000,2000,500,300,50,50,280,-1,-1,"RCS2-GS4NA-20-6"]
[206,50,0,1000,1000,500,100,30,0,280,-1,-1,"RCS2-GS4NA-20-2S"]
[207,50,0,500,500,250,200,50,50,280,-1,-1,"RCS2-GS4NA-20-4S"]
[208,50,0,250,250,125,300,50,50,280,-1,-1,"RCS2-GS4NA-20-6S"]
[209,50,0,1000,3000,1000,50,30,0,300,-1,-1,"RCS2-GD3NA-10-1"]
[210,50,0,500,1500,500,100,30,0,300,-1,-1,"RCS2-GD3NA-10-2"]
[211,50,0,250,750,250,200,50,50,300,-1,-1,"RCS2-GD3NA-10-4"]
[212,50,0,1000,1000,500,50,30,0,300,-1,-1,"RCS2-GD3NA-10-1S"]
[213,50,0,500,500,250,100,30,0,300,-1,-1,"RCS2-GD3NA-10-2S"]
[214,50,0,250,250,125,200,50,50,300,-1,-1,"RCS2-GD3NA-10-4S"]
[215,50,0,6000,6000,1500,100,30,0,280,-1,-1,"RCS2-GD4NA-20-2"]
[216,50,0,3000,3000,750,200,50,50,280,-1,-1,"RCS2-GD4NA-20-4"]
[217,50,0,2000,2000,500,300,50,50,280,-1,-1,"RCS2-GD4NA-20-6"]
[218,50,0,1000,1000,500,100,30,0,280,-1,-1,"RCS2-GD4NA-20-2S"]
[219,50,0,500,500,250,200,50,50,280,-1,-1,"RCS2-GD4NA-20-4S"]
[220,50,0,250,250,125,300,50,50,280,-1,-1,"RCS2-GD4NA-20-6S"]
[221,50,0,1000,3000,1000,50,30,0,300,-1,-1,"RCS2-SD3NA-10-1"]
[222,50,0,500,1500,500,100,30,0,300,-1,-1,"RCS2-SD3NA-10-2"]
[223,50,0,250,750,250,200,50,50,300,-1,-1,"RCS2-SD3NA-10-4"]
[224,50,0,1000,1000,500,50,30,0,300,-1,-1,"RCS2-SD3NA-10-1S"]
[225,50,0,500,500,250,100,30,0,300,-1,-1,"RCS2-SD3NA-10-2S"]
[226,50,0,250,250,125,200,50,50,300,-1,-1,"RCS2-SD3NA-10-4S"]
[227,75,0,6000,6000,1500,100,30,0,280,-1,-1,"RCS2-SD4NA-20-2"]
[228,75,0,3000,3000,750,200,50,50,280,-1,-1,"RCS2-SD4NA-20-4"]
[229,75,0,2000,2000,500,300,50,50,280,-1,-1,"RCS2-SD4NA-20-6"]
[230,75,0,1000,1000,500,100,30,0,280,-1,-1,"RCS2-SD4NA-20-2S"]
[231,75,0,500,500,250,200,50,50,280,-1,-1,"RCS2-SD4NA-20-4S"]
[232,75,0,250,250,125,300,50,50,280,-1,-1,"RCS2-SD4NA-20-6S"]
[233,200,0,18000,18000,6500,125,30,0,200,-1,-1,"RCA-RA3C-20-2.5"]
[234,200,0,9000,9000,3000,250,30,0,160,-1,-1,"RCA-RA3C-20-5"]
[235,200,0,4000,4000,1500,500,30,0,160,-1,-1,"RCA-RA3C-20-10"]
[236,300,0,12000,12000,4000,150,30,0,160,-1,-1,"RCA-RA4C-20-3"]
[237,300,0,6000,6000,2000,300,30,0,160,-1,-1,"RCA-RA4C-20-6"]
[238,300,0,3000,3000,1000,600,30,0,160,-1,-1,"RCA-RA4C-20-12"]
[239,300,0,18000,18000,6500,150,30,0,160,-1,-1,"RCA-RA4C-30-3"]
[240,300,0,9000,9000,3000,300,30,0,160,-1,-1,"RCA-RA4C-30-6"]
[241,300,0,4000,4000,1500,600,30,0,160,-1,-1,"RCA-RA4C-30-12"]
[242,200,0,18000,18000,6500,125,30,0,200,-1,-1,"RCA-RA3D-20-2.5"]
[243,200,0,9000,9000,3000,250,30,0,160,-1,-1,"RCA-RA3D-20-5"]
[244,200,0,4000,4000,1500,500,30,0,160,-1,-1,"RCA-RA3D-20-10"]
[245,300,0,12000,12000,4000,150,30,0,160,-1,-1,"RCA-RA4D-20-3"]
[246,300,0,6000,6000,2000,300,30,0,160,-1,-1,"RCA-RA4D-20-6"]
[247,300,0,3000,3000,1000,600,30,0,160,-1,-1,"RCA-RA4D-20-12"]
[248,300,0,18000,18000,6500,150,30,0,160,-1,-1,"RCA-RA4D-30-3"]
[249,300,0,9000,9000,3000,300,30,0,160,-1,-1,"RCA-RA4D-30-6"]
[250,300,0,4000,4000,1500,600,30,0,160,-1,-1,"RCA-RA4D-30-12"]
[251,200,0,18000,18000,6500,125,30,0,200,-1,-1,"RCA-RA3R-20-2.5"]
[252,200,0,9000,9000,3000,250,30,0,160,-1,-1,"RCA-RA3R-20-5"]
[253,200,0,4000,4000,1500,500,30,0,160,-1,-1,"RCA-RA3R-20-10"]
[254,300,0,12000,12000,4000,150,30,0,160,-1,-1,"RCA-RA4R-20-3"]
[255,300,0,6000,6000,2000,300,30,0,160,-1,-1,"RCA-RA4R-20-6"]
[256,300,0,3000,3000,1000,600,30,0,160,-1,-1,"RCA-RA4R-20-12"]
[{"$f":"A259+1","v":257},300,0,18000,18000,6500,150,30,0,160,-1,-1,"RCA-RA4R-30-3"]
[258,300,0,9000,9000,3000,300,30,0,160,-1,-1,"RCA-RA4R-30-6"]
[259,300,0,4000,4000,1500,600,30,0,160,-1,-1,"RCA-RA4R-30-12"]
[260,200,0,16600,18000,6500,125,30,0,160,-1,-1,"RCA-SRA4R-20-2.5"]
[261,200,0,12500,9000,3000,250,30,0,160,-1,-1,"RCA-SRA4R-20-5"]
[262,200,0,18000,18000,6200,125,30,0,200,-1,-1,"RCA-RGS3C-20-2.5"]
[263,200,0,9000,9000,2700,250,30,0,160,-1,-1,"RCA-RGS3C-20-5"]
[264,200,0,4000,4000,1200,500,30,0,160,-1,-1,"RCA-RGS3C-20-10"]
[265,300,0,12000,12000,3500,150,30,0,160,-1,-1,"RCA-RGS4C-20-3"]
[266,300,0,6000,6000,1500,300,30,0,160,-1,-1,"RCA-RGS4C-20-6"]
[267,300,0,3000,3000,500,600,30,0,160,-1,-1,"RCA-RGS4C-20-12"]
[268,300,0,18000,18000,6000,150,30,0,160,-1,-1,"RCA-RGS4C-30-3"]
[269,300,0,9000,9000,2500,300,30,0,160,-1,-1,"RCA-RGS4C-30-6"]
[270,300,0,4000,4000,1000,600,30,0,160,-1,-1,"RCA-RGS4C-30-12"]
[271,200,0,18000,18000,6200,125,30,0,200,-1,-1,"RCA-RGS3D-20-2.5"]
[272,200,0,9000,9000,2700,250,30,0,160,-1,-1,"RCA-RGS3D-20-5"]
[273,200,0,4000,4000,1200,500,30,0,160,-1,-1,"RCA-RGS3D-20-10"]
[274,300,0,12000,12000,3500,150,30,0,160,-1,-1,"RCA-RGS4D-20-3"]
[275,300,0,6000,6000,1500,300,30,0,160,-1,-1,"RCA-RGS4D-20-6"]
[276,300,0,3000,3000,500,600,30,0,160,-1,-1,"RCA-RGS4D-20-12"]
[277,300,0,18000,18000,6000,150,30,0,160,-1,-1,"RCA-RGS4D-30-3"]
[278,300,0,9000,9000,2500,300,30,0,160,-1,-1,"RCA-RGS4D-30-6"]
[279,300,0,4000,4000,1000,600,30,0,160,-1,-1,"RCA-RGS4D-30-12"]
[280,200,0,16600,18000,5500,125,30,0,160,-1,-1,"RCA-SRGS4R-20-2.5"]
[281,200,0,12500,9000,2000,250,30,0,160,-1,-1,"RCA-SRGS4R-20-5"]
[282,200,0,18000,18000,6200,125,30,0,200,-1,-1,"RCA-RGD3C-20-2.5"]
[283,200,0,9000,9000,2700,250,30,0,160,-1,-1,"RCA-RGD3C-20-5"]
[284,200,0,4000,4000,1200,500,30,0,160,-1,-1,"RCA-RGD3C-20-10"]
[285,300,0,12000,12000,3500,150,30,0,160,-1,-1,"RCA-RGD4C-20-3"]
[286,300,0,6000,6000,1500,300,30,0,160,-1,-1,"RCA-RGD4C-20-6"]
[287,300,0,3000,3000,500,600,30,0,160,-1,-1,"RCA-RGD4C-20-12"]
[288,300,0,18000,18000,6000,150,30,0,160,-1,-1,"RCA-RGD4C-30-3"]
[289,300,0,9000,9000,2500,300,30,0,160,-1,-1,"RCA-RGD4C-30-6"]
[290,300,0,4000,4000,1000,600,30,0,160,-1,-1,"RCA-RGD4C-30-12"]
[291,200,0,18000,18000,6200,125,30,0,200,-1,-1,"RCA-RGD3D-20-2.5"]
[292,200,0,9000,9000,2700,250,30,0,160,-1,-1,"RCA-RGD3D-20-5"]
[293,200,0,4000,4000,1200,500,30,0,160,-1,-1,"RCA-RGD3D-20-10"]
[294,300,0,12000,12000,3500,150,30,0,160,-1,-1,"RCA-RGD4D-20-3"]
[295,300,0,6000,6000,1500,300,30,0,160,-1,-1,"RCA-RGD4D-20-6"]
[296,300,0,3000,3000,500,600,30,0,160,-1,-1,"RCA-RGD4D-20-12"]
[297,300,0,18000,18000,6000,150,30,0,160,-1,-1,"RCA-RGD4D-30-3"]
[298,300,0,9000,9000,2500,300,30,0,160,-1,-1,"RCA-RGD4D-30-6"]
[299,300,0,4000,4000,1000,600,30,0,160,-1,-1,"RCA-RGD4D-30-12"]
[300,200,0,18000,18000,6200,125,30,0,200,-1,-1,"RCA-RGD3R-20-2.5"]
[301,200,0,9000,9000,2700,250,30,0,160,-1,-1,"RCA-RGD3R-20-5"]
[302,200,0,4000,4000,1200,500,30,0,160,-1,-1,"RCA-RGD3R-20-10"]
[303,300,0,12000,12000,3500,150,30,0,160,-1,-1,"RCA-RGD4R-20-3"]
[304,300,0,6000,6000,1500,300,30,0,160,-1,-1,"RCA-RGD4R-20-6"]
[305,300,0,3000,3000,500,600,30,0,160,-1,-1,"RCA-RGD4R-20-12"]
[306,300,0,18000,18000,6000,150,30,0,160,-1,-1,"RCA-RGD4R-30-3"]
[307,300,0,9000,9000,2500,300,30,0,160,-1,-1,"RCA-RGD4R-30-6"]
[308,300,0,4000,4000,1000,600,30,0,160,-1,-1,"RCA-RGD4R-30-12"]
[309,200,0,16600,18000,5500,125,30,0,160,-1,-1,"RCA-SRGD4R-20-2.5"]
[310,200,0,12500,9000,2000,250,30,0,160,-1,-1,"RCA-SRGD4R-20-5"]
[311,50,0,1000,3000,1000,50,30,0,300,-1,-1,"RCS2-TCA3NA-10-1"]
[312,50,0,500,1500,500,100,30,0,300,-1,-1,"RCS2-TCA3NA-10-2"]
[313,50,0,250,750,250,200,50,50,300,-1,-1,"RCS2-TCA3NA-10-4"]
[314,50,0,1000,1000,500,50,30,0,300,-1,-1,"RCS2-TCA3NA-10-1S"]
[315,50,0,500,500,250,100,30,0,300,-1,-1,"RCS2-TCA3NA-10-2S"]
[316,50,0,250,250,125,200,50,50,300,-1,-1,"RCS2-TCA3NA-10-4S"]
[317,50,0,6000,6000,1500,100,30,0,280,-1,-1,"RCS2-TCA4NA-20-2"]
[318,50,0,3000,3000,750,200,50,50,280,-1,-1,"RCS2-TCA4NA-20-4"]
[319,50,0,2000,2000,500,300,50,50,280,-1,-1,"RCS2-TCA4NA-20-6"]
[320,50,0,1000,1000,500,100,30,0,280,-1,-1,"RCS2-TCA4NA-20-2S"]
[{"$f":"A323+1","v":321},50,0,500,500,250,200,50,50,280,-1,-1,"RCS2-TCA4NA-20-4S"]
[322,50,0,250,250,125,300,50,50,280,-1,-1,"RCS2-TCA4NA-20-6S"]
[323,50,0,1000,3000,1000,50,30,0,300,-1,-1,"RCS2-TWA3NA-10-1"]
[324,50,0,500,1500,500,100,30,0,300,-1,-1,"RCS2-TWA3NA-10-2"]
[325,50,0,250,750,250,200,50,50,300,-1,-1,"RCS2-TWA3NA-10-4"]
[326,50,0,1000,1000,500,50,30,0,300,-1,-1,"RCS2-TWA3NA-10-1S"]
[327,50,0,500,500,250,100,30,0,300,-1,-1,"RCS2-TWA3NA-10-2S"]
[328,50,0,250,250,125,200,50,50,300,-1,-1,"RCS2-TWA3NA-10-4S"]
[329,50,0,6000,6000,1500,100,30,0,280,-1,-1,"RCS2-TWA4NA-20-2"]
[330,50,0,3000,3000,750,200,50,50,280,-1,-1,"RCS2-TWA4NA-20-4"]
[331,50,0,2000,2000,500,300,50,50,280,-1,-1,"RCS2-TWA4NA-20-6"]
[332,50,0,1000,1000,500,100,30,0,280,-1,-1,"RCS2-TWA4NA-20-2S"]
[333,50,0,500,500,250,200,50,50,280,-1,-1,"RCS2-TWA4NA-20-4S"]
[334,50,0,250,250,125,300,50,50,280,-1,-1,"RCS2-TWA4NA-20-6S"]
[335,50,0,1000,3000,1000,50,30,0,300,-1,-1,"RCS2-TFA3NA-10-1"]
[336,50,0,500,1500,500,100,30,0,300,-1,-1,"RCS2-TFA3NA-10-2"]
[337,50,0,250,750,250,200,50,50,300,-1,-1,"RCS2-TFA3NA-10-4"]
[338,50,0,1000,1000,500,50,30,0,300,-1,-1,"RCS2-TFA3NA-10-1S"]
[339,50,0,500,500,250,100,30,0,300,-1,-1,"RCS2-TFA3NA-10-2S"]
[340,50,0,250,250,125,200,50,50,300,-1,-1,"RCS2-TFA3NA-10-4S"]
[341,50,0,6000,6000,1500,100,30,0,280,-1,-1,"RCS2-TFA4NA-20-2"]
[342,50,0,3000,3000,750,200,50,50,280,-1,-1,"RCS2-TFA4NA-20-4"]
[343,50,0,2000,2000,500,300,50,50,280,-1,-1,"RCS2-TFA4NA-20-6"]
[344,50,0,1000,1000,500,100,30,0,280,-1,-1,"RCS2-TFA4NA-20-2S"]
[345,50,0,500,500,250,200,50,50,280,-1,-1,"RCS2-TFA4NA-20-4S"]
[346,50,0,250,250,125,300,50,50,280,-1,-1,"RCS2-TFA4NA-20-6S"]
[347,100,0,3000,3000,1500,100,30,0,200,-1,-1,"RCS2-TA4C-10-2"]
[348,100,0,2000,2000,1000,200,30,0,160,-1,-1,"RCS2-TA4C-10-4"]
[349,100,0,1000,1000,500,300,30,0,160,-1,-1,"RCS2-TA4C-10-6"]
[350,100,0,5000,5000,3000,125,30,0,200,-1,-1,"RCA2-TA5C-20-2.5"]
[351,100,0,3500,3500,2000,250,30,0,160,-1,-1,"RCA2-TA5C-20-5"]
[352,100,0,2000,2000,1000,465,30,0,160,-1,-1,"RCA2-TA5C-20-10"]
[353,150,0,6000,6000,3000,150,30,0,160,-1,-1,"RCA2-TA6C-20-3"]
[354,150,0,4000,4000,1500,300,30,0,160,-1,-1,"RCA2-TA6C-20-6"]
[355,150,0,2000,2000,500,560,30,0,160,-1,-1,"RCA2-TA6C-20-12"]
[356,200,0,8000,8000,4000,150,30,0,160,-1,-1,"RCA2-TA7C-30-3"]
[357,200,0,6000,6000,2500,300,30,0,160,-1,-1,"RCA2-TA7C-30-6"]
[358,200,0,4000,4000,1000,600,30,0,160,-1,-1,"RCA2-TA7C-30-12"]
[359,100,0,3000,3000,1500,100,30,0,200,-1,-1,"RCS2-TA4R-10-2"]
[360,100,0,2000,2000,1000,200,30,0,160,-1,-1,"RCS2-TA4R-10-4"]
[361,100,0,1000,1000,500,300,30,0,160,-1,-1,"RCS2-TA4R-10-6"]
[362,100,0,5000,5000,3000,125,30,0,200,-1,-1,"RCA2-TA5R-20-2.5"]
[363,100,0,3500,3500,2000,250,30,0,160,-1,-1,"RCA2-TA5R-20-5"]
[364,100,0,2000,2000,1000,465,30,0,160,-1,-1,"RCA2-TA5R-20-10"]
[365,150,0,6000,6000,3000,150,30,0,160,-1,-1,"RCA2-TA6R-20-3"]
[366,150,0,4000,4000,1500,300,30,0,160,-1,-1,"RCA2-TA6R-20-6"]
[367,150,0,2000,2000,500,560,30,0,160,-1,-1,"RCA2-TA6R-20-12"]
[368,200,0,8000,8000,4000,150,30,0,160,-1,-1,"RCA2-TA7R-30-3"]
[369,200,0,6000,6000,2500,300,30,0,160,-1,-1,"RCA2-TA7R-30-6"]
[370,200,0,4000,4000,1000,600,30,0,160,-1,-1,"RCA2-TA7R-30-12"]
[371,200,0,8000,-1,4500,165,30,0,160,-1,-1,"RCA-A4R-20-5"]
[372,200,0,6000,-1,2500,330,30,0,160,-1,-1,"RCA-A4R-20-10"]
[373,200,0,12000,-1,4000,200,30,0,160,-1,-1,"RCA-A5R-20-6"]
[374,200,0,8000,-1,2000,400,30,0,160,-1,-1,"RCA-A5R-20-12"]
[375,200,0,18000,-1,6000,200,30,0,160,-1,-1,"RCA-A6R-30-6"]
[376,200,0,12000,-1,3000,400,30,0,160,-1,-1,"RCA-A6R-30-12"]
[377,40,0,200,500,-1,420,30,0,160,-1,-1,"RCL-SA1L"]
[378,48,0,400,1000,-1,460,30,0,160,-1,-1,"RCL-SA2L"]
[379,64,0,800,2000,-1,600,30,0,160,-1,-1,"RCL-SA3L"]
[380,180,0,500,800,-1,1200,30,0,80,-1,-1,"RCL-SA4L"]
[381,120,0,500,800,-1,1200,30,0,80,-1,-1,"RCL-SM4L"]
[382,216,0,1000,1600,-1,1400,30,0,80,-1,-1,"RCL-SA5L"]
[383,144,0,1000,1600,-1,1400,30,0,80,-1,-1,"RCL-SM5L"]
[384,288,0,2000,3200,-1,1600,30,0,80,-1,-1,"RCL-SA6L"]
[{"$f":"A387+1","v":385},192,0,2000,3200,-1,1600,30,0,80,-1,-1,"RCL-SM6L"]
[386,25,0,200,500,100,300,30,0,160,-1,-1,"RCL-RA1L"]
[387,30,0,400,1000,200,340,30,0,160,-1,-1,"RCL-RA2L"]
[388,40,0,800,2000,400,450,30,0,160,-1,-1,"RCL-RA3L"]
[389,100,0,2000,2000,1000,50,30,0,200,-1,-1,"RCS2-SA2AC-1"]
[390,100,0,1000,1000,500,100,30,0,160,-1,-1,"RCS2-SA2AC-2"]
[391,100,0,500,500,250,200,30,0,160,-1,-1,"RCS2-SA2AC-4"]
[392,100,0,2000,2000,1000,50,30,0,200,-1,-1,"RCS2-SA2AR-1"]
[393,100,0,1000,1000,500,100,30,0,160,-1,-1,"RCS2-SA2AR-2"]
[394,100,0,500,500,250,200,30,0,160,-1,-1,"RCS2-SA2AR-4"]
[395,100,0,2000,2000,1000,50,30,0,320,-1,-1,"RCS2-RA2AC-1"]
[396,100,0,1000,1000,500,100,30,0,160,-1,-1,"RCS2-RA2AC-2"]
[397,100,0,500,500,250,200,30,0,160,-1,-1,"RCS2-RA2AC-4"]
[398,100,0,2000,2000,1000,50,30,0,320,-1,-1,"RCS2-RA2AR-1"]
[399,100,0,1000,1000,500,100,30,0,160,-1,-1,"RCS2-RA2AR-2"]
[400,100,0,500,500,250,200,30,0,160,-1,-1,"RCS2-RA2AR-4"]
[401,30,0,700,700,300,300,30,0,160,-1,-1,"RCS2-RA2AR-4"]

{"sheet":"MassDataLink","index":5,"n_rows":618,"n_cols":10,"rows_kept":618,"cut":false,"hidden":true,"merged":[]}
[null,1,2,3,4,5,null,1000]
["ﾃﾞｰﾀ№","ｱｸﾁｭｴｰﾀ姿勢","搬送負荷質量","加減速・速度ﾃﾞｰﾀ","前ﾃﾞｰﾀ№","次ﾃﾞｰﾀ№","備考"]
[{"$f":"ModelData!A3","v":0},"0/1","1g","ﾚｺｰﾄﾞ№","ﾚｺｰﾄﾞ№","ﾚｺｰﾄﾞ№","型式-姿勢","質量","前№ﾁｪｯｸ","後№ﾁｪｯｸ"]
[{"$f":"A3+1","v":1},0,{"$f":"H4*$H$1","v":3000},{"$f":"AccVelDataLink!A4","v":1},-1,{"$f":"A5","v":2},{"$f":"AccVelDataLink!F4","v":"RCS2-SA3C-10-2-水平"},{"$f":"AccVelDataLink!G4","v":3},{"$f":"IF(E4=A3,\"○\",IF(G4=0,\"つなぎまちがい\",\"先頭\"))","v":"先頭"},{"$f":"IF(F4=A5,\"○\",IF(F4<>E5,\"つなぎまちがい\",\"終端\"))","v":"○"}]
[2,1,1500,{"$f":"AccVelDataLink!A5","v":2},{"$f":"A4","v":1},-1,{"$f":"AccVelDataLink!F5","v":"RCS2-SA3C-10-2-垂直"},{"$f":"AccVelDataLink!G5","v":1.5},"○","終端"]
[3,0,2000,{"$f":"AccVelDataLink!A6","v":3},-1,4,{"$f":"AccVelDataLink!F6","v":"RCS2-SA3C-10-4-水平"},{"$f":"AccVelDataLink!G6","v":2},"先頭","○"]
[4,1,1000,{"$f":"AccVelDataLink!A7","v":4},3,-1,{"$f":"AccVelDataLink!F7","v":"RCS2-SA3C-10-4-垂直"},{"$f":"AccVelDataLink!G7","v":1},"○","終端"]
[5,0,1000,{"$f":"AccVelDataLink!A8","v":5},-1,6,{"$f":"AccVelDataLink!F8","v":"RCS2-SA3C-10-6-水平"},{"$f":"AccVelDataLink!G8","v":1},"先頭","○"]
[6,1,500,{"$f":"AccVelDataLink!A9","v":6},5,-1,{"$f":"AccVelDataLink!F9","v":"RCS2-SA3C-10-6-垂直"},{"$f":"AccVelDataLink!G9","v":0.5},"○","終端"]
[7,0,6000,{"$f":"AccVelDataLink!A10","v":7},-1,8,{"$f":"AccVelDataLink!F10","v":"RCA2-SA4C-20-2.5-水平"},{"$f":"AccVelDataLink!G10","v":6},"先頭","○"]
[8,1,3000,{"$f":"AccVelDataLink!A11","v":8},7,-1,{"$f":"AccVelDataLink!F11","v":"RCA2-SA4C-20-2.5-垂直"},{"$f":"AccVelDataLink!G11","v":3},"○","終端"]
[9,0,4000,{"$f":"AccVelDataLink!A12","v":9},-1,10,{"$f":"AccVelDataLink!F12","v":"RCA2-SA4C-20-5-水平"},{"$f":"AccVelDataLink!G12","v":4},"先頭","○"]
[10,1,1500,{"$f":"AccVelDataLink!A13","v":10},9,-1,{"$f":"AccVelDataLink!F13","v":"RCA2-SA4C-20-5-垂直"},{"$f":"AccVelDataLink!G13","v":1.5},"○","終端"]
[11,0,2000,{"$f":"AccVelDataLink!A14","v":11},-1,12,{"$f":"AccVelDataLink!F14","v":"RCA2-SA4C-20-10-水平"},{"$f":"AccVelDataLink!G14","v":2},"先頭","○"]
[12,1,1000,{"$f":"AccVelDataLink!A15","v":12},11,-1,{"$f":"AccVelDataLink!F15","v":"RCA2-SA4C-20-10-垂直"},{"$f":"AccVelDataLink!G15","v":1},"○","終端"]
[13,0,9000,{"$f":"AccVelDataLink!A16","v":13},-1,14,{"$f":"AccVelDataLink!F16","v":"RCA2-SA5C-20-3-水平"},{"$f":"AccVelDataLink!G16","v":9},"先頭","○"]
[14,1,3000,{"$f":"AccVelDataLink!A17","v":14},13,-1,{"$f":"AccVelDataLink!F17","v":"RCA2-SA5C-20-3-垂直"},{"$f":"AccVelDataLink!G17","v":3},"○","終端"]
[15,0,6000,{"$f":"AccVelDataLink!A18","v":15},-1,16,{"$f":"AccVelDataLink!F18","v":"RCA2-SA5C-20-6-水平"},{"$f":"AccVelDataLink!G18","v":6},"先頭","○"]
[16,1,1500,{"$f":"AccVelDataLink!A19","v":16},15,-1,{"$f":"AccVelDataLink!F19","v":"RCA2-SA5C-20-6-垂直"},{"$f":"AccVelDataLink!G19","v":1.5},"○","終端"]
[17,0,3000,{"$f":"AccVelDataLink!A20","v":17},-1,18,{"$f":"AccVelDataLink!F20","v":"RCA2-SA5C-20-12-水平"},{"$f":"AccVelDataLink!G20","v":3},"先頭","○"]
[18,1,1000,{"$f":"AccVelDataLink!A21","v":18},17,-1,{"$f":"AccVelDataLink!F21","v":"RCA2-SA5C-20-12-垂直"},{"$f":"AccVelDataLink!G21","v":1},"○","終端"]
[19,0,10000,{"$f":"AccVelDataLink!A22","v":19},-1,20,{"$f":"AccVelDataLink!F22","v":"RCA2-SA6C-30-3-水平"},{"$f":"AccVelDataLink!G22","v":10},"先頭","○"]
[20,1,4000,{"$f":"AccVelDataLink!A23","v":20},19,-1,{"$f":"AccVelDataLink!F23","v":"RCA2-SA6C-30-3-垂直"},{"$f":"AccVelDataLink!G23","v":4},"○","終端"]
[21,0,7000,{"$f":"AccVelDataLink!A24","v":21},-1,22,{"$f":"AccVelDataLink!F24","v":"RCA2-SA6C-30-6-水平"},{"$f":"AccVelDataLink!G24","v":7},"先頭","○"]
[22,1,2000,{"$f":"AccVelDataLink!A25","v":22},21,-1,{"$f":"AccVelDataLink!F25","v":"RCA2-SA6C-30-6-垂直"},{"$f":"AccVelDataLink!G25","v":2},"○","終端"]
[23,0,4000,{"$f":"AccVelDataLink!A26","v":23},-1,24,{"$f":"AccVelDataLink!F26","v":"RCA2-SA6C-30-12-水平"},{"$f":"AccVelDataLink!G26","v":4},"先頭","○"]
[24,1,1500,{"$f":"AccVelDataLink!A27","v":24},23,-1,{"$f":"AccVelDataLink!F27","v":"RCA2-SA6C-30-12-垂直"},{"$f":"AccVelDataLink!G27","v":1.5},"○","終端"]
[25,0,3000,{"$f":"AccVelDataLink!A28","v":25},-1,26,{"$f":"AccVelDataLink!F28","v":"RCS2-SA3R-10-2-水平"},{"$f":"AccVelDataLink!G28","v":3},"先頭","○"]
[26,1,1500,{"$f":"AccVelDataLink!A29","v":26},25,-1,{"$f":"AccVelDataLink!F29","v":"RCS2-SA3R-10-2-垂直"},{"$f":"AccVelDataLink!G29","v":1.5},"○","終端"]
[27,0,2000,{"$f":"AccVelDataLink!A30","v":27},-1,28,{"$f":"AccVelDataLink!F30","v":"RCS2-SA3R-10-4-水平"},{"$f":"AccVelDataLink!G30","v":2},"先頭","○"]
[28,1,1000,{"$f":"AccVelDataLink!A31","v":28},27,-1,{"$f":"AccVelDataLink!F31","v":"RCS2-SA3R-10-4-垂直"},{"$f":"AccVelDataLink!G31","v":1},"○","終端"]
[29,0,1000,{"$f":"AccVelDataLink!A32","v":29},-1,30,{"$f":"AccVelDataLink!F32","v":"RCS2-SA3R-10-6-水平"},{"$f":"AccVelDataLink!G32","v":1},"先頭","○"]
[30,1,500,{"$f":"AccVelDataLink!A33","v":30},29,-1,{"$f":"AccVelDataLink!F33","v":"RCS2-SA3R-10-6-垂直"},{"$f":"AccVelDataLink!G33","v":0.5},"○","終端"]
[31,0,6000,{"$f":"AccVelDataLink!A34","v":31},-1,32,{"$f":"AccVelDataLink!F34","v":"RCA2-SA4R-20-2.5-水平"},{"$f":"AccVelDataLink!G34","v":6},"先頭","○"]
[32,1,3000,{"$f":"AccVelDataLink!A35","v":32},31,-1,{"$f":"AccVelDataLink!F35","v":"RCA2-SA4R-20-2.5-垂直"},{"$f":"AccVelDataLink!G35","v":3},"○","終端"]
[33,0,4000,{"$f":"AccVelDataLink!A36","v":33},-1,34,{"$f":"AccVelDataLink!F36","v":"RCA2-SA4R-20-5-水平"},{"$f":"AccVelDataLink!G36","v":4},"先頭","○"]
[34,1,1500,{"$f":"AccVelDataLink!A37","v":34},33,-1,{"$f":"AccVelDataLink!F37","v":"RCA2-SA4R-20-5-垂直"},{"$f":"AccVelDataLink!G37","v":1.5},"○","終端"]
[35,0,2000,{"$f":"AccVelDataLink!A38","v":35},-1,36,{"$f":"AccVelDataLink!F38","v":"RCA2-SA4R-20-10-水平"},{"$f":"AccVelDataLink!G38","v":2},"先頭","○"]
[36,1,1000,{"$f":"AccVelDataLink!A39","v":36},35,-1,{"$f":"AccVelDataLink!F39","v":"RCA2-SA4R-20-10-垂直"},{"$f":"AccVelDataLink!G39","v":1},"○","終端"]
[37,0,9000,{"$f":"AccVelDataLink!A40","v":37},-1,38,{"$f":"AccVelDataLink!F40","v":"RCA2-SA5R-20-3-水平"},{"$f":"AccVelDataLink!G40","v":9},"先頭","○"]
[38,1,3000,{"$f":"AccVelDataLink!A41","v":38},37,-1,{"$f":"AccVelDataLink!F41","v":"RCA2-SA5R-20-3-垂直"},{"$f":"AccVelDataLink!G41","v":3},"○","終端"]
[39,0,6000,{"$f":"AccVelDataLink!A42","v":39},-1,40,{"$f":"AccVelDataLink!F42","v":"RCA2-SA5R-20-6-水平"},{"$f":"AccVelDataLink!G42","v":6},"先頭","○"]
[40,1,1500,{"$f":"AccVelDataLink!A43","v":40},39,-1,{"$f":"AccVelDataLink!F43","v":"RCA2-SA5R-20-6-垂直"},{"$f":"AccVelDataLink!G43","v":1.5},"○","終端"]
[41,0,3000,{"$f":"AccVelDataLink!A44","v":41},-1,42,{"$f":"AccVelDataLink!F44","v":"RCA2-SA5R-20-12-水平"},{"$f":"AccVelDataLink!G44","v":3},"先頭","○"]
[42,1,1000,{"$f":"AccVelDataLink!A45","v":42},41,-1,{"$f":"AccVelDataLink!F45","v":"RCA2-SA5R-20-12-垂直"},{"$f":"AccVelDataLink!G45","v":1},"○","終端"]
[43,0,10000,{"$f":"AccVelDataLink!A46","v":43},-1,44,{"$f":"AccVelDataLink!F46","v":"RCA2-SA6R-30-3-水平"},{"$f":"AccVelDataLink!G46","v":10},"先頭","○"]
[44,1,4000,{"$f":"AccVelDataLink!A47","v":44},43,-1,{"$f":"AccVelDataLink!F47","v":"RCA2-SA6R-30-3-垂直"},{"$f":"AccVelDataLink!G47","v":4},"○","終端"]
[45,0,7000,{"$f":"AccVelDataLink!A48","v":45},-1,46,{"$f":"AccVelDataLink!F48","v":"RCA2-SA6R-30-6-水平"},{"$f":"AccVelDataLink!G48","v":7},"先頭","○"]
[46,1,2000,{"$f":"AccVelDataLink!A49","v":46},45,-1,{"$f":"AccVelDataLink!F49","v":"RCA2-SA6R-30-6-垂直"},{"$f":"AccVelDataLink!G49","v":2},"○","終端"]
[47,0,4000,{"$f":"AccVelDataLink!A50","v":47},-1,48,{"$f":"AccVelDataLink!F50","v":"RCA2-SA6R-30-12-水平"},{"$f":"AccVelDataLink!G50","v":4},"先頭","○"]
[48,1,1500,{"$f":"AccVelDataLink!A51","v":48},47,-1,{"$f":"AccVelDataLink!F51","v":"RCA2-SA6R-30-12-垂直"},{"$f":"AccVelDataLink!G51","v":1.5},"○","終端"]
[49,0,8000,{"$f":"AccVelDataLink!A52","v":49},-1,50,{"$f":"AccVelDataLink!F52","v":"RCA-SA4C-20-2.5-水平"},{"$f":"AccVelDataLink!G52","v":8},"先頭","○"]
[50,1,4500,{"$f":"AccVelDataLink!A53","v":50},49,-1,{"$f":"AccVelDataLink!F53","v":"RCA-SA4C-20-2.5-垂直"},{"$f":"AccVelDataLink!G53","v":4.5},"○","終端"]
[51,0,6000,{"$f":"AccVelDataLink!A54","v":51},-1,52,{"$f":"AccVelDataLink!F54","v":"RCA-SA4C-20-5-水平"},{"$f":"AccVelDataLink!G54","v":6},"先頭","○"]
[52,1,2500,{"$f":"AccVelDataLink!A55","v":52},51,-1,{"$f":"AccVelDataLink!F55","v":"RCA-SA4C-20-5-垂直"},{"$f":"AccVelDataLink!G55","v":2.5},"○","終端"]
[53,0,4000,{"$f":"AccVelDataLink!A56","v":53},-1,54,{"$f":"AccVelDataLink!F56","v":"RCA-SA4C-20-10-水平"},{"$f":"AccVelDataLink!G56","v":4},"先頭","○"]
[54,1,1000,{"$f":"AccVelDataLink!A57","v":54},53,-1,{"$f":"AccVelDataLink!F57","v":"RCA-SA4C-20-10-垂直"},{"$f":"AccVelDataLink!G57","v":1},"○","終端"]
[55,0,12000,{"$f":"AccVelDataLink!A58","v":55},-1,56,{"$f":"AccVelDataLink!F58","v":"RCA-SA5C-20-3-水平"},{"$f":"AccVelDataLink!G58","v":12},"先頭","○"]
[56,1,4000,{"$f":"AccVelDataLink!A59","v":56},55,-1,{"$f":"AccVelDataLink!F59","v":"RCA-SA5C-20-3-垂直"},{"$f":"AccVelDataLink!G59","v":4},"○","終端"]
[57,0,8000,{"$f":"AccVelDataLink!A60","v":57},-1,58,{"$f":"AccVelDataLink!F60","v":"RCA-SA5C-20-6-水平"},{"$f":"AccVelDataLink!G60","v":8},"先頭","○"]
[58,1,2000,{"$f":"AccVelDataLink!A61","v":58},57,-1,{"$f":"AccVelDataLink!F61","v":"RCA-SA5C-20-6-垂直"},{"$f":"AccVelDataLink!G61","v":2},"○","終端"]
[59,0,4000,{"$f":"AccVelDataLink!A62","v":59},-1,60,{"$f":"AccVelDataLink!F62","v":"RCA-SA5C-20-12-水平"},{"$f":"AccVelDataLink!G62","v":4},"先頭","○"]
[60,1,1000,{"$f":"AccVelDataLink!A63","v":60},59,-1,{"$f":"AccVelDataLink!F63","v":"RCA-SA5C-20-12-垂直"},{"$f":"AccVelDataLink!G63","v":1},"○","終端"]
[61,0,{"$f":"H64*$H$1","v":2000},{"$f":"AccVelDataLink!A64","v":61},-1,{"$f":"A65","v":62},{"$f":"AccVelDataLink!F64","v":"RCA-SA5C-20-20-水平"},{"$f":"AccVelDataLink!G64","v":2},"先頭","○"]
[62,1,{"$f":"H65*$H$1","v":500},{"$f":"AccVelDataLink!A65","v":62},{"$f":"A64","v":61},-1,{"$f":"AccVelDataLink!F65","v":"RCA-SA5C-20-20-垂直"},{"$f":"AccVelDataLink!G65","v":0.5},"○","終端"]
[63,0,18000,{"$f":"AccVelDataLink!A66","v":63},-1,64,{"$f":"AccVelDataLink!F66","v":"RCA-SA6C-30-3-水平"},{"$f":"AccVelDataLink!G66","v":18},"先頭","○"]
[64,1,6000,{"$f":"AccVelDataLink!A67","v":64},63,-1,{"$f":"AccVelDataLink!F67","v":"RCA-SA6C-30-3-垂直"},{"$f":"AccVelDataLink!G67","v":6},"○","終端"]
[{"$f":"A67+1","v":65},0,12000,{"$f":"AccVelDataLink!A68","v":65},-1,66,{"$f":"AccVelDataLink!F68","v":"RCA-SA6C-30-6-水平"},{"$f":"AccVelDataLink!G68","v":12},{"$f":"IF(E68=A67,\"○\",IF(G68=0,\"つなぎまちがい\",\"先頭\"))","v":"先頭"},{"$f":"IF(F68=A69,\"○\",IF(F68<>E69,\"つなぎまちがい\",\"終端\"))","v":"○"}]
[66,1,3000,{"$f":"AccVelDataLink!A69","v":66},65,-1,{"$f":"AccVelDataLink!F69","v":"RCA-SA6C-30-6-垂直"},{"$f":"AccVelDataLink!G69","v":3},"○","終端"]
[67,0,{"$f":"H70*$H$1","v":6000},{"$f":"AccVelDataLink!A70","v":67},-1,{"$f":"A71","v":68},{"$f":"AccVelDataLink!F70","v":"RCA-SA6C-30-12-水平"},{"$f":"AccVelDataLink!G70","v":6},"先頭","○"]
[68,1,1500,{"$f":"AccVelDataLink!A71","v":68},{"$f":"A70","v":67},-1,{"$f":"AccVelDataLink!F71","v":"RCA-SA6C-30-12-垂直"},{"$f":"AccVelDataLink!G71","v":1.5},"○","終端"]
[69,0,{"$f":"H72*$H$1","v":3000},{"$f":"AccVelDataLink!A72","v":69},-1,{"$f":"A73","v":70},{"$f":"AccVelDataLink!F72","v":"RCA-SA6C-30-20-水平"},{"$f":"AccVelDataLink!G72","v":3},"先頭","○"]
[70,1,{"$f":"H73*$H$1","v":500},{"$f":"AccVelDataLink!A73","v":70},{"$f":"A72","v":69},-1,{"$f":"AccVelDataLink!F73","v":"RCA-SA6C-30-20-垂直"},{"$f":"AccVelDataLink!G73","v":0.5},"○","終端"]
[71,0,8000,{"$f":"AccVelDataLink!A74","v":71},-1,72,{"$f":"AccVelDataLink!F74","v":"RCA-SA4D-20-2.5-水平"},{"$f":"AccVelDataLink!G74","v":8},"先頭","○"]
[72,1,4500,{"$f":"AccVelDataLink!A75","v":72},71,-1,{"$f":"AccVelDataLink!F75","v":"RCA-SA4D-20-2.5-垂直"},{"$f":"AccVelDataLink!G75","v":4.5},"○","終端"]
[73,0,6000,{"$f":"AccVelDataLink!A76","v":73},-1,74,{"$f":"AccVelDataLink!F76","v":"RCA-SA4D-20-5-水平"},{"$f":"AccVelDataLink!G76","v":6},"先頭","○"]
[74,1,2500,{"$f":"AccVelDataLink!A77","v":74},73,-1,{"$f":"AccVelDataLink!F77","v":"RCA-SA4D-20-5-垂直"},{"$f":"AccVelDataLink!G77","v":2.5},"○","終端"]
[75,0,4000,{"$f":"AccVelDataLink!A78","v":75},-1,76,{"$f":"AccVelDataLink!F78","v":"RCA-SA4D-20-10-水平"},{"$f":"AccVelDataLink!G78","v":4},"先頭","○"]
[76,1,1000,{"$f":"AccVelDataLink!A79","v":76},75,-1,{"$f":"AccVelDataLink!F79","v":"RCA-SA4D-20-10-垂直"},{"$f":"AccVelDataLink!G79","v":1},"○","終端"]
[77,0,12000,{"$f":"AccVelDataLink!A80","v":77},-1,78,{"$f":"AccVelDataLink!F80","v":"RCA-SA5D-20-3-水平"},{"$f":"AccVelDataLink!G80","v":12},"先頭","○"]
[78,1,4000,{"$f":"AccVelDataLink!A81","v":78},77,-1,{"$f":"AccVelDataLink!F81","v":"RCA-SA5D-20-3-垂直"},{"$f":"AccVelDataLink!G81","v":4},"○","終端"]
[79,0,8000,{"$f":"AccVelDataLink!A82","v":79},-1,80,{"$f":"AccVelDataLink!F82","v":"RCA-SA5D-20-6-水平"},{"$f":"AccVelDataLink!G82","v":8},"先頭","○"]
[80,1,2000,{"$f":"AccVelDataLink!A83","v":80},79,-1,{"$f":"AccVelDataLink!F83","v":"RCA-SA5D-20-6-垂直"},{"$f":"AccVelDataLink!G83","v":2},"○","終端"]
[81,0,4000,{"$f":"AccVelDataLink!A84","v":81},-1,82,{"$f":"AccVelDataLink!F84","v":"RCA-SA5D-20-12-水平"},{"$f":"AccVelDataLink!G84","v":4},"先頭","○"]
[82,1,1000,{"$f":"AccVelDataLink!A85","v":82},81,-1,{"$f":"AccVelDataLink!F85","v":"RCA-SA5D-20-12-垂直"},{"$f":"AccVelDataLink!G85","v":1},"○","終端"]
[83,0,18000,{"$f":"AccVelDataLink!A86","v":83},-1,84,{"$f":"AccVelDataLink!F86","v":"RCA-SA6D-30-3-水平"},{"$f":"AccVelDataLink!G86","v":18},"先頭","○"]
[84,1,6000,{"$f":"AccVelDataLink!A87","v":84},83,-1,{"$f":"AccVelDataLink!F87","v":"RCA-SA6D-30-3-垂直"},{"$f":"AccVelDataLink!G87","v":6},"○","終端"]
[85,0,12000,{"$f":"AccVelDataLink!A88","v":85},-1,86,{"$f":"AccVelDataLink!F88","v":"RCA-SA6D-30-6-水平"},{"$f":"AccVelDataLink!G88","v":12},"先頭","○"]
[86,1,3000,{"$f":"AccVelDataLink!A89","v":86},85,-1,{"$f":"AccVelDataLink!F89","v":"RCA-SA6D-30-6-垂直"},{"$f":"AccVelDataLink!G89","v":3},"○","終端"]
[87,0,6000,{"$f":"AccVelDataLink!A90","v":87},-1,88,{"$f":"AccVelDataLink!F90","v":"RCA-SA6D-30-12-水平"},{"$f":"AccVelDataLink!G90","v":6},"先頭","○"]
[88,1,1500,{"$f":"AccVelDataLink!A91","v":88},87,-1,{"$f":"AccVelDataLink!F91","v":"RCA-SA6D-30-12-垂直"},{"$f":"AccVelDataLink!G91","v":1.5},"○","終端"]
[89,0,8000,{"$f":"AccVelDataLink!A92","v":89},-1,90,{"$f":"AccVelDataLink!F92","v":"RCA-SS4D-20-2.5-水平"},{"$f":"AccVelDataLink!G92","v":8},"先頭","○"]
[90,1,4500,{"$f":"AccVelDataLink!A93","v":90},89,-1,{"$f":"AccVelDataLink!F93","v":"RCA-SS4D-20-2.5-垂直"},{"$f":"AccVelDataLink!G93","v":4.5},"○","終端"]
[91,0,6000,{"$f":"AccVelDataLink!A94","v":91},-1,92,{"$f":"AccVelDataLink!F94","v":"RCA-SS4D-20-5-水平"},{"$f":"AccVelDataLink!G94","v":6},"先頭","○"]
[92,1,2500,{"$f":"AccVelDataLink!A95","v":92},91,-1,{"$f":"AccVelDataLink!F95","v":"RCA-SS4D-20-5-垂直"},{"$f":"AccVelDataLink!G95","v":2.5},"○","終端"]
[93,0,4000,{"$f":"AccVelDataLink!A96","v":93},-1,94,{"$f":"AccVelDataLink!F96","v":"RCA-SS4D-20-10-水平"},{"$f":"AccVelDataLink!G96","v":4},"先頭","○"]
[94,1,1000,{"$f":"AccVelDataLink!A97","v":94},93,-1,{"$f":"AccVelDataLink!F97","v":"RCA-SS4D-20-10-垂直"},{"$f":"AccVelDataLink!G97","v":1},"○","終端"]
[95,0,12000,{"$f":"AccVelDataLink!A98","v":95},-1,96,{"$f":"AccVelDataLink!F98","v":"RCA-SS5D-20-3-水平"},{"$f":"AccVelDataLink!G98","v":12},"先頭","○"]
[96,1,4000,{"$f":"AccVelDataLink!A99","v":96},95,-1,{"$f":"AccVelDataLink!F99","v":"RCA-SS5D-20-3-垂直"},{"$f":"AccVelDataLink!G99","v":4},"○","終端"]
[97,0,8000,{"$f":"AccVelDataLink!A100","v":97},-1,98,{"$f":"AccVelDataLink!F100","v":"RCA-SS5D-20-6-水平"},{"$f":"AccVelDataLink!G100","v":8},"先頭","○"]
[98,1,2000,{"$f":"AccVelDataLink!A101","v":98},97,-1,{"$f":"AccVelDataLink!F101","v":"RCA-SS5D-20-6-垂直"},{"$f":"AccVelDataLink!G101","v":2},"○","終端"]
[99,0,4000,{"$f":"AccVelDataLink!A102","v":99},-1,100,{"$f":"AccVelDataLink!F102","v":"RCA-SS5D-20-12-水平"},{"$f":"AccVelDataLink!G102","v":4},"先頭","○"]
[100,1,1000,{"$f":"AccVelDataLink!A103","v":100},99,-1,{"$f":"AccVelDataLink!F103","v":"RCA-SS5D-20-12-垂直"},{"$f":"AccVelDataLink!G103","v":1},"○","終端"]
[101,0,18000,{"$f":"AccVelDataLink!A104","v":101},-1,102,{"$f":"AccVelDataLink!F104","v":"RCA-SS6D-30-3-水平"},{"$f":"AccVelDataLink!G104","v":18},"先頭","○"]
[102,1,6000,{"$f":"AccVelDataLink!A105","v":102},101,-1,{"$f":"AccVelDataLink!F105","v":"RCA-SS6D-30-3-垂直"},{"$f":"AccVelDataLink!G105","v":6},"○","終端"]
[103,0,12000,{"$f":"AccVelDataLink!A106","v":103},-1,104,{"$f":"AccVelDataLink!F106","v":"RCA-SS6D-30-6-水平"},{"$f":"AccVelDataLink!G106","v":12},"先頭","○"]
[104,1,3000,{"$f":"AccVelDataLink!A107","v":104},103,-1,{"$f":"AccVelDataLink!F107","v":"RCA-SS6D-30-6-垂直"},{"$f":"AccVelDataLink!G107","v":3},"○","終端"]
[105,0,6000,{"$f":"AccVelDataLink!A108","v":105},-1,106,{"$f":"AccVelDataLink!F108","v":"RCA-SS6D-30-12-水平"},{"$f":"AccVelDataLink!G108","v":6},"先頭","○"]
[106,1,1500,{"$f":"AccVelDataLink!A109","v":106},105,-1,{"$f":"AccVelDataLink!F109","v":"RCA-SS6D-30-12-垂直"},{"$f":"AccVelDataLink!G109","v":1.5},"○","終端"]
[107,0,8000,{"$f":"AccVelDataLink!A110","v":107},-1,108,{"$f":"AccVelDataLink!F110","v":"RCA-SA4R-20-2.5-水平"},{"$f":"AccVelDataLink!G110","v":8},"先頭","○"]
[108,1,4500,{"$f":"AccVelDataLink!A111","v":108},107,-1,{"$f":"AccVelDataLink!F111","v":"RCA-SA4R-20-2.5-垂直"},{"$f":"AccVelDataLink!G111","v":4.5},"○","終端"]
[109,0,6000,{"$f":"AccVelDataLink!A112","v":109},-1,110,{"$f":"AccVelDataLink!F112","v":"RCA-SA4R-20-5-水平"},{"$f":"AccVelDataLink!G112","v":6},"先頭","○"]
[110,1,2500,{"$f":"AccVelDataLink!A113","v":110},109,-1,{"$f":"AccVelDataLink!F113","v":"RCA-SA4R-20-5-垂直"},{"$f":"AccVelDataLink!G113","v":2.5},"○","終端"]
[111,0,4000,{"$f":"AccVelDataLink!A114","v":111},-1,112,{"$f":"AccVelDataLink!F114","v":"RCA-SA4R-20-10-水平"},{"$f":"AccVelDataLink!G114","v":4},"先頭","○"]
[112,1,1000,{"$f":"AccVelDataLink!A115","v":112},111,-1,{"$f":"AccVelDataLink!F115","v":"RCA-SA4R-20-10-垂直"},{"$f":"AccVelDataLink!G115","v":1},"○","終端"]
[113,0,12000,{"$f":"AccVelDataLink!A116","v":113},-1,114,{"$f":"AccVelDataLink!F116","v":"RCA-SA5R-20-3-水平"},{"$f":"AccVelDataLink!G116","v":12},"先頭","○"]
[114,1,4000,{"$f":"AccVelDataLink!A117","v":114},113,-1,{"$f":"AccVelDataLink!F117","v":"RCA-SA5R-20-3-垂直"},{"$f":"AccVelDataLink!G117","v":4},"○","終端"]
[115,0,8000,{"$f":"AccVelDataLink!A118","v":115},-1,116,{"$f":"AccVelDataLink!F118","v":"RCA-SA5R-20-6-水平"},{"$f":"AccVelDataLink!G118","v":8},"先頭","○"]
[116,1,2000,{"$f":"AccVelDataLink!A119","v":116},115,-1,{"$f":"AccVelDataLink!F119","v":"RCA-SA5R-20-6-垂直"},{"$f":"AccVelDataLink!G119","v":2},"○","終端"]
[117,0,4000,{"$f":"AccVelDataLink!A120","v":117},-1,118,{"$f":"AccVelDataLink!F120","v":"RCA-SA5R-20-12-水平"},{"$f":"AccVelDataLink!G120","v":4},"先頭","○"]
[118,1,1000,{"$f":"AccVelDataLink!A121","v":118},117,-1,{"$f":"AccVelDataLink!F121","v":"RCA-SA5R-20-12-垂直"},{"$f":"AccVelDataLink!G121","v":1},"○","終端"]
[119,0,18000,{"$f":"AccVelDataLink!A122","v":119},-1,120,{"$f":"AccVelDataLink!F122","v":"RCA-SA6R-30-3-水平"},{"$f":"AccVelDataLink!G122","v":18},"先頭","○"]
[120,1,6000,{"$f":"AccVelDataLink!A123","v":120},119,-1,{"$f":"AccVelDataLink!F123","v":"RCA-SA6R-30-3-垂直"},{"$f":"AccVelDataLink!G123","v":6},"○","終端"]
[121,0,12000,{"$f":"AccVelDataLink!A124","v":121},-1,122,{"$f":"AccVelDataLink!F124","v":"RCA-SA6R-30-6-水平"},{"$f":"AccVelDataLink!G124","v":12},"先頭","○"]
[122,1,3000,{"$f":"AccVelDataLink!A125","v":122},121,-1,{"$f":"AccVelDataLink!F125","v":"RCA-SA6R-30-6-垂直"},{"$f":"AccVelDataLink!G125","v":3},"○","終端"]
[123,0,6000,{"$f":"AccVelDataLink!A126","v":123},-1,124,{"$f":"AccVelDataLink!F126","v":"RCA-SA6R-30-12-水平"},{"$f":"AccVelDataLink!G126","v":6},"先頭","○"]
[124,1,1500,{"$f":"AccVelDataLink!A127","v":124},123,-1,{"$f":"AccVelDataLink!F127","v":"RCA-SA6R-30-12-垂直"},{"$f":"AccVelDataLink!G127","v":1.5},"○","終端"]
[125,0,3000,{"$f":"AccVelDataLink!A128","v":125},-1,126,{"$f":"AccVelDataLink!F128","v":"RCS2-RN3NA-10-1-水平"},{"$f":"AccVelDataLink!G128","v":3},"先頭","○"]
[126,1,1000,{"$f":"AccVelDataLink!A129","v":126},125,-1,{"$f":"AccVelDataLink!F129","v":"RCS2-RN3NA-10-1-垂直"},{"$f":"AccVelDataLink!G129","v":1},"○","終端"]
[127,0,1500,{"$f":"AccVelDataLink!A130","v":127},-1,128,{"$f":"AccVelDataLink!F130","v":"RCS2-RN3NA-10-2-水平"},{"$f":"AccVelDataLink!G130","v":1.5},"先頭","○"]
[128,1,500,{"$f":"AccVelDataLink!A131","v":128},127,-1,{"$f":"AccVelDataLink!F131","v":"RCS2-RN3NA-10-2-垂直"},{"$f":"AccVelDataLink!G131","v":0.5},"○","終端"]
[{"$f":"A131+1","v":129},0,750,{"$f":"AccVelDataLink!A132","v":129},-1,130,{"$f":"AccVelDataLink!F132","v":"RCS2-RN3NA-10-4-水平"},{"$f":"AccVelDataLink!G132","v":0.75},{"$f":"IF(E132=A131,\"○\",IF(G132=0,\"つなぎまちがい\",\"先頭\"))","v":"先頭"},{"$f":"IF(F132=A133,\"○\",IF(F132<>E133,\"つなぎまちがい\",\"終端\"))","v":"○"}]
[130,1,250,{"$f":"AccVelDataLink!A133","v":130},129,-1,{"$f":"AccVelDataLink!F133","v":"RCS2-RN3NA-10-4-垂直"},{"$f":"AccVelDataLink!G133","v":0.25},"○","終端"]
[131,0,1000,{"$f":"AccVelDataLink!A134","v":131},-1,132,{"$f":"AccVelDataLink!F134","v":"RCS2-RN3NA-10-1S-水平"},{"$f":"AccVelDataLink!G134","v":1},"先頭","○"]
[132,1,500,{"$f":"AccVelDataLink!A135","v":132},131,-1,{"$f":"AccVelDataLink!F135","v":"RCS2-RN3NA-10-1S-垂直"},{"$f":"AccVelDataLink!G135","v":0.5},"○","終端"]
[133,0,{"$f":"H136*$H$1","v":500},{"$f":"AccVelDataLink!A136","v":133},-1,{"$f":"A137","v":134},{"$f":"AccVelDataLink!F136","v":"RCS2-RN3NA-10-2S-水平"},{"$f":"AccVelDataLink!G136","v":0.5},"先頭","○"]
[134,1,250,{"$f":"AccVelDataLink!A137","v":134},{"$f":"A136","v":133},-1,{"$f":"AccVelDataLink!F137","v":"RCS2-RN3NA-10-2S-垂直"},{"$f":"AccVelDataLink!G137","v":0.25},"○","終端"]
[135,0,250,{"$f":"AccVelDataLink!A138","v":135},-1,136,{"$f":"AccVelDataLink!F138","v":"RCS2-RN3NA-10-4S-水平"},{"$f":"AccVelDataLink!G138","v":0.25},"先頭","○"]
[136,1,125,{"$f":"AccVelDataLink!A139","v":136},135,-1,{"$f":"AccVelDataLink!F139","v":"RCS2-RN3NA-10-4S-垂直"},{"$f":"AccVelDataLink!G139","v":0.125},"○","終端"]
[137,0,6000,{"$f":"AccVelDataLink!A140","v":137},-1,138,{"$f":"AccVelDataLink!F140","v":"RCS2-RN4NA-20-2-水平"},{"$f":"AccVelDataLink!G140","v":6},"先頭","○"]
[138,1,1500,{"$f":"AccVelDataLink!A141","v":138},137,-1,{"$f":"AccVelDataLink!F141","v":"RCS2-RN4NA-20-2-垂直"},{"$f":"AccVelDataLink!G141","v":1.5},"○","終端"]
[139,0,3000,{"$f":"AccVelDataLink!A142","v":139},-1,140,{"$f":"AccVelDataLink!F142","v":"RCS2-RN4NA-20-4-水平"},{"$f":"AccVelDataLink!G142","v":3},"先頭","○"]
[140,1,750,{"$f":"AccVelDataLink!A143","v":140},139,-1,{"$f":"AccVelDataLink!F143","v":"RCS2-RN4NA-20-4-垂直"},{"$f":"AccVelDataLink!G143","v":0.75},"○","終端"]
[141,0,2000,{"$f":"AccVelDataLink!A144","v":141},-1,142,{"$f":"AccVelDataLink!F144","v":"RCS2-RN4NA-20-6-水平"},{"$f":"AccVelDataLink!G144","v":2},"先頭","○"]
[142,1,500,{"$f":"AccVelDataLink!A145","v":142},141,-1,{"$f":"AccVelDataLink!F145","v":"RCS2-RN4NA-20-6-垂直"},{"$f":"AccVelDataLink!G145","v":0.5},"○","終端"]
[143,0,1000,{"$f":"AccVelDataLink!A146","v":143},-1,144,{"$f":"AccVelDataLink!F146","v":"RCS2-RN4NA-20-2S-水平"},{"$f":"AccVelDataLink!G146","v":1},"先頭","○"]
[144,1,500,{"$f":"AccVelDataLink!A147","v":144},143,-1,{"$f":"AccVelDataLink!F147","v":"RCS2-RN4NA-20-2S-垂直"},{"$f":"AccVelDataLink!G147","v":0.5},"○","終端"]
[145,0,500,{"$f":"AccVelDataLink!A148","v":145},-1,146,{"$f":"AccVelDataLink!F148","v":"RCS2-RN4NA-20-4S-水平"},{"$f":"AccVelDataLink!G148","v":0.5},"先頭","○"]
[146,1,250,{"$f":"AccVelDataLink!A149","v":146},145,-1,{"$f":"AccVelDataLink!F149","v":"RCS2-RN4NA-20-4S-垂直"},{"$f":"AccVelDataLink!G149","v":0.25},"○","終端"]
[147,0,250,{"$f":"AccVelDataLink!A150","v":147},-1,148,{"$f":"AccVelDataLink!F150","v":"RCS2-RN4NA-20-6S-水平"},{"$f":"AccVelDataLink!G150","v":0.25},"先頭","○"]
[148,1,125,{"$f":"AccVelDataLink!A151","v":148},147,-1,{"$f":"AccVelDataLink!F151","v":"RCS2-RN4NA-20-6S-垂直"},{"$f":"AccVelDataLink!G151","v":0.125},"○","終端"]
[149,0,3000,{"$f":"AccVelDataLink!A152","v":149},-1,150,{"$f":"AccVelDataLink!F152","v":"RCS2-RP3NA-10-1-水平"},{"$f":"AccVelDataLink!G152","v":3},"先頭","○"]
[150,1,1000,{"$f":"AccVelDataLink!A153","v":150},149,-1,{"$f":"AccVelDataLink!F153","v":"RCS2-RP3NA-10-1-垂直"},{"$f":"AccVelDataLink!G153","v":1},"○","終端"]
[151,0,1500,{"$f":"AccVelDataLink!A154","v":151},-1,152,{"$f":"AccVelDataLink!F154","v":"RCS2-RP3NA-10-2-水平"},{"$f":"AccVelDataLink!G154","v":1.5},"先頭","○"]
[152,1,500,{"$f":"AccVelDataLink!A155","v":152},151,-1,{"$f":"AccVelDataLink!F155","v":"RCS2-RP3NA-10-2-垂直"},{"$f":"AccVelDataLink!G155","v":0.5},"○","終端"]
[153,0,750,{"$f":"AccVelDataLink!A156","v":153},-1,154,{"$f":"AccVelDataLink!F156","v":"RCS2-RP3NA-10-4-水平"},{"$f":"AccVelDataLink!G156","v":0.75},"先頭","○"]
[154,1,250,{"$f":"AccVelDataLink!A157","v":154},153,-1,{"$f":"AccVelDataLink!F157","v":"RCS2-RP3NA-10-4-垂直"},{"$f":"AccVelDataLink!G157","v":0.25},"○","終端"]
[155,0,1000,{"$f":"AccVelDataLink!A158","v":155},-1,156,{"$f":"AccVelDataLink!F158","v":"RCS2-RP3NA-10-1S-水平"},{"$f":"AccVelDataLink!G158","v":1},"先頭","○"]
[156,1,500,{"$f":"AccVelDataLink!A159","v":156},155,-1,{"$f":"AccVelDataLink!F159","v":"RCS2-RP3NA-10-1S-垂直"},{"$f":"AccVelDataLink!G159","v":0.5},"○","終端"]
[157,0,500,{"$f":"AccVelDataLink!A160","v":157},-1,158,{"$f":"AccVelDataLink!F160","v":"RCS2-RP3NA-10-2S-水平"},{"$f":"AccVelDataLink!G160","v":0.5},"先頭","○"]
[158,1,250,{"$f":"AccVelDataLink!A161","v":158},157,-1,{"$f":"AccVelDataLink!F161","v":"RCS2-RP3NA-10-2S-垂直"},{"$f":"AccVelDataLink!G161","v":0.25},"○","終端"]
[159,0,250,{"$f":"AccVelDataLink!A162","v":159},-1,160,{"$f":"AccVelDataLink!F162","v":"RCS2-RP3NA-10-4S-水平"},{"$f":"AccVelDataLink!G162","v":0.25},"先頭","○"]
[160,1,125,{"$f":"AccVelDataLink!A163","v":160},159,-1,{"$f":"AccVelDataLink!F163","v":"RCS2-RP3NA-10-4S-垂直"},{"$f":"AccVelDataLink!G163","v":0.125},"○","終端"]
[161,0,6000,{"$f":"AccVelDataLink!A164","v":161},-1,162,{"$f":"AccVelDataLink!F164","v":"RCS2-RP4NA-20-2-水平"},{"$f":"AccVelDataLink!G164","v":6},"先頭","○"]
[162,1,1500,{"$f":"AccVelDataLink!A165","v":162},161,-1,{"$f":"AccVelDataLink!F165","v":"RCS2-RP4NA-20-2-垂直"},{"$f":"AccVelDataLink!G165","v":1.5},"○","終端"]
[163,0,3000,{"$f":"AccVelDataLink!A166","v":163},-1,164,{"$f":"AccVelDataLink!F166","v":"RCS2-RP4NA-20-4-水平"},{"$f":"AccVelDataLink!G166","v":3},"先頭","○"]
[164,1,750,{"$f":"AccVelDataLink!A167","v":164},163,-1,{"$f":"AccVelDataLink!F167","v":"RCS2-RP4NA-20-4-垂直"},{"$f":"AccVelDataLink!G167","v":0.75},"○","終端"]
[165,0,2000,{"$f":"AccVelDataLink!A168","v":165},-1,166,{"$f":"AccVelDataLink!F168","v":"RCS2-RP4NA-20-6-水平"},{"$f":"AccVelDataLink!G168","v":2},"先頭","○"]
[166,1,500,{"$f":"AccVelDataLink!A169","v":166},165,-1,{"$f":"AccVelDataLink!F169","v":"RCS2-RP4NA-20-6-垂直"},{"$f":"AccVelDataLink!G169","v":0.5},"○","終端"]
[167,0,1000,{"$f":"AccVelDataLink!A170","v":167},-1,168,{"$f":"AccVelDataLink!F170","v":"RCS2-RP4NA-20-2S-水平"},{"$f":"AccVelDataLink!G170","v":1},"先頭","○"]
[168,1,500,{"$f":"AccVelDataLink!A171","v":168},167,-1,{"$f":"AccVelDataLink!F171","v":"RCS2-RP4NA-20-2S-垂直"},{"$f":"AccVelDataLink!G171","v":0.5},"○","終端"]
[169,0,500,{"$f":"AccVelDataLink!A172","v":169},-1,170,{"$f":"AccVelDataLink!F172","v":"RCS2-RP4NA-20-4S-水平"},{"$f":"AccVelDataLink!G172","v":0.5},"先頭","○"]
[170,1,250,{"$f":"AccVelDataLink!A173","v":170},169,-1,{"$f":"AccVelDataLink!F173","v":"RCS2-RP4NA-20-4S-垂直"},{"$f":"AccVelDataLink!G173","v":0.25},"○","終端"]
[171,0,250,{"$f":"AccVelDataLink!A174","v":171},-1,172,{"$f":"AccVelDataLink!F174","v":"RCS2-RP4NA-20-6S-水平"},{"$f":"AccVelDataLink!G174","v":0.25},"先頭","○"]
[172,1,125,{"$f":"AccVelDataLink!A175","v":172},171,-1,{"$f":"AccVelDataLink!F175","v":"RCS2-RP4NA-20-6S-垂直"},{"$f":"AccVelDataLink!G175","v":0.125},"○","終端"]
[173,0,3000,{"$f":"AccVelDataLink!A176","v":173},-1,174,{"$f":"AccVelDataLink!F176","v":"RCS2-GS3NA-10-1-水平"},{"$f":"AccVelDataLink!G176","v":3},"先頭","○"]
[174,1,1000,{"$f":"AccVelDataLink!A177","v":174},173,-1,{"$f":"AccVelDataLink!F177","v":"RCS2-GS3NA-10-1-垂直"},{"$f":"AccVelDataLink!G177","v":1},"○","終端"]
[175,0,1500,{"$f":"AccVelDataLink!A178","v":175},-1,176,{"$f":"AccVelDataLink!F178","v":"RCS2-GS3NA-10-2-水平"},{"$f":"AccVelDataLink!G178","v":1.5},"先頭","○"]
[176,1,500,{"$f":"AccVelDataLink!A179","v":176},175,-1,{"$f":"AccVelDataLink!F179","v":"RCS2-GS3NA-10-2-垂直"},{"$f":"AccVelDataLink!G179","v":0.5},"○","終端"]
[177,0,750,{"$f":"AccVelDataLink!A180","v":177},-1,178,{"$f":"AccVelDataLink!F180","v":"RCS2-GS3NA-10-4-水平"},{"$f":"AccVelDataLink!G180","v":0.75},"先頭","○"]
[178,1,250,{"$f":"AccVelDataLink!A181","v":178},177,-1,{"$f":"AccVelDataLink!F181","v":"RCS2-GS3NA-10-4-垂直"},{"$f":"AccVelDataLink!G181","v":0.25},"○","終端"]
[179,0,1000,{"$f":"AccVelDataLink!A182","v":179},-1,180,{"$f":"AccVelDataLink!F182","v":"RCS2-GS3NA-10-1S-水平"},{"$f":"AccVelDataLink!G182","v":1},"先頭","○"]
[180,1,500,{"$f":"AccVelDataLink!A183","v":180},179,-1,{"$f":"AccVelDataLink!F183","v":"RCS2-GS3NA-10-1S-垂直"},{"$f":"AccVelDataLink!G183","v":0.5},"○","終端"]
[181,0,500,{"$f":"AccVelDataLink!A184","v":181},-1,182,{"$f":"AccVelDataLink!F184","v":"RCS2-GS3NA-10-2S-水平"},{"$f":"AccVelDataLink!G184","v":0.5},"先頭","○"]
[182,1,250,{"$f":"AccVelDataLink!A185","v":182},181,-1,{"$f":"AccVelDataLink!F185","v":"RCS2-GS3NA-10-2S-垂直"},{"$f":"AccVelDataLink!G185","v":0.25},"○","終端"]
[183,0,250,{"$f":"AccVelDataLink!A186","v":183},-1,184,{"$f":"AccVelDataLink!F186","v":"RCS2-GS3NA-10-4S-水平"},{"$f":"AccVelDataLink!G186","v":0.25},"先頭","○"]
[184,1,125,{"$f":"AccVelDataLink!A187","v":184},183,-1,{"$f":"AccVelDataLink!F187","v":"RCS2-GS3NA-10-4S-垂直"},{"$f":"AccVelDataLink!G187","v":0.125},"○","終端"]
[185,0,6000,{"$f":"AccVelDataLink!A188","v":185},-1,186,{"$f":"AccVelDataLink!F188","v":"RCS2-GS4NA-20-2-水平"},{"$f":"AccVelDataLink!G188","v":6},"先頭","○"]
[186,1,1500,{"$f":"AccVelDataLink!A189","v":186},185,-1,{"$f":"AccVelDataLink!F189","v":"RCS2-GS4NA-20-2-垂直"},{"$f":"AccVelDataLink!G189","v":1.5},"○","終端"]
[187,0,3000,{"$f":"AccVelDataLink!A190","v":187},-1,188,{"$f":"AccVelDataLink!F190","v":"RCS2-GS4NA-20-4-水平"},{"$f":"AccVelDataLink!G190","v":3},"先頭","○"]
[188,1,750,{"$f":"AccVelDataLink!A191","v":188},187,-1,{"$f":"AccVelDataLink!F191","v":"RCS2-GS4NA-20-4-垂直"},{"$f":"AccVelDataLink!G191","v":0.75},"○","終端"]
[189,0,2000,{"$f":"AccVelDataLink!A192","v":189},-1,190,{"$f":"AccVelDataLink!F192","v":"RCS2-GS4NA-20-6-水平"},{"$f":"AccVelDataLink!G192","v":2},"先頭","○"]
[190,1,500,{"$f":"AccVelDataLink!A193","v":190},189,-1,{"$f":"AccVelDataLink!F193","v":"RCS2-GS4NA-20-6-垂直"},{"$f":"AccVelDataLink!G193","v":0.5},"○","終端"]
[191,0,1000,{"$f":"AccVelDataLink!A194","v":191},-1,192,{"$f":"AccVelDataLink!F194","v":"RCS2-GS4NA-20-2S-水平"},{"$f":"AccVelDataLink!G194","v":1},"先頭","○"]
[192,1,500,{"$f":"AccVelDataLink!A195","v":192},191,-1,{"$f":"AccVelDataLink!F195","v":"RCS2-GS4NA-20-2S-垂直"},{"$f":"AccVelDataLink!G195","v":0.5},"○","終端"]
[{"$f":"A195+1","v":193},0,500,{"$f":"AccVelDataLink!A196","v":193},-1,194,{"$f":"AccVelDataLink!F196","v":"RCS2-GS4NA-20-4S-水平"},{"$f":"AccVelDataLink!G196","v":0.5},{"$f":"IF(E196=A195,\"○\",IF(G196=0,\"つなぎまちがい\",\"先頭\"))","v":"先頭"},{"$f":"IF(F196=A197,\"○\",IF(F196<>E197,\"つなぎまちがい\",\"終端\"))","v":"○"}]
[194,1,250,{"$f":"AccVelDataLink!A197","v":194},193,-1,{"$f":"AccVelDataLink!F197","v":"RCS2-GS4NA-20-4S-垂直"},{"$f":"AccVelDataLink!G197","v":0.25},"○","終端"]
[195,0,250,{"$f":"AccVelDataLink!A198","v":195},-1,196,{"$f":"AccVelDataLink!F198","v":"RCS2-GS4NA-20-6S-水平"},{"$f":"AccVelDataLink!G198","v":0.25},"先頭","○"]
[196,1,125,{"$f":"AccVelDataLink!A199","v":196},195,-1,{"$f":"AccVelDataLink!F199","v":"RCS2-GS4NA-20-6S-垂直"},{"$f":"AccVelDataLink!G199","v":0.125},"○","終端"]
[197,0,{"$f":"H200*$H$1","v":3000},{"$f":"AccVelDataLink!A200","v":197},-1,{"$f":"A201","v":198},{"$f":"AccVelDataLink!F200","v":"RCS2-GD3NA-10-1-水平"},{"$f":"AccVelDataLink!G200","v":3},"先頭","○"]
[198,1,1000,{"$f":"AccVelDataLink!A201","v":198},{"$f":"A200","v":197},-1,{"$f":"AccVelDataLink!F201","v":"RCS2-GD3NA-10-1-垂直"},{"$f":"AccVelDataLink!G201","v":1},"○","終端"]
[199,0,1500,{"$f":"AccVelDataLink!A202","v":199},-1,200,{"$f":"AccVelDataLink!F202","v":"RCS2-GD3NA-10-2-水平"},{"$f":"AccVelDataLink!G202","v":1.5},"先頭","○"]
[200,1,500,{"$f":"AccVelDataLink!A203","v":200},199,-1,{"$f":"AccVelDataLink!F203","v":"RCS2-GD3NA-10-2-垂直"},{"$f":"AccVelDataLink!G203","v":0.5},"○","終端"]
[201,0,750,{"$f":"AccVelDataLink!A204","v":201},-1,202,{"$f":"AccVelDataLink!F204","v":"RCS2-GD3NA-10-4-水平"},{"$f":"AccVelDataLink!G204","v":0.75},"先頭","○"]
[202,1,250,{"$f":"AccVelDataLink!A205","v":202},201,-1,{"$f":"AccVelDataLink!F205","v":"RCS2-GD3NA-10-4-垂直"},{"$f":"AccVelDataLink!G205","v":0.25},"○","終端"]
[203,0,1000,{"$f":"AccVelDataLink!A206","v":203},-1,204,{"$f":"AccVelDataLink!F206","v":"RCS2-GD3NA-10-1S-水平"},{"$f":"AccVelDataLink!G206","v":1},"先頭","○"]
[204,1,500,{"$f":"AccVelDataLink!A207","v":204},203,-1,{"$f":"AccVelDataLink!F207","v":"RCS2-GD3NA-10-1S-垂直"},{"$f":"AccVelDataLink!G207","v":0.5},"○","終端"]
[205,0,500,{"$f":"AccVelDataLink!A208","v":205},-1,206,{"$f":"AccVelDataLink!F208","v":"RCS2-GD3NA-10-2S-水平"},{"$f":"AccVelDataLink!G208","v":0.5},"先頭","○"]
[206,1,250,{"$f":"AccVelDataLink!A209","v":206},205,-1,{"$f":"AccVelDataLink!F209","v":"RCS2-GD3NA-10-2S-垂直"},{"$f":"AccVelDataLink!G209","v":0.25},"○","終端"]
[207,0,250,{"$f":"AccVelDataLink!A210","v":207},-1,208,{"$f":"AccVelDataLink!F210","v":"RCS2-GD3NA-10-4S-水平"},{"$f":"AccVelDataLink!G210","v":0.25},"先頭","○"]
[208,1,125,{"$f":"AccVelDataLink!A211","v":208},207,-1,{"$f":"AccVelDataLink!F211","v":"RCS2-GD3NA-10-4S-垂直"},{"$f":"AccVelDataLink!G211","v":0.125},"○","終端"]
[209,0,6000,{"$f":"AccVelDataLink!A212","v":209},-1,210,{"$f":"AccVelDataLink!F212","v":"RCS2-GD4NA-20-2-水平"},{"$f":"AccVelDataLink!G212","v":6},"先頭","○"]
[210,1,1500,{"$f":"AccVelDataLink!A213","v":210},209,-1,{"$f":"AccVelDataLink!F213","v":"RCS2-GD4NA-20-2-垂直"},{"$f":"AccVelDataLink!G213","v":1.5},"○","終端"]
[211,0,3000,{"$f":"AccVelDataLink!A214","v":211},-1,212,{"$f":"AccVelDataLink!F214","v":"RCS2-GD4NA-20-4-水平"},{"$f":"AccVelDataLink!G214","v":3},"先頭","○"]
[212,1,750,{"$f":"AccVelDataLink!A215","v":212},211,-1,{"$f":"AccVelDataLink!F215","v":"RCS2-GD4NA-20-4-垂直"},{"$f":"AccVelDataLink!G215","v":0.75},"○","終端"]
[213,0,2000,{"$f":"AccVelDataLink!A216","v":213},-1,214,{"$f":"AccVelDataLink!F216","v":"RCS2-GD4NA-20-6-水平"},{"$f":"AccVelDataLink!G216","v":2},"先頭","○"]
[214,1,500,{"$f":"AccVelDataLink!A217","v":214},213,-1,{"$f":"AccVelDataLink!F217","v":"RCS2-GD4NA-20-6-垂直"},{"$f":"AccVelDataLink!G217","v":0.5},"○","終端"]
[215,0,1000,{"$f":"AccVelDataLink!A218","v":215},-1,216,{"$f":"AccVelDataLink!F218","v":"RCS2-GD4NA-20-2S-水平"},{"$f":"AccVelDataLink!G218","v":1},"先頭","○"]
[216,1,500,{"$f":"AccVelDataLink!A219","v":216},215,-1,{"$f":"AccVelDataLink!F219","v":"RCS2-GD4NA-20-2S-垂直"},{"$f":"AccVelDataLink!G219","v":0.5},"○","終端"]
[217,0,500,{"$f":"AccVelDataLink!A220","v":217},-1,218,{"$f":"AccVelDataLink!F220","v":"RCS2-GD4NA-20-4S-水平"},{"$f":"AccVelDataLink!G220","v":0.5},"先頭","○"]
[218,1,250,{"$f":"AccVelDataLink!A221","v":218},217,-1,{"$f":"AccVelDataLink!F221","v":"RCS2-GD4NA-20-4S-垂直"},{"$f":"AccVelDataLink!G221","v":0.25},"○","終端"]
[219,0,250,{"$f":"AccVelDataLink!A222","v":219},-1,220,{"$f":"AccVelDataLink!F222","v":"RCS2-GD4NA-20-6S-水平"},{"$f":"AccVelDataLink!G222","v":0.25},"先頭","○"]
[220,1,125,{"$f":"AccVelDataLink!A223","v":220},219,-1,{"$f":"AccVelDataLink!F223","v":"RCS2-GD4NA-20-6S-垂直"},{"$f":"AccVelDataLink!G223","v":0.125},"○","終端"]
[221,0,3000,{"$f":"AccVelDataLink!A224","v":221},-1,222,{"$f":"AccVelDataLink!F224","v":"RCS2-SD3NA-10-1-水平"},{"$f":"AccVelDataLink!G224","v":3},"先頭","○"]
[222,1,1000,{"$f":"AccVelDataLink!A225","v":222},221,-1,{"$f":"AccVelDataLink!F225","v":"RCS2-SD3NA-10-1-垂直"},{"$f":"AccVelDataLink!G225","v":1},"○","終端"]
[223,0,1500,{"$f":"AccVelDataLink!A226","v":223},-1,224,{"$f":"AccVelDataLink!F226","v":"RCS2-SD3NA-10-2-水平"},{"$f":"AccVelDataLink!G226","v":1.5},"先頭","○"]
[224,1,500,{"$f":"AccVelDataLink!A227","v":224},223,-1,{"$f":"AccVelDataLink!F227","v":"RCS2-SD3NA-10-2-垂直"},{"$f":"AccVelDataLink!G227","v":0.5},"○","終端"]
[225,0,750,{"$f":"AccVelDataLink!A228","v":225},-1,226,{"$f":"AccVelDataLink!F228","v":"RCS2-SD3NA-10-4-水平"},{"$f":"AccVelDataLink!G228","v":0.75},"先頭","○"]
[226,1,250,{"$f":"AccVelDataLink!A229","v":226},225,-1,{"$f":"AccVelDataLink!F229","v":"RCS2-SD3NA-10-4-垂直"},{"$f":"AccVelDataLink!G229","v":0.25},"○","終端"]
[227,0,1000,{"$f":"AccVelDataLink!A230","v":227},-1,228,{"$f":"AccVelDataLink!F230","v":"RCS2-SD3NA-10-1S-水平"},{"$f":"AccVelDataLink!G230","v":1},"先頭","○"]
[228,1,500,{"$f":"AccVelDataLink!A231","v":228},227,-1,{"$f":"AccVelDataLink!F231","v":"RCS2-SD3NA-10-1S-垂直"},{"$f":"AccVelDataLink!G231","v":0.5},"○","終端"]
[229,0,500,{"$f":"AccVelDataLink!A232","v":229},-1,230,{"$f":"AccVelDataLink!F232","v":"RCS2-SD3NA-10-2S-水平"},{"$f":"AccVelDataLink!G232","v":0.5},"先頭","○"]
[230,1,250,{"$f":"AccVelDataLink!A233","v":230},229,-1,{"$f":"AccVelDataLink!F233","v":"RCS2-SD3NA-10-2S-垂直"},{"$f":"AccVelDataLink!G233","v":0.25},"○","終端"]
[231,0,250,{"$f":"AccVelDataLink!A234","v":231},-1,232,{"$f":"AccVelDataLink!F234","v":"RCS2-SD3NA-10-4S-水平"},{"$f":"AccVelDataLink!G234","v":0.25},"先頭","○"]
[232,1,125,{"$f":"AccVelDataLink!A235","v":232},231,-1,{"$f":"AccVelDataLink!F235","v":"RCS2-SD3NA-10-4S-垂直"},{"$f":"AccVelDataLink!G235","v":0.125},"○","終端"]
[233,0,6000,{"$f":"AccVelDataLink!A236","v":233},-1,234,{"$f":"AccVelDataLink!F236","v":"RCS2-SD4NA-20-2-水平"},{"$f":"AccVelDataLink!G236","v":6},"先頭","○"]
[234,1,1500,{"$f":"AccVelDataLink!A237","v":234},233,-1,{"$f":"AccVelDataLink!F237","v":"RCS2-SD4NA-20-2-垂直"},{"$f":"AccVelDataLink!G237","v":1.5},"○","終端"]
[235,0,3000,{"$f":"AccVelDataLink!A238","v":235},-1,236,{"$f":"AccVelDataLink!F238","v":"RCS2-SD4NA-20-4-水平"},{"$f":"AccVelDataLink!G238","v":3},"先頭","○"]
[236,1,750,{"$f":"AccVelDataLink!A239","v":236},235,-1,{"$f":"AccVelDataLink!F239","v":"RCS2-SD4NA-20-4-垂直"},{"$f":"AccVelDataLink!G239","v":0.75},"○","終端"]
[237,0,2000,{"$f":"AccVelDataLink!A240","v":237},-1,238,{"$f":"AccVelDataLink!F240","v":"RCS2-SD4NA-20-6-水平"},{"$f":"AccVelDataLink!G240","v":2},"先頭","○"]
[238,1,500,{"$f":"AccVelDataLink!A241","v":238},237,-1,{"$f":"AccVelDataLink!F241","v":"RCS2-SD4NA-20-6-垂直"},{"$f":"AccVelDataLink!G241","v":0.5},"○","終端"]
[239,0,1000,{"$f":"AccVelDataLink!A242","v":239},-1,240,{"$f":"AccVelDataLink!F242","v":"RCS2-SD4NA-20-2S-水平"},{"$f":"AccVelDataLink!G242","v":1},"先頭","○"]
[240,1,500,{"$f":"AccVelDataLink!A243","v":240},239,-1,{"$f":"AccVelDataLink!F243","v":"RCS2-SD4NA-20-2S-垂直"},{"$f":"AccVelDataLink!G243","v":0.5},"○","終端"]
[241,0,500,{"$f":"AccVelDataLink!A244","v":241},-1,242,{"$f":"AccVelDataLink!F244","v":"RCS2-SD4NA-20-4S-水平"},{"$f":"AccVelDataLink!G244","v":0.5},"先頭","○"]
[242,1,250,{"$f":"AccVelDataLink!A245","v":242},241,-1,{"$f":"AccVelDataLink!F245","v":"RCS2-SD4NA-20-4S-垂直"},{"$f":"AccVelDataLink!G245","v":0.25},"○","終端"]
[243,0,250,{"$f":"AccVelDataLink!A246","v":243},-1,244,{"$f":"AccVelDataLink!F246","v":"RCS2-SD4NA-20-6S-水平"},{"$f":"AccVelDataLink!G246","v":0.25},"先頭","○"]
[244,1,125,{"$f":"AccVelDataLink!A247","v":244},243,-1,{"$f":"AccVelDataLink!F247","v":"RCS2-SD4NA-20-6S-垂直"},{"$f":"AccVelDataLink!G247","v":0.125},"○","終端"]
[245,0,18000,{"$f":"AccVelDataLink!A248","v":245},-1,246,{"$f":"AccVelDataLink!F248","v":"RCA-RA3C-20-2.5-水平"},{"$f":"AccVelDataLink!G248","v":18},"先頭","○"]
[246,1,6500,{"$f":"AccVelDataLink!A249","v":246},245,-1,{"$f":"AccVelDataLink!F249","v":"RCA-RA3C-20-2.5-垂直"},{"$f":"AccVelDataLink!G249","v":6.5},"○","終端"]
[247,0,9000,{"$f":"AccVelDataLink!A250","v":247},-1,248,{"$f":"AccVelDataLink!F250","v":"RCA-RA3C-20-5-水平"},{"$f":"AccVelDataLink!G250","v":9},"先頭","○"]
[248,1,3000,{"$f":"AccVelDataLink!A251","v":248},247,-1,{"$f":"AccVelDataLink!F251","v":"RCA-RA3C-20-5-垂直"},{"$f":"AccVelDataLink!G251","v":3},"○","終端"]
[249,0,4000,{"$f":"AccVelDataLink!A252","v":249},-1,250,{"$f":"AccVelDataLink!F252","v":"RCA-RA3C-20-10-水平"},{"$f":"AccVelDataLink!G252","v":4},"先頭","○"]
[250,1,1500,{"$f":"AccVelDataLink!A253","v":250},249,-1,{"$f":"AccVelDataLink!F253","v":"RCA-RA3C-20-10-垂直"},{"$f":"AccVelDataLink!G253","v":1.5},"○","終端"]
[251,0,12000,{"$f":"AccVelDataLink!A254","v":251},-1,252,{"$f":"AccVelDataLink!F254","v":"RCA-RA4C-20-3-水平"},{"$f":"AccVelDataLink!G254","v":12},"先頭","○"]
[252,1,4000,{"$f":"AccVelDataLink!A255","v":252},251,-1,{"$f":"AccVelDataLink!F255","v":"RCA-RA4C-20-3-垂直"},{"$f":"AccVelDataLink!G255","v":4},"○","終端"]
[253,0,6000,{"$f":"AccVelDataLink!A256","v":253},-1,254,{"$f":"AccVelDataLink!F256","v":"RCA-RA4C-20-6-水平"},{"$f":"AccVelDataLink!G256","v":6},"先頭","○"]
[254,1,2000,{"$f":"AccVelDataLink!A257","v":254},253,-1,{"$f":"AccVelDataLink!F257","v":"RCA-RA4C-20-6-垂直"},{"$f":"AccVelDataLink!G257","v":2},"○","終端"]
[255,0,3000,{"$f":"AccVelDataLink!A258","v":255},-1,256,{"$f":"AccVelDataLink!F258","v":"RCA-RA4C-20-12-水平"},{"$f":"AccVelDataLink!G258","v":3},"先頭","○"]
[256,1,1000,{"$f":"AccVelDataLink!A259","v":256},255,-1,{"$f":"AccVelDataLink!F259","v":"RCA-RA4C-20-12-垂直"},{"$f":"AccVelDataLink!G259","v":1},"○","終端"]
[{"$f":"A259+1","v":257},0,18000,{"$f":"AccVelDataLink!A260","v":257},-1,258,{"$f":"AccVelDataLink!F260","v":"RCA-RA4C-30-3-水平"},{"$f":"AccVelDataLink!G260","v":18},{"$f":"IF(E260=A259,\"○\",IF(G260=0,\"つなぎまちがい\",\"先頭\"))","v":"先頭"},{"$f":"IF(F260=A261,\"○\",IF(F260<>E261,\"つなぎまちがい\",\"終端\"))","v":"○"}]
[258,1,6500,{"$f":"AccVelDataLink!A261","v":258},257,-1,{"$f":"AccVelDataLink!F261","v":"RCA-RA4C-30-3-垂直"},{"$f":"AccVelDataLink!G261","v":6.5},"○","終端"]
[259,0,9000,{"$f":"AccVelDataLink!A262","v":259},-1,260,{"$f":"AccVelDataLink!F262","v":"RCA-RA4C-30-6-水平"},{"$f":"AccVelDataLink!G262","v":9},"先頭","○"]
[260,1,3000,{"$f":"AccVelDataLink!A263","v":260},259,-1,{"$f":"AccVelDataLink!F263","v":"RCA-RA4C-30-6-垂直"},{"$f":"AccVelDataLink!G263","v":3},"○","終端"]
[261,0,{"$f":"H264*$H$1","v":4000},{"$f":"AccVelDataLink!A264","v":261},-1,{"$f":"A265","v":262},{"$f":"AccVelDataLink!F264","v":"RCA-RA4C-30-12-水平"},{"$f":"AccVelDataLink!G264","v":4},"先頭","○"]
[262,1,1500,{"$f":"AccVelDataLink!A265","v":262},{"$f":"A264","v":261},-1,{"$f":"AccVelDataLink!F265","v":"RCA-RA4C-30-12-垂直"},{"$f":"AccVelDataLink!G265","v":1.5},"○","終端"]
[263,0,18000,{"$f":"AccVelDataLink!A266","v":263},-1,264,{"$f":"AccVelDataLink!F266","v":"RCA-RA3D-20-2.5-水平"},{"$f":"AccVelDataLink!G266","v":18},"先頭","○"]
[264,1,6500,{"$f":"AccVelDataLink!A267","v":264},263,-1,{"$f":"AccVelDataLink!F267","v":"RCA-RA3D-20-2.5-垂直"},{"$f":"AccVelDataLink!G267","v":6.5},"○","終端"]
[265,0,9000,{"$f":"AccVelDataLink!A268","v":265},-1,266,{"$f":"AccVelDataLink!F268","v":"RCA-RA3D-20-5-水平"},{"$f":"AccVelDataLink!G268","v":9},"先頭","○"]
[266,1,3000,{"$f":"AccVelDataLink!A269","v":266},265,-1,{"$f":"AccVelDataLink!F269","v":"RCA-RA3D-20-5-垂直"},{"$f":"AccVelDataLink!G269","v":3},"○","終端"]
[267,0,4000,{"$f":"AccVelDataLink!A270","v":267},-1,268,{"$f":"AccVelDataLink!F270","v":"RCA-RA3D-20-10-水平"},{"$f":"AccVelDataLink!G270","v":4},"先頭","○"]
[268,1,1500,{"$f":"AccVelDataLink!A271","v":268},267,-1,{"$f":"AccVelDataLink!F271","v":"RCA-RA3D-20-10-垂直"},{"$f":"AccVelDataLink!G271","v":1.5},"○","終端"]
[269,0,12000,{"$f":"AccVelDataLink!A272","v":269},-1,270,{"$f":"AccVelDataLink!F272","v":"RCA-RA4D-20-3-水平"},{"$f":"AccVelDataLink!G272","v":12},"先頭","○"]
[270,1,4000,{"$f":"AccVelDataLink!A273","v":270},269,-1,{"$f":"AccVelDataLink!F273","v":"RCA-RA4D-20-3-垂直"},{"$f":"AccVelDataLink!G273","v":4},"○","終端"]
[271,0,6000,{"$f":"AccVelDataLink!A274","v":271},-1,272,{"$f":"AccVelDataLink!F274","v":"RCA-RA4D-20-6-水平"},{"$f":"AccVelDataLink!G274","v":6},"先頭","○"]
[272,1,2000,{"$f":"AccVelDataLink!A275","v":272},271,-1,{"$f":"AccVelDataLink!F275","v":"RCA-RA4D-20-6-垂直"},{"$f":"AccVelDataLink!G275","v":2},"○","終端"]
[273,0,3000,{"$f":"AccVelDataLink!A276","v":273},-1,274,{"$f":"AccVelDataLink!F276","v":"RCA-RA4D-20-12-水平"},{"$f":"AccVelDataLink!G276","v":3},"先頭","○"]
[274,1,1000,{"$f":"AccVelDataLink!A277","v":274},273,-1,{"$f":"AccVelDataLink!F277","v":"RCA-RA4D-20-12-垂直"},{"$f":"AccVelDataLink!G277","v":1},"○","終端"]
[275,0,18000,{"$f":"AccVelDataLink!A278","v":275},-1,276,{"$f":"AccVelDataLink!F278","v":"RCA-RA4D-30-3-水平"},{"$f":"AccVelDataLink!G278","v":18},"先頭","○"]
[276,1,6500,{"$f":"AccVelDataLink!A279","v":276},275,-1,{"$f":"AccVelDataLink!F279","v":"RCA-RA4D-30-3-垂直"},{"$f":"AccVelDataLink!G279","v":6.5},"○","終端"]
[277,0,9000,{"$f":"AccVelDataLink!A280","v":277},-1,278,{"$f":"AccVelDataLink!F280","v":"RCA-RA4D-30-6-水平"},{"$f":"AccVelDataLink!G280","v":9},"先頭","○"]
[278,1,3000,{"$f":"AccVelDataLink!A281","v":278},277,-1,{"$f":"AccVelDataLink!F281","v":"RCA-RA4D-30-6-垂直"},{"$f":"AccVelDataLink!G281","v":3},"○","終端"]
[279,0,4000,{"$f":"AccVelDataLink!A282","v":279},-1,280,{"$f":"AccVelDataLink!F282","v":"RCA-RA4D-30-12-水平"},{"$f":"AccVelDataLink!G282","v":4},"先頭","○"]
[280,1,1500,{"$f":"AccVelDataLink!A283","v":280},279,-1,{"$f":"AccVelDataLink!F283","v":"RCA-RA4D-30-12-垂直"},{"$f":"AccVelDataLink!G283","v":1.5},"○","終端"]
[281,0,18000,{"$f":"AccVelDataLink!A284","v":281},-1,282,{"$f":"AccVelDataLink!F284","v":"RCA-RA3R-20-2.5-水平"},{"$f":"AccVelDataLink!G284","v":18},"先頭","○"]
[282,1,6500,{"$f":"AccVelDataLink!A285","v":282},281,-1,{"$f":"AccVelDataLink!F285","v":"RCA-RA3R-20-2.5-垂直"},{"$f":"AccVelDataLink!G285","v":6.5},"○","終端"]
[283,0,9000,{"$f":"AccVelDataLink!A286","v":283},-1,284,{"$f":"AccVelDataLink!F286","v":"RCA-RA3R-20-5-水平"},{"$f":"AccVelDataLink!G286","v":9},"先頭","○"]
[284,1,3000,{"$f":"AccVelDataLink!A287","v":284},283,-1,{"$f":"AccVelDataLink!F287","v":"RCA-RA3R-20-5-垂直"},{"$f":"AccVelDataLink!G287","v":3},"○","終端"]
[285,0,4000,{"$f":"AccVelDataLink!A288","v":285},-1,286,{"$f":"AccVelDataLink!F288","v":"RCA-RA3R-20-10-水平"},{"$f":"AccVelDataLink!G288","v":4},"先頭","○"]
[286,1,1500,{"$f":"AccVelDataLink!A289","v":286},285,-1,{"$f":"AccVelDataLink!F289","v":"RCA-RA3R-20-10-垂直"},{"$f":"AccVelDataLink!G289","v":1.5},"○","終端"]
[287,0,12000,{"$f":"AccVelDataLink!A290","v":287},-1,288,{"$f":"AccVelDataLink!F290","v":"RCA-RA4R-20-3-水平"},{"$f":"AccVelDataLink!G290","v":12},"先頭","○"]
[288,1,4000,{"$f":"AccVelDataLink!A291","v":288},287,-1,{"$f":"AccVelDataLink!F291","v":"RCA-RA4R-20-3-垂直"},{"$f":"AccVelDataLink!G291","v":4},"○","終端"]
[289,0,6000,{"$f":"AccVelDataLink!A292","v":289},-1,290,{"$f":"AccVelDataLink!F292","v":"RCA-RA4R-20-6-水平"},{"$f":"AccVelDataLink!G292","v":6},"先頭","○"]
[290,1,2000,{"$f":"AccVelDataLink!A293","v":290},289,-1,{"$f":"AccVelDataLink!F293","v":"RCA-RA4R-20-6-垂直"},{"$f":"AccVelDataLink!G293","v":2},"○","終端"]
[291,0,3000,{"$f":"AccVelDataLink!A294","v":291},-1,292,{"$f":"AccVelDataLink!F294","v":"RCA-RA4R-20-12-水平"},{"$f":"AccVelDataLink!G294","v":3},"先頭","○"]
[292,1,1000,{"$f":"AccVelDataLink!A295","v":292},291,-1,{"$f":"AccVelDataLink!F295","v":"RCA-RA4R-20-12-垂直"},{"$f":"AccVelDataLink!G295","v":1},"○","終端"]
[293,0,18000,{"$f":"AccVelDataLink!A296","v":293},-1,294,{"$f":"AccVelDataLink!F296","v":"RCA-RA4R-30-3-水平"},{"$f":"AccVelDataLink!G296","v":18},"先頭","○"]
[294,1,6500,{"$f":"AccVelDataLink!A297","v":294},293,-1,{"$f":"AccVelDataLink!F297","v":"RCA-RA4R-30-3-垂直"},{"$f":"AccVelDataLink!G297","v":6.5},"○","終端"]
[295,0,9000,{"$f":"AccVelDataLink!A298","v":295},-1,296,{"$f":"AccVelDataLink!F298","v":"RCA-RA4R-30-6-水平"},{"$f":"AccVelDataLink!G298","v":9},"先頭","○"]
[296,1,3000,{"$f":"AccVelDataLink!A299","v":296},295,-1,{"$f":"AccVelDataLink!F299","v":"RCA-RA4R-30-6-垂直"},{"$f":"AccVelDataLink!G299","v":3},"○","終端"]
[297,0,4000,{"$f":"AccVelDataLink!A300","v":297},-1,298,{"$f":"AccVelDataLink!F300","v":"RCA-RA4R-30-12-水平"},{"$f":"AccVelDataLink!G300","v":4},"先頭","○"]
[298,1,1500,{"$f":"AccVelDataLink!A301","v":298},297,-1,{"$f":"AccVelDataLink!F301","v":"RCA-RA4R-30-12-垂直"},{"$f":"AccVelDataLink!G301","v":1.5},"○","終端"]
[299,0,18000,{"$f":"AccVelDataLink!A302","v":299},-1,300,{"$f":"AccVelDataLink!F302","v":"RCA-SRA4R-20-2.5-水平"},{"$f":"AccVelDataLink!G302","v":18},"先頭","○"]
[300,1,6500,{"$f":"AccVelDataLink!A303","v":300},299,-1,{"$f":"AccVelDataLink!F303","v":"RCA-SRA4R-20-2.5-垂直"},{"$f":"AccVelDataLink!G303","v":6.5},"○","終端"]
[301,0,9000,{"$f":"AccVelDataLink!A304","v":301},-1,302,{"$f":"AccVelDataLink!F304","v":"RCA-SRA4R-20-5-水平"},{"$f":"AccVelDataLink!G304","v":9},"先頭","○"]
[302,1,3000,{"$f":"AccVelDataLink!A305","v":302},301,-1,{"$f":"AccVelDataLink!F305","v":"RCA-SRA4R-20-5-垂直"},{"$f":"AccVelDataLink!G305","v":3},"○","終端"]
[303,0,18000,{"$f":"AccVelDataLink!A306","v":303},-1,304,{"$f":"AccVelDataLink!F306","v":"RCA-RGS3C-20-2.5-水平"},{"$f":"AccVelDataLink!G306","v":18},"先頭","○"]
[304,1,6200,{"$f":"AccVelDataLink!A307","v":304},303,-1,{"$f":"AccVelDataLink!F307","v":"RCA-RGS3C-20-2.5-垂直"},{"$f":"AccVelDataLink!G307","v":6.2},"○","終端"]
[305,0,9000,{"$f":"AccVelDataLink!A308","v":305},-1,306,{"$f":"AccVelDataLink!F308","v":"RCA-RGS3C-20-5-水平"},{"$f":"AccVelDataLink!G308","v":9},"先頭","○"]
[306,1,2700,{"$f":"AccVelDataLink!A309","v":306},305,-1,{"$f":"AccVelDataLink!F309","v":"RCA-RGS3C-20-5-垂直"},{"$f":"AccVelDataLink!G309","v":2.7},"○","終端"]
[307,0,4000,{"$f":"AccVelDataLink!A310","v":307},-1,308,{"$f":"AccVelDataLink!F310","v":"RCA-RGS3C-20-10-水平"},{"$f":"AccVelDataLink!G310","v":4},"先頭","○"]
[308,1,1200,{"$f":"AccVelDataLink!A311","v":308},307,-1,{"$f":"AccVelDataLink!F311","v":"RCA-RGS3C-20-10-垂直"},{"$f":"AccVelDataLink!G311","v":1.2},"○","終端"]
[309,0,12000,{"$f":"AccVelDataLink!A312","v":309},-1,310,{"$f":"AccVelDataLink!F312","v":"RCA-RGS4C-20-3-水平"},{"$f":"AccVelDataLink!G312","v":12},"先頭","○"]
[310,1,3500,{"$f":"AccVelDataLink!A313","v":310},309,-1,{"$f":"AccVelDataLink!F313","v":"RCA-RGS4C-20-3-垂直"},{"$f":"AccVelDataLink!G313","v":3.5},"○","終端"]
[311,0,6000,{"$f":"AccVelDataLink!A314","v":311},-1,312,{"$f":"AccVelDataLink!F314","v":"RCA-RGS4C-20-6-水平"},{"$f":"AccVelDataLink!G314","v":6},"先頭","○"]
[312,1,1500,{"$f":"AccVelDataLink!A315","v":312},311,-1,{"$f":"AccVelDataLink!F315","v":"RCA-RGS4C-20-6-垂直"},{"$f":"AccVelDataLink!G315","v":1.5},"○","終端"]
[313,0,3000,{"$f":"AccVelDataLink!A316","v":313},-1,314,{"$f":"AccVelDataLink!F316","v":"RCA-RGS4C-20-12-水平"},{"$f":"AccVelDataLink!G316","v":3},"先頭","○"]
[314,1,500,{"$f":"AccVelDataLink!A317","v":314},313,-1,{"$f":"AccVelDataLink!F317","v":"RCA-RGS4C-20-12-垂直"},{"$f":"AccVelDataLink!G317","v":0.5},"○","終端"]
[315,0,18000,{"$f":"AccVelDataLink!A318","v":315},-1,316,{"$f":"AccVelDataLink!F318","v":"RCA-RGS4C-30-3-水平"},{"$f":"AccVelDataLink!G318","v":18},"先頭","○"]
[316,1,6000,{"$f":"AccVelDataLink!A319","v":316},315,-1,{"$f":"AccVelDataLink!F319","v":"RCA-RGS4C-30-3-垂直"},{"$f":"AccVelDataLink!G319","v":6},"○","終端"]
[317,0,9000,{"$f":"AccVelDataLink!A320","v":317},-1,318,{"$f":"AccVelDataLink!F320","v":"RCA-RGS4C-30-6-水平"},{"$f":"AccVelDataLink!G320","v":9},"先頭","○"]
[318,1,2500,{"$f":"AccVelDataLink!A321","v":318},317,-1,{"$f":"AccVelDataLink!F321","v":"RCA-RGS4C-30-6-垂直"},{"$f":"AccVelDataLink!G321","v":2.5},"○","終端"]
[319,0,4000,{"$f":"AccVelDataLink!A322","v":319},-1,320,{"$f":"AccVelDataLink!F322","v":"RCA-RGS4C-30-12-水平"},{"$f":"AccVelDataLink!G322","v":4},"先頭","○"]
[320,1,1000,{"$f":"AccVelDataLink!A323","v":320},319,-1,{"$f":"AccVelDataLink!F323","v":"RCA-RGS4C-30-12-垂直"},{"$f":"AccVelDataLink!G323","v":1},"○","終端"]
[{"$f":"A323+1","v":321},0,18000,{"$f":"AccVelDataLink!A324","v":321},-1,322,{"$f":"AccVelDataLink!F324","v":"RCA-RGS3D-20-2.5-水平"},{"$f":"AccVelDataLink!G324","v":18},{"$f":"IF(E324=A323,\"○\",IF(G324=0,\"つなぎまちがい\",\"先頭\"))","v":"先頭"},{"$f":"IF(F324=A325,\"○\",IF(F324<>E325,\"つなぎまちがい\",\"終端\"))","v":"○"}]
[322,1,6200,{"$f":"AccVelDataLink!A325","v":322},321,-1,{"$f":"AccVelDataLink!F325","v":"RCA-RGS3D-20-2.5-垂直"},{"$f":"AccVelDataLink!G325","v":6.2},"○","終端"]
[323,0,9000,{"$f":"AccVelDataLink!A326","v":323},-1,324,{"$f":"AccVelDataLink!F326","v":"RCA-RGS3D-20-5-水平"},{"$f":"AccVelDataLink!G326","v":9},"先頭","○"]
[324,1,2700,{"$f":"AccVelDataLink!A327","v":324},323,-1,{"$f":"AccVelDataLink!F327","v":"RCA-RGS3D-20-5-垂直"},{"$f":"AccVelDataLink!G327","v":2.7},"○","終端"]
[325,0,{"$f":"H328*$H$1","v":4000},{"$f":"AccVelDataLink!A328","v":325},-1,{"$f":"A329","v":326},{"$f":"AccVelDataLink!F328","v":"RCA-RGS3D-20-10-水平"},{"$f":"AccVelDataLink!G328","v":4},"先頭","○"]
[326,1,1200,{"$f":"AccVelDataLink!A329","v":326},{"$f":"A328","v":325},-1,{"$f":"AccVelDataLink!F329","v":"RCA-RGS3D-20-10-垂直"},{"$f":"AccVelDataLink!G329","v":1.2},"○","終端"]
[327,0,12000,{"$f":"AccVelDataLink!A330","v":327},-1,328,{"$f":"AccVelDataLink!F330","v":"RCA-RGS4D-20-3-水平"},{"$f":"AccVelDataLink!G330","v":12},"先頭","○"]
[328,1,3500,{"$f":"AccVelDataLink!A331","v":328},327,-1,{"$f":"AccVelDataLink!F331","v":"RCA-RGS4D-20-3-垂直"},{"$f":"AccVelDataLink!G331","v":3.5},"○","終端"]
[329,0,6000,{"$f":"AccVelDataLink!A332","v":329},-1,330,{"$f":"AccVelDataLink!F332","v":"RCA-RGS4D-20-6-水平"},{"$f":"AccVelDataLink!G332","v":6},"先頭","○"]
[330,1,1500,{"$f":"AccVelDataLink!A333","v":330},329,-1,{"$f":"AccVelDataLink!F333","v":"RCA-RGS4D-20-6-垂直"},{"$f":"AccVelDataLink!G333","v":1.5},"○","終端"]
[331,0,3000,{"$f":"AccVelDataLink!A334","v":331},-1,332,{"$f":"AccVelDataLink!F334","v":"RCA-RGS4D-20-12-水平"},{"$f":"AccVelDataLink!G334","v":3},"先頭","○"]
[332,1,500,{"$f":"AccVelDataLink!A335","v":332},331,-1,{"$f":"AccVelDataLink!F335","v":"RCA-RGS4D-20-12-垂直"},{"$f":"AccVelDataLink!G335","v":0.5},"○","終端"]
[333,0,18000,{"$f":"AccVelDataLink!A336","v":333},-1,334,{"$f":"AccVelDataLink!F336","v":"RCA-RGS4D-30-3-水平"},{"$f":"AccVelDataLink!G336","v":18},"先頭","○"]
[334,1,6000,{"$f":"AccVelDataLink!A337","v":334},333,-1,{"$f":"AccVelDataLink!F337","v":"RCA-RGS4D-30-3-垂直"},{"$f":"AccVelDataLink!G337","v":6},"○","終端"]
[335,0,9000,{"$f":"AccVelDataLink!A338","v":335},-1,336,{"$f":"AccVelDataLink!F338","v":"RCA-RGS4D-30-6-水平"},{"$f":"AccVelDataLink!G338","v":9},"先頭","○"]
[336,1,2500,{"$f":"AccVelDataLink!A339","v":336},335,-1,{"$f":"AccVelDataLink!F339","v":"RCA-RGS4D-30-6-垂直"},{"$f":"AccVelDataLink!G339","v":2.5},"○","終端"]
[337,0,4000,{"$f":"AccVelDataLink!A340","v":337},-1,338,{"$f":"AccVelDataLink!F340","v":"RCA-RGS4D-30-12-水平"},{"$f":"AccVelDataLink!G340","v":4},"先頭","○"]
[338,1,1000,{"$f":"AccVelDataLink!A341","v":338},337,-1,{"$f":"AccVelDataLink!F341","v":"RCA-RGS4D-30-12-垂直"},{"$f":"AccVelDataLink!G341","v":1},"○","終端"]
[339,0,18000,{"$f":"AccVelDataLink!A342","v":339},-1,340,{"$f":"AccVelDataLink!F342","v":"RCA-SRGS4R-20-2.5-水平"},{"$f":"AccVelDataLink!G342","v":18},"先頭","○"]
[340,1,5500,{"$f":"AccVelDataLink!A343","v":340},339,-1,{"$f":"AccVelDataLink!F343","v":"RCA-SRGS4R-20-2.5-垂直"},{"$f":"AccVelDataLink!G343","v":5.5},"○","終端"]
[341,0,9000,{"$f":"AccVelDataLink!A344","v":341},-1,342,{"$f":"AccVelDataLink!F344","v":"RCA-SRGS4R-20-5-水平"},{"$f":"AccVelDataLink!G344","v":9},"先頭","○"]
[342,1,2000,{"$f":"AccVelDataLink!A345","v":342},341,-1,{"$f":"AccVelDataLink!F345","v":"RCA-SRGS4R-20-5-垂直"},{"$f":"AccVelDataLink!G345","v":2},"○","終端"]
[343,0,18000,{"$f":"AccVelDataLink!A346","v":343},-1,344,{"$f":"AccVelDataLink!F346","v":"RCA-RGD3C-20-2.5-水平"},{"$f":"AccVelDataLink!G346","v":18},"先頭","○"]
[344,1,6200,{"$f":"AccVelDataLink!A347","v":344},343,-1,{"$f":"AccVelDataLink!F347","v":"RCA-RGD3C-20-2.5-垂直"},{"$f":"AccVelDataLink!G347","v":6.2},"○","終端"]
[345,0,9000,{"$f":"AccVelDataLink!A348","v":345},-1,346,{"$f":"AccVelDataLink!F348","v":"RCA-RGD3C-20-5-水平"},{"$f":"AccVelDataLink!G348","v":9},"先頭","○"]
[346,1,2700,{"$f":"AccVelDataLink!A349","v":346},345,-1,{"$f":"AccVelDataLink!F349","v":"RCA-RGD3C-20-5-垂直"},{"$f":"AccVelDataLink!G349","v":2.7},"○","終端"]
[347,0,4000,{"$f":"AccVelDataLink!A350","v":347},-1,348,{"$f":"AccVelDataLink!F350","v":"RCA-RGD3C-20-10-水平"},{"$f":"AccVelDataLink!G350","v":4},"先頭","○"]
[348,1,1200,{"$f":"AccVelDataLink!A351","v":348},347,-1,{"$f":"AccVelDataLink!F351","v":"RCA-RGD3C-20-10-垂直"},{"$f":"AccVelDataLink!G351","v":1.2},"○","終端"]
[349,0,12000,{"$f":"AccVelDataLink!A352","v":349},-1,350,{"$f":"AccVelDataLink!F352","v":"RCA-RGD4C-20-3-水平"},{"$f":"AccVelDataLink!G352","v":12},"先頭","○"]
[350,1,3500,{"$f":"AccVelDataLink!A353","v":350},349,-1,{"$f":"AccVelDataLink!F353","v":"RCA-RGD4C-20-3-垂直"},{"$f":"AccVelDataLink!G353","v":3.5},"○","終端"]
[351,0,6000,{"$f":"AccVelDataLink!A354","v":351},-1,352,{"$f":"AccVelDataLink!F354","v":"RCA-RGD4C-20-6-水平"},{"$f":"AccVelDataLink!G354","v":6},"先頭","○"]
[352,1,1500,{"$f":"AccVelDataLink!A355","v":352},351,-1,{"$f":"AccVelDataLink!F355","v":"RCA-RGD4C-20-6-垂直"},{"$f":"AccVelDataLink!G355","v":1.5},"○","終端"]
[353,0,3000,{"$f":"AccVelDataLink!A356","v":353},-1,354,{"$f":"AccVelDataLink!F356","v":"RCA-RGD4C-20-12-水平"},{"$f":"AccVelDataLink!G356","v":3},"先頭","○"]
[354,1,500,{"$f":"AccVelDataLink!A357","v":354},353,-1,{"$f":"AccVelDataLink!F357","v":"RCA-RGD4C-20-12-垂直"},{"$f":"AccVelDataLink!G357","v":0.5},"○","終端"]
[355,0,18000,{"$f":"AccVelDataLink!A358","v":355},-1,356,{"$f":"AccVelDataLink!F358","v":"RCA-RGD4C-30-3-水平"},{"$f":"AccVelDataLink!G358","v":18},"先頭","○"]
[356,1,6000,{"$f":"AccVelDataLink!A359","v":356},355,-1,{"$f":"AccVelDataLink!F359","v":"RCA-RGD4C-30-3-垂直"},{"$f":"AccVelDataLink!G359","v":6},"○","終端"]
[357,0,9000,{"$f":"AccVelDataLink!A360","v":357},-1,358,{"$f":"AccVelDataLink!F360","v":"RCA-RGD4C-30-6-水平"},{"$f":"AccVelDataLink!G360","v":9},"先頭","○"]
[358,1,2500,{"$f":"AccVelDataLink!A361","v":358},357,-1,{"$f":"AccVelDataLink!F361","v":"RCA-RGD4C-30-6-垂直"},{"$f":"AccVelDataLink!G361","v":2.5},"○","終端"]
[359,0,4000,{"$f":"AccVelDataLink!A362","v":359},-1,360,{"$f":"AccVelDataLink!F362","v":"RCA-RGD4C-30-12-水平"},{"$f":"AccVelDataLink!G362","v":4},"先頭","○"]
[360,1,1000,{"$f":"AccVelDataLink!A363","v":360},359,-1,{"$f":"AccVelDataLink!F363","v":"RCA-RGD4C-30-12-垂直"},{"$f":"AccVelDataLink!G363","v":1},"○","終端"]
[361,0,18000,{"$f":"AccVelDataLink!A364","v":361},-1,362,{"$f":"AccVelDataLink!F364","v":"RCA-RGD3D-20-2.5-水平"},{"$f":"AccVelDataLink!G364","v":18},"先頭","○"]
[362,1,6200,{"$f":"AccVelDataLink!A365","v":362},361,-1,{"$f":"AccVelDataLink!F365","v":"RCA-RGD3D-20-2.5-垂直"},{"$f":"AccVelDataLink!G365","v":6.2},"○","終端"]
[363,0,9000,{"$f":"AccVelDataLink!A366","v":363},-1,364,{"$f":"AccVelDataLink!F366","v":"RCA-RGD3D-20-5-水平"},{"$f":"AccVelDataLink!G366","v":9},"先頭","○"]
[364,1,2700,{"$f":"AccVelDataLink!A367","v":364},363,-1,{"$f":"AccVelDataLink!F367","v":"RCA-RGD3D-20-5-垂直"},{"$f":"AccVelDataLink!G367","v":2.7},"○","終端"]
[365,0,4000,{"$f":"AccVelDataLink!A368","v":365},-1,366,{"$f":"AccVelDataLink!F368","v":"RCA-RGD3D-20-10-水平"},{"$f":"AccVelDataLink!G368","v":4},"先頭","○"]
[366,1,1200,{"$f":"AccVelDataLink!A369","v":366},365,-1,{"$f":"AccVelDataLink!F369","v":"RCA-RGD3D-20-10-垂直"},{"$f":"AccVelDataLink!G369","v":1.2},"○","終端"]
[367,0,12000,{"$f":"AccVelDataLink!A370","v":367},-1,368,{"$f":"AccVelDataLink!F370","v":"RCA-RGD4D-20-3-水平"},{"$f":"AccVelDataLink!G370","v":12},"先頭","○"]
[368,1,3500,{"$f":"AccVelDataLink!A371","v":368},367,-1,{"$f":"AccVelDataLink!F371","v":"RCA-RGD4D-20-3-垂直"},{"$f":"AccVelDataLink!G371","v":3.5},"○","終端"]
[369,0,6000,{"$f":"AccVelDataLink!A372","v":369},-1,370,{"$f":"AccVelDataLink!F372","v":"RCA-RGD4D-20-6-水平"},{"$f":"AccVelDataLink!G372","v":6},"先頭","○"]
[370,1,1500,{"$f":"AccVelDataLink!A373","v":370},369,-1,{"$f":"AccVelDataLink!F373","v":"RCA-RGD4D-20-6-垂直"},{"$f":"AccVelDataLink!G373","v":1.5},"○","終端"]
[371,0,3000,{"$f":"AccVelDataLink!A374","v":371},-1,372,{"$f":"AccVelDataLink!F374","v":"RCA-RGD4D-20-12-水平"},{"$f":"AccVelDataLink!G374","v":3},"先頭","○"]
[372,1,500,{"$f":"AccVelDataLink!A375","v":372},371,-1,{"$f":"AccVelDataLink!F375","v":"RCA-RGD4D-20-12-垂直"},{"$f":"AccVelDataLink!G375","v":0.5},"○","終端"]
[373,0,18000,{"$f":"AccVelDataLink!A376","v":373},-1,374,{"$f":"AccVelDataLink!F376","v":"RCA-RGD4D-30-3-水平"},{"$f":"AccVelDataLink!G376","v":18},"先頭","○"]
[374,1,6000,{"$f":"AccVelDataLink!A377","v":374},373,-1,{"$f":"AccVelDataLink!F377","v":"RCA-RGD4D-30-3-垂直"},{"$f":"AccVelDataLink!G377","v":6},"○","終端"]
[375,0,9000,{"$f":"AccVelDataLink!A378","v":375},-1,376,{"$f":"AccVelDataLink!F378","v":"RCA-RGD4D-30-6-水平"},{"$f":"AccVelDataLink!G378","v":9},"先頭","○"]
[376,1,2500,{"$f":"AccVelDataLink!A379","v":376},375,-1,{"$f":"AccVelDataLink!F379","v":"RCA-RGD4D-30-6-垂直"},{"$f":"AccVelDataLink!G379","v":2.5},"○","終端"]
[377,0,4000,{"$f":"AccVelDataLink!A380","v":377},-1,378,{"$f":"AccVelDataLink!F380","v":"RCA-RGD4D-30-12-水平"},{"$f":"AccVelDataLink!G380","v":4},"先頭","○"]
[378,1,1000,{"$f":"AccVelDataLink!A381","v":378},377,-1,{"$f":"AccVelDataLink!F381","v":"RCA-RGD4D-30-12-垂直"},{"$f":"AccVelDataLink!G381","v":1},"○","終端"]
[379,0,18000,{"$f":"AccVelDataLink!A382","v":379},-1,380,{"$f":"AccVelDataLink!F382","v":"RCA-RGD3R-20-2.5-水平"},{"$f":"AccVelDataLink!G382","v":18},"先頭","○"]
[380,1,6200,{"$f":"AccVelDataLink!A383","v":380},379,-1,{"$f":"AccVelDataLink!F383","v":"RCA-RGD3R-20-2.5-垂直"},{"$f":"AccVelDataLink!G383","v":6.2},"○","終端"]
[381,0,9000,{"$f":"AccVelDataLink!A384","v":381},-1,382,{"$f":"AccVelDataLink!F384","v":"RCA-RGD3R-20-5-水平"},{"$f":"AccVelDataLink!G384","v":9},"先頭","○"]
[382,1,2700,{"$f":"AccVelDataLink!A385","v":382},381,-1,{"$f":"AccVelDataLink!F385","v":"RCA-RGD3R-20-5-垂直"},{"$f":"AccVelDataLink!G385","v":2.7},"○","終端"]
[383,0,4000,{"$f":"AccVelDataLink!A386","v":383},-1,384,{"$f":"AccVelDataLink!F386","v":"RCA-RGD3R-20-10-水平"},{"$f":"AccVelDataLink!G386","v":4},"先頭","○"]
[384,1,1200,{"$f":"AccVelDataLink!A387","v":384},383,-1,{"$f":"AccVelDataLink!F387","v":"RCA-RGD3R-20-10-垂直"},{"$f":"AccVelDataLink!G387","v":1.2},"○","終端"]
[{"$f":"A387+1","v":385},0,12000,{"$f":"AccVelDataLink!A388","v":385},-1,386,{"$f":"AccVelDataLink!F388","v":"RCA-RGD4R-20-3-水平"},{"$f":"AccVelDataLink!G388","v":12},{"$f":"IF(E388=A387,\"○\",IF(G388=0,\"つなぎまちがい\",\"先頭\"))","v":"先頭"},{"$f":"IF(F388=A389,\"○\",IF(F388<>E389,\"つなぎまちがい\",\"終端\"))","v":"○"}]
[386,1,3500,{"$f":"AccVelDataLink!A389","v":386},385,-1,{"$f":"AccVelDataLink!F389","v":"RCA-RGD4R-20-3-垂直"},{"$f":"AccVelDataLink!G389","v":3.5},"○","終端"]
[387,0,6000,{"$f":"AccVelDataLink!A390","v":387},-1,388,{"$f":"AccVelDataLink!F390","v":"RCA-RGD4R-20-6-水平"},{"$f":"AccVelDataLink!G390","v":6},"先頭","○"]
[388,1,1500,{"$f":"AccVelDataLink!A391","v":388},387,-1,{"$f":"AccVelDataLink!F391","v":"RCA-RGD4R-20-6-垂直"},{"$f":"AccVelDataLink!G391","v":1.5},"○","終端"]
[389,0,{"$f":"H392*$H$1","v":3000},{"$f":"AccVelDataLink!A392","v":389},-1,{"$f":"A393","v":390},{"$f":"AccVelDataLink!F392","v":"RCA-RGD4R-20-12-水平"},{"$f":"AccVelDataLink!G392","v":3},"先頭","○"]
[390,1,500,{"$f":"AccVelDataLink!A393","v":390},{"$f":"A392","v":389},-1,{"$f":"AccVelDataLink!F393","v":"RCA-RGD4R-20-12-垂直"},{"$f":"AccVelDataLink!G393","v":0.5},"○","終端"]
[391,0,18000,{"$f":"AccVelDataLink!A394","v":391},-1,392,{"$f":"AccVelDataLink!F394","v":"RCA-RGD4R-30-3-水平"},{"$f":"AccVelDataLink!G394","v":18},"先頭","○"]
[392,1,6000,{"$f":"AccVelDataLink!A395","v":392},391,-1,{"$f":"AccVelDataLink!F395","v":"RCA-RGD4R-30-3-垂直"},{"$f":"AccVelDataLink!G395","v":6},"○","終端"]
[393,0,9000,{"$f":"AccVelDataLink!A396","v":393},-1,394,{"$f":"AccVelDataLink!F396","v":"RCA-RGD4R-30-6-水平"},{"$f":"AccVelDataLink!G396","v":9},"先頭","○"]
[394,1,2500,{"$f":"AccVelDataLink!A397","v":394},393,-1,{"$f":"AccVelDataLink!F397","v":"RCA-RGD4R-30-6-垂直"},{"$f":"AccVelDataLink!G397","v":2.5},"○","終端"]
[395,0,4000,{"$f":"AccVelDataLink!A398","v":395},-1,396,{"$f":"AccVelDataLink!F398","v":"RCA-RGD4R-30-12-水平"},{"$f":"AccVelDataLink!G398","v":4},"先頭","○"]
[396,1,1000,{"$f":"AccVelDataLink!A399","v":396},395,-1,{"$f":"AccVelDataLink!F399","v":"RCA-RGD4R-30-12-垂直"},{"$f":"AccVelDataLink!G399","v":1},"○","終端"]
[397,0,18000,{"$f":"AccVelDataLink!A400","v":397},-1,398,{"$f":"AccVelDataLink!F400","v":"RCA-SRGD4R-20-2.5-水平"},{"$f":"AccVelDataLink!G400","v":18},"先頭","○"]
[398,1,5500,{"$f":"AccVelDataLink!A401","v":398},397,-1,{"$f":"AccVelDataLink!F401","v":"RCA-SRGD4R-20-2.5-垂直"},{"$f":"AccVelDataLink!G401","v":5.5},"○","終端"]
[399,0,9000,{"$f":"AccVelDataLink!A402","v":399},-1,400,{"$f":"AccVelDataLink!F402","v":"RCA-SRGD4R-20-5-水平"},{"$f":"AccVelDataLink!G402","v":9},"先頭","○"]
[400,1,2000,{"$f":"AccVelDataLink!A403","v":400},399,-1,{"$f":"AccVelDataLink!F403","v":"RCA-SRGD4R-20-5-垂直"},{"$f":"AccVelDataLink!G403","v":2},"○","終端"]
[401,0,3000,{"$f":"AccVelDataLink!A404","v":401},-1,402,{"$f":"AccVelDataLink!F404","v":"RCS2-TCA3NA-10-1-水平"},{"$f":"AccVelDataLink!G404","v":3},"先頭","○"]
[402,1,1000,{"$f":"AccVelDataLink!A405","v":402},401,-1,{"$f":"AccVelDataLink!F405","v":"RCS2-TCA3NA-10-1-垂直"},{"$f":"AccVelDataLink!G405","v":1},"○","終端"]
[403,0,1500,{"$f":"AccVelDataLink!A406","v":403},-1,404,{"$f":"AccVelDataLink!F406","v":"RCS2-TCA3NA-10-2-水平"},{"$f":"AccVelDataLink!G406","v":1.5},"先頭","○"]
[404,1,500,{"$f":"AccVelDataLink!A407","v":404},403,-1,{"$f":"AccVelDataLink!F407","v":"RCS2-TCA3NA-10-2-垂直"},{"$f":"AccVelDataLink!G407","v":0.5},"○","終端"]
[405,0,750,{"$f":"AccVelDataLink!A408","v":405},-1,406,{"$f":"AccVelDataLink!F408","v":"RCS2-TCA3NA-10-4-水平"},{"$f":"AccVelDataLink!G408","v":0.75},"先頭","○"]
[406,1,250,{"$f":"AccVelDataLink!A409","v":406},405,-1,{"$f":"AccVelDataLink!F409","v":"RCS2-TCA3NA-10-4-垂直"},{"$f":"AccVelDataLink!G409","v":0.25},"○","終端"]
[407,0,1000,{"$f":"AccVelDataLink!A410","v":407},-1,408,{"$f":"AccVelDataLink!F410","v":"RCS2-TCA3NA-10-1S-水平"},{"$f":"AccVelDataLink!G410","v":1},"先頭","○"]
[408,1,500,{"$f":"AccVelDataLink!A411","v":408},407,-1,{"$f":"AccVelDataLink!F411","v":"RCS2-TCA3NA-10-1S-垂直"},{"$f":"AccVelDataLink!G411","v":0.5},"○","終端"]
[409,0,500,{"$f":"AccVelDataLink!A412","v":409},-1,410,{"$f":"AccVelDataLink!F412","v":"RCS2-TCA3NA-10-2S-水平"},{"$f":"AccVelDataLink!G412","v":0.5},"先頭","○"]
[410,1,250,{"$f":"AccVelDataLink!A413","v":410},409,-1,{"$f":"AccVelDataLink!F413","v":"RCS2-TCA3NA-10-2S-垂直"},{"$f":"AccVelDataLink!G413","v":0.25},"○","終端"]
[411,0,250,{"$f":"AccVelDataLink!A414","v":411},-1,412,{"$f":"AccVelDataLink!F414","v":"RCS2-TCA3NA-10-4S-水平"},{"$f":"AccVelDataLink!G414","v":0.25},"先頭","○"]
[412,1,125,{"$f":"AccVelDataLink!A415","v":412},411,-1,{"$f":"AccVelDataLink!F415","v":"RCS2-TCA3NA-10-4S-垂直"},{"$f":"AccVelDataLink!G415","v":0.125},"○","終端"]
[413,0,6000,{"$f":"AccVelDataLink!A416","v":413},-1,414,{"$f":"AccVelDataLink!F416","v":"RCS2-TCA4NA-20-2-水平"},{"$f":"AccVelDataLink!G416","v":6},"先頭","○"]
[414,1,1500,{"$f":"AccVelDataLink!A417","v":414},413,-1,{"$f":"AccVelDataLink!F417","v":"RCS2-TCA4NA-20-2-垂直"},{"$f":"AccVelDataLink!G417","v":1.5},"○","終端"]
[415,0,3000,{"$f":"AccVelDataLink!A418","v":415},-1,416,{"$f":"AccVelDataLink!F418","v":"RCS2-TCA4NA-20-4-水平"},{"$f":"AccVelDataLink!G418","v":3},"先頭","○"]
[416,1,750,{"$f":"AccVelDataLink!A419","v":416},415,-1,{"$f":"AccVelDataLink!F419","v":"RCS2-TCA4NA-20-4-垂直"},{"$f":"AccVelDataLink!G419","v":0.75},"○","終端"]
[417,0,2000,{"$f":"AccVelDataLink!A420","v":417},-1,418,{"$f":"AccVelDataLink!F420","v":"RCS2-TCA4NA-20-6-水平"},{"$f":"AccVelDataLink!G420","v":2},"先頭","○"]
[418,1,500,{"$f":"AccVelDataLink!A421","v":418},417,-1,{"$f":"AccVelDataLink!F421","v":"RCS2-TCA4NA-20-6-垂直"},{"$f":"AccVelDataLink!G421","v":0.5},"○","終端"]
[419,0,1000,{"$f":"AccVelDataLink!A422","v":419},-1,420,{"$f":"AccVelDataLink!F422","v":"RCS2-TCA4NA-20-2S-水平"},{"$f":"AccVelDataLink!G422","v":1},"先頭","○"]
[420,1,500,{"$f":"AccVelDataLink!A423","v":420},419,-1,{"$f":"AccVelDataLink!F423","v":"RCS2-TCA4NA-20-2S-垂直"},{"$f":"AccVelDataLink!G423","v":0.5},"○","終端"]
[421,0,500,{"$f":"AccVelDataLink!A424","v":421},-1,422,{"$f":"AccVelDataLink!F424","v":"RCS2-TCA4NA-20-4S-水平"},{"$f":"AccVelDataLink!G424","v":0.5},"先頭","○"]
[422,1,250,{"$f":"AccVelDataLink!A425","v":422},421,-1,{"$f":"AccVelDataLink!F425","v":"RCS2-TCA4NA-20-4S-垂直"},{"$f":"AccVelDataLink!G425","v":0.25},"○","終端"]
[423,0,250,{"$f":"AccVelDataLink!A426","v":423},-1,424,{"$f":"AccVelDataLink!F426","v":"RCS2-TCA4NA-20-6S-水平"},{"$f":"AccVelDataLink!G426","v":0.25},"先頭","○"]
[424,1,125,{"$f":"AccVelDataLink!A427","v":424},423,-1,{"$f":"AccVelDataLink!F427","v":"RCS2-TCA4NA-20-6S-垂直"},{"$f":"AccVelDataLink!G427","v":0.125},"○","終端"]
[425,0,3000,{"$f":"AccVelDataLink!A428","v":425},-1,426,{"$f":"AccVelDataLink!F428","v":"RCS2-TWA3NA-10-1-水平"},{"$f":"AccVelDataLink!G428","v":3},"先頭","○"]
[426,1,1000,{"$f":"AccVelDataLink!A429","v":426},425,-1,{"$f":"AccVelDataLink!F429","v":"RCS2-TWA3NA-10-1-垂直"},{"$f":"AccVelDataLink!G429","v":1},"○","終端"]
[427,0,1500,{"$f":"AccVelDataLink!A430","v":427},-1,428,{"$f":"AccVelDataLink!F430","v":"RCS2-TWA3NA-10-2-水平"},{"$f":"AccVelDataLink!G430","v":1.5},"先頭","○"]
[428,1,500,{"$f":"AccVelDataLink!A431","v":428},427,-1,{"$f":"AccVelDataLink!F431","v":"RCS2-TWA3NA-10-2-垂直"},{"$f":"AccVelDataLink!G431","v":0.5},"○","終端"]
[429,0,750,{"$f":"AccVelDataLink!A432","v":429},-1,430,{"$f":"AccVelDataLink!F432","v":"RCS2-TWA3NA-10-4-水平"},{"$f":"AccVelDataLink!G432","v":0.75},"先頭","○"]
[430,1,250,{"$f":"AccVelDataLink!A433","v":430},429,-1,{"$f":"AccVelDataLink!F433","v":"RCS2-TWA3NA-10-4-垂直"},{"$f":"AccVelDataLink!G433","v":0.25},"○","終端"]
[431,0,1000,{"$f":"AccVelDataLink!A434","v":431},-1,432,{"$f":"AccVelDataLink!F434","v":"RCS2-TWA3NA-10-1S-水平"},{"$f":"AccVelDataLink!G434","v":1},"先頭","○"]
[432,1,500,{"$f":"AccVelDataLink!A435","v":432},431,-1,{"$f":"AccVelDataLink!F435","v":"RCS2-TWA3NA-10-1S-垂直"},{"$f":"AccVelDataLink!G435","v":0.5},"○","終端"]
[433,0,500,{"$f":"AccVelDataLink!A436","v":433},-1,434,{"$f":"AccVelDataLink!F436","v":"RCS2-TWA3NA-10-2S-水平"},{"$f":"AccVelDataLink!G436","v":0.5},"先頭","○"]
[434,1,250,{"$f":"AccVelDataLink!A437","v":434},433,-1,{"$f":"AccVelDataLink!F437","v":"RCS2-TWA3NA-10-2S-垂直"},{"$f":"AccVelDataLink!G437","v":0.25},"○","終端"]
[435,0,250,{"$f":"AccVelDataLink!A438","v":435},-1,436,{"$f":"AccVelDataLink!F438","v":"RCS2-TWA3NA-10-4S-水平"},{"$f":"AccVelDataLink!G438","v":0.25},"先頭","○"]
[436,1,125,{"$f":"AccVelDataLink!A439","v":436},435,-1,{"$f":"AccVelDataLink!F439","v":"RCS2-TWA3NA-10-4S-垂直"},{"$f":"AccVelDataLink!G439","v":0.125},"○","終端"]
[437,0,6000,{"$f":"AccVelDataLink!A440","v":437},-1,438,{"$f":"AccVelDataLink!F440","v":"RCS2-TWA4NA-20-2-水平"},{"$f":"AccVelDataLink!G440","v":6},"先頭","○"]
[438,1,1500,{"$f":"AccVelDataLink!A441","v":438},437,-1,{"$f":"AccVelDataLink!F441","v":"RCS2-TWA4NA-20-2-垂直"},{"$f":"AccVelDataLink!G441","v":1.5},"○","終端"]
[439,0,3000,{"$f":"AccVelDataLink!A442","v":439},-1,440,{"$f":"AccVelDataLink!F442","v":"RCS2-TWA4NA-20-4-水平"},{"$f":"AccVelDataLink!G442","v":3},"先頭","○"]
[440,1,750,{"$f":"AccVelDataLink!A443","v":440},439,-1,{"$f":"AccVelDataLink!F443","v":"RCS2-TWA4NA-20-4-垂直"},{"$f":"AccVelDataLink!G443","v":0.75},"○","終端"]
[441,0,2000,{"$f":"AccVelDataLink!A444","v":441},-1,442,{"$f":"AccVelDataLink!F444","v":"RCS2-TWA4NA-20-6-水平"},{"$f":"AccVelDataLink!G444","v":2},"先頭","○"]
[442,1,500,{"$f":"AccVelDataLink!A445","v":442},441,-1,{"$f":"AccVelDataLink!F445","v":"RCS2-TWA4NA-20-6-垂直"},{"$f":"AccVelDataLink!G445","v":0.5},"○","終端"]
[443,0,1000,{"$f":"AccVelDataLink!A446","v":443},-1,444,{"$f":"AccVelDataLink!F446","v":"RCS2-TWA4NA-20-2S-水平"},{"$f":"AccVelDataLink!G446","v":1},"先頭","○"]
[444,1,500,{"$f":"AccVelDataLink!A447","v":444},443,-1,{"$f":"AccVelDataLink!F447","v":"RCS2-TWA4NA-20-2S-垂直"},{"$f":"AccVelDataLink!G447","v":0.5},"○","終端"]
[445,0,500,{"$f":"AccVelDataLink!A448","v":445},-1,446,{"$f":"AccVelDataLink!F448","v":"RCS2-TWA4NA-20-4S-水平"},{"$f":"AccVelDataLink!G448","v":0.5},"先頭","○"]
[446,1,250,{"$f":"AccVelDataLink!A449","v":446},445,-1,{"$f":"AccVelDataLink!F449","v":"RCS2-TWA4NA-20-4S-垂直"},{"$f":"AccVelDataLink!G449","v":0.25},"○","終端"]
[447,0,250,{"$f":"AccVelDataLink!A450","v":447},-1,448,{"$f":"AccVelDataLink!F450","v":"RCS2-TWA4NA-20-6S-水平"},{"$f":"AccVelDataLink!G450","v":0.25},"先頭","○"]
[448,1,125,{"$f":"AccVelDataLink!A451","v":448},447,-1,{"$f":"AccVelDataLink!F451","v":"RCS2-TWA4NA-20-6S-垂直"},{"$f":"AccVelDataLink!G451","v":0.125},"○","終端"]
[{"$f":"A451+1","v":449},0,3000,{"$f":"AccVelDataLink!A452","v":449},-1,450,{"$f":"AccVelDataLink!F452","v":"RCS2-TFA3NA-10-1-水平"},{"$f":"AccVelDataLink!G452","v":3},{"$f":"IF(E452=A451,\"○\",IF(G452=0,\"つなぎまちがい\",\"先頭\"))","v":"先頭"},{"$f":"IF(F452=A453,\"○\",IF(F452<>E453,\"つなぎまちがい\",\"終端\"))","v":"○"}]
[450,1,1000,{"$f":"AccVelDataLink!A453","v":450},449,-1,{"$f":"AccVelDataLink!F453","v":"RCS2-TFA3NA-10-1-垂直"},{"$f":"AccVelDataLink!G453","v":1},"○","終端"]
[451,0,1500,{"$f":"AccVelDataLink!A454","v":451},-1,452,{"$f":"AccVelDataLink!F454","v":"RCS2-TFA3NA-10-2-水平"},{"$f":"AccVelDataLink!G454","v":1.5},"先頭","○"]
[452,1,500,{"$f":"AccVelDataLink!A455","v":452},451,-1,{"$f":"AccVelDataLink!F455","v":"RCS2-TFA3NA-10-2-垂直"},{"$f":"AccVelDataLink!G455","v":0.5},"○","終端"]
[453,0,{"$f":"H456*$H$1","v":750},{"$f":"AccVelDataLink!A456","v":453},-1,{"$f":"A457","v":454},{"$f":"AccVelDataLink!F456","v":"RCS2-TFA3NA-10-4-水平"},{"$f":"AccVelDataLink!G456","v":0.75},"先頭","○"]
[454,1,250,{"$f":"AccVelDataLink!A457","v":454},{"$f":"A456","v":453},-1,{"$f":"AccVelDataLink!F457","v":"RCS2-TFA3NA-10-4-垂直"},{"$f":"AccVelDataLink!G457","v":0.25},"○","終端"]
[455,0,1000,{"$f":"AccVelDataLink!A458","v":455},-1,456,{"$f":"AccVelDataLink!F458","v":"RCS2-TFA3NA-10-1S-水平"},{"$f":"AccVelDataLink!G458","v":1},"先頭","○"]
[456,1,500,{"$f":"AccVelDataLink!A459","v":456},455,-1,{"$f":"AccVelDataLink!F459","v":"RCS2-TFA3NA-10-1S-垂直"},{"$f":"AccVelDataLink!G459","v":0.5},"○","終端"]
[457,0,500,{"$f":"AccVelDataLink!A460","v":457},-1,458,{"$f":"AccVelDataLink!F460","v":"RCS2-TFA3NA-10-2S-水平"},{"$f":"AccVelDataLink!G460","v":0.5},"先頭","○"]
[458,1,250,{"$f":"AccVelDataLink!A461","v":458},457,-1,{"$f":"AccVelDataLink!F461","v":"RCS2-TFA3NA-10-2S-垂直"},{"$f":"AccVelDataLink!G461","v":0.25},"○","終端"]
[459,0,250,{"$f":"AccVelDataLink!A462","v":459},-1,460,{"$f":"AccVelDataLink!F462","v":"RCS2-TFA3NA-10-4S-水平"},{"$f":"AccVelDataLink!G462","v":0.25},"先頭","○"]
[460,1,125,{"$f":"AccVelDataLink!A463","v":460},459,-1,{"$f":"AccVelDataLink!F463","v":"RCS2-TFA3NA-10-4S-垂直"},{"$f":"AccVelDataLink!G463","v":0.125},"○","終端"]
[461,0,6000,{"$f":"AccVelDataLink!A464","v":461},-1,462,{"$f":"AccVelDataLink!F464","v":"RCS2-TFA4NA-20-2-水平"},{"$f":"AccVelDataLink!G464","v":6},"先頭","○"]
[462,1,1500,{"$f":"AccVelDataLink!A465","v":462},461,-1,{"$f":"AccVelDataLink!F465","v":"RCS2-TFA4NA-20-2-垂直"},{"$f":"AccVelDataLink!G465","v":1.5},"○","終端"]
[463,0,3000,{"$f":"AccVelDataLink!A466","v":463},-1,464,{"$f":"AccVelDataLink!F466","v":"RCS2-TFA4NA-20-4-水平"},{"$f":"AccVelDataLink!G466","v":3},"先頭","○"]
[464,1,750,{"$f":"AccVelDataLink!A467","v":464},463,-1,{"$f":"AccVelDataLink!F467","v":"RCS2-TFA4NA-20-4-垂直"},{"$f":"AccVelDataLink!G467","v":0.75},"○","終端"]
[465,0,2000,{"$f":"AccVelDataLink!A468","v":465},-1,466,{"$f":"AccVelDataLink!F468","v":"RCS2-TFA4NA-20-6-水平"},{"$f":"AccVelDataLink!G468","v":2},"先頭","○"]
[466,1,500,{"$f":"AccVelDataLink!A469","v":466},465,-1,{"$f":"AccVelDataLink!F469","v":"RCS2-TFA4NA-20-6-垂直"},{"$f":"AccVelDataLink!G469","v":0.5},"○","終端"]
[467,0,1000,{"$f":"AccVelDataLink!A470","v":467},-1,468,{"$f":"AccVelDataLink!F470","v":"RCS2-TFA4NA-20-2S-水平"},{"$f":"AccVelDataLink!G470","v":1},"先頭","○"]
[468,1,500,{"$f":"AccVelDataLink!A471","v":468},467,-1,{"$f":"AccVelDataLink!F471","v":"RCS2-TFA4NA-20-2S-垂直"},{"$f":"AccVelDataLink!G471","v":0.5},"○","終端"]
[469,0,500,{"$f":"AccVelDataLink!A472","v":469},-1,470,{"$f":"AccVelDataLink!F472","v":"RCS2-TFA4NA-20-4S-水平"},{"$f":"AccVelDataLink!G472","v":0.5},"先頭","○"]
[470,1,250,{"$f":"AccVelDataLink!A473","v":470},469,-1,{"$f":"AccVelDataLink!F473","v":"RCS2-TFA4NA-20-4S-垂直"},{"$f":"AccVelDataLink!G473","v":0.25},"○","終端"]
[471,0,250,{"$f":"AccVelDataLink!A474","v":471},-1,472,{"$f":"AccVelDataLink!F474","v":"RCS2-TFA4NA-20-6S-水平"},{"$f":"AccVelDataLink!G474","v":0.25},"先頭","○"]
[472,1,125,{"$f":"AccVelDataLink!A475","v":472},471,-1,{"$f":"AccVelDataLink!F475","v":"RCS2-TFA4NA-20-6S-垂直"},{"$f":"AccVelDataLink!G475","v":0.125},"○","終端"]
[473,0,3000,{"$f":"AccVelDataLink!A476","v":473},-1,474,{"$f":"AccVelDataLink!F476","v":"RCS2-TA4C-10-2-水平"},{"$f":"AccVelDataLink!G476","v":3},"先頭","○"]
[474,1,1500,{"$f":"AccVelDataLink!A477","v":474},473,-1,{"$f":"AccVelDataLink!F477","v":"RCS2-TA4C-10-2-垂直"},{"$f":"AccVelDataLink!G477","v":1.5},"○","終端"]
[475,0,2000,{"$f":"AccVelDataLink!A478","v":475},-1,476,{"$f":"AccVelDataLink!F478","v":"RCS2-TA4C-10-4-水平"},{"$f":"AccVelDataLink!G478","v":2},"先頭","○"]
[476,1,1000,{"$f":"AccVelDataLink!A479","v":476},475,-1,{"$f":"AccVelDataLink!F479","v":"RCS2-TA4C-10-4-垂直"},{"$f":"AccVelDataLink!G479","v":1},"○","終端"]
[477,0,1000,{"$f":"AccVelDataLink!A480","v":477},-1,478,{"$f":"AccVelDataLink!F480","v":"RCS2-TA4C-10-6-水平"},{"$f":"AccVelDataLink!G480","v":1},"先頭","○"]
[478,1,500,{"$f":"AccVelDataLink!A481","v":478},477,-1,{"$f":"AccVelDataLink!F481","v":"RCS2-TA4C-10-6-垂直"},{"$f":"AccVelDataLink!G481","v":0.5},"○","終端"]
[479,0,5000,{"$f":"AccVelDataLink!A482","v":479},-1,480,{"$f":"AccVelDataLink!F482","v":"RCA2-TA5C-20-2.5-水平"},{"$f":"AccVelDataLink!G482","v":5},"先頭","○"]
[480,1,3000,{"$f":"AccVelDataLink!A483","v":480},479,-1,{"$f":"AccVelDataLink!F483","v":"RCA2-TA5C-20-2.5-垂直"},{"$f":"AccVelDataLink!G483","v":3},"○","終端"]
[481,0,3500,{"$f":"AccVelDataLink!A484","v":481},-1,482,{"$f":"AccVelDataLink!F484","v":"RCA2-TA5C-20-5-水平"},{"$f":"AccVelDataLink!G484","v":3.5},"先頭","○"]
[482,1,2000,{"$f":"AccVelDataLink!A485","v":482},481,-1,{"$f":"AccVelDataLink!F485","v":"RCA2-TA5C-20-5-垂直"},{"$f":"AccVelDataLink!G485","v":2},"○","終端"]
[483,0,2000,{"$f":"AccVelDataLink!A486","v":483},-1,484,{"$f":"AccVelDataLink!F486","v":"RCA2-TA5C-20-10-水平"},{"$f":"AccVelDataLink!G486","v":2},"先頭","○"]
[484,1,1000,{"$f":"AccVelDataLink!A487","v":484},483,-1,{"$f":"AccVelDataLink!F487","v":"RCA2-TA5C-20-10-垂直"},{"$f":"AccVelDataLink!G487","v":1},"○","終端"]
[485,0,6000,{"$f":"AccVelDataLink!A488","v":485},-1,486,{"$f":"AccVelDataLink!F488","v":"RCA2-TA6C-20-3-水平"},{"$f":"AccVelDataLink!G488","v":6},"先頭","○"]
[486,1,3000,{"$f":"AccVelDataLink!A489","v":486},485,-1,{"$f":"AccVelDataLink!F489","v":"RCA2-TA6C-20-3-垂直"},{"$f":"AccVelDataLink!G489","v":3},"○","終端"]
[487,0,4000,{"$f":"AccVelDataLink!A490","v":487},-1,488,{"$f":"AccVelDataLink!F490","v":"RCA2-TA6C-20-6-水平"},{"$f":"AccVelDataLink!G490","v":4},"先頭","○"]
[488,1,1500,{"$f":"AccVelDataLink!A491","v":488},487,-1,{"$f":"AccVelDataLink!F491","v":"RCA2-TA6C-20-6-垂直"},{"$f":"AccVelDataLink!G491","v":1.5},"○","終端"]
[489,0,2000,{"$f":"AccVelDataLink!A492","v":489},-1,490,{"$f":"AccVelDataLink!F492","v":"RCA2-TA6C-20-12-水平"},{"$f":"AccVelDataLink!G492","v":2},"先頭","○"]
[490,1,500,{"$f":"AccVelDataLink!A493","v":490},489,-1,{"$f":"AccVelDataLink!F493","v":"RCA2-TA6C-20-12-垂直"},{"$f":"AccVelDataLink!G493","v":0.5},"○","終端"]
[491,0,8000,{"$f":"AccVelDataLink!A494","v":491},-1,492,{"$f":"AccVelDataLink!F494","v":"RCA2-TA7C-30-3-水平"},{"$f":"AccVelDataLink!G494","v":8},"先頭","○"]
[492,1,4000,{"$f":"AccVelDataLink!A495","v":492},491,-1,{"$f":"AccVelDataLink!F495","v":"RCA2-TA7C-30-3-垂直"},{"$f":"AccVelDataLink!G495","v":4},"○","終端"]
[493,0,6000,{"$f":"AccVelDataLink!A496","v":493},-1,494,{"$f":"AccVelDataLink!F496","v":"RCA2-TA7C-30-6-水平"},{"$f":"AccVelDataLink!G496","v":6},"先頭","○"]
[494,1,2500,{"$f":"AccVelDataLink!A497","v":494},493,-1,{"$f":"AccVelDataLink!F497","v":"RCA2-TA7C-30-6-垂直"},{"$f":"AccVelDataLink!G497","v":2.5},"○","終端"]
[495,0,4000,{"$f":"AccVelDataLink!A498","v":495},-1,496,{"$f":"AccVelDataLink!F498","v":"RCA2-TA7C-30-12-水平"},{"$f":"AccVelDataLink!G498","v":4},"先頭","○"]
[496,1,1000,{"$f":"AccVelDataLink!A499","v":496},495,-1,{"$f":"AccVelDataLink!F499","v":"RCA2-TA7C-30-12-垂直"},{"$f":"AccVelDataLink!G499","v":1},"○","終端"]
[497,0,3000,{"$f":"AccVelDataLink!A500","v":497},-1,498,{"$f":"AccVelDataLink!F500","v":"RCS2-TA4R-10-2-水平"},{"$f":"AccVelDataLink!G500","v":3},"先頭","○"]
[498,1,1500,{"$f":"AccVelDataLink!A501","v":498},497,-1,{"$f":"AccVelDataLink!F501","v":"RCS2-TA4R-10-2-垂直"},{"$f":"AccVelDataLink!G501","v":1.5},"○","終端"]
[499,0,2000,{"$f":"AccVelDataLink!A502","v":499},-1,500,{"$f":"AccVelDataLink!F502","v":"RCS2-TA4R-10-4-水平"},{"$f":"AccVelDataLink!G502","v":2},"先頭","○"]
[500,1,1000,{"$f":"AccVelDataLink!A503","v":500},499,-1,{"$f":"AccVelDataLink!F503","v":"RCS2-TA4R-10-4-垂直"},{"$f":"AccVelDataLink!G503","v":1},"○","終端"]
[501,0,1000,{"$f":"AccVelDataLink!A504","v":501},-1,502,{"$f":"AccVelDataLink!F504","v":"RCS2-TA4R-10-6-水平"},{"$f":"AccVelDataLink!G504","v":1},"先頭","○"]
[502,1,500,{"$f":"AccVelDataLink!A505","v":502},501,-1,{"$f":"AccVelDataLink!F505","v":"RCS2-TA4R-10-6-垂直"},{"$f":"AccVelDataLink!G505","v":0.5},"○","終端"]
[503,0,5000,{"$f":"AccVelDataLink!A506","v":503},-1,504,{"$f":"AccVelDataLink!F506","v":"RCA2-TA5R-20-2.5-水平"},{"$f":"AccVelDataLink!G506","v":5},"先頭","○"]
[504,1,3000,{"$f":"AccVelDataLink!A507","v":504},503,-1,{"$f":"AccVelDataLink!F507","v":"RCA2-TA5R-20-2.5-垂直"},{"$f":"AccVelDataLink!G507","v":3},"○","終端"]
[505,0,3500,{"$f":"AccVelDataLink!A508","v":505},-1,506,{"$f":"AccVelDataLink!F508","v":"RCA2-TA5R-20-5-水平"},{"$f":"AccVelDataLink!G508","v":3.5},"先頭","○"]
[506,1,2000,{"$f":"AccVelDataLink!A509","v":506},505,-1,{"$f":"AccVelDataLink!F509","v":"RCA2-TA5R-20-5-垂直"},{"$f":"AccVelDataLink!G509","v":2},"○","終端"]
[507,0,2000,{"$f":"AccVelDataLink!A510","v":507},-1,508,{"$f":"AccVelDataLink!F510","v":"RCA2-TA5R-20-10-水平"},{"$f":"AccVelDataLink!G510","v":2},"先頭","○"]
[508,1,1000,{"$f":"AccVelDataLink!A511","v":508},507,-1,{"$f":"AccVelDataLink!F511","v":"RCA2-TA5R-20-10-垂直"},{"$f":"AccVelDataLink!G511","v":1},"○","終端"]
[509,0,6000,{"$f":"AccVelDataLink!A512","v":509},-1,510,{"$f":"AccVelDataLink!F512","v":"RCA2-TA6R-20-3-水平"},{"$f":"AccVelDataLink!G512","v":6},"先頭","○"]
[510,1,3000,{"$f":"AccVelDataLink!A513","v":510},509,-1,{"$f":"AccVelDataLink!F513","v":"RCA2-TA6R-20-3-垂直"},{"$f":"AccVelDataLink!G513","v":3},"○","終端"]
[511,0,4000,{"$f":"AccVelDataLink!A514","v":511},-1,512,{"$f":"AccVelDataLink!F514","v":"RCA2-TA6R-20-6-水平"},{"$f":"AccVelDataLink!G514","v":4},"先頭","○"]
[512,1,1500,{"$f":"AccVelDataLink!A515","v":512},511,-1,{"$f":"AccVelDataLink!F515","v":"RCA2-TA6R-20-6-垂直"},{"$f":"AccVelDataLink!G515","v":1.5},"○","終端"]
[{"$f":"A515+1","v":513},0,2000,{"$f":"AccVelDataLink!A516","v":513},-1,514,{"$f":"AccVelDataLink!F516","v":"RCA2-TA6R-20-12-水平"},{"$f":"AccVelDataLink!G516","v":2},{"$f":"IF(E516=A515,\"○\",IF(G516=0,\"つなぎまちがい\",\"先頭\"))","v":"先頭"},{"$f":"IF(F516=A517,\"○\",IF(F516<>E517,\"つなぎまちがい\",\"終端\"))","v":"○"}]
[514,1,500,{"$f":"AccVelDataLink!A517","v":514},513,-1,{"$f":"AccVelDataLink!F517","v":"RCA2-TA6R-20-12-垂直"},{"$f":"AccVelDataLink!G517","v":0.5},"○","終端"]
[515,0,8000,{"$f":"AccVelDataLink!A518","v":515},-1,516,{"$f":"AccVelDataLink!F518","v":"RCA2-TA7R-30-3-水平"},{"$f":"AccVelDataLink!G518","v":8},"先頭","○"]
[516,1,4000,{"$f":"AccVelDataLink!A519","v":516},515,-1,{"$f":"AccVelDataLink!F519","v":"RCA2-TA7R-30-3-垂直"},{"$f":"AccVelDataLink!G519","v":4},"○","終端"]
[517,0,{"$f":"H520*$H$1","v":6000},{"$f":"AccVelDataLink!A520","v":517},-1,{"$f":"A521","v":518},{"$f":"AccVelDataLink!F520","v":"RCA2-TA7R-30-6-水平"},{"$f":"AccVelDataLink!G520","v":6},"先頭","○"]
[518,1,2500,{"$f":"AccVelDataLink!A521","v":518},{"$f":"A520","v":517},-1,{"$f":"AccVelDataLink!F521","v":"RCA2-TA7R-30-6-垂直"},{"$f":"AccVelDataLink!G521","v":2.5},"○","終端"]
[519,0,4000,{"$f":"AccVelDataLink!A522","v":519},-1,520,{"$f":"AccVelDataLink!F522","v":"RCA2-TA7R-30-12-水平"},{"$f":"AccVelDataLink!G522","v":4},"先頭","○"]
[520,1,1000,{"$f":"AccVelDataLink!A523","v":520},519,-1,{"$f":"AccVelDataLink!F523","v":"RCA2-TA7R-30-12-垂直"},{"$f":"AccVelDataLink!G523","v":1},"○","終端"]
[521,1,4500,{"$f":"AccVelDataLink!A524","v":521},-1,-1,{"$f":"AccVelDataLink!F524","v":"RCA-A4R-20-5-垂直"},{"$f":"AccVelDataLink!G524","v":4.5},"先頭","終端"]
[522,1,2500,{"$f":"AccVelDataLink!A525","v":522},-1,-1,{"$f":"AccVelDataLink!F525","v":"RCA-A4R-20-10-垂直"},{"$f":"AccVelDataLink!G525","v":2.5},"先頭","終端"]
[523,1,4000,{"$f":"AccVelDataLink!A526","v":523},-1,-1,{"$f":"AccVelDataLink!F526","v":"RCA-A5R-20-6-垂直"},{"$f":"AccVelDataLink!G526","v":4},"先頭","終端"]
[524,1,2000,{"$f":"AccVelDataLink!A527","v":524},-1,-1,{"$f":"AccVelDataLink!F527","v":"RCA-A5R-20-12-垂直"},{"$f":"AccVelDataLink!G527","v":2},"先頭","終端"]
[525,1,6000,{"$f":"AccVelDataLink!A528","v":525},-1,-1,{"$f":"AccVelDataLink!F528","v":"RCA-A6R-30-6-垂直"},{"$f":"AccVelDataLink!G528","v":6},"先頭","終端"]
[526,1,3000,{"$f":"AccVelDataLink!A529","v":526},-1,-1,{"$f":"AccVelDataLink!F529","v":"RCA-A6R-30-12-垂直"},{"$f":"AccVelDataLink!G529","v":3},"先頭","終端"]
[527,0,150,{"$f":"AccVelDataLink!A530","v":527},-1,528,{"$f":"AccVelDataLink!F530","v":"RCL-SA1L-水平"},{"$f":"AccVelDataLink!G530","v":0.15},"先頭","○"]
[528,0,180,{"$f":"AccVelDataLink!A531","v":528},527,529,{"$f":"AccVelDataLink!F531","v":"RCL-SA1L-水平"},{"$f":"AccVelDataLink!G531","v":0.18},"○","○"]
[529,0,250,{"$f":"AccVelDataLink!A532","v":529},528,530,{"$f":"AccVelDataLink!F532","v":"RCL-SA1L-水平"},{"$f":"AccVelDataLink!G532","v":0.25},"○","○"]
[530,0,420,{"$f":"AccVelDataLink!A533","v":530},529,531,{"$f":"AccVelDataLink!F533","v":"RCL-SA1L-水平"},{"$f":"AccVelDataLink!G533","v":0.42},"○","○"]
[531,0,500,{"$f":"AccVelDataLink!A534","v":531},530,-1,{"$f":"AccVelDataLink!F534","v":"RCL-SA1L-水平"},{"$f":"AccVelDataLink!G534","v":0.5},"○","終端"]
[532,0,300,{"$f":"AccVelDataLink!A535","v":532},-1,533,{"$f":"AccVelDataLink!F535","v":"RCL-SA2L-水平"},{"$f":"AccVelDataLink!G535","v":0.3},"先頭","○"]
[533,0,360,{"$f":"AccVelDataLink!A536","v":533},532,534,{"$f":"AccVelDataLink!F536","v":"RCL-SA2L-水平"},{"$f":"AccVelDataLink!G536","v":0.36},"○","○"]
[534,0,500,{"$f":"AccVelDataLink!A537","v":534},533,535,{"$f":"AccVelDataLink!F537","v":"RCL-SA2L-水平"},{"$f":"AccVelDataLink!G537","v":0.5},"○","○"]
[535,0,850,{"$f":"AccVelDataLink!A538","v":535},534,536,{"$f":"AccVelDataLink!F538","v":"RCL-SA2L-水平"},{"$f":"AccVelDataLink!G538","v":0.85},"○","○"]
[536,0,1000,{"$f":"AccVelDataLink!A539","v":536},535,-1,{"$f":"AccVelDataLink!F539","v":"RCL-SA2L-水平"},{"$f":"AccVelDataLink!G539","v":1},"○","終端"]
[537,0,500,{"$f":"AccVelDataLink!A540","v":537},-1,538,{"$f":"AccVelDataLink!F540","v":"RCL-SA3L-水平"},{"$f":"AccVelDataLink!G540","v":0.5},"先頭","○"]
[538,0,650,{"$f":"AccVelDataLink!A541","v":538},537,539,{"$f":"AccVelDataLink!F541","v":"RCL-SA3L-水平"},{"$f":"AccVelDataLink!G541","v":0.65},"○","○"]
[539,0,1000,{"$f":"AccVelDataLink!A542","v":539},538,540,{"$f":"AccVelDataLink!F542","v":"RCL-SA3L-水平"},{"$f":"AccVelDataLink!G542","v":1},"○","○"]
[540,0,1800,{"$f":"AccVelDataLink!A543","v":540},539,541,{"$f":"AccVelDataLink!F543","v":"RCL-SA3L-水平"},{"$f":"AccVelDataLink!G543","v":1.8},"○","○"]
[541,0,2000,{"$f":"AccVelDataLink!A544","v":541},540,-1,{"$f":"AccVelDataLink!F544","v":"RCL-SA3L-水平"},{"$f":"AccVelDataLink!G544","v":2},"○","終端"]
[542,0,140,{"$f":"AccVelDataLink!A545","v":542},-1,543,{"$f":"AccVelDataLink!F545","v":"RCL-SA4L-水平"},{"$f":"AccVelDataLink!G545","v":0.14000000000000001},"先頭","○"]
[543,0,180,{"$f":"AccVelDataLink!A546","v":543},542,544,{"$f":"AccVelDataLink!F546","v":"RCL-SA4L-水平"},{"$f":"AccVelDataLink!G546","v":0.18},"○","○"]
[544,0,250,{"$f":"AccVelDataLink!A547","v":544},543,545,{"$f":"AccVelDataLink!F547","v":"RCL-SA4L-水平"},{"$f":"AccVelDataLink!G547","v":0.25},"○","○"]
[545,0,500,{"$f":"AccVelDataLink!A548","v":545},544,546,{"$f":"AccVelDataLink!F548","v":"RCL-SA4L-水平"},{"$f":"AccVelDataLink!G548","v":0.5},"○","○"]
[546,0,800,{"$f":"AccVelDataLink!A549","v":546},545,-1,{"$f":"AccVelDataLink!F549","v":"RCL-SA4L-水平"},{"$f":"AccVelDataLink!G549","v":0.8},"○","終端"]
[547,0,140,{"$f":"AccVelDataLink!A550","v":547},-1,548,{"$f":"AccVelDataLink!F550","v":"RCL-SM4L-水平"},{"$f":"AccVelDataLink!G550","v":0.14000000000000001},"先頭","○"]
[548,0,180,{"$f":"AccVelDataLink!A551","v":548},547,549,{"$f":"AccVelDataLink!F551","v":"RCL-SM4L-水平"},{"$f":"AccVelDataLink!G551","v":0.18},"○","○"]
[549,0,250,{"$f":"AccVelDataLink!A552","v":549},548,550,{"$f":"AccVelDataLink!F552","v":"RCL-SM4L-水平"},{"$f":"AccVelDataLink!G552","v":0.25},"○","○"]
[550,0,500,{"$f":"AccVelDataLink!A553","v":550},549,551,{"$f":"AccVelDataLink!F553","v":"RCL-SM4L-水平"},{"$f":"AccVelDataLink!G553","v":0.5},"○","○"]
[551,0,800,{"$f":"AccVelDataLink!A554","v":551},550,-1,{"$f":"AccVelDataLink!F554","v":"RCL-SM4L-水平"},{"$f":"AccVelDataLink!G554","v":0.8},"○","終端"]
[552,0,250,{"$f":"AccVelDataLink!A555","v":552},-1,553,{"$f":"AccVelDataLink!F555","v":"RCL-SA5L-水平"},{"$f":"AccVelDataLink!G555","v":0.25},"先頭","○"]
[553,0,350,{"$f":"AccVelDataLink!A556","v":553},552,554,{"$f":"AccVelDataLink!F556","v":"RCL-SA5L-水平"},{"$f":"AccVelDataLink!G556","v":0.35},"○","○"]
[554,0,500,{"$f":"AccVelDataLink!A557","v":554},553,555,{"$f":"AccVelDataLink!F557","v":"RCL-SA5L-水平"},{"$f":"AccVelDataLink!G557","v":0.5},"○","○"]
[555,0,1000,{"$f":"AccVelDataLink!A558","v":555},554,556,{"$f":"AccVelDataLink!F558","v":"RCL-SA5L-水平"},{"$f":"AccVelDataLink!G558","v":1},"○","○"]
[556,0,1600,{"$f":"AccVelDataLink!A559","v":556},555,-1,{"$f":"AccVelDataLink!F559","v":"RCL-SA5L-水平"},{"$f":"AccVelDataLink!G559","v":1.6},"○","終端"]
[557,0,250,{"$f":"AccVelDataLink!A560","v":557},-1,558,{"$f":"AccVelDataLink!F560","v":"RCL-SM5L-水平"},{"$f":"AccVelDataLink!G560","v":0.25},"先頭","○"]
[558,0,350,{"$f":"AccVelDataLink!A561","v":558},557,559,{"$f":"AccVelDataLink!F561","v":"RCL-SM5L-水平"},{"$f":"AccVelDataLink!G561","v":0.35},"○","○"]
[559,0,500,{"$f":"AccVelDataLink!A562","v":559},558,560,{"$f":"AccVelDataLink!F562","v":"RCL-SM5L-水平"},{"$f":"AccVelDataLink!G562","v":0.5},"○","○"]
[560,0,1000,{"$f":"AccVelDataLink!A563","v":560},559,561,{"$f":"AccVelDataLink!F563","v":"RCL-SM5L-水平"},{"$f":"AccVelDataLink!G563","v":1},"○","○"]
[561,0,1600,{"$f":"AccVelDataLink!A564","v":561},560,-1,{"$f":"AccVelDataLink!F564","v":"RCL-SM5L-水平"},{"$f":"AccVelDataLink!G564","v":1.6},"○","終端"]
[562,0,500,{"$f":"AccVelDataLink!A565","v":562},-1,563,{"$f":"AccVelDataLink!F565","v":"RCL-SA6L-水平"},{"$f":"AccVelDataLink!G565","v":0.5},"先頭","○"]
[563,0,650,{"$f":"AccVelDataLink!A566","v":563},562,564,{"$f":"AccVelDataLink!F566","v":"RCL-SA6L-水平"},{"$f":"AccVelDataLink!G566","v":0.65},"○","○"]
[564,0,1000,{"$f":"AccVelDataLink!A567","v":564},563,565,{"$f":"AccVelDataLink!F567","v":"RCL-SA6L-水平"},{"$f":"AccVelDataLink!G567","v":1},"○","○"]
[565,0,2000,{"$f":"AccVelDataLink!A568","v":565},564,566,{"$f":"AccVelDataLink!F568","v":"RCL-SA6L-水平"},{"$f":"AccVelDataLink!G568","v":2},"○","○"]
[566,0,3200,{"$f":"AccVelDataLink!A569","v":566},565,-1,{"$f":"AccVelDataLink!F569","v":"RCL-SA6L-水平"},{"$f":"AccVelDataLink!G569","v":3.2},"○","終端"]
[567,0,500,{"$f":"AccVelDataLink!A570","v":567},-1,568,{"$f":"AccVelDataLink!F570","v":"RCL-SM6L-水平"},{"$f":"AccVelDataLink!G570","v":0.5},"先頭","○"]
[568,0,650,{"$f":"AccVelDataLink!A571","v":568},567,569,{"$f":"AccVelDataLink!F571","v":"RCL-SM6L-水平"},{"$f":"AccVelDataLink!G571","v":0.65},"○","○"]
[569,0,1000,{"$f":"AccVelDataLink!A572","v":569},568,570,{"$f":"AccVelDataLink!F572","v":"RCL-SM6L-水平"},{"$f":"AccVelDataLink!G572","v":1},"○","○"]
[570,0,2000,{"$f":"AccVelDataLink!A573","v":570},569,571,{"$f":"AccVelDataLink!F573","v":"RCL-SM6L-水平"},{"$f":"AccVelDataLink!G573","v":2},"○","○"]
[571,0,3200,{"$f":"AccVelDataLink!A574","v":571},570,-1,{"$f":"AccVelDataLink!F574","v":"RCL-SM6L-水平"},{"$f":"AccVelDataLink!G574","v":3.2},"○","終端"]
[572,0,70,{"$f":"AccVelDataLink!A575","v":572},-1,573,{"$f":"AccVelDataLink!F575","v":"RCL-RA1L-水平"},{"$f":"AccVelDataLink!G575","v":7.0000000000000007E-2},"先頭","○"]
[573,0,110,{"$f":"AccVelDataLink!A576","v":573},572,574,{"$f":"AccVelDataLink!F576","v":"RCL-RA1L-水平"},{"$f":"AccVelDataLink!G576","v":0.11},"○","○"]
[574,0,200,{"$f":"AccVelDataLink!A577","v":574},573,575,{"$f":"AccVelDataLink!F577","v":"RCL-RA1L-水平"},{"$f":"AccVelDataLink!G577","v":0.2},"○","○"]
[575,0,420,{"$f":"AccVelDataLink!A578","v":575},574,576,{"$f":"AccVelDataLink!F578","v":"RCL-RA1L-水平"},{"$f":"AccVelDataLink!G578","v":0.42},"○","○"]
[576,0,500,{"$f":"AccVelDataLink!A579","v":576},575,577,{"$f":"AccVelDataLink!F579","v":"RCL-RA1L-水平"},{"$f":"AccVelDataLink!G579","v":0.5},"○","○"]
[{"$f":"A579+1","v":577},1,100,{"$f":"AccVelDataLink!A580","v":577},576,-1,{"$f":"AccVelDataLink!F580","v":"RCL-RA1L-垂直"},{"$f":"AccVelDataLink!G580","v":0.1},{"$f":"IF(E580=A579,\"○\",IF(G580=0,\"つなぎまちがい\",\"先頭\"))","v":"○"},{"$f":"IF(F580=A581,\"○\",IF(F580<>E581,\"つなぎまちがい\",\"終端\"))","v":"終端"}]
[578,0,150,{"$f":"AccVelDataLink!A581","v":578},-1,579,{"$f":"AccVelDataLink!F581","v":"RCL-RA2L-水平"},{"$f":"AccVelDataLink!G581","v":0.15},"先頭","○"]
[579,0,240,{"$f":"AccVelDataLink!A582","v":579},578,580,{"$f":"AccVelDataLink!F582","v":"RCL-RA2L-水平"},{"$f":"AccVelDataLink!G582","v":0.24},"○","○"]
[580,0,400,{"$f":"AccVelDataLink!A583","v":580},579,581,{"$f":"AccVelDataLink!F583","v":"RCL-RA2L-水平"},{"$f":"AccVelDataLink!G583","v":0.4},"○","○"]
[581,0,{"$f":"H584*$H$1","v":850},{"$f":"AccVelDataLink!A584","v":581},580,{"$f":"A585","v":582},{"$f":"AccVelDataLink!F584","v":"RCL-RA2L-水平"},{"$f":"AccVelDataLink!G584","v":0.85},"○","○"]
[582,0,1000,{"$f":"AccVelDataLink!A585","v":582},{"$f":"A584","v":581},583,{"$f":"AccVelDataLink!F585","v":"RCL-RA2L-水平"},{"$f":"AccVelDataLink!G585","v":1},"○","○"]
[583,1,200,{"$f":"AccVelDataLink!A586","v":583},582,-1,{"$f":"AccVelDataLink!F586","v":"RCL-RA2L-垂直"},{"$f":"AccVelDataLink!G586","v":0.2},"○","終端"]
[584,0,300,{"$f":"AccVelDataLink!A587","v":584},-1,585,{"$f":"AccVelDataLink!F587","v":"RCL-RA3L-水平"},{"$f":"AccVelDataLink!G587","v":0.3},"先頭","○"]
[585,0,460,{"$f":"AccVelDataLink!A588","v":585},584,586,{"$f":"AccVelDataLink!F588","v":"RCL-RA3L-水平"},{"$f":"AccVelDataLink!G588","v":0.46},"○","○"]
[586,0,780,{"$f":"AccVelDataLink!A589","v":586},585,587,{"$f":"AccVelDataLink!F589","v":"RCL-RA3L-水平"},{"$f":"AccVelDataLink!G589","v":0.78},"○","○"]
[587,0,1600,{"$f":"AccVelDataLink!A590","v":587},586,588,{"$f":"AccVelDataLink!F590","v":"RCL-RA3L-水平"},{"$f":"AccVelDataLink!G590","v":1.6},"○","○"]
[588,0,2000,{"$f":"AccVelDataLink!A591","v":588},587,589,{"$f":"AccVelDataLink!F591","v":"RCL-RA3L-水平"},{"$f":"AccVelDataLink!G591","v":2},"○","○"]
[589,1,400,{"$f":"AccVelDataLink!A592","v":589},588,-1,{"$f":"AccVelDataLink!F592","v":"RCL-RA3L-垂直"},{"$f":"AccVelDataLink!G592","v":0.4},"○","終端"]
[590,0,2000,{"$f":"AccVelDataLink!A593","v":590},-1,591,{"$f":"AccVelDataLink!F593","v":"RCS2-SA2AC-1-水平"},{"$f":"AccVelDataLink!G593","v":2},"先頭","○"]
[591,1,1000,{"$f":"AccVelDataLink!A594","v":591},590,-1,{"$f":"AccVelDataLink!F594","v":"RCS2-SA2AC-1-垂直"},{"$f":"AccVelDataLink!G594","v":1},"○","終端"]
[592,0,1000,{"$f":"AccVelDataLink!A595","v":592},-1,593,{"$f":"AccVelDataLink!F595","v":"RCS2-SA2AC-2-水平"},{"$f":"AccVelDataLink!G595","v":1},"先頭","○"]
[593,1,500,{"$f":"AccVelDataLink!A596","v":593},592,-1,{"$f":"AccVelDataLink!F596","v":"RCS2-SA2AC-2-垂直"},{"$f":"AccVelDataLink!G596","v":0.5},"○","終端"]
[594,0,500,{"$f":"AccVelDataLink!A597","v":594},-1,595,{"$f":"AccVelDataLink!F597","v":"RCS2-SA2AC-4-水平"},{"$f":"AccVelDataLink!G597","v":0.5},"先頭","○"]
[595,1,250,{"$f":"AccVelDataLink!A598","v":595},594,-1,{"$f":"AccVelDataLink!F598","v":"RCS2-SA2AC-4-垂直"},{"$f":"AccVelDataLink!G598","v":0.25},"○","終端"]
[596,0,2000,{"$f":"AccVelDataLink!A599","v":596},-1,597,{"$f":"AccVelDataLink!F599","v":"RCS2-SA2AR-1-水平"},{"$f":"AccVelDataLink!G599","v":2},"先頭","○"]
[597,1,1000,{"$f":"AccVelDataLink!A600","v":597},596,-1,{"$f":"AccVelDataLink!F600","v":"RCS2-SA2AR-1-垂直"},{"$f":"AccVelDataLink!G600","v":1},"○","終端"]
[598,0,1000,{"$f":"AccVelDataLink!A601","v":598},-1,599,{"$f":"AccVelDataLink!F601","v":"RCS2-SA2AR-2-水平"},{"$f":"AccVelDataLink!G601","v":1},"先頭","○"]
[599,1,500,{"$f":"AccVelDataLink!A602","v":599},598,-1,{"$f":"AccVelDataLink!F602","v":"RCS2-SA2AR-2-垂直"},{"$f":"AccVelDataLink!G602","v":0.5},"○","終端"]
[600,0,500,{"$f":"AccVelDataLink!A603","v":600},-1,601,{"$f":"AccVelDataLink!F603","v":"RCS2-SA2AR-4-水平"},{"$f":"AccVelDataLink!G603","v":0.5},"先頭","○"]
[601,1,250,{"$f":"AccVelDataLink!A604","v":601},600,-1,{"$f":"AccVelDataLink!F604","v":"RCS2-SA2AR-4-垂直"},{"$f":"AccVelDataLink!G604","v":0.25},"○","終端"]
[602,0,2000,{"$f":"AccVelDataLink!A605","v":602},-1,603,{"$f":"AccVelDataLink!F605","v":"RCS2-RA2AC-1-水平"},{"$f":"AccVelDataLink!G605","v":2},"先頭","○"]
[603,1,1000,{"$f":"AccVelDataLink!A606","v":603},602,-1,{"$f":"AccVelDataLink!F606","v":"RCS2-RA2AC-1-垂直"},{"$f":"AccVelDataLink!G606","v":1},"○","終端"]
[604,0,1000,{"$f":"AccVelDataLink!A607","v":604},-1,605,{"$f":"AccVelDataLink!F607","v":"RCS2-RA2AC-2-水平"},{"$f":"AccVelDataLink!G607","v":1},"先頭","○"]
[605,1,500,{"$f":"AccVelDataLink!A608","v":605},604,-1,{"$f":"AccVelDataLink!F608","v":"RCS2-RA2AC-2-垂直"},{"$f":"AccVelDataLink!G608","v":0.5},"○","終端"]
[606,0,500,{"$f":"AccVelDataLink!A609","v":606},-1,607,{"$f":"AccVelDataLink!F609","v":"RCS2-RA2AC-4-水平"},{"$f":"AccVelDataLink!G609","v":0.5},"先頭","○"]
[607,1,250,{"$f":"AccVelDataLink!A610","v":607},606,-1,{"$f":"AccVelDataLink!F610","v":"RCS2-RA2AC-4-垂直"},{"$f":"AccVelDataLink!G610","v":0.25},"○","終端"]
[608,0,2000,{"$f":"AccVelDataLink!A611","v":608},-1,609,{"$f":"AccVelDataLink!F611","v":"RCS2-RA2AR-1-水平"},{"$f":"AccVelDataLink!G611","v":2},"先頭","○"]
[609,1,1000,{"$f":"AccVelDataLink!A612","v":609},608,-1,{"$f":"AccVelDataLink!F612","v":"RCS2-RA2AR-1-垂直"},{"$f":"AccVelDataLink!G612","v":1},"○","終端"]
[610,0,1000,{"$f":"AccVelDataLink!A613","v":610},-1,611,{"$f":"AccVelDataLink!F613","v":"RCS2-RA2AR-2-水平"},{"$f":"AccVelDataLink!G613","v":1},"先頭","○"]
[611,1,500,{"$f":"AccVelDataLink!A614","v":611},610,-1,{"$f":"AccVelDataLink!F614","v":"RCS2-RA2AR-2-垂直"},{"$f":"AccVelDataLink!G614","v":0.5},"○","終端"]
[612,0,500,{"$f":"AccVelDataLink!A615","v":612},-1,613,{"$f":"AccVelDataLink!F615","v":"RCS2-RA2AR-4-水平"},{"$f":"AccVelDataLink!G615","v":0.5},{"$f":"IF(E615=A614,\"○\",IF(G615=0,\"つなぎまちがい\",\"先頭\"))","v":"先頭"},{"$f":"IF(F615=A616,\"○\",IF(F615<>E616,\"つなぎまちがい\",\"終端\"))","v":"○"}]
[613,1,250,{"$f":"AccVelDataLink!A616","v":613},612,-1,{"$f":"AccVelDataLink!F616","v":"RCS2-RA2AR-4-垂直"},{"$f":"AccVelDataLink!G616","v":0.25},{"$f":"IF(E616=A615,\"○\",IF(G616=0,\"つなぎまちがい\",\"先頭\"))","v":"○"},{"$f":"IF(F616=A617,\"○\",IF(F616<>E617,\"つなぎまちがい\",\"終端\"))","v":"終端"}]
[614,0,{"$f":"H617*$H$1","v":700},{"$f":"AccVelDataLink!A617","v":614},-1,{"$f":"A618","v":615},{"$f":"AccVelDataLink!F617","v":"RCD-RA1D-2-水平"},{"$f":"AccVelDataLink!G617","v":0.7},{"$f":"IF(E617=A616,\"○\",IF(G617=0,\"つなぎまちがい\",\"先頭\"))","v":"先頭"},{"$f":"IF(F617=A618,\"○\",IF(F617<>E618,\"つなぎまちがい\",\"終端\"))","v":"○"}]
[615,1,{"$f":"H618*$H$1","v":300},{"$f":"AccVelDataLink!A618","v":615},{"$f":"A617","v":614},-1,{"$f":"AccVelDataLink!F618","v":"RCD-RA1D-2-垂直"},{"$f":"AccVelDataLink!G618","v":0.3},{"$f":"IF(E618=A617,\"○\",IF(G618=0,\"つなぎまちがい\",\"先頭\"))","v":"○"},{"$f":"IF(F618=A619,\"○\",IF(F618<>E619,\"つなぎまちがい\",\"終端\"))","v":"つなぎまちがい"}]

{"sheet":"AccVelDataLink","index":6,"n_rows":618,"n_cols":11,"rows_kept":618,"cut":false,"hidden":true,"merged":[]}
[{"$f":"LeadData!A1","v":9.8066499999999994},1,2,3,4]
["ﾃﾞｰﾀ№","水平定格加速度","最高速度","前ﾃﾞｰﾀ№","次ﾃﾞｰﾀ№","備考"]
[{"$f":"ModelData!A3","v":0},"0.001mm/s^2","㎜/s","ﾚｺｰﾄﾞ№","ﾚｺｰﾄﾞ№","型式-姿勢","kg","G","mm/s","前№ﾁｪｯｸ","後№ﾁｪｯｸ"]
[{"$f":"A3+1","v":1},{"$f":"H4*$A$1*1000*1000","v":1961330},{"$f":"I4","v":100},-1,-1,"RCS2-SA3C-10-2-水平",3,0.2,100,{"$f":"IF(G4=0,IF(D4<>A3,\"ﾘﾝｸ不正\",\"○\"),\"○\")","v":"○"},{"$f":"IF(D5<>-1,IF(E4<>A5,\"ﾘﾝｸ不正\",\"○\"),\"○\")","v":"○"}]
[2,1961330,100,-1,-1,"RCS2-SA3C-10-2-垂直",1.5,0.2,100,"○","○"]
[3,2941995,200,-1,-1,"RCS2-SA3C-10-4-水平",2,0.3,200,"○","○"]
[4,1961330,200,-1,-1,"RCS2-SA3C-10-4-垂直",1,0.2,200,"○","○"]
[5,2941995,300,-1,-1,"RCS2-SA3C-10-6-水平",1,0.3,300,"○","○"]
[6,1961330,300,-1,-1,"RCS2-SA3C-10-6-垂直",0.5,0.2,300,"○","○"]
[7,1961330,125,-1,-1,"RCA2-SA4C-20-2.5-水平",6,0.2,125,"○","○"]
[8,1961330,125,-1,-1,"RCA2-SA4C-20-2.5-垂直",3,0.2,125,"○","○"]
[9,2941995,250,-1,-1,"RCA2-SA4C-20-5-水平",4,0.3,250,"○","○"]
[10,1961330,250,-1,-1,"RCA2-SA4C-20-5-垂直",1.5,0.2,250,"○","○"]
[11,2941995,500,-1,-1,"RCA2-SA4C-20-10-水平",2,0.3,500,"○","○"]
[12,1961330,500,-1,-1,"RCA2-SA4C-20-10-垂直",1,0.2,500,"○","○"]
[13,1961330,150,-1,-1,"RCA2-SA5C-20-3-水平",9,0.2,150,"○","○"]
[14,1961330,150,-1,-1,"RCA2-SA5C-20-3-垂直",3,0.2,150,"○","○"]
[15,2941995,300,-1,-1,"RCA2-SA5C-20-6-水平",6,0.3,300,"○","○"]
[16,1961330,300,-1,-1,"RCA2-SA5C-20-6-垂直",1.5,0.2,300,"○","○"]
[17,2941995,600,-1,-1,"RCA2-SA5C-20-12-水平",3,0.3,600,"○","○"]
[18,1961330,600,-1,-1,"RCA2-SA5C-20-12-垂直",1,0.2,600,"○","○"]
[19,1961330,150,-1,-1,"RCA2-SA6C-30-3-水平",10,0.2,150,"○","○"]
[20,1961330,150,-1,-1,"RCA2-SA6C-30-3-垂直",4,0.2,150,"○","○"]
[21,2941995,300,-1,-1,"RCA2-SA6C-30-6-水平",7,0.3,300,"○","○"]
[22,1961330,300,-1,-1,"RCA2-SA6C-30-6-垂直",2,0.2,300,"○","○"]
[23,2941995,600,-1,-1,"RCA2-SA6C-30-12-水平",4,0.3,600,"○","○"]
[24,1961330,600,-1,-1,"RCA2-SA6C-30-12-垂直",1.5,0.2,600,"○","○"]
[25,1961330,100,-1,-1,"RCS2-SA3R-10-2-水平",3,0.2,100,"○","○"]
[26,1961330,100,-1,-1,"RCS2-SA3R-10-2-垂直",1.5,0.2,100,"○","○"]
[27,2941995,200,-1,-1,"RCS2-SA3R-10-4-水平",2,0.3,200,"○","○"]
[28,1961330,200,-1,-1,"RCS2-SA3R-10-4-垂直",1,0.2,200,"○","○"]
[29,2941995,300,-1,-1,"RCS2-SA3R-10-6-水平",1,0.3,300,"○","○"]
[30,1961330,300,-1,-1,"RCS2-SA3R-10-6-垂直",0.5,0.2,300,"○","○"]
[31,1961330,125,-1,-1,"RCA2-SA4R-20-2.5-水平",6,0.2,125,"○","○"]
[32,1961330,125,-1,-1,"RCA2-SA4R-20-2.5-垂直",3,0.2,125,"○","○"]
[33,2941995,250,-1,-1,"RCA2-SA4R-20-5-水平",4,0.3,250,"○","○"]
[34,1961330,250,-1,-1,"RCA2-SA4R-20-5-垂直",1.5,0.2,250,"○","○"]
[35,2941995,500,-1,-1,"RCA2-SA4R-20-10-水平",2,0.3,500,"○","○"]
[36,1961330,500,-1,-1,"RCA2-SA4R-20-10-垂直",1,0.2,500,"○","○"]
[37,1961330,150,-1,-1,"RCA2-SA5R-20-3-水平",9,0.2,150,"○","○"]
[38,1961330,150,-1,-1,"RCA2-SA5R-20-3-垂直",3,0.2,150,"○","○"]
[39,2941995,300,-1,-1,"RCA2-SA5R-20-6-水平",6,0.3,300,"○","○"]
[40,1961330,300,-1,-1,"RCA2-SA5R-20-6-垂直",1.5,0.2,300,"○","○"]
[41,2941995,600,-1,-1,"RCA2-SA5R-20-12-水平",3,0.3,600,"○","○"]
[42,1961330,600,-1,-1,"RCA2-SA5R-20-12-垂直",1,0.2,600,"○","○"]
[43,1961330,150,-1,-1,"RCA2-SA6R-30-3-水平",10,0.2,150,"○","○"]
[44,1961330,150,-1,-1,"RCA2-SA6R-30-3-垂直",4,0.2,150,"○","○"]
[45,2941995,300,-1,-1,"RCA2-SA6R-30-6-水平",7,0.3,300,"○","○"]
[46,1961330,300,-1,-1,"RCA2-SA6R-30-6-垂直",2,0.2,300,"○","○"]
[47,2941995,600,-1,-1,"RCA2-SA6R-30-12-水平",4,0.3,600,"○","○"]
[48,1961330,600,-1,-1,"RCA2-SA6R-30-12-垂直",1.5,0.2,600,"○","○"]
[49,1961330,165,-1,-1,"RCA-SA4C-20-2.5-水平",8,0.2,165,"○","○"]
[50,1961330,165,-1,-1,"RCA-SA4C-20-2.5-垂直",4.5,0.2,165,"○","○"]
[51,2941995,330,-1,-1,"RCA-SA4C-20-5-水平",6,0.3,330,"○","○"]
[52,2941995,330,-1,-1,"RCA-SA4C-20-5-垂直",2.5,0.3,330,"○","○"]
[53,2941995,665,-1,-1,"RCA-SA4C-20-10-水平",4,0.3,665,"○","○"]
[54,2941995,665,-1,-1,"RCA-SA4C-20-10-垂直",1,0.3,665,"○","○"]
[55,1961330,200,-1,-1,"RCA-SA5C-20-3-水平",12,0.2,200,"○","○"]
[56,1961330,200,-1,-1,"RCA-SA5C-20-3-垂直",4,0.2,200,"○","○"]
[57,2941995,400,-1,-1,"RCA-SA5C-20-6-水平",8,0.3,400,"○","○"]
[58,2941995,400,-1,-1,"RCA-SA5C-20-6-垂直",2,0.3,400,"○","○"]
[59,2941995,800,-1,-1,"RCA-SA5C-20-12-水平",4,0.3,800,"○","○"]
[60,2941995,800,-1,-1,"RCA-SA5C-20-12-垂直",1,0.3,800,"○","○"]
[61,{"$f":"H64*$A$1*1000*1000","v":2941995},{"$f":"I64","v":1300},-1,-1,"RCA-SA5C-20-20-水平",2,0.3,1300,"○","○"]
[62,{"$f":"H65*$A$1*1000*1000","v":2941995},{"$f":"I65","v":800},-1,-1,"RCA-SA5C-20-20-垂直",0.5,0.3,800,"○","○"]
[63,1961330,200,-1,-1,"RCA-SA6C-30-3-水平",18,0.2,200,"○","○"]
[64,1961330,200,-1,-1,"RCA-SA6C-30-3-垂直",6,0.2,200,"○","○"]
[{"$f":"A67+1","v":65},2941995,400,-1,-1,"RCA-SA6C-30-6-水平",12,0.3,400,{"$f":"IF(G68=0,IF(D68<>A67,\"ﾘﾝｸ不正\",\"○\"),\"○\")","v":"○"},{"$f":"IF(D69<>-1,IF(E68<>A69,\"ﾘﾝｸ不正\",\"○\"),\"○\")","v":"○"}]
[66,2941995,400,-1,-1,"RCA-SA6C-30-6-垂直",3,0.3,400,"○","○"]
[67,{"$f":"H70*$A$1*1000*1000","v":2941995},{"$f":"I70","v":800},-1,-1,"RCA-SA6C-30-12-水平",6,0.3,800,"○","○"]
[68,2941995,800,-1,-1,"RCA-SA6C-30-12-垂直",1.5,0.3,800,"○","○"]
[69,{"$f":"H72*$A$1*1000*1000","v":2941995},{"$f":"I72","v":1300},-1,-1,"RCA-SA6C-30-20-水平",3,0.3,1300,"○","○"]
[70,{"$f":"H73*$A$1*1000*1000","v":2941995},{"$f":"I73","v":800},-1,-1,"RCA-SA6C-30-20-垂直",0.5,0.3,800,"○","○"]
[71,1961330,165,-1,-1,"RCA-SA4D-20-2.5-水平",8,0.2,165,"○","○"]
[72,1961330,165,-1,-1,"RCA-SA4D-20-2.5-垂直",4.5,0.2,165,"○","○"]
[73,2941995,330,-1,-1,"RCA-SA4D-20-5-水平",6,0.3,330,"○","○"]
[74,2941995,330,-1,-1,"RCA-SA4D-20-5-垂直",2.5,0.3,330,"○","○"]
[75,2941995,665,-1,-1,"RCA-SA4D-20-10-水平",4,0.3,665,"○","○"]
[76,2941995,665,-1,-1,"RCA-SA4D-20-10-垂直",1,0.3,665,"○","○"]
[77,1961330,200,-1,-1,"RCA-SA5D-20-3-水平",12,0.2,200,"○","○"]
[78,1961330,200,-1,-1,"RCA-SA5D-20-3-垂直",4,0.2,200,"○","○"]
[79,2941995,400,-1,-1,"RCA-SA5D-20-6-水平",8,0.3,400,"○","○"]
[80,2941995,400,-1,-1,"RCA-SA5D-20-6-垂直",2,0.3,400,"○","○"]
[81,2941995,800,-1,-1,"RCA-SA5D-20-12-水平",4,0.3,800,"○","○"]
[82,2941995,800,-1,-1,"RCA-SA5D-20-12-垂直",1,0.3,800,"○","○"]
[83,1961330,200,-1,-1,"RCA-SA6D-30-3-水平",18,0.2,200,"○","○"]
[84,1961330,200,-1,-1,"RCA-SA6D-30-3-垂直",6,0.2,200,"○","○"]
[85,2941995,400,-1,-1,"RCA-SA6D-30-6-水平",12,0.3,400,"○","○"]
[86,2941995,400,-1,-1,"RCA-SA6D-30-6-垂直",3,0.3,400,"○","○"]
[87,2941995,800,-1,-1,"RCA-SA6D-30-12-水平",6,0.3,800,"○","○"]
[88,2941995,800,-1,-1,"RCA-SA6D-30-12-垂直",1.5,0.3,800,"○","○"]
[89,1961330,165,-1,-1,"RCA-SS4D-20-2.5-水平",8,0.2,165,"○","○"]
[90,1961330,165,-1,-1,"RCA-SS4D-20-2.5-垂直",4.5,0.2,165,"○","○"]
[91,2941995,330,-1,-1,"RCA-SS4D-20-5-水平",6,0.3,330,"○","○"]
[92,2941995,330,-1,-1,"RCA-SS4D-20-5-垂直",2.5,0.3,330,"○","○"]
[93,2941995,665,-1,-1,"RCA-SS4D-20-10-水平",4,0.3,665,"○","○"]
[94,2941995,665,-1,-1,"RCA-SS4D-20-10-垂直",1,0.3,665,"○","○"]
[95,1961330,200,-1,-1,"RCA-SS5D-20-3-水平",12,0.2,200,"○","○"]
[96,1961330,200,-1,-1,"RCA-SS5D-20-3-垂直",4,0.2,200,"○","○"]
[97,2941995,400,-1,-1,"RCA-SS5D-20-6-水平",8,0.3,400,"○","○"]
[98,2941995,400,-1,-1,"RCA-SS5D-20-6-垂直",2,0.3,400,"○","○"]
[99,2941995,800,-1,-1,"RCA-SS5D-20-12-水平",4,0.3,800,"○","○"]
[100,2941995,800,-1,-1,"RCA-SS5D-20-12-垂直",1,0.3,800,"○","○"]
[101,1961330,200,-1,-1,"RCA-SS6D-30-3-水平",18,0.2,200,"○","○"]
[102,1961330,200,-1,-1,"RCA-SS6D-30-3-垂直",6,0.2,200,"○","○"]
[103,2941995,400,-1,-1,"RCA-SS6D-30-6-水平",12,0.3,400,"○","○"]
[104,2941995,400,-1,-1,"RCA-SS6D-30-6-垂直",3,0.3,400,"○","○"]
[105,2941995,800,-1,-1,"RCA-SS6D-30-12-水平",6,0.3,800,"○","○"]
[106,2941995,800,-1,-1,"RCA-SS6D-30-12-垂直",1.5,0.3,800,"○","○"]
[107,1961330,165,-1,-1,"RCA-SA4R-20-2.5-水平",8,0.2,165,"○","○"]
[108,1961330,165,-1,-1,"RCA-SA4R-20-2.5-垂直",4.5,0.2,165,"○","○"]
[109,2941995,330,-1,-1,"RCA-SA4R-20-5-水平",6,0.3,330,"○","○"]
[110,2941995,330,-1,-1,"RCA-SA4R-20-5-垂直",2.5,0.3,330,"○","○"]
[111,2941995,665,-1,-1,"RCA-SA4R-20-10-水平",4,0.3,665,"○","○"]
[112,2941995,665,-1,-1,"RCA-SA4R-20-10-垂直",1,0.3,665,"○","○"]
[113,1961330,200,-1,-1,"RCA-SA5R-20-3-水平",12,0.2,200,"○","○"]
[114,1961330,200,-1,-1,"RCA-SA5R-20-3-垂直",4,0.2,200,"○","○"]
[115,2941995,400,-1,-1,"RCA-SA5R-20-6-水平",8,0.3,400,"○","○"]
[116,2941995,400,-1,-1,"RCA-SA5R-20-6-垂直",2,0.3,400,"○","○"]
[117,2941995,800,-1,-1,"RCA-SA5R-20-12-水平",4,0.3,800,"○","○"]
[118,2941995,800,-1,-1,"RCA-SA5R-20-12-垂直",1,0.3,800,"○","○"]
[119,1961330,200,-1,-1,"RCA-SA6R-30-3-水平",18,0.2,200,"○","○"]
[120,1961330,200,-1,-1,"RCA-SA6R-30-3-垂直",6,0.2,200,"○","○"]
[121,2941995,400,-1,-1,"RCA-SA6R-30-6-水平",12,0.3,400,"○","○"]
[122,2941995,400,-1,-1,"RCA-SA6R-30-6-垂直",3,0.3,400,"○","○"]
[123,2941995,800,-1,-1,"RCA-SA6R-30-12-水平",6,0.3,800,"○","○"]
[124,2941995,800,-1,-1,"RCA-SA6R-30-12-垂直",1.5,0.3,800,"○","○"]
[125,1961330,50,-1,-1,"RCS2-RN3NA-10-1-水平",3,0.2,50,"○","○"]
[126,1961330,50,-1,-1,"RCS2-RN3NA-10-1-垂直",1,0.2,50,"○","○"]
[127,2941995,100,-1,-1,"RCS2-RN3NA-10-2-水平",1.5,0.3,100,"○","○"]
[128,1961330,100,-1,-1,"RCS2-RN3NA-10-2-垂直",0.5,0.2,100,"○","○"]
[{"$f":"A131+1","v":129},2941995,200,-1,-1,"RCS2-RN3NA-10-4-水平",0.75,0.3,200,{"$f":"IF(G132=0,IF(D132<>A131,\"ﾘﾝｸ不正\",\"○\"),\"○\")","v":"○"},{"$f":"IF(D133<>-1,IF(E132<>A133,\"ﾘﾝｸ不正\",\"○\"),\"○\")","v":"○"}]
[130,1961330,200,-1,-1,"RCS2-RN3NA-10-4-垂直",0.25,0.2,200,"○","○"]
[131,1961330,50,-1,-1,"RCS2-RN3NA-10-1S-水平",1,0.2,50,"○","○"]
[132,1961330,50,-1,-1,"RCS2-RN3NA-10-1S-垂直",0.5,0.2,50,"○","○"]
[133,{"$f":"H136*$A$1*1000*1000","v":1961330},{"$f":"I136","v":100},-1,-1,"RCS2-RN3NA-10-2S-水平",0.5,0.2,100,"○","○"]
[134,1961330,100,-1,-1,"RCS2-RN3NA-10-2S-垂直",0.25,0.2,100,"○","○"]
[135,1961330,200,-1,-1,"RCS2-RN3NA-10-4S-水平",0.25,0.2,200,"○","○"]
[136,1961330,200,-1,-1,"RCS2-RN3NA-10-4S-垂直",0.125,0.2,200,"○","○"]
[137,1961330,100,-1,-1,"RCS2-RN4NA-20-2-水平",6,0.2,100,"○","○"]
[138,1961330,100,-1,-1,"RCS2-RN4NA-20-2-垂直",1.5,0.2,100,"○","○"]
[139,2941995,200,-1,-1,"RCS2-RN4NA-20-4-水平",3,0.3,200,"○","○"]
[140,1961330,200,-1,-1,"RCS2-RN4NA-20-4-垂直",0.75,0.2,200,"○","○"]
[141,2941995,300,-1,-1,"RCS2-RN4NA-20-6-水平",2,0.3,300,"○","○"]
[142,1961330,300,-1,-1,"RCS2-RN4NA-20-6-垂直",0.5,0.2,300,"○","○"]
[143,1961330,100,-1,-1,"RCS2-RN4NA-20-2S-水平",1,0.2,100,"○","○"]
[144,1961330,100,-1,-1,"RCS2-RN4NA-20-2S-垂直",0.5,0.2,100,"○","○"]
[145,1961330,200,-1,-1,"RCS2-RN4NA-20-4S-水平",0.5,0.2,200,"○","○"]
[146,1961330,200,-1,-1,"RCS2-RN4NA-20-4S-垂直",0.25,0.2,200,"○","○"]
[147,1961330,300,-1,-1,"RCS2-RN4NA-20-6S-水平",0.25,0.2,300,"○","○"]
[148,1961330,300,-1,-1,"RCS2-RN4NA-20-6S-垂直",0.125,0.2,300,"○","○"]
[149,1961330,50,-1,-1,"RCS2-RP3NA-10-1-水平",3,0.2,50,"○","○"]
[150,1961330,50,-1,-1,"RCS2-RP3NA-10-1-垂直",1,0.2,50,"○","○"]
[151,2941995,100,-1,-1,"RCS2-RP3NA-10-2-水平",1.5,0.3,100,"○","○"]
[152,1961330,100,-1,-1,"RCS2-RP3NA-10-2-垂直",0.5,0.2,100,"○","○"]
[153,2941995,200,-1,-1,"RCS2-RP3NA-10-4-水平",0.75,0.3,200,"○","○"]
[154,1961330,200,-1,-1,"RCS2-RP3NA-10-4-垂直",0.25,0.2,200,"○","○"]
[155,1961330,50,-1,-1,"RCS2-RP3NA-10-1S-水平",1,0.2,50,"○","○"]
[156,1961330,50,-1,-1,"RCS2-RP3NA-10-1S-垂直",0.5,0.2,50,"○","○"]
[157,1961330,100,-1,-1,"RCS2-RP3NA-10-2S-水平",0.5,0.2,100,"○","○"]
[158,1961330,100,-1,-1,"RCS2-RP3NA-10-2S-垂直",0.25,0.2,100,"○","○"]
[159,1961330,200,-1,-1,"RCS2-RP3NA-10-4S-水平",0.25,0.2,200,"○","○"]
[160,1961330,200,-1,-1,"RCS2-RP3NA-10-4S-垂直",0.125,0.2,200,"○","○"]
[161,1961330,100,-1,-1,"RCS2-RP4NA-20-2-水平",6,0.2,100,"○","○"]
[162,1961330,100,-1,-1,"RCS2-RP4NA-20-2-垂直",1.5,0.2,100,"○","○"]
[163,2941995,200,-1,-1,"RCS2-RP4NA-20-4-水平",3,0.3,200,"○","○"]
[164,1961330,200,-1,-1,"RCS2-RP4NA-20-4-垂直",0.75,0.2,200,"○","○"]
[165,2941995,300,-1,-1,"RCS2-RP4NA-20-6-水平",2,0.3,300,"○","○"]
[166,1961330,300,-1,-1,"RCS2-RP4NA-20-6-垂直",0.5,0.2,300,"○","○"]
[167,1961330,100,-1,-1,"RCS2-RP4NA-20-2S-水平",1,0.2,100,"○","○"]
[168,1961330,100,-1,-1,"RCS2-RP4NA-20-2S-垂直",0.5,0.2,100,"○","○"]
[169,1961330,200,-1,-1,"RCS2-RP4NA-20-4S-水平",0.5,0.2,200,"○","○"]
[170,1961330,200,-1,-1,"RCS2-RP4NA-20-4S-垂直",0.25,0.2,200,"○","○"]
[171,1961330,300,-1,-1,"RCS2-RP4NA-20-6S-水平",0.25,0.2,300,"○","○"]
[172,1961330,300,-1,-1,"RCS2-RP4NA-20-6S-垂直",0.125,0.2,300,"○","○"]
[173,1961330,50,-1,-1,"RCS2-GS3NA-10-1-水平",3,0.2,50,"○","○"]
[174,1961330,50,-1,-1,"RCS2-GS3NA-10-1-垂直",1,0.2,50,"○","○"]
[175,2941995,100,-1,-1,"RCS2-GS3NA-10-2-水平",1.5,0.3,100,"○","○"]
[176,1961330,100,-1,-1,"RCS2-GS3NA-10-2-垂直",0.5,0.2,100,"○","○"]
[177,2941995,200,-1,-1,"RCS2-GS3NA-10-4-水平",0.75,0.3,200,"○","○"]
[178,1961330,200,-1,-1,"RCS2-GS3NA-10-4-垂直",0.25,0.2,200,"○","○"]
[179,1961330,50,-1,-1,"RCS2-GS3NA-10-1S-水平",1,0.2,50,"○","○"]
[180,1961330,50,-1,-1,"RCS2-GS3NA-10-1S-垂直",0.5,0.2,50,"○","○"]
[181,1961330,100,-1,-1,"RCS2-GS3NA-10-2S-水平",0.5,0.2,100,"○","○"]
[182,1961330,100,-1,-1,"RCS2-GS3NA-10-2S-垂直",0.25,0.2,100,"○","○"]
[183,1961330,200,-1,-1,"RCS2-GS3NA-10-4S-水平",0.25,0.2,200,"○","○"]
[184,1961330,200,-1,-1,"RCS2-GS3NA-10-4S-垂直",0.125,0.2,200,"○","○"]
[185,1961330,100,-1,-1,"RCS2-GS4NA-20-2-水平",6,0.2,100,"○","○"]
[186,1961330,100,-1,-1,"RCS2-GS4NA-20-2-垂直",1.5,0.2,100,"○","○"]
[187,2941995,200,-1,-1,"RCS2-GS4NA-20-4-水平",3,0.3,200,"○","○"]
[188,1961330,200,-1,-1,"RCS2-GS4NA-20-4-垂直",0.75,0.2,200,"○","○"]
[189,2941995,300,-1,-1,"RCS2-GS4NA-20-6-水平",2,0.3,300,"○","○"]
[190,1961330,300,-1,-1,"RCS2-GS4NA-20-6-垂直",0.5,0.2,300,"○","○"]
[191,1961330,100,-1,-1,"RCS2-GS4NA-20-2S-水平",1,0.2,100,"○","○"]
[192,1961330,100,-1,-1,"RCS2-GS4NA-20-2S-垂直",0.5,0.2,100,"○","○"]
[{"$f":"A195+1","v":193},1961330,200,-1,-1,"RCS2-GS4NA-20-4S-水平",0.5,0.2,200,{"$f":"IF(G196=0,IF(D196<>A195,\"ﾘﾝｸ不正\",\"○\"),\"○\")","v":"○"},{"$f":"IF(D197<>-1,IF(E196<>A197,\"ﾘﾝｸ不正\",\"○\"),\"○\")","v":"○"}]
[194,1961330,200,-1,-1,"RCS2-GS4NA-20-4S-垂直",0.25,0.2,200,"○","○"]
[195,1961330,300,-1,-1,"RCS2-GS4NA-20-6S-水平",0.25,0.2,300,"○","○"]
[196,1961330,300,-1,-1,"RCS2-GS4NA-20-6S-垂直",0.125,0.2,300,"○","○"]
[197,{"$f":"H200*$A$1*1000*1000","v":1961330},{"$f":"I200","v":50},-1,-1,"RCS2-GD3NA-10-1-水平",3,0.2,50,"○","○"]
[198,1961330,50,-1,-1,"RCS2-GD3NA-10-1-垂直",1,0.2,50,"○","○"]
[199,2941995,100,-1,-1,"RCS2-GD3NA-10-2-水平",1.5,0.3,100,"○","○"]
[200,1961330,100,-1,-1,"RCS2-GD3NA-10-2-垂直",0.5,0.2,100,"○","○"]
[201,2941995,200,-1,-1,"RCS2-GD3NA-10-4-水平",0.75,0.3,200,"○","○"]
[202,1961330,200,-1,-1,"RCS2-GD3NA-10-4-垂直",0.25,0.2,200,"○","○"]
[203,1961330,50,-1,-1,"RCS2-GD3NA-10-1S-水平",1,0.2,50,"○","○"]
[204,1961330,50,-1,-1,"RCS2-GD3NA-10-1S-垂直",0.5,0.2,50,"○","○"]
[205,1961330,100,-1,-1,"RCS2-GD3NA-10-2S-水平",0.5,0.2,100,"○","○"]
[206,1961330,100,-1,-1,"RCS2-GD3NA-10-2S-垂直",0.25,0.2,100,"○","○"]
[207,1961330,200,-1,-1,"RCS2-GD3NA-10-4S-水平",0.25,0.2,200,"○","○"]
[208,1961330,200,-1,-1,"RCS2-GD3NA-10-4S-垂直",0.125,0.2,200,"○","○"]
[209,1961330,100,-1,-1,"RCS2-GD4NA-20-2-水平",6,0.2,100,"○","○"]
[210,1961330,100,-1,-1,"RCS2-GD4NA-20-2-垂直",1.5,0.2,100,"○","○"]
[211,2941995,200,-1,-1,"RCS2-GD4NA-20-4-水平",3,0.3,200,"○","○"]
[212,1961330,200,-1,-1,"RCS2-GD4NA-20-4-垂直",0.75,0.2,200,"○","○"]
[213,2941995,300,-1,-1,"RCS2-GD4NA-20-6-水平",2,0.3,300,"○","○"]
[214,1961330,300,-1,-1,"RCS2-GD4NA-20-6-垂直",0.5,0.2,300,"○","○"]
[215,1961330,100,-1,-1,"RCS2-GD4NA-20-2S-水平",1,0.2,100,"○","○"]
[216,1961330,100,-1,-1,"RCS2-GD4NA-20-2S-垂直",0.5,0.2,100,"○","○"]
[217,1961330,200,-1,-1,"RCS2-GD4NA-20-4S-水平",0.5,0.2,200,"○","○"]
[218,1961330,200,-1,-1,"RCS2-GD4NA-20-4S-垂直",0.25,0.2,200,"○","○"]
[219,1961330,300,-1,-1,"RCS2-GD4NA-20-6S-水平",0.25,0.2,300,"○","○"]
[220,1961330,300,-1,-1,"RCS2-GD4NA-20-6S-垂直",0.125,0.2,300,"○","○"]
[221,1961330,50,-1,-1,"RCS2-SD3NA-10-1-水平",3,0.2,50,"○","○"]
[222,1961330,50,-1,-1,"RCS2-SD3NA-10-1-垂直",1,0.2,50,"○","○"]
[223,2941995,100,-1,-1,"RCS2-SD3NA-10-2-水平",1.5,0.3,100,"○","○"]
[224,1961330,100,-1,-1,"RCS2-SD3NA-10-2-垂直",0.5,0.2,100,"○","○"]
[225,2941995,200,-1,-1,"RCS2-SD3NA-10-4-水平",0.75,0.3,200,"○","○"]
[226,1961330,200,-1,-1,"RCS2-SD3NA-10-4-垂直",0.25,0.2,200,"○","○"]
[227,1961330,50,-1,-1,"RCS2-SD3NA-10-1S-水平",1,0.2,50,"○","○"]
[228,1961330,50,-1,-1,"RCS2-SD3NA-10-1S-垂直",0.5,0.2,50,"○","○"]
[229,1961330,100,-1,-1,"RCS2-SD3NA-10-2S-水平",0.5,0.2,100,"○","○"]
[230,1961330,100,-1,-1,"RCS2-SD3NA-10-2S-垂直",0.25,0.2,100,"○","○"]
[231,1961330,200,-1,-1,"RCS2-SD3NA-10-4S-水平",0.25,0.2,200,"○","○"]
[232,1961330,200,-1,-1,"RCS2-SD3NA-10-4S-垂直",0.125,0.2,200,"○","○"]
[233,1961330,100,-1,-1,"RCS2-SD4NA-20-2-水平",6,0.2,100,"○","○"]
[234,1961330,100,-1,-1,"RCS2-SD4NA-20-2-垂直",1.5,0.2,100,"○","○"]
[235,2941995,200,-1,-1,"RCS2-SD4NA-20-4-水平",3,0.3,200,"○","○"]
[236,1961330,200,-1,-1,"RCS2-SD4NA-20-4-垂直",0.75,0.2,200,"○","○"]
[237,2941995,300,-1,-1,"RCS2-SD4NA-20-6-水平",2,0.3,300,"○","○"]
[238,1961330,300,-1,-1,"RCS2-SD4NA-20-6-垂直",0.5,0.2,300,"○","○"]
[239,1961330,100,-1,-1,"RCS2-SD4NA-20-2S-水平",1,0.2,100,"○","○"]
[240,1961330,100,-1,-1,"RCS2-SD4NA-20-2S-垂直",0.5,0.2,100,"○","○"]
[241,1961330,200,-1,-1,"RCS2-SD4NA-20-4S-水平",0.5,0.2,200,"○","○"]
[242,1961330,200,-1,-1,"RCS2-SD4NA-20-4S-垂直",0.25,0.2,200,"○","○"]
[243,1961330,300,-1,-1,"RCS2-SD4NA-20-6S-水平",0.25,0.2,300,"○","○"]
[244,1961330,300,-1,-1,"RCS2-SD4NA-20-6S-垂直",0.125,0.2,300,"○","○"]
[245,1961330,125,-1,-1,"RCA-RA3C-20-2.5-水平",18,0.2,125,"○","○"]
[246,1961330,125,-1,-1,"RCA-RA3C-20-2.5-垂直",6.5,0.2,125,"○","○"]
[247,2941995,250,-1,-1,"RCA-RA3C-20-5-水平",9,0.3,250,"○","○"]
[248,2941995,250,-1,-1,"RCA-RA3C-20-5-垂直",3,0.3,250,"○","○"]
[249,2941995,500,-1,-1,"RCA-RA3C-20-10-水平",4,0.3,500,"○","○"]
[250,2941995,500,-1,-1,"RCA-RA3C-20-10-垂直",1.5,0.3,500,"○","○"]
[251,1961330,150,-1,-1,"RCA-RA4C-20-3-水平",12,0.2,150,"○","○"]
[252,1961330,150,-1,-1,"RCA-RA4C-20-3-垂直",4,0.2,150,"○","○"]
[253,2941995,300,-1,-1,"RCA-RA4C-20-6-水平",6,0.3,300,"○","○"]
[254,2941995,300,-1,-1,"RCA-RA4C-20-6-垂直",2,0.3,300,"○","○"]
[255,2941995,600,-1,-1,"RCA-RA4C-20-12-水平",3,0.3,600,"○","○"]
[256,2941995,600,-1,-1,"RCA-RA4C-20-12-垂直",1,0.3,600,"○","○"]
[{"$f":"A259+1","v":257},1961330,150,-1,-1,"RCA-RA4C-30-3-水平",18,0.2,150,{"$f":"IF(G260=0,IF(D260<>A259,\"ﾘﾝｸ不正\",\"○\"),\"○\")","v":"○"},{"$f":"IF(D261<>-1,IF(E260<>A261,\"ﾘﾝｸ不正\",\"○\"),\"○\")","v":"○"}]
[258,1961330,150,-1,-1,"RCA-RA4C-30-3-垂直",6.5,0.2,150,"○","○"]
[259,2941995,300,-1,-1,"RCA-RA4C-30-6-水平",9,0.3,300,"○","○"]
[260,2941995,300,-1,-1,"RCA-RA4C-30-6-垂直",3,0.3,300,"○","○"]
[261,{"$f":"H264*$A$1*1000*1000","v":2941995},{"$f":"I264","v":600},-1,-1,"RCA-RA4C-30-12-水平",4,0.3,600,"○","○"]
[262,2941995,600,-1,-1,"RCA-RA4C-30-12-垂直",1.5,0.3,600,"○","○"]
[263,1961330,125,-1,-1,"RCA-RA3D-20-2.5-水平",18,0.2,125,"○","○"]
[264,1961330,125,-1,-1,"RCA-RA3D-20-2.5-垂直",6.5,0.2,125,"○","○"]
[265,2941995,250,-1,-1,"RCA-RA3D-20-5-水平",9,0.3,250,"○","○"]
[266,2941995,250,-1,-1,"RCA-RA3D-20-5-垂直",3,0.3,250,"○","○"]
[267,2941995,500,-1,-1,"RCA-RA3D-20-10-水平",4,0.3,500,"○","○"]
[268,2941995,500,-1,-1,"RCA-RA3D-20-10-垂直",1.5,0.3,500,"○","○"]
[269,1961330,150,-1,-1,"RCA-RA4D-20-3-水平",12,0.2,150,"○","○"]
[270,1961330,150,-1,-1,"RCA-RA4D-20-3-垂直",4,0.2,150,"○","○"]
[271,2941995,300,-1,-1,"RCA-RA4D-20-6-水平",6,0.3,300,"○","○"]
[272,2941995,300,-1,-1,"RCA-RA4D-20-6-垂直",2,0.3,300,"○","○"]
[273,2941995,600,-1,-1,"RCA-RA4D-20-12-水平",3,0.3,600,"○","○"]
[274,2941995,600,-1,-1,"RCA-RA4D-20-12-垂直",1,0.3,600,"○","○"]
[275,1961330,150,-1,-1,"RCA-RA4D-30-3-水平",18,0.2,150,"○","○"]
[276,1961330,150,-1,-1,"RCA-RA4D-30-3-垂直",6.5,0.2,150,"○","○"]
[277,2941995,300,-1,-1,"RCA-RA4D-30-6-水平",9,0.3,300,"○","○"]
[278,2941995,300,-1,-1,"RCA-RA4D-30-6-垂直",3,0.3,300,"○","○"]
[279,2941995,600,-1,-1,"RCA-RA4D-30-12-水平",4,0.3,600,"○","○"]
[280,2941995,600,-1,-1,"RCA-RA4D-30-12-垂直",1.5,0.3,600,"○","○"]
[281,1961330,125,-1,-1,"RCA-RA3R-20-2.5-水平",18,0.2,125,"○","○"]
[282,1961330,125,-1,-1,"RCA-RA3R-20-2.5-垂直",6.5,0.2,125,"○","○"]
[283,2941995,250,-1,-1,"RCA-RA3R-20-5-水平",9,0.3,250,"○","○"]
[284,2941995,250,-1,-1,"RCA-RA3R-20-5-垂直",3,0.3,250,"○","○"]
[285,2941995,500,-1,-1,"RCA-RA3R-20-10-水平",4,0.3,500,"○","○"]
[286,2941995,500,-1,-1,"RCA-RA3R-20-10-垂直",1.5,0.3,500,"○","○"]
[287,1961330,150,-1,-1,"RCA-RA4R-20-3-水平",12,0.2,150,"○","○"]
[288,1961330,150,-1,-1,"RCA-RA4R-20-3-垂直",4,0.2,150,"○","○"]
[289,2941995,300,-1,-1,"RCA-RA4R-20-6-水平",6,0.3,300,"○","○"]
[290,2941995,300,-1,-1,"RCA-RA4R-20-6-垂直",2,0.3,300,"○","○"]
[291,2941995,600,-1,-1,"RCA-RA4R-20-12-水平",3,0.3,600,"○","○"]
[292,2941995,600,-1,-1,"RCA-RA4R-20-12-垂直",1,0.3,600,"○","○"]
[293,1961330,150,-1,-1,"RCA-RA4R-30-3-水平",18,0.2,150,"○","○"]
[294,1961330,150,-1,-1,"RCA-RA4R-30-3-垂直",6.5,0.2,150,"○","○"]
[295,2941995,300,-1,-1,"RCA-RA4R-30-6-水平",9,0.3,300,"○","○"]
[296,2941995,300,-1,-1,"RCA-RA4R-30-6-垂直",3,0.3,300,"○","○"]
[297,2941995,600,-1,-1,"RCA-RA4R-30-12-水平",4,0.3,600,"○","○"]
[298,2941995,600,-1,-1,"RCA-RA4R-30-12-垂直",1.5,0.3,600,"○","○"]
[299,1961330,125,-1,-1,"RCA-SRA4R-20-2.5-水平",18,0.2,125,"○","○"]
[300,1961330,125,-1,-1,"RCA-SRA4R-20-2.5-垂直",6.5,0.2,125,"○","○"]
[301,2941995,250,-1,-1,"RCA-SRA4R-20-5-水平",9,0.3,250,"○","○"]
[302,1961330,250,-1,-1,"RCA-SRA4R-20-5-垂直",3,0.2,250,"○","○"]
[303,1961330,125,-1,-1,"RCA-RGS3C-20-2.5-水平",18,0.2,125,"○","○"]
[304,1961330,125,-1,-1,"RCA-RGS3C-20-2.5-垂直",6.2,0.2,125,"○","○"]
[305,2941995,250,-1,-1,"RCA-RGS3C-20-5-水平",9,0.3,250,"○","○"]
[306,2941995,250,-1,-1,"RCA-RGS3C-20-5-垂直",2.7,0.3,250,"○","○"]
[307,2941995,500,-1,-1,"RCA-RGS3C-20-10-水平",4,0.3,500,"○","○"]
[308,2941995,500,-1,-1,"RCA-RGS3C-20-10-垂直",1.2,0.3,500,"○","○"]
[309,1961330,150,-1,-1,"RCA-RGS4C-20-3-水平",12,0.2,150,"○","○"]
[310,1961330,150,-1,-1,"RCA-RGS4C-20-3-垂直",3.5,0.2,150,"○","○"]
[311,2941995,300,-1,-1,"RCA-RGS4C-20-6-水平",6,0.3,300,"○","○"]
[312,2941995,300,-1,-1,"RCA-RGS4C-20-6-垂直",1.5,0.3,300,"○","○"]
[313,2941995,600,-1,-1,"RCA-RGS4C-20-12-水平",3,0.3,600,"○","○"]
[314,2941995,600,-1,-1,"RCA-RGS4C-20-12-垂直",0.5,0.3,600,"○","○"]
[315,1961330,150,-1,-1,"RCA-RGS4C-30-3-水平",18,0.2,150,"○","○"]
[316,1961330,150,-1,-1,"RCA-RGS4C-30-3-垂直",6,0.2,150,"○","○"]
[317,2941995,300,-1,-1,"RCA-RGS4C-30-6-水平",9,0.3,300,"○","○"]
[318,2941995,300,-1,-1,"RCA-RGS4C-30-6-垂直",2.5,0.3,300,"○","○"]
[319,2941995,600,-1,-1,"RCA-RGS4C-30-12-水平",4,0.3,600,"○","○"]
[320,2941995,600,-1,-1,"RCA-RGS4C-30-12-垂直",1,0.3,600,"○","○"]
[{"$f":"A323+1","v":321},1961330,125,-1,-1,"RCA-RGS3D-20-2.5-水平",18,0.2,125,{"$f":"IF(G324=0,IF(D324<>A323,\"ﾘﾝｸ不正\",\"○\"),\"○\")","v":"○"},{"$f":"IF(D325<>-1,IF(E324<>A325,\"ﾘﾝｸ不正\",\"○\"),\"○\")","v":"○"}]
[322,1961330,125,-1,-1,"RCA-RGS3D-20-2.5-垂直",6.2,0.2,125,"○","○"]
[323,2941995,250,-1,-1,"RCA-RGS3D-20-5-水平",9,0.3,250,"○","○"]
[324,2941995,250,-1,-1,"RCA-RGS3D-20-5-垂直",2.7,0.3,250,"○","○"]
[325,{"$f":"H328*$A$1*1000*1000","v":2941995},{"$f":"I328","v":500},-1,-1,"RCA-RGS3D-20-10-水平",4,0.3,500,"○","○"]
[326,2941995,500,-1,-1,"RCA-RGS3D-20-10-垂直",1.2,0.3,500,"○","○"]
[327,1961330,150,-1,-1,"RCA-RGS4D-20-3-水平",12,0.2,150,"○","○"]
[328,1961330,150,-1,-1,"RCA-RGS4D-20-3-垂直",3.5,0.2,150,"○","○"]
[329,2941995,300,-1,-1,"RCA-RGS4D-20-6-水平",6,0.3,300,"○","○"]
[330,2941995,300,-1,-1,"RCA-RGS4D-20-6-垂直",1.5,0.3,300,"○","○"]
[331,2941995,600,-1,-1,"RCA-RGS4D-20-12-水平",3,0.3,600,"○","○"]
[332,2941995,600,-1,-1,"RCA-RGS4D-20-12-垂直",0.5,0.3,600,"○","○"]
[333,1961330,150,-1,-1,"RCA-RGS4D-30-3-水平",18,0.2,150,"○","○"]
[334,1961330,150,-1,-1,"RCA-RGS4D-30-3-垂直",6,0.2,150,"○","○"]
[335,2941995,300,-1,-1,"RCA-RGS4D-30-6-水平",9,0.3,300,"○","○"]
[336,2941995,300,-1,-1,"RCA-RGS4D-30-6-垂直",2.5,0.3,300,"○","○"]
[337,2941995,600,-1,-1,"RCA-RGS4D-30-12-水平",4,0.3,600,"○","○"]
[338,2941995,600,-1,-1,"RCA-RGS4D-30-12-垂直",1,0.3,600,"○","○"]
[339,1961330,125,-1,-1,"RCA-SRGS4R-20-2.5-水平",18,0.2,125,"○","○"]
[340,1961330,125,-1,-1,"RCA-SRGS4R-20-2.5-垂直",5.5,0.2,125,"○","○"]
[341,2941995,250,-1,-1,"RCA-SRGS4R-20-5-水平",9,0.3,250,"○","○"]
[342,1961330,250,-1,-1,"RCA-SRGS4R-20-5-垂直",2,0.2,250,"○","○"]
[343,1961330,125,-1,-1,"RCA-RGD3C-20-2.5-水平",18,0.2,125,"○","○"]
[344,1961330,125,-1,-1,"RCA-RGD3C-20-2.5-垂直",6.2,0.2,125,"○","○"]
[345,2941995,250,-1,-1,"RCA-RGD3C-20-5-水平",9,0.3,250,"○","○"]
[346,2941995,250,-1,-1,"RCA-RGD3C-20-5-垂直",2.7,0.3,250,"○","○"]
[347,2941995,500,-1,-1,"RCA-RGD3C-20-10-水平",4,0.3,500,"○","○"]
[348,2941995,500,-1,-1,"RCA-RGD3C-20-10-垂直",1.2,0.3,500,"○","○"]
[349,1961330,150,-1,-1,"RCA-RGD4C-20-3-水平",12,0.2,150,"○","○"]
[350,1961330,150,-1,-1,"RCA-RGD4C-20-3-垂直",3.5,0.2,150,"○","○"]
[351,2941995,300,-1,-1,"RCA-RGD4C-20-6-水平",6,0.3,300,"○","○"]
[352,2941995,300,-1,-1,"RCA-RGD4C-20-6-垂直",1.5,0.3,300,"○","○"]
[353,2941995,600,-1,-1,"RCA-RGD4C-20-12-水平",3,0.3,600,"○","○"]
[354,2941995,600,-1,-1,"RCA-RGD4C-20-12-垂直",0.5,0.3,600,"○","○"]
[355,1961330,150,-1,-1,"RCA-RGD4C-30-3-水平",18,0.2,150,"○","○"]
[356,1961330,150,-1,-1,"RCA-RGD4C-30-3-垂直",6,0.2,150,"○","○"]
[357,2941995,300,-1,-1,"RCA-RGD4C-30-6-水平",9,0.3,300,"○","○"]
[358,2941995,300,-1,-1,"RCA-RGD4C-30-6-垂直",2.5,0.3,300,"○","○"]
[359,2941995,600,-1,-1,"RCA-RGD4C-30-12-水平",4,0.3,600,"○","○"]
[360,2941995,600,-1,-1,"RCA-RGD4C-30-12-垂直",1,0.3,600,"○","○"]
[361,1961330,125,-1,-1,"RCA-RGD3D-20-2.5-水平",18,0.2,125,"○","○"]
[362,1961330,125,-1,-1,"RCA-RGD3D-20-2.5-垂直",6.2,0.2,125,"○","○"]
[363,2941995,250,-1,-1,"RCA-RGD3D-20-5-水平",9,0.3,250,"○","○"]
[364,2941995,250,-1,-1,"RCA-RGD3D-20-5-垂直",2.7,0.3,250,"○","○"]
[365,2941995,500,-1,-1,"RCA-RGD3D-20-10-水平",4,0.3,500,"○","○"]
[366,2941995,500,-1,-1,"RCA-RGD3D-20-10-垂直",1.2,0.3,500,"○","○"]
[367,1961330,150,-1,-1,"RCA-RGD4D-20-3-水平",12,0.2,150,"○","○"]
[368,1961330,150,-1,-1,"RCA-RGD4D-20-3-垂直",3.5,0.2,150,"○","○"]
[369,2941995,300,-1,-1,"RCA-RGD4D-20-6-水平",6,0.3,300,"○","○"]
[370,2941995,300,-1,-1,"RCA-RGD4D-20-6-垂直",1.5,0.3,300,"○","○"]
[371,2941995,600,-1,-1,"RCA-RGD4D-20-12-水平",3,0.3,600,"○","○"]
[372,2941995,600,-1,-1,"RCA-RGD4D-20-12-垂直",0.5,0.3,600,"○","○"]
[373,1961330,150,-1,-1,"RCA-RGD4D-30-3-水平",18,0.2,150,"○","○"]
[374,1961330,150,-1,-1,"RCA-RGD4D-30-3-垂直",6,0.2,150,"○","○"]
[375,2941995,300,-1,-1,"RCA-RGD4D-30-6-水平",9,0.3,300,"○","○"]
[376,2941995,300,-1,-1,"RCA-RGD4D-30-6-垂直",2.5,0.3,300,"○","○"]
[377,2941995,600,-1,-1,"RCA-RGD4D-30-12-水平",4,0.3,600,"○","○"]
[378,2941995,600,-1,-1,"RCA-RGD4D-30-12-垂直",1,0.3,600,"○","○"]
[379,1961330,125,-1,-1,"RCA-RGD3R-20-2.5-水平",18,0.2,125,"○","○"]
[380,1961330,125,-1,-1,"RCA-RGD3R-20-2.5-垂直",6.2,0.2,125,"○","○"]
[381,2941995,250,-1,-1,"RCA-RGD3R-20-5-水平",9,0.3,250,"○","○"]
[382,2941995,250,-1,-1,"RCA-RGD3R-20-5-垂直",2.7,0.3,250,"○","○"]
[383,2941995,500,-1,-1,"RCA-RGD3R-20-10-水平",4,0.3,500,"○","○"]
[384,2941995,500,-1,-1,"RCA-RGD3R-20-10-垂直",1.2,0.3,500,"○","○"]
[{"$f":"A387+1","v":385},1961330,150,-1,-1,"RCA-RGD4R-20-3-水平",12,0.2,150,{"$f":"IF(G388=0,IF(D388<>A387,\"ﾘﾝｸ不正\",\"○\"),\"○\")","v":"○"},{"$f":"IF(D389<>-1,IF(E388<>A389,\"ﾘﾝｸ不正\",\"○\"),\"○\")","v":"○"}]
[386,1961330,150,-1,-1,"RCA-RGD4R-20-3-垂直",3.5,0.2,150,"○","○"]
[387,2941995,300,-1,-1,"RCA-RGD4R-20-6-水平",6,0.3,300,"○","○"]
[388,2941995,300,-1,-1,"RCA-RGD4R-20-6-垂直",1.5,0.3,300,"○","○"]
[389,{"$f":"H392*$A$1*1000*1000","v":2941995},{"$f":"I392","v":600},-1,-1,"RCA-RGD4R-20-12-水平",3,0.3,600,"○","○"]
[390,2941995,600,-1,-1,"RCA-RGD4R-20-12-垂直",0.5,0.3,600,"○","○"]
[391,1961330,150,-1,-1,"RCA-RGD4R-30-3-水平",18,0.2,150,"○","○"]
[392,1961330,150,-1,-1,"RCA-RGD4R-30-3-垂直",6,0.2,150,"○","○"]
[393,2941995,300,-1,-1,"RCA-RGD4R-30-6-水平",9,0.3,300,"○","○"]
[394,2941995,300,-1,-1,"RCA-RGD4R-30-6-垂直",2.5,0.3,300,"○","○"]
[395,2941995,600,-1,-1,"RCA-RGD4R-30-12-水平",4,0.3,600,"○","○"]
[396,2941995,600,-1,-1,"RCA-RGD4R-30-12-垂直",1,0.3,600,"○","○"]
[397,1961330,125,-1,-1,"RCA-SRGD4R-20-2.5-水平",18,0.2,125,"○","○"]
[398,1961330,125,-1,-1,"RCA-SRGD4R-20-2.5-垂直",5.5,0.2,125,"○","○"]
[399,2941995,250,-1,-1,"RCA-SRGD4R-20-5-水平",9,0.3,250,"○","○"]
[400,1961330,250,-1,-1,"RCA-SRGD4R-20-5-垂直",2,0.2,250,"○","○"]
[401,1961330,50,-1,-1,"RCS2-TCA3NA-10-1-水平",3,0.2,50,"○","○"]
[402,1961330,50,-1,-1,"RCS2-TCA3NA-10-1-垂直",1,0.2,50,"○","○"]
[403,2941995,100,-1,-1,"RCS2-TCA3NA-10-2-水平",1.5,0.3,100,"○","○"]
[404,1961330,100,-1,-1,"RCS2-TCA3NA-10-2-垂直",0.5,0.2,100,"○","○"]
[405,2941995,200,-1,-1,"RCS2-TCA3NA-10-4-水平",0.75,0.3,200,"○","○"]
[406,1961330,200,-1,-1,"RCS2-TCA3NA-10-4-垂直",0.25,0.2,200,"○","○"]
[407,1961330,50,-1,-1,"RCS2-TCA3NA-10-1S-水平",1,0.2,50,"○","○"]
[408,1961330,50,-1,-1,"RCS2-TCA3NA-10-1S-垂直",0.5,0.2,50,"○","○"]
[409,1961330,100,-1,-1,"RCS2-TCA3NA-10-2S-水平",0.5,0.2,100,"○","○"]
[410,1961330,100,-1,-1,"RCS2-TCA3NA-10-2S-垂直",0.25,0.2,100,"○","○"]
[411,1961330,200,-1,-1,"RCS2-TCA3NA-10-4S-水平",0.25,0.2,200,"○","○"]
[412,1961330,200,-1,-1,"RCS2-TCA3NA-10-4S-垂直",0.125,0.2,200,"○","○"]
[413,1961330,100,-1,-1,"RCS2-TCA4NA-20-2-水平",6,0.2,100,"○","○"]
[414,1961330,100,-1,-1,"RCS2-TCA4NA-20-2-垂直",1.5,0.2,100,"○","○"]
[415,2941995,200,-1,-1,"RCS2-TCA4NA-20-4-水平",3,0.3,200,"○","○"]
[416,1961330,200,-1,-1,"RCS2-TCA4NA-20-4-垂直",0.75,0.2,200,"○","○"]
[417,2941995,300,-1,-1,"RCS2-TCA4NA-20-6-水平",2,0.3,300,"○","○"]
[418,1961330,300,-1,-1,"RCS2-TCA4NA-20-6-垂直",0.5,0.2,300,"○","○"]
[419,1961330,100,-1,-1,"RCS2-TCA4NA-20-2S-水平",1,0.2,100,"○","○"]
[420,1961330,100,-1,-1,"RCS2-TCA4NA-20-2S-垂直",0.5,0.2,100,"○","○"]
[421,1961330,200,-1,-1,"RCS2-TCA4NA-20-4S-水平",0.5,0.2,200,"○","○"]
[422,1961330,200,-1,-1,"RCS2-TCA4NA-20-4S-垂直",0.25,0.2,200,"○","○"]
[423,1961330,300,-1,-1,"RCS2-TCA4NA-20-6S-水平",0.25,0.2,300,"○","○"]
[424,1961330,300,-1,-1,"RCS2-TCA4NA-20-6S-垂直",0.125,0.2,300,"○","○"]
[425,1961330,50,-1,-1,"RCS2-TWA3NA-10-1-水平",3,0.2,50,"○","○"]
[426,1961330,50,-1,-1,"RCS2-TWA3NA-10-1-垂直",1,0.2,50,"○","○"]
[427,2941995,100,-1,-1,"RCS2-TWA3NA-10-2-水平",1.5,0.3,100,"○","○"]
[428,1961330,100,-1,-1,"RCS2-TWA3NA-10-2-垂直",0.5,0.2,100,"○","○"]
[429,2941995,200,-1,-1,"RCS2-TWA3NA-10-4-水平",0.75,0.3,200,"○","○"]
[430,1961330,200,-1,-1,"RCS2-TWA3NA-10-4-垂直",0.25,0.2,200,"○","○"]
[431,1961330,50,-1,-1,"RCS2-TWA3NA-10-1S-水平",1,0.2,50,"○","○"]
[432,1961330,50,-1,-1,"RCS2-TWA3NA-10-1S-垂直",0.5,0.2,50,"○","○"]
[433,1961330,100,-1,-1,"RCS2-TWA3NA-10-2S-水平",0.5,0.2,100,"○","○"]
[434,1961330,100,-1,-1,"RCS2-TWA3NA-10-2S-垂直",0.25,0.2,100,"○","○"]
[435,1961330,200,-1,-1,"RCS2-TWA3NA-10-4S-水平",0.25,0.2,200,"○","○"]
[436,1961330,200,-1,-1,"RCS2-TWA3NA-10-4S-垂直",0.125,0.2,200,"○","○"]
[437,1961330,100,-1,-1,"RCS2-TWA4NA-20-2-水平",6,0.2,100,"○","○"]
[438,1961330,100,-1,-1,"RCS2-TWA4NA-20-2-垂直",1.5,0.2,100,"○","○"]
[439,2941995,200,-1,-1,"RCS2-TWA4NA-20-4-水平",3,0.3,200,"○","○"]
[440,1961330,200,-1,-1,"RCS2-TWA4NA-20-4-垂直",0.75,0.2,200,"○","○"]
[441,2941995,300,-1,-1,"RCS2-TWA4NA-20-6-水平",2,0.3,300,"○","○"]
[442,1961330,300,-1,-1,"RCS2-TWA4NA-20-6-垂直",0.5,0.2,300,"○","○"]
[443,1961330,100,-1,-1,"RCS2-TWA4NA-20-2S-水平",1,0.2,100,"○","○"]
[444,1961330,100,-1,-1,"RCS2-TWA4NA-20-2S-垂直",0.5,0.2,100,"○","○"]
[445,1961330,200,-1,-1,"RCS2-TWA4NA-20-4S-水平",0.5,0.2,200,"○","○"]
[446,1961330,200,-1,-1,"RCS2-TWA4NA-20-4S-垂直",0.25,0.2,200,"○","○"]
[447,1961330,300,-1,-1,"RCS2-TWA4NA-20-6S-水平",0.25,0.2,300,"○","○"]
[448,1961330,300,-1,-1,"RCS2-TWA4NA-20-6S-垂直",0.125,0.2,300,"○","○"]
[{"$f":"A451+1","v":449},1961330,50,-1,-1,"RCS2-TFA3NA-10-1-水平",3,0.2,50,{"$f":"IF(G452=0,IF(D452<>A451,\"ﾘﾝｸ不正\",\"○\"),\"○\")","v":"○"},{"$f":"IF(D453<>-1,IF(E452<>A453,\"ﾘﾝｸ不正\",\"○\"),\"○\")","v":"○"}]
[450,1961330,50,-1,-1,"RCS2-TFA3NA-10-1-垂直",1,0.2,50,"○","○"]
[451,2941995,100,-1,-1,"RCS2-TFA3NA-10-2-水平",1.5,0.3,100,"○","○"]
[452,1961330,100,-1,-1,"RCS2-TFA3NA-10-2-垂直",0.5,0.2,100,"○","○"]
[453,{"$f":"H456*$A$1*1000*1000","v":2941995},{"$f":"I456","v":200},-1,-1,"RCS2-TFA3NA-10-4-水平",0.75,0.3,200,"○","○"]
[454,1961330,200,-1,-1,"RCS2-TFA3NA-10-4-垂直",0.25,0.2,200,"○","○"]
[455,1961330,50,-1,-1,"RCS2-TFA3NA-10-1S-水平",1,0.2,50,"○","○"]
[456,1961330,50,-1,-1,"RCS2-TFA3NA-10-1S-垂直",0.5,0.2,50,"○","○"]
[457,1961330,100,-1,-1,"RCS2-TFA3NA-10-2S-水平",0.5,0.2,100,"○","○"]
[458,1961330,100,-1,-1,"RCS2-TFA3NA-10-2S-垂直",0.25,0.2,100,"○","○"]
[459,1961330,200,-1,-1,"RCS2-TFA3NA-10-4S-水平",0.25,0.2,200,"○","○"]
[460,1961330,200,-1,-1,"RCS2-TFA3NA-10-4S-垂直",0.125,0.2,200,"○","○"]
[461,1961330,100,-1,-1,"RCS2-TFA4NA-20-2-水平",6,0.2,100,"○","○"]
[462,1961330,100,-1,-1,"RCS2-TFA4NA-20-2-垂直",1.5,0.2,100,"○","○"]
[463,2941995,200,-1,-1,"RCS2-TFA4NA-20-4-水平",3,0.3,200,"○","○"]
[464,1961330,200,-1,-1,"RCS2-TFA4NA-20-4-垂直",0.75,0.2,200,"○","○"]
[465,2941995,300,-1,-1,"RCS2-TFA4NA-20-6-水平",2,0.3,300,"○","○"]
[466,1961330,300,-1,-1,"RCS2-TFA4NA-20-6-垂直",0.5,0.2,300,"○","○"]
[467,1961330,100,-1,-1,"RCS2-TFA4NA-20-2S-水平",1,0.2,100,"○","○"]
[468,1961330,100,-1,-1,"RCS2-TFA4NA-20-2S-垂直",0.5,0.2,100,"○","○"]
[469,1961330,200,-1,-1,"RCS2-TFA4NA-20-4S-水平",0.5,0.2,200,"○","○"]
[470,1961330,200,-1,-1,"RCS2-TFA4NA-20-4S-垂直",0.25,0.2,200,"○","○"]
[471,1961330,300,-1,-1,"RCS2-TFA4NA-20-6S-水平",0.25,0.2,300,"○","○"]
[472,1961330,300,-1,-1,"RCS2-TFA4NA-20-6S-垂直",0.125,0.2,300,"○","○"]
[473,1961330,100,-1,-1,"RCS2-TA4C-10-2-水平",3,0.2,100,"○","○"]
[474,1961330,100,-1,-1,"RCS2-TA4C-10-2-垂直",1.5,0.2,100,"○","○"]
[475,2941995,200,-1,-1,"RCS2-TA4C-10-4-水平",2,0.3,200,"○","○"]
[476,1961330,200,-1,-1,"RCS2-TA4C-10-4-垂直",1,0.2,200,"○","○"]
[477,2941995,300,-1,-1,"RCS2-TA4C-10-6-水平",1,0.3,300,"○","○"]
[478,1961330,300,-1,-1,"RCS2-TA4C-10-6-垂直",0.5,0.2,300,"○","○"]
[479,1961330,125,-1,-1,"RCA2-TA5C-20-2.5-水平",5,0.2,125,"○","○"]
[480,1961330,125,-1,-1,"RCA2-TA5C-20-2.5-垂直",3,0.2,125,"○","○"]
[481,2941995,250,-1,-1,"RCA2-TA5C-20-5-水平",3.5,0.3,250,"○","○"]
[482,1961330,250,-1,-1,"RCA2-TA5C-20-5-垂直",2,0.2,250,"○","○"]
[483,2941995,465,-1,-1,"RCA2-TA5C-20-10-水平",2,0.3,465,"○","○"]
[484,1961330,400,-1,-1,"RCA2-TA5C-20-10-垂直",1,0.2,400,"○","○"]
[485,1961330,150,-1,-1,"RCA2-TA6C-20-3-水平",6,0.2,150,"○","○"]
[486,1961330,150,-1,-1,"RCA2-TA6C-20-3-垂直",3,0.2,150,"○","○"]
[487,2941995,300,-1,-1,"RCA2-TA6C-20-6-水平",4,0.3,300,"○","○"]
[488,1961330,300,-1,-1,"RCA2-TA6C-20-6-垂直",1.5,0.2,300,"○","○"]
[489,2941995,560,-1,-1,"RCA2-TA6C-20-12-水平",2,0.3,560,"○","○"]
[490,1961330,500,-1,-1,"RCA2-TA6C-20-12-垂直",0.5,0.2,500,"○","○"]
[491,1961330,150,-1,-1,"RCA2-TA7C-30-3-水平",8,0.2,150,"○","○"]
[492,1961330,150,-1,-1,"RCA2-TA7C-30-3-垂直",4,0.2,150,"○","○"]
[493,2941995,300,-1,-1,"RCA2-TA7C-30-6-水平",6,0.3,300,"○","○"]
[494,1961330,300,-1,-1,"RCA2-TA7C-30-6-垂直",2.5,0.2,300,"○","○"]
[495,2941995,600,-1,-1,"RCA2-TA7C-30-12-水平",4,0.3,600,"○","○"]
[496,1961330,580,-1,-1,"RCA2-TA7C-30-12-垂直",1,0.2,580,"○","○"]
[497,1961330,100,-1,-1,"RCS2-TA4R-10-2-水平",3,0.2,100,"○","○"]
[498,1961330,100,-1,-1,"RCS2-TA4R-10-2-垂直",1.5,0.2,100,"○","○"]
[499,2941995,200,-1,-1,"RCS2-TA4R-10-4-水平",2,0.3,200,"○","○"]
[500,1961330,200,-1,-1,"RCS2-TA4R-10-4-垂直",1,0.2,200,"○","○"]
[501,2941995,300,-1,-1,"RCS2-TA4R-10-6-水平",1,0.3,300,"○","○"]
[502,1961330,300,-1,-1,"RCS2-TA4R-10-6-垂直",0.5,0.2,300,"○","○"]
[503,1961330,125,-1,-1,"RCA2-TA5R-20-2.5-水平",5,0.2,125,"○","○"]
[504,1961330,125,-1,-1,"RCA2-TA5R-20-2.5-垂直",3,0.2,125,"○","○"]
[505,2941995,250,-1,-1,"RCA2-TA5R-20-5-水平",3.5,0.3,250,"○","○"]
[506,1961330,250,-1,-1,"RCA2-TA5R-20-5-垂直",2,0.2,250,"○","○"]
[507,2941995,465,-1,-1,"RCA2-TA5R-20-10-水平",2,0.3,465,"○","○"]
[508,1961330,400,-1,-1,"RCA2-TA5R-20-10-垂直",1,0.2,400,"○","○"]
[509,1961330,150,-1,-1,"RCA2-TA6R-20-3-水平",6,0.2,150,"○","○"]
[510,1961330,150,-1,-1,"RCA2-TA6R-20-3-垂直",3,0.2,150,"○","○"]
[511,2941995,300,-1,-1,"RCA2-TA6R-20-6-水平",4,0.3,300,"○","○"]
[512,1961330,300,-1,-1,"RCA2-TA6R-20-6-垂直",1.5,0.2,300,"○","○"]
[{"$f":"A515+1","v":513},2941995,560,-1,-1,"RCA2-TA6R-20-12-水平",2,0.3,560,{"$f":"IF(G516=0,IF(D516<>A515,\"ﾘﾝｸ不正\",\"○\"),\"○\")","v":"○"},{"$f":"IF(D517<>-1,IF(E516<>A517,\"ﾘﾝｸ不正\",\"○\"),\"○\")","v":"○"}]
[514,1961330,500,-1,-1,"RCA2-TA6R-20-12-垂直",0.5,0.2,500,"○","○"]
[515,1961330,150,-1,-1,"RCA2-TA7R-30-3-水平",8,0.2,150,"○","○"]
[516,1961330,150,-1,-1,"RCA2-TA7R-30-3-垂直",4,0.2,150,"○","○"]
[517,{"$f":"H520*$A$1*1000*1000","v":2941995},{"$f":"I520","v":300},-1,-1,"RCA2-TA7R-30-6-水平",6,0.3,300,"○","○"]
[518,1961330,300,-1,-1,"RCA2-TA7R-30-6-垂直",2.5,0.2,300,"○","○"]
[519,2941995,600,-1,-1,"RCA2-TA7R-30-12-水平",4,0.3,600,"○","○"]
[520,1961330,580,-1,-1,"RCA2-TA7R-30-12-垂直",1,0.2,580,"○","○"]
[521,1961330,165,-1,-1,"RCA-A4R-20-5-垂直",4.5,0.2,165,"○","○"]
[522,1961330,330,-1,-1,"RCA-A4R-20-10-垂直",2.5,0.2,330,"○","○"]
[523,1961330,200,-1,-1,"RCA-A5R-20-6-垂直",4,0.2,200,"○","○"]
[524,1961330,400,-1,-1,"RCA-A5R-20-12-垂直",2,0.2,400,"○","○"]
[525,1961330,200,-1,-1,"RCA-A6R-30-6-垂直",6,0.2,200,"○","○"]
[526,1961330,400,-1,-1,"RCA-A6R-30-12-垂直",3,0.2,400,"○","○"]
[527,19613300,420,-1,-1,"RCL-SA1L-水平",0.15,2,420,"○","○"]
[528,14709975,420,-1,-1,"RCL-SA1L-水平",0.18,1.5,420,"○","○"]
[529,9806650,420,-1,-1,"RCL-SA1L-水平",0.25,1,420,"○","○"]
[530,4903325,420,-1,-1,"RCL-SA1L-水平",0.42,0.5,420,"○","○"]
[531,2941995,420,-1,-1,"RCL-SA1L-水平",0.5,0.3,420,"○","○"]
[532,19613300,460,-1,-1,"RCL-SA2L-水平",0.3,2,460,"○","○"]
[533,14709975,460,-1,-1,"RCL-SA2L-水平",0.36,1.5,460,"○","○"]
[534,9806650,460,-1,-1,"RCL-SA2L-水平",0.5,1,460,"○","○"]
[535,4903325,460,-1,-1,"RCL-SA2L-水平",0.85,0.5,460,"○","○"]
[536,2941995,460,-1,-1,"RCL-SA2L-水平",1,0.3,460,"○","○"]
[537,19613300,600,-1,-1,"RCL-SA3L-水平",0.5,2,600,"○","○"]
[538,14709975,600,-1,-1,"RCL-SA3L-水平",0.65,1.5,600,"○","○"]
[539,9806650,600,-1,-1,"RCL-SA3L-水平",1,1,600,"○","○"]
[540,4903325,600,-1,-1,"RCL-SA3L-水平",1.8,0.5,600,"○","○"]
[541,2941995,600,-1,-1,"RCL-SA3L-水平",2,0.3,600,"○","○"]
[542,19613300,1200,-1,-1,"RCL-SA4L-水平",0.14000000000000001,2,1200,"○","○"]
[543,14709975,1200,-1,-1,"RCL-SA4L-水平",0.18,1.5,1200,"○","○"]
[544,9806650,1200,-1,-1,"RCL-SA4L-水平",0.25,1,1200,"○","○"]
[545,4903325,1200,-1,-1,"RCL-SA4L-水平",0.5,0.5,1200,"○","○"]
[546,2941995,1200,-1,-1,"RCL-SA4L-水平",0.8,0.3,1200,"○","○"]
[547,19613300,1200,-1,-1,"RCL-SM4L-水平",0.14000000000000001,2,1200,"○","○"]
[548,14709975,1200,-1,-1,"RCL-SM4L-水平",0.18,1.5,1200,"○","○"]
[549,9806650,1200,-1,-1,"RCL-SM4L-水平",0.25,1,1200,"○","○"]
[550,4903325,1200,-1,-1,"RCL-SM4L-水平",0.5,0.5,1200,"○","○"]
[551,2941995,1200,-1,-1,"RCL-SM4L-水平",0.8,0.3,1200,"○","○"]
[552,19613300,1400,-1,-1,"RCL-SA5L-水平",0.25,2,1400,"○","○"]
[553,14709975,1400,-1,-1,"RCL-SA5L-水平",0.35,1.5,1400,"○","○"]
[554,9806650,1400,-1,-1,"RCL-SA5L-水平",0.5,1,1400,"○","○"]
[555,4903325,1400,-1,-1,"RCL-SA5L-水平",1,0.5,1400,"○","○"]
[556,2941995,1400,-1,-1,"RCL-SA5L-水平",1.6,0.3,1400,"○","○"]
[557,19613300,1400,-1,-1,"RCL-SM5L-水平",0.25,2,1400,"○","○"]
[558,14709975,1400,-1,-1,"RCL-SM5L-水平",0.35,1.5,1400,"○","○"]
[559,9806650,1400,-1,-1,"RCL-SM5L-水平",0.5,1,1400,"○","○"]
[560,4903325,1400,-1,-1,"RCL-SM5L-水平",1,0.5,1400,"○","○"]
[561,2941995,1400,-1,-1,"RCL-SM5L-水平",1.6,0.3,1400,"○","○"]
[562,19613300,1600,-1,-1,"RCL-SA6L-水平",0.5,2,1600,"○","○"]
[563,14709975,1600,-1,-1,"RCL-SA6L-水平",0.65,1.5,1600,"○","○"]
[564,9806650,1600,-1,-1,"RCL-SA6L-水平",1,1,1600,"○","○"]
[565,4903325,1600,-1,-1,"RCL-SA6L-水平",2,0.5,1600,"○","○"]
[566,2941995,1600,-1,-1,"RCL-SA6L-水平",3.2,0.3,1600,"○","○"]
[567,19613300,1600,-1,-1,"RCL-SM6L-水平",0.5,2,1600,"○","○"]
[568,14709975,1600,-1,-1,"RCL-SM6L-水平",0.65,1.5,1600,"○","○"]
[569,9806650,1600,-1,-1,"RCL-SM6L-水平",1,1,1600,"○","○"]
[570,4903325,1600,-1,-1,"RCL-SM6L-水平",2,0.5,1600,"○","○"]
[571,2941995,1600,-1,-1,"RCL-SM6L-水平",3.2,0.3,1600,"○","○"]
[572,19613300,300,-1,-1,"RCL-RA1L-水平",7.0000000000000007E-2,2,300,"○","○"]
[573,14709975,300,-1,-1,"RCL-RA1L-水平",0.11,1.5,300,"○","○"]
[574,9806650,300,-1,-1,"RCL-RA1L-水平",0.2,1,300,"○","○"]
[575,4903325,300,-1,-1,"RCL-RA1L-水平",0.42,0.5,300,"○","○"]
[576,2941995,300,-1,-1,"RCL-RA1L-水平",0.5,0.3,300,"○","○"]
[{"$f":"A579+1","v":577},9806650,300,-1,-1,"RCL-RA1L-垂直",0.1,1,300,{"$f":"IF(G580=0,IF(D580<>A579,\"ﾘﾝｸ不正\",\"○\"),\"○\")","v":"○"},{"$f":"IF(D581<>-1,IF(E580<>A581,\"ﾘﾝｸ不正\",\"○\"),\"○\")","v":"○"}]
[578,19613300,340,-1,-1,"RCL-RA2L-水平",0.15,2,340,"○","○"]
[579,14709975,340,-1,-1,"RCL-RA2L-水平",0.24,1.5,340,"○","○"]
[580,9806650,340,-1,-1,"RCL-RA2L-水平",0.4,1,340,"○","○"]
[581,{"$f":"H584*$A$1*1000*1000","v":4903325},{"$f":"I584","v":340},-1,-1,"RCL-RA2L-水平",0.85,0.5,340,"○","○"]
[582,2941995,340,-1,-1,"RCL-RA2L-水平",1,0.3,340,"○","○"]
[583,9806650,340,-1,-1,"RCL-RA2L-垂直",0.2,1,340,"○","○"]
[584,19613300,450,-1,-1,"RCL-RA3L-水平",0.3,2,450,"○","○"]
[585,14709975,450,-1,-1,"RCL-RA3L-水平",0.46,1.5,450,"○","○"]
[586,9806650,450,-1,-1,"RCL-RA3L-水平",0.78,1,450,"○","○"]
[587,4903325,450,-1,-1,"RCL-RA3L-水平",1.6,0.5,450,"○","○"]
[588,2941995,450,-1,-1,"RCL-RA3L-水平",2,0.3,450,"○","○"]
[589,9806650,450,-1,-1,"RCL-RA3L-垂直",0.4,1,450,"○","○"]
[590,2941995,50,-1,-1,"RCS2-SA2AC-1-水平",2,0.3,50,"○","○"]
[591,2941995,50,-1,-1,"RCS2-SA2AC-1-垂直",1,0.3,50,"○","○"]
[592,2941995,100,-1,-1,"RCS2-SA2AC-2-水平",1,0.3,100,"○","○"]
[593,2941995,100,-1,-1,"RCS2-SA2AC-2-垂直",0.5,0.3,100,"○","○"]
[594,2941995,200,-1,-1,"RCS2-SA2AC-4-水平",0.5,0.3,200,"○","○"]
[595,2941995,200,-1,-1,"RCS2-SA2AC-4-垂直",0.25,0.3,200,"○","○"]
[596,2941995,50,-1,-1,"RCS2-SA2AR-1-水平",2,0.3,50,"○","○"]
[597,2941995,50,-1,-1,"RCS2-SA2AR-1-垂直",1,0.3,50,"○","○"]
[598,2941995,100,-1,-1,"RCS2-SA2AR-2-水平",1,0.3,100,"○","○"]
[599,2941995,100,-1,-1,"RCS2-SA2AR-2-垂直",0.5,0.3,100,"○","○"]
[600,2941995,200,-1,-1,"RCS2-SA2AR-4-水平",0.5,0.3,200,"○","○"]
[601,2941995,200,-1,-1,"RCS2-SA2AR-4-垂直",0.25,0.3,200,"○","○"]
[602,2941995,50,-1,-1,"RCS2-RA2AC-1-水平",2,0.3,50,"○","○"]
[603,2941995,50,-1,-1,"RCS2-RA2AC-1-垂直",1,0.3,50,"○","○"]
[604,2941995,100,-1,-1,"RCS2-RA2AC-2-水平",1,0.3,100,"○","○"]
[605,2941995,100,-1,-1,"RCS2-RA2AC-2-垂直",0.5,0.3,100,"○","○"]
[606,2941995,200,-1,-1,"RCS2-RA2AC-4-水平",0.5,0.3,200,"○","○"]
[607,2941995,200,-1,-1,"RCS2-RA2AC-4-垂直",0.25,0.3,200,"○","○"]
[608,2941995,50,-1,-1,"RCS2-RA2AR-1-水平",2,0.3,50,"○","○"]
[609,2941995,50,-1,-1,"RCS2-RA2AR-1-垂直",1,0.3,50,"○","○"]
[610,2941995,100,-1,-1,"RCS2-RA2AR-2-水平",1,0.3,100,"○","○"]
[611,2941995,100,-1,-1,"RCS2-RA2AR-2-垂直",0.5,0.3,100,"○","○"]
[612,2941995,200,-1,-1,"RCS2-RA2AR-4-水平",0.5,0.3,200,"○",{"$f":"IF(D616<>-1,IF(E615<>A616,\"ﾘﾝｸ不正\",\"○\"),\"○\")","v":"○"}]
[613,2941995,200,-1,-1,"RCS2-RA2AR-4-垂直",0.25,0.3,200,{"$f":"IF(G616=0,IF(D616<>A615,\"ﾘﾝｸ不正\",\"○\"),\"○\")","v":"○"},{"$f":"IF(D617<>-1,IF(E616<>A617,\"ﾘﾝｸ不正\",\"○\"),\"○\")","v":"○"}]
[614,{"$f":"H617*$A$1*1000*1000","v":9806650},{"$f":"I617","v":300},-1,-1,"RCD-RA1D-2-水平",0.7,1,300,{"$f":"IF(G617=0,IF(D617<>A616,\"ﾘﾝｸ不正\",\"○\"),\"○\")","v":"○"},{"$f":"IF(D618<>-1,IF(E617<>A618,\"ﾘﾝｸ不正\",\"○\"),\"○\")","v":"○"}]
[615,{"$f":"H618*$A$1*1000*1000","v":9806650},{"$f":"I618","v":300},-1,-1,"RCD-RA1D-2-垂直",0.3,1,300,{"$f":"IF(G618=0,IF(D618<>A617,\"ﾘﾝｸ不正\",\"○\"),\"○\")","v":"○"},{"$f":"IF(D619<>-1,IF(E618<>A619,\"ﾘﾝｸ不正\",\"○\"),\"○\")","v":"ﾘﾝｸ不正"}]